Workbook
Name PERF_GREEN: 1

Sheet Linearity
B1: Month | C1: 1 | D1: 1 | E1: 1 | F1: 1 | G1: 1 | H1: 2 | I1: 2 | J1: 2 | K1: 2 | L1: 2 | M1: 3 | N1: 3 | O1: 3 | P1: 3 | Q1: 3 | R1: 1 | S1: 2 | T1: 3 | U1: QTR
B2: Week | C2: 1 | D2: 2 | E2: 3 | F2: 4 | G2: 5 | H2: 5 | I2: 6 | J2: 7 | K2: 8 | L2: 9 | M2: 9 | N2: 10 | O2: 11 | P2: 12 | Q2: 13
B3: Begin | C3: 43831 | D3: 43836 | E3: 43843 | F3: 43850 | G3: 43857 | H3: 43862 | I3: 43864 | J3: 43871 | K3: 43878 | L3: 43885 | M3: 43891 | N3: 43892 | O3: 43899 | P3: 43906 | Q3: 43913 | R3: 43831 | S3: 43862 | T3: 43891 | U3: 43831
B4: End | C4: 43835 | D4: 43842 | E4: 43849 | F4: 43856 | G4: 43861 | H4: 43863 | I4: 43870 | J4: 43877 | K4: 43884 | L4: 43890 | M4: 43891 | N4: 43898 | O4: 43905 | P4: 43912 | Q4: 43921 | R4: 43861 | S4: 43890 | T4: 43921 | U4: 43921
B6: India | C6: ='OL-Onshore'!E10 -> -10.314547 | D6: ='OL-Onshore'!F10 -> 1.9301297 | E6: ='OL-Onshore'!G10 -> 10.622255 | F6: ='OL-Onshore'!H10 -> 23.806957 | G6: ='OL-Onshore'!J10 -> 0 | H6: ='OL-Onshore'!K10 -> 7.869985 | I6: ='OL-Onshore'!L10 -> 15.699389 | J6: ='OL-Onshore'!M10 -> 19.348026 | K6: ='OL-Onshore'!N10 -> 38.214701 | L6: ='OL-Onshore'!#REF! -> #REF! | M6: ='OL-Onshore'!P10 -> 10.927515 | N6: ='OL-Onshore'!Q10 -> 15.683694 | O6: ='OL-Onshore'!R10 -> 15.170188 | P6: ='OL-Onshore'!S10 -> 84.842586 | Q6: ='OL-Onshore'!#REF! -> #REF! | R6: ='OL-Onshore'!T10 -> 42.243915 | S6: ='OL-Onshore'!U10 -> 81.132102 | T6: ='OL-Onshore'!V10 -> 126.62398 | U6: ='OL-Onshore'!W10 -> 250
B7: SLBD | C7: ='OL-Overseas'!E10 -> 0 | D7: ='OL-Overseas'!F10 -> 0.10754768 | E7: ='OL-Overseas'!G10 -> 0.59187672 | F7: ='OL-Overseas'!I10 -> 0.068041403 | G7: ='OL-Overseas'!J10 -> 0 | H7: ='OL-Overseas'!K10 -> 0.67901476 | I7: ='OL-Overseas'!L10 -> 1.3545283 | J7: ='OL-Overseas'!M10 -> 1.6693292 | K7: ='OL-Overseas'!N10 -> 3.2971278 | L7: ='OL-Overseas'!#REF! -> #REF! | M7: ='OL-Overseas'!P10 -> 0.69039147 | N7: ='OL-Overseas'!Q10 -> 0.99088302 | O7: ='OL-Overseas'!R10 -> 0.95844012 | P7: ='OL-Overseas'!S10 -> 5.3602854 | Q7: ='OL-Overseas'!#REF! -> #REF! | R7: ='OL-Overseas'!T10 -> 5 | S7: ='OL-Overseas'!U10 -> 7 | T7: ='OL-Overseas'!V10 -> 8 | U7: ='OL-Overseas'!W10 -> 20
B8: Total | C8: =SUM(C6:C7) -> -10.314547 | D8: =SUM(D6:D7) -> 2.0376774 | E8: =SUM(E6:E7) -> 11.214131 | F8: =SUM(F6:F7) -> 23.874999 | G8: =SUM(G6:G7) -> 0 | H8: =SUM(H6:H7) -> 8.5489997 | I8: =SUM(I6:I7) -> 17.053918 | J8: =SUM(J6:J7) -> 21.017356 | ... U8: =SUM(U6:U7) -> 270
A10: Cumma. | B10: India | C10: =C6 -> -10.314547 | D10: =C10+D6 -> -8.3844175 | E10: =D10+E6 -> 2.237837 | F10: =E10+F6 -> 26.044794 | G10: =F10+G6 -> 26.044794 | H10: =G10+H6 -> 33.914779 | I10: =H10+I6 -> 49.614169 | J10: =I10+J6 -> 68.962195 | K10: =J10+K6 -> 107.1769 | ... Q10: =P10+Q6 -> #REF!
B11: SLBD | C11: =C7 -> 0 | D11: =C11+D7 -> 0.10754768 | E11: =D11+E7 -> 0.69942441 | F11: =E11+F7 -> 0.76746581 | G11: =F11+G7 -> 0.76746581 | H11: =G11+H7 -> 1.4464806 | I11: =H11+I7 -> 2.8010088 | J11: =I11+J7 -> 4.470338 | K11: =J11+K7 -> 7.7674658 | ... Q11: =P11+Q7 -> #REF!
B12: Total | C12: =C8 -> -10.314547 | D12: =C12+D8 -> -8.2768698 | E12: =D12+E8 -> 2.9372614 | F12: =E12+F8 -> 26.81226 | G12: =F12+G8 -> 26.81226 | H12: =G12+H8 -> 35.36126 | I12: =H12+I8 -> 52.415178 | J12: =I12+J8 -> 73.432533 | K12: =J12+K8 -> 114.94436 | ... Q12: =P12+Q8 -> #REF!
A15: mtd
B16: India | C16: =C6/$R6 -> -0.24416646 | D16: =D6/$R6 -> 0.045690123 | E16: =E6/$R6 -> 0.25145052 | F16: =F6/$R6 -> 0.56355944 | G16: =G6/$R6 -> 0 | H16: =H6/$S6 -> 0.097002109 | I16: =I6/$S6 -> 0.19350404 | J16: =J6/$S6 -> 0.2384756 | K16: =K6/$S6 -> 0.47101826 | L16: =L6/$S6 -> #REF! | M16: =M6/$T6 -> 0.086298934 | N16: =N6/$T6 -> 0.12386038 | O16: =O6/$T6 -> 0.11980501 | P16: =P6/$T6 -> 0.67003567 | Q16: =Q6/$T6 -> #REF!
B17: SLBD | C17: =C7/$R7 -> 0 | D17: =D7/$R7 -> 0.021509536 | E17: =E7/$R7 -> 0.11837534 | F17: =F7/$R7 -> 0.013608281 | G17: =G7/$R7 -> 0 | H17: =H7/$S7 -> 0.097002109 | I17: =I7/$S7 -> 0.19350404 | J17: =J7/$S7 -> 0.2384756 | K17: =K7/$S7 -> 0.47101826 | L17: =L7/$S7 -> #REF! | M17: =M7/$T7 -> 0.086298934 | N17: =N7/$T7 -> 0.12386038 | O17: =O7/$T7 -> 0.11980501 | P17: =P7/$T7 -> 0.67003567 | Q17: =Q7/$T7 -> #REF!
B18: Total | C18: =C8/$R8 -> -0.21832541 | D18: =D8/$R8 -> 0.043131001 | E18: =E8/$R8 -> 0.23736668 | F18: =F8/$R8 -> 0.50535605 | G18: =G8/$R8 -> 0 | H18: =H8/$S8 -> 0.097002109 | I18: =I8/$S8 -> 0.19350404 | J18: =J8/$S8 -> 0.2384756 | K18: =K8/$S8 -> 0.47101826 | L18: =L8/$S8 -> #REF! | M18: =M8/$T8 -> 0.086298934 | N18: =N8/$T8 -> 0.12386038 | O18: =O8/$T8 -> 0.11980501 | P18: =P8/$T8 -> 0.67003567 | Q18: =Q8/$T8 -> #REF!
A19: qtd
B20: India | C20: =C10/$Q$10 -> #REF! | D20: =D10/$Q$10 -> #REF! | E20: =E10/$Q$10 -> #REF! | F20: =F10/$Q$10 -> #REF! | G20: =G10/$Q$10 -> #REF! | H20: =H10/$Q$10 -> #REF! | I20: =I10/$Q$10 -> #REF! | J20: =J10/$Q$10 -> #REF! | ... Q20: =Q10/$Q$10 -> #REF!
B21: SLBD | C21: =C11/$Q11 -> #REF! | D21: =D11/$Q11 -> #REF! | E21: =E11/$Q11 -> #REF! | F21: =F11/$Q11 -> #REF! | G21: =G11/$Q11 -> #REF! | H21: =H11/$Q11 -> #REF! | I21: =I11/$Q11 -> #REF! | J21: =J11/$Q11 -> #REF! | ... Q21: =Q11/$Q11 -> #REF!
B22: Total | C22: =C12/$Q12 -> #REF! | D22: =D12/$Q12 -> #REF! | E22: =E12/$Q12 -> #REF! | F22: =F12/$Q12 -> #REF! | G22: =G12/$Q12 -> #REF! | H22: =H12/$Q12 -> #REF! | I22: =I12/$Q12 -> #REF! | J22: =J12/$Q12 -> #REF! | ... Q22: =Q12/$Q12 -> #REF!

Sheet OL -Overall
C1: Week# | E1: 10
C2: Weekending dt: | E2: =HLOOKUP(E1,D7:S9,3,0) -> 45998
B5: Consumer OL WF Q3FY2526
C6: Month | D6: 1 | E6: 1 | F6: 1 | G6: 1 | H6: 1 | I6: 1 | J6: 2 | K6: 2 | L6: 2 | M6: 2 | N6: 2 | O6: 3 | P6: 3 | Q6: 3 | R6: 3 | S6: 3 | T6: 1 | U6: 2 | V6: 3 | W6: QTR
C7: Week | D7: OB | E7: 1 | F7: 2 | G7: 3 | H7: 4 | I7: 5 | J7: 5 | K7: 6 | L7: 7 | M7: 8 | N7: 9 | O7: 9b | P7: 10 | Q7: 11 | R7: 12 | S7: 13
C8: Begin | D8: =E8 -> 45931 | E8: 45931 | F8: 45936 | G8: 45943 | H8: 45950 | I8: 45957 | J8: 45962 | K8: 45964 | L8: 45971 | M8: 45978 | N8: 45985 | O8: 45985 | P8: 45992 | Q8: 45999 | R8: 46006 | S8: 46013 | T8: =E8 -> 45931 | U8: =J8 -> 45962 | V8: =P8 -> 45992 | W8: =E8 -> 45931
C9: End | D9: =D8 -> 45931 | E9: 45935 | F9: 45942 | G9: 45949 | H9: 45956 | I9: 45961 | J9: 45963 | K9: 45970 | L9: 45977 | M9: 45984 | N9: 45991 | O9: 45991 | P9: 45998 | Q9: 46005 | R9: 46012 | S9: 46022 | T9: =I9 -> 45961 | U9: =N9 -> 45991 | V9: =S9 -> 46022 | W9: =V9 -> 46022
B10: Target | C10: Week | D10: =D43+D76 -> 17.884 | E10: =E43+E76 -> -10.314547 | F10: =F43+F76 -> 2.0376774 | G10: =G43+G76 -> 11.214131 | H10: =H43+H76 -> 25.133491 | I10: =I43+I76 -> 1.2891624 | J10: =J43+J76 -> 0 | K10: =K43+K76 -> 8.5489997 | ... S10: =S43+S76 -> 90.202871 | T10: =SUM(D10:I10) -> 47.243915 | U10: =SUM(J10:N10) -> 88.132102 | V10: =SUM(O10:S10) -> 134.62398 | W10: =SUM(T10:V10) -> 270
C11: QTD | D11: =D10 -> 17.884 | E11: =E10+D11 -> 7.5694528 | F11: =E11+F10 -> 9.6071302 | G11: =F11+G10 -> 20.821261 | H11: =G11+H10 -> 45.954753 | I11: =H11+I10 -> 47.243915 | J11: =I11+J10 -> 47.243915 | K11: =J11+K10 -> 55.792915 | L11: =K11+L10 -> 72.846833 | M11: =L11+M10 -> 93.864188 | ... S11: =R11+S10 -> 270 | T11: =IFERROR(T10/$W10,0) -> 0.17497746 | U11: =IFERROR(U10/$W10,0) -> 0.32641519 | V11: =IFERROR(V10/$W10,0) -> 0.49860734
C12: 0 | D12: =D45+D78 -> 17.884 | E12: =E45+E78 -> -10.314547 | F12: =F45+F78 -> 2.0376774 | G12: =G45+G78 -> 11.214131 | H12: =H45+H78 -> 25.133491 | I12: =I45+I78 -> 1.2891624 | J12: =J45+J78 -> 0 | K12: =K45+K78 -> 8.5489997 | ... S12: =S45+S78 -> 90.202871 | T12: =SUMIF($D$6:$S$6,T$6,$D12:$S12) -> 47.243915 | U12: =SUMIF($E$6:$S$6,U$6,$E12:$S12) -> 88.132102 | V12: =SUMIF($E$6:$S$6,V$6,$E12:$S12) -> 134.62398 | W12: =SUM(T12:V12) -> 270
B13: Week | C13: 1 | D13: =D46+D79 -> 17.884 | E13: =E46+E79 -> 1.92 | F13: =F46+F79 -> 1.5508643 | G13: =G46+G79 -> 8.5350093 | H13: =H46+H79 -> 19.128952 | I13: =I46+I79 -> 0.98117392 | J13: =J46+J79 -> 0 | K13: =K46+K79 -> 6.4991413 | ... S13: =S46+S79 -> 102.51546 | T13: =SUMIF($D$6:$S$6,T$6,$D13:$S13) -> 50 | U13: =SUMIF($E$6:$S$6,U$6,$E13:$S13) -> 67 | V13: =SUMIF($E$6:$S$6,V$6,$E13:$S13) -> 153 | W13: =SUM(T13:V13) -> 270
C14: 2 | D14: =IF(IF($C14<=$E$1,D13,0)=0,"-",IF($C14<=$E$1,D13,0)) -> 17.884 | E14: =IF(IF($C14<=$E$1,E13,0)=0,"-",IF($C14<=$E$1,E13,0)) -> 1.92 | F14: =F47+F80 -> 12.615 | G14: =G47+G80 -> 8.5350093 | H14: =H47+H80 -> 8.3934629 | I14: =I47+I80 -> 1.5693879 | J14: =J47+J80 -> 0 | K14: =K47+K80 -> 6.4991413 | L14: =L47+L80 -> 12.964771 | M14: =M47+M80 -> 15.977865 | ... S14: =S47+S80 -> 101.5986 | T14: =SUMIF($D$6:$S$6,T$6,$D14:$S14) -> 50.91686 | U14: =SUMIF($E$6:$S$6,U$6,$E14:$S14) -> 67 | V14: =SUMIF($E$6:$S$6,V$6,$E14:$S14) -> 152.08314 | W14: =SUM(T14:V14) -> 270
C15: 3 | D15: =D48+D81 -> 17.884 | E15: =IF(IF($C15<=$E$1,E14,0)=0,"-",IF($C15<=$E$1,E14,0)) -> 1.92 | F15: =IF(IF($C15<=$E$1,F14,0)=0,"-",IF($C15<=$E$1,F14,0)) -> 12.615 | G15: =G48+G81 -> 23.3 | H15: =H48+H81 -> 4.581145 | I15: =I48+I81 -> 2.936855 | J15: =J48+J81 -> 0 | K15: =K48+K81 -> 9.6524421 | L15: =L48+L81 -> 19.255113 | M15: =M48+M81 -> 23.730122 | N15: =N48+N81 -> 39.125323 | ... S15: =S48+S81 -> 0 | T15: =SUMIF($D$6:$R$6,T$6,$D15:$R15) -> 63.237 | U15: =SUMIF($D$6:$R$6,U$6,$D15:$R15) -> 91.763 | V15: =SUMIF($E$6:$S$6,V$6,$E15:$S15) -> 125 | W15: =SUM(T15:V15) -> 280
C16: 4 | D16: =D49+D82 -> 17.884 | E16: =E49+E82 -> 1.92 | F16: =F49+F82 -> 12.615 | G16: =G49+G82 -> 23.3 | H16: =H49+H82 -> 28.12 | I16: =I49+I82 -> 5 | J16: =J49+J82 -> 0 | K16: =K49+K82 -> 9.0734274 | ... S16: =S49+S82 -> 0 | T16: =SUMIF($D$6:$R$6,T$6,$D16:$R16) -> 88.839 | U16: =SUMIF($D$6:$R$6,U$6,$D16:$R16) -> 85.1 | V16: =SUMIF($E$6:$S$6,V$6,$E16:$S16) -> 106.053 | W16: =SUM(T16:V16) -> 279.992
C17: 5 | D17: =D50+D83 -> 17.884 | E17: =E50+E83 -> 1.92 | F17: =F50+F83 -> 12.615 | G17: =G50+G83 -> 23.3 | H17: =H50+H83 -> 28.12 | I17: =I50+I83 -> 11.104 | J17: =J50+J83 -> -0.302 | K17: =K50+K83 -> 8.9734274 | ... S17: =S50+S83 -> 0 | T17: =SUMIF($D$6:$R$6,T$6,$D17:$R17) -> 94.943 | U17: =SUMIF($D$6:$R$6,U$6,$D17:$R17) -> 78.996 | V17: =SUMIF($E$6:$S$6,V$6,$E17:$S17) -> 106.053 | W17: =SUM(T17:V17) -> 279.992
C18: 6 | D18: =D51+D84 -> 17.884 | E18: =E51+E84 -> 1.92 | F18: =F51+F84 -> 12.615 | G18: =G51+G84 -> 23.3 | H18: =H51+H84 -> 28.12 | I18: =I51+I84 -> 11.104 | J18: =J51+J84 -> -0.302 | K18: =K51+K84 -> 1.945 | ... S18: =S51+S84 -> 0 | T18: =SUMIF($D$6:$R$6,T$6,$D18:$R18) -> 94.943 | U18: =SUMIF($D$6:$R$6,U$6,$D18:$R18) -> 78.996 | V18: =SUMIF($E$6:$S$6,V$6,$E18:$S18) -> 106.053 | W18: =SUM(T18:V18) -> 279.992
C19: 7 | D19: =D52+D85 -> 17.884 | E19: =E52+E85 -> 1.92 | F19: =F52+F85 -> 12.615 | G19: =G52+G85 -> 23.3 | H19: =H52+H85 -> 28.12 | I19: =I52+I85 -> 11.104 | J19: =J52+J85 -> -0.302 | K19: =K52+K85 -> 1.945 | ... S19: =S52+S85 -> 0 | T19: =SUMIF($D$6:$R$6,T$6,$D19:$R19) -> 94.943 | U19: =SUMIF($D$6:$R$6,U$6,$D19:$R19) -> 82.95 | V19: =SUMIF($E$6:$S$6,V$6,$E19:$S19) -> 112.107 | W19: =SUM(T19:V19) -> 290
C20: 8 | D20: =D53+D86 -> 17.884 | E20: =E53+E86 -> 1.92 | F20: =F53+F86 -> 12.615 | G20: =G53+G86 -> 23.3 | H20: =H53+H86 -> 28.12 | I20: =I53+I86 -> 11.104 | J20: =J53+J86 -> -0.302 | K20: =K53+K86 -> 1.945 | ... S20: =S53+S86 -> 0 | T20: =SUMIF($D$6:$R$6,T$6,$D20:$R20) -> 94.943 | U20: =SUMIF($D$6:$R$6,U$6,$D20:$R20) -> 89.95 | V20: =SUMIF($E$6:$S$6,V$6,$E20:$S20) -> 105.107 | W20: =SUM(T20:V20) -> 290
C21: 9 | D21: =D54+D87 -> 17.884 | E21: =E54+E87 -> 1.92 | F21: =F54+F87 -> 12.615 | G21: =G54+G87 -> 23.3 | H21: =H54+H87 -> 28.12 | I21: =I54+I87 -> 11.104 | J21: =J54+J87 -> -0.302 | K21: =K54+K87 -> 1.945 | ... S21: =S54+S87 -> 0 | T21: =SUMIF($D$6:$R$6,T$6,$D21:$R21) -> 94.943 | U21: =SUMIF($D$6:$R$6,U$6,$D21:$R21) -> 105.781 | V21: =SUMIF($E$6:$S$6,V$6,$E21:$S21) -> 89.276 | W21: =SUM(T21:V21) -> 290
C22: 10 | D22: =D55+D88 -> 17.884 | E22: =E55+E88 -> 1.92 | F22: =F55+F88 -> 12.615 | G22: =G55+G88 -> 23.3 | H22: =H55+H88 -> 28.12 | I22: =I55+I88 -> 11.104 | J22: =J55+J88 -> -0.302 | K22: =K55+K88 -> 1.945 | ... S22: =S55+S88 -> 0 | T22: =SUMIF($D$6:$R$6,T$6,$D22:$R22) -> 94.943 | U22: =SUMIF($D$6:$R$6,U$6,$D22:$R22) -> 105.781 | V22: =SUMIF($E$6:$S$6,V$6,$E22:$S22) -> -8.662 | W22: =SUM(T22:V22) -> 192.062
C23: 11 | D23: =D56+D89 -> 0 | E23: =E56+E89 -> 0 | F23: =F56+F89 -> 0 | G23: =G56+G89 -> 0 | H23: =H56+H89 -> 0 | I23: =I56+I89 -> 0 | J23: =J56+J89 -> 0 | K23: =K56+K89 -> 0 | ... S23: =S56+S89 -> 0 | T23: =SUMIF($D$6:$R$6,T$6,$D23:$R23) -> 0 | U23: =SUMIF($D$6:$R$6,U$6,$D23:$R23) -> 0 | V23: =SUMIF($E$6:$S$6,V$6,$E23:$S23) -> 0 | W23: =SUM(T23:V23) -> 0
C24: 12 | D24: =D57+D90 -> 0 | E24: =E57+E90 -> 0 | F24: =F57+F90 -> 0 | G24: =G57+G90 -> 0 | H24: =H57+H90 -> 0 | I24: =I57+I90 -> 0 | J24: =J57+J90 -> 0 | K24: =K57+K90 -> 0 | ... S24: =S57+S90 -> 0 | T24: =SUMIF($D$6:$R$6,T$6,$D24:$R24) -> 0 | U24: =SUMIF($D$6:$R$6,U$6,$D24:$R24) -> 0 | V24: =SUMIF($E$6:$S$6,V$6,$E24:$S24) -> 0 | W24: =SUM(T24:V24) -> 0
C25: 13 | D25: =D58+D91 -> 0 | E25: =E58+E91 -> 0 | F25: =F58+F91 -> 0 | G25: =G58+G91 -> 0 | H25: =H58+H91 -> 0 | I25: =I58+I91 -> 0 | J25: =J58+J91 -> 0 | K25: =K58+K91 -> 0 | ... S25: =S58+S91 -> 0 | T25: =SUMIF($D$6:$R$6,T$6,$D25:$R25) -> 0 | U25: =SUMIF($D$6:$R$6,U$6,$D25:$R25) -> 0 | V25: =SUMIF($E$6:$S$6,V$6,$E25:$S25) -> 0 | W25: =SUM(T25:V25) -> 0
B26: Actual | C26: 0 | D26: =INDEX(D12:D25,2,1) -> 17.884 | E26: =INDEX(E13:S25,1,1) -> 1.92 | F26: =INDEX(E13:S25,2,2) -> 12.615 | G26: =INDEX(E13:S25,3,3) -> 23.3 | H26: =INDEX($E$13:$S$25,4,4) -> 28.12 | I26: =INDEX($E$13:$S$25,5,5) -> 11.104 | J26: =INDEX($E$13:$S$25,5,6) -> -0.302 | K26: =INDEX($E$13:$S$25,6,7) -> 1.945 | L26: =INDEX($E$13:$S$25,7,8) -> 5.086 | M26: =INDEX($E$13:$S$25,8,9) -> 30.29 | N26: =INDEX($E$13:$S$25,9,10) -> 68.762 | O26: =INDEX($E$13:$S$25,9,11) -> 0 | P26: =INDEX($E$13:$S$25,10,12) -> -8.662 | Q26: =INDEX($E$13:$S$25,11,13) -> 0 | R26: =INDEX($E$13:$S$25,12,14) -> 0 | S26: 0 | T26: =INDEX(T12:T25,MATCH($E$1,C12:C25,0)) -> 94.943 | U26: =INDEX(U12:U25,MATCH($E$1,C12:C25,0)) -> 105.781 | V26: =INDEX(V12:V25,MATCH($E$1,C12:C25,0)) -> -8.662 | W26: =INDEX(W12:W25,MATCH($E$1,C12:C25,0)) -> 192.062
B27: Delta to Target | C27: 0 | D27: =IF(D$9<=$E$2,D26-D10,0) -> 0 | E27: =IF(E$9<=$E$2,E26-E10,0) -> 12.234547 | F27: =IF(F$9<=$E$2,F26-F10,0) -> 10.577323 | G27: =IF(G$9<=$E$2,G26-G10,0) -> 12.085869 | H27: =IF(H$9<=$E$2,H26-H10,0) -> 2.9865086 | I27: =IF(I$9<=$E$2,I26-I10,0) -> 9.8148376 | J27: =IF(J$9<=$E$2,J26-J10,0) -> -0.302 | K27: =IFERROR(IF(K$9<=$E$2,K26-K10,0),0) -> -6.6039997 | L27: =IFERROR(IF(L$9<=$E$2,L26-L10,0),0) -> -11.967918 | M27: =IFERROR(IF(M$9<=$E$2,M26-M10,0),0) -> 9.2726444 | N27: =IFERROR(IF(N$9<=$E$2,N26-N10,0),0) -> 27.250171 | O27: =IFERROR(IF(O$9<=$E$2,O26-O10,0),0) -> 0 | P27: =IFERROR(IF(P$9<=$E$2,P26-P10,0),0) -> -20.279906 | Q27: =IFERROR(IF(Q$9<=$E$2,Q26-Q10,0),0) -> 0 | R27: =IFERROR(IF(R$9<=$E$2,R26-R10,0),0) -> 0 | S27: =IFERROR(IF(S$9<=$E$2,S26-S10,0),0) -> 0 | T27: =IF(T$9<=$E$2,T26-T10,0) -> 47.699085 | U27: =IF(U$9<=$E$2,U26-U10,0) -> 17.648898 | V27: =IF(V$9<=$E$2,V26-V10,0) -> 0 | W27: =IF(W$9<=$E$2,W26-W10,0) -> 0
B28: % to Target | C28: 0 | D28: =IF($E$2<D$9,0,IF(AND(D10=0,D26=0),1,IF(AND(D10=0,D26>0),2,IF(D26<0,0,(D26/D10))))) -> 1 | E28: =IF($E$2<E$9,0,IF(AND(E10=0,E26=0),1,IF(AND(E10=0,E26>0),2,IF(E26<0,0,(E26/E10))))) -> -0.18614487 | F28: =IF($E$2<F$9,0,IF(AND(F10=0,F26=0),1,IF(AND(F10=0,F26>0),2,IF(F26<0,0,(F26/F10))))) -> 6.1908721 | G28: =IF($E$2<G$9,0,IF(AND(G10=0,G26=0),1,IF(AND(G10=0,G26>0),2,IF(G26<0,0,(G26/G10))))) -> 2.0777356 | H28: =IF($E$2<H$9,0,IF(AND(H10=0,H26=0),1,IF(AND(H10=0,H26>0),2,IF(H26<0,0,(H26/H10))))) -> 1.1188259 | I28: =IF($E$2<I$9,0,IF(AND(I10=0,I26=0),1,IF(AND(I10=0,I26>0),2,IF(I26<0,0,(I26/I10))))) -> 8.6133446 | J28: =IF($E$2<J$9,0,IF(AND(J10=0,J26=0),1,IF(AND(J10=0,J26>0),2,IF(J26<0,0,(J26/J10))))) -> 0 | K28: =IF($E$2<K$9,0,IF(AND(K10=0,K26=0),1,IF(AND(K10=0,K26>0),2,IF(K26<0,0,(K26/K10))))) -> 0.227512 | L28: =IFERROR(IF($E$2<L$9,0,IF(AND(L10=0,L26=0),1,IF(AND(L10=0,L26>0),2,IF(L26<0,0,(L26/L10))))),0) -> 0.29823059 | M28: =IFERROR(IF($E$2<M$9,0,IF(AND(M10=0,M26=0),1,IF(AND(M10=0,M26>0),2,IF(M26<0,0,(M26/M10))))),0) -> 1.4411899 | N28: =IFERROR(IF($E$2<N$9,0,IF(AND(N10=0,N26=0),1,IF(AND(N10=0,N26>0),2,IF(N26<0,0,(N26/N10))))),0) -> 1.6564435 | O28: =IFERROR(IF($E$2<O$9,0,IF(AND(O10=0,O26=0),1,IF(AND(O10=0,O26>0),2,IF(O26<0,0,(O26/O10))))),0) -> 1 | P28: =IFERROR(IF($E$2<P$9,0,IF(AND(P10=0,P26=0),1,IF(AND(P10=0,P26>0),2,IF(P26<0,0,(P26/P10))))),0) -> 0 | Q28: =IFERROR(IF($E$2<Q$9,0,IF(AND(Q10=0,Q26=0),1,IF(AND(Q10=0,Q26>0),2,IF(Q26<0,0,(Q26/Q10))))),0) -> 0 | R28: =IFERROR(IF($E$2<R$9,0,IF(AND(R10=0,R26=0),1,IF(AND(R10=0,R26>0),2,IF(R26<0,0,(R26/R10))))),0) -> 0 | S28: =IFERROR(IF($E$2<S$9,0,IF(AND(S10=0,S26=0),1,IF(AND(S10=0,S26>0),2,IF(S26<0,0,(S26/S10))))),0) -> 0 | T28: =IF($E$2<T$9,0,IF(AND(T10=0,T26=0),1,IF(AND(T10=0,T26>0),2,IF(T26<0,0,(T26/T10))))) -> 2.0096345 | U28: =IF($E$2<U$9,0,IF(AND(U10=0,U26=0),1,IF(AND(U10=0,U26>0),2,IF(U26<0,0,(U26/U10))))) -> 1.200255 | V28: =IF($E$2<V$9,0,IF(AND(V10=0,V26=0),1,IF(AND(V10=0,V26>0),2,IF(V26<0,0,(V26/V10))))) -> 0 | W28: =IF($E$2<W$9,0,IF(AND(W10=0,W26=0),1,IF(AND(W10=0,W26>0),2,IF(W26<0,0,(W26/W10))))) -> 0
B29: ="Week "&$E$1&" View" -> Week 10 View | D29: =INDEX(D13:D25,MATCH($E$1,$C$13:$C$25,0)) -> 17.884 | E29: =INDEX(E13:E25,MATCH($E$1,$C$13:$C$25,0)) -> 1.92 | F29: =INDEX(F13:F25,MATCH($E$1,$C$13:$C$25,0)) -> 12.615 | G29: =INDEX(G13:G25,MATCH($E$1,$C$13:$C$25,0)) -> 23.3 | H29: =INDEX(H13:H25,MATCH($E$1,$C$13:$C$25,0)) -> 28.12 | I29: =INDEX(I13:I25,MATCH($E$1,$C$13:$C$25,0)) -> 11.104 | J29: =INDEX(J13:J25,MATCH($E$1,$C$13:$C$25,0)) -> -0.302 | K29: =INDEX(K13:K25,MATCH($E$1,$C$13:$C$25,0)) -> 1.945 | ... W29: =INDEX(W13:W25,MATCH($E$1,$C$13:$C$25,0)) -> 192.062
B30: Linearity | D30: =D29/$T$29 -> 0.18836565 | E30: =E29/$T$29 -> 0.02022266 | F30: =F29/$T$29 -> 0.1328692 | G30: =G29/$T$29 -> 0.2454104 | H30: =H29/$T$29 -> 0.29617771 | I30: =I29/$T$29 -> 0.11695438 | J30: =J29/$U$29 -> -0.002854955 | K30: =K29/$U$29 -> 0.018387045 | L30: =L29/$U$29 -> 0.048080468 | M30: =M29/$U$29 -> 0.28634632 | N30: =N29/$U$29 -> 0.65004112 | O30: =O29/$V$29 -> 0 | P30: =P29/$V$29 -> 1 | Q30: =Q29/$V$29 -> 0 | R30: =R29/$V$29 -> 0 | S30: =S29/$V$29 -> 0 | T30: =T29/$W$29 -> 0.49433516 | U30: =U29/$W$29 -> 0.55076486 | V30: =V29/$W$29 -> -0.04510002
B31: Last 4Q ROL Linearity | I31: 0 | N31: 0 | S31: 0
B32: QTD Actual | C32: 0 | D32: =IF(D$9<=$E$2,D26,0) -> 17.884 | E32: =D26+E26 -> 19.804 | F32: =IF(F$9<=$E$2,F26+E32,0) -> 32.419 | G32: =IF(G$9<=$E$2,G26+F32,0) -> 55.719 | H32: =IF(H$9<=$E$2,H26+G32,0) -> 83.839 | I32: =IF(I$9<=$E$2,I26+H32,0) -> 94.943 | J32: =IF(J$9<=$E$2,J26+I32,0) -> 94.641 | K32: =IF(K$9<=$E$2,K26+J32,0) -> 96.586 | L32: =IF(L$9<=$E$2,L26+K32,0) -> 101.672 | M32: =IF(M$9<=$E$2,M26+L32,0) -> 131.962 | ... S32: =IF(S$9<=$E$2,S26+R32,0) -> 0 | T32: =IFERROR(INDEX(T$13:T$25,$E$1,0)/INDEX($W$13:$W$25,$E$1,0),0) -> 0.49433516 | U32: =IFERROR(INDEX(U$13:U$25,$E$1,0)/INDEX($W$13:$W$25,$E$1,0),0) -> 0.55076486 | V32: =IFERROR(INDEX(V$13:V$25,$E$1,0)/INDEX($W$13:$W$25,$E$1,0),0) -> -0.04510002 | W32: Current
B33: QTD Delta to Tgt | C33: 0 | D33: =IF(D$27=0,0,IF(D$9<=$E$2,D32-D11,D32-D11)) -> 0 | E33: =IF(E$27=0,0,IF(E$9<=$E$2,E32-E11,E32-E11)) -> 12.234547 | F33: =IF(F$27=0,0,IF(F$9<=$E$2,F32-F11,F32-F11)) -> 22.81187 | G33: =IF(G$27=0,0,IF(G$9<=$E$2,G32-G11,G32-G11)) -> 34.897739 | H33: =IF(H$27=0,0,IF(H$9<=$E$2,H32-H11,H32-H11)) -> 37.884247 | I33: =IF(I$27=0,0,IF(I$9<=$E$2,I32-I11,I32-I11)) -> 47.699085 | J33: =IF(J$27=0,0,IF(J$9<=$E$2,J32-J11,J32-J11)) -> 47.397085 | K33: =IF(K$27=0,0,IF(K$9<=$E$2,K32-K11,K32-K11)) -> 40.793085 | ... S33: =IF(S$27=0,0,IF(S$9<=$E$2,S32-S11,S32-S11)) -> 0 | T33: 0.12976066 | U33: 0.22639287 | V33: 0.64384647 | W33: Last 4Q
B34: % to Target | C34: 0 | D34: =IF($E$2<D$9,0,IF(AND(D11=0,D32=0),1,IF(AND(D11=0,D32>0),2,IF(D32<0,0,(D32/D11))))) -> 1 | E34: =IF($E$2<E$9,0,IF(AND(E11=0,E32=0),1,IF(AND(E11=0,E32>0),2,IF(E32<0,0,(E32/E11))))) -> 2.6163054 | F34: =IF($E$2<F$9,0,IF(AND(F11=0,F32=0),1,IF(AND(F11=0,F32>0),2,IF(F32<0,0,(F32/F11))))) -> 3.3744729 | G34: =IF($E$2<G$9,0,IF(AND(G11=0,G32=0),1,IF(AND(G11=0,G32>0),2,IF(G32<0,0,(G32/G11))))) -> 2.6760626 | H34: =IF($E$2<H$9,0,IF(AND(H11=0,H32=0),1,IF(AND(H11=0,H32>0),2,IF(H32<0,0,(H32/H11))))) -> 1.8243815 | I34: =IF($E$2<I$9,0,IF(AND(I11=0,I32=0),1,IF(AND(I11=0,I32>0),2,IF(I32<0,0,(I32/I11))))) -> 2.0096345 | J34: =IF($E$2<J$9,0,IF(AND(J11=0,J32=0),1,IF(AND(J11=0,J32>0),2,IF(J32<0,0,(J32/J11))))) -> 2.0032421 | K34: =IF($E$2<K$9,0,IF(AND(K11=0,K32=0),1,IF(AND(K11=0,K32>0),2,IF(K32<0,0,(K32/K11))))) -> 1.7311517 | ... S34: =IF($E$2<S$9,0,IF(AND(S11=0,S32=0),1,IF(AND(S11=0,S32>0),2,IF(S32<0,0,(S32/S11))))) -> 0 | T34: 0.095327512 | U34: 0.26320876 | V34: 0.64146373 | W34: Last 3Y
B35: Fy Q2 2425 | D35: =D68+D101 -> 9.558 | E35: =E68+E101 -> -4.103 | F35: =F68+F101 -> 2.533 | G35: =G68+G101 -> 1.107 | H35: =H68+H101 -> 5.419 | I35: =I68+I101 -> 5.832 | J35: =J68+J101 -> 1.873 | K35: =K68+K101 -> 6.332 | ... S35: =S68+S101 -> 75.552 | T35: =SUM(D35:I35) -> 20.346 | U35: =SUM(J35:N35) -> 99.517 | V35: =SUM(O35:S35) -> 123.496 | W35: =SUM(T35:V35) -> 243.359
B36: Fy Q3 2324 | D36: ='OL-Onshore'!D36+'OL-Overseas'!D36 -> 13.41 | E36: ='OL-Onshore'!E36+'OL-Overseas'!E36 -> -7.234 | F36: ='OL-Onshore'!F36+'OL-Overseas'!F36 -> 0.572 | G36: ='OL-Onshore'!G36+'OL-Overseas'!G36 -> 3.063 | H36: ='OL-Onshore'!H36+'OL-Overseas'!H36 -> 25.741 | I36: ='OL-Onshore'!I36+'OL-Overseas'!I36 -> 19.919 | J36: ='OL-Onshore'!J36+'OL-Overseas'!J36 -> 4.235 | K36: ='OL-Onshore'!K36+'OL-Overseas'!K36 -> 13.211 | ... S36: ='OL-Onshore'!S36+'OL-Overseas'!S36 -> 64.633 | T36: =SUM(D36:I36) -> 55.471 | U36: =SUM(J36:N36) -> 135.364 | V36: =SUM(O36:S36) -> 168.236 | W36: =SUM(T36:V36) -> 359.071
B38: ="Consumer OL DT WF"&" "&RIGHT(B5,8) -> Consumer OL DT WF Q3FY2526
C39: Month | D39: =D$6 -> 1 | E39: =E$6 -> 1 | F39: =F$6 -> 1 | G39: =G$6 -> 1 | H39: =H$6 -> 1 | I39: =I$6 -> 1 | J39: =J$6 -> 2 | K39: =K$6 -> 2 | ... W39: =W$6 -> QTR
C40: Week | D40: =D7 -> OB | E40: =E7 -> 1 | F40: =F7 -> 2 | G40: =G7 -> 3 | H40: =H7 -> 4 | I40: =I7 -> 5 | J40: =J7 -> 5 | K40: =K7 -> 6 | ... W40: =W7 -> 0
C41: Begin | D41: =D$8 -> 45931 | E41: =E$8 -> 45931 | F41: =F$8 -> 45936 | G41: =G$8 -> 45943 | H41: =H$8 -> 45950 | I41: =I$8 -> 45957 | J41: =J$8 -> 45962 | K41: =K$8 -> 45964 | ... W41: =W$8 -> 45931
C42: End | D42: =D$9 -> 45931 | E42: =E$9 -> 45935 | F42: =F$9 -> 45942 | G42: =G$9 -> 45949 | H42: =H$9 -> 45956 | I42: =I$9 -> 45961 | J42: =J$9 -> 45963 | K42: =K$9 -> 45970 | ... W42: =W$9 -> 46022
B43: Target | C43: Week | D43: ='OL-Onshore'!D43+'OL-Overseas'!D43 -> 1.517 | E43: ='OL-Onshore'!E43+'OL-Overseas'!E43 -> -0.87219476 | F43: ='OL-Onshore'!F43+'OL-Overseas'!F43 -> 0.17357992 | G43: ='OL-Onshore'!G43+'OL-Overseas'!G43 -> 0.95527785 | H43: ='OL-Onshore'!H43+'OL-Overseas'!I43 -> 2.1410011 | I43: ='OL-Onshore'!I43+'OL-Overseas'!J43 -> 0.10981754 | J43: ='OL-Onshore'!J43+'OL-Overseas'!K43 -> 0 | K43: ='OL-Onshore'!K43+'OL-Overseas'!L43 -> 0.72824813 | L43: ='OL-Onshore'!L43+'OL-Overseas'!M43 -> 1.4527411 | M43: ='OL-Onshore'!M43+'OL-Overseas'!N43 -> 1.7903673 | N43: ='OL-Onshore'!N43+'OL-Overseas'!O43 -> 3.5361928 | O43: ='OL-Onshore'!O43+'OL-Overseas'!P43 -> 0 | ... S43: ='OL-Onshore'!S43+'OL-Overseas'!T43 -> 7.6839483 | T43: =SUM(D43:H43) -> 3.9146641 | U43: =SUM(J43:N43) -> 7.5075494 | V43: =SUM(O43:S43) -> 11.467969 | W43: =SUM(T43:V43) -> 22.890182
C44: QTD | D44: =D43 -> 1.517 | E44: =E43 -> -0.87219476 | F44: =E44+F43 -> -0.69861484 | G44: =F44+G43 -> 0.25666301 | H44: =G44+H43 -> 2.3976641 | I44: =H44+I43 -> 2.5074817 | J44: =I44+J43 -> 2.5074817 | K44: =J44+K43 -> 3.2357298 | L44: =K44+L43 -> 4.6884709 | M44: =L44+M43 -> 6.4788383 | ... S44: =R44+S43 -> 21.483 | T44: =IFERROR(T43/$W43,0) -> 0.17101935 | U44: =IFERROR(U43/$W43,0) -> 0.3279812 | V44: =IFERROR(V43/$W43,0) -> 0.50099945
C45: 0 | D45: ='OL-Onshore'!D45+'OL-Overseas'!D45 -> 1.517 | E45: ='OL-Onshore'!E45+'OL-Overseas'!E45 -> -0.87219476 | F45: ='OL-Onshore'!F45+'OL-Overseas'!F45 -> 0.17357992 | G45: ='OL-Onshore'!G45+'OL-Overseas'!G45 -> 0.95527785 | H45: ='OL-Onshore'!H45+'OL-Overseas'!I45 -> 2.1410011 | I45: ='OL-Onshore'!I45+'OL-Overseas'!J45 -> 0.10981754 | J45: ='OL-Onshore'!J45+'OL-Overseas'!J45 -> 0 | K45: ='OL-Onshore'!K45+'OL-Overseas'!K45 -> 0.72824813 | L45: ='OL-Onshore'!L45+'OL-Overseas'!L45 -> 1.4527411 | M45: ='OL-Onshore'!M45+'OL-Overseas'!M45 -> 1.7903673 | N45: ='OL-Onshore'!N45+'OL-Overseas'!N45 -> 3.5361928 | O45: ='OL-Onshore'!O45+'OL-Overseas'!O45 -> 0 | P45: ='OL-Onshore'!P45+'OL-Overseas'!P45 -> 0.98967349 | Q45: ='OL-Onshore'!Q45+'OL-Overseas'!Q45 -> 1.420427 | ... S45: ='OL-Onshore'!S45+'OL-Overseas'!S45 -> 7.6839483 | T45: =SUMIF($D$6:$S$6,T$6,$D45:$S45) -> 4.0244817 | U45: =SUMIF($E$6:$S$6,U$6,$E45:$S45) -> 7.5075494 | V45: =SUMIF($E$6:$S$6,V$6,$E45:$S45) -> 11.467969 | W45: =SUM(T45:V45) -> 23
B46: Week | C46: 1 | D46: ='OL-Onshore'!D46+'OL-Overseas'!D46 -> 1.517 | E46: ='OL-Onshore'!E46+'OL-Overseas'!E46 -> -0.341 | F46: ='OL-Onshore'!F46+'OL-Overseas'!F46 -> 0.1462978 | G46: ='OL-Onshore'!G46+'OL-Overseas'!G46 -> 0.80513372 | H46: ='OL-Onshore'!H46+'OL-Overseas'!I46 -> 1.804493 | I46: ='OL-Onshore'!I46+'OL-Overseas'!J46 -> 0.092557158 | J46: ='OL-Onshore'!J46+'OL-Overseas'!J46 -> 0 | K46: ='OL-Onshore'!K46+'OL-Overseas'!K46 -> 0.72824813 | L46: ='OL-Onshore'!L46+'OL-Overseas'!L46 -> 1.4527411 | M46: ='OL-Onshore'!M46+'OL-Overseas'!M46 -> 1.7903673 | N46: ='OL-Onshore'!N46+'OL-Overseas'!N46 -> 3.5361928 | O46: ='OL-Onshore'!O46+'OL-Overseas'!O46 -> 0 | P46: ='OL-Onshore'!P46+'OL-Overseas'!P46 -> 0.98967349 | Q46: ='OL-Onshore'!Q46+'OL-Overseas'!Q46 -> 1.420427 | ... S46: ='OL-Onshore'!S46+'OL-Overseas'!S46 -> 7.6839483 | T46: =SUMIF($D$6:$S$6,T$6,$D46:$S46) -> 4.0244817 | U46: =SUMIF($E$6:$S$6,U$6,$E46:$S46) -> 7.5075494 | V46: =SUMIF($E$6:$S$6,V$6,$E46:$S46) -> 11.467969 | W46: =SUM(T46:V46) -> 23
C47: 2 | D47: ='OL-Onshore'!D47+'OL-Overseas'!D47 -> 1.517 | E47: ='OL-Onshore'!E47+'OL-Overseas'!E47 -> -0.341 | F47: ='OL-Onshore'!F47+'OL-Overseas'!F47 -> -0.498 | G47: ='OL-Onshore'!G47+'OL-Overseas'!G47 -> 0.80513372 | H47: ='OL-Onshore'!H47+'OL-Overseas'!H47 -> 1.804493 | I47: ='OL-Onshore'!I47+'OL-Overseas'!I47 -> 0.73685496 | J47: ='OL-Onshore'!J47+'OL-Overseas'!J47 -> 0 | K47: ='OL-Onshore'!K47+'OL-Overseas'!K47 -> 0.72824813 | ... S47: ='OL-Onshore'!S47+'OL-Overseas'!S47 -> 7.6839483 | T47: =SUMIF($D$6:$S$6,T$6,$D47:$S47) -> 4.0244817 | U47: =SUMIF($E$6:$S$6,U$6,$E47:$S47) -> 7.5075494 | V47: =SUMIF($E$6:$S$6,V$6,$E47:$S47) -> 11.467969 | W47: =SUM(T47:V47) -> 23
C48: 3 | D48: ='OL-Onshore'!D48+'OL-Overseas'!D48 -> 1.517 | E48: ='OL-Onshore'!E48+'OL-Overseas'!E48 -> -0.341 | F48: ='OL-Onshore'!F48+'OL-Overseas'!F48 -> -0.498 | G48: ='OL-Onshore'!G48+'OL-Overseas'!G48 -> 1.424 | H48: ='OL-Onshore'!H48+'OL-Overseas'!H48 -> 1.1856267 | I48: ='OL-Onshore'!I48+'OL-Overseas'!I48 -> 0.73685496 | J48: ='OL-Onshore'!J48+'OL-Overseas'!J48 -> 0 | K48: ='OL-Onshore'!K48+'OL-Overseas'!K48 -> 0.72824813 | ... S48: ='OL-Onshore'!S48+'OL-Overseas'!S48 -> 0 | T48: =SUMIF($D$6:$S$6,T$6,$D48:$S48) -> 4.0244817 | U48: =SUMIF($E$6:$S$6,U$6,$E48:$S48) -> 7.5075494 | V48: =SUMIF($E$6:$S$6,V$6,$E48:$S48) -> 11.467969 | W48: =SUM(T48:V48) -> 23
C49: 4 | D49: ='OL-Onshore'!D49+'OL-Overseas'!D49 -> 1.517 | E49: ='OL-Onshore'!E49+'OL-Overseas'!E49 -> -0.341 | F49: ='OL-Onshore'!F49+'OL-Overseas'!F49 -> -0.498 | G49: ='OL-Onshore'!G49+'OL-Overseas'!G49 -> 1.424 | H49: ='OL-Onshore'!H49+'OL-Overseas'!I49 -> 3.018 | I49: ='OL-Onshore'!I49+'OL-Overseas'!J49 -> 0 | J49: ='OL-Onshore'!J49+'OL-Overseas'!J49 -> 0 | K49: ='OL-Onshore'!K49+'OL-Overseas'!K49 -> 0.72824813 | L49: ='OL-Onshore'!L49+'OL-Overseas'!L49 -> 1.4527411 | M49: ='OL-Onshore'!M49+'OL-Overseas'!M49 -> 1.7903673 | N49: ='OL-Onshore'!N49+'OL-Overseas'!N49 -> 3.5361928 | O49: ='OL-Onshore'!O49+'OL-Overseas'!O49 -> 0 | P49: ='OL-Onshore'!P49+'OL-Overseas'!P49 -> 0.98967349 | Q49: ='OL-Onshore'!Q49+'OL-Overseas'!Q49 -> 1.420427 | ... S49: ='OL-Onshore'!S49+'OL-Overseas'!S49 -> 0 | T49: =SUMIF($D$6:$S$6,T$6,$D49:$S49) -> 5.12 | U49: =SUMIF($E$6:$S$6,U$6,$E49:$S49) -> 7.5075494 | V49: =SUMIF($E$6:$S$6,V$6,$E49:$S49) -> 10.372451 | W49: =SUM(T49:V49) -> 23
C50: 5 | D50: ='OL-Onshore'!D50+'OL-Overseas'!D50 -> 1.517 | E50: ='OL-Onshore'!E50+'OL-Overseas'!E50 -> -0.341 | F50: ='OL-Onshore'!F50+'OL-Overseas'!F50 -> -0.498 | G50: ='OL-Onshore'!G50+'OL-Overseas'!G50 -> 1.424 | H50: ='OL-Onshore'!H50+'OL-Overseas'!I50 -> 3.018 | I50: ='OL-Onshore'!I50+'OL-Overseas'!J50 -> 0.904 | J50: ='OL-Onshore'!J50+'OL-Overseas'!K50 -> 0.008 | K50: ='OL-Onshore'!K50+'OL-Overseas'!L50 -> 0.72824813 | L50: ='OL-Onshore'!L50+'OL-Overseas'!M50 -> 1.4527411 | M50: ='OL-Onshore'!M50+'OL-Overseas'!N50 -> 1.7903673 | N50: ='OL-Onshore'!N50+'OL-Overseas'!O50 -> 2.6241928 | O50: ='OL-Onshore'!O50+'OL-Overseas'!P50 -> 0 | ... S50: ='OL-Onshore'!S50+'OL-Overseas'!T50 -> 0 | T50: =SUMIF($D$6:$S$6,T$6,$D50:$S50) -> 6.024 | U50: =SUMIF($E$6:$S$6,U$6,$E50:$S50) -> 6.6035494 | V50: =SUMIF($E$6:$S$6,V$6,$E50:$S50) -> 10.372451 | W50: =SUM(T50:V50) -> 23
C51: 6 | D51: ='OL-Onshore'!D51+'OL-Overseas'!D51 -> 1.517 | E51: ='OL-Onshore'!E51+'OL-Overseas'!E51 -> -0.341 | F51: ='OL-Onshore'!F51+'OL-Overseas'!F51 -> -0.498 | G51: ='OL-Onshore'!G51+'OL-Overseas'!G51 -> 1.424 | H51: ='OL-Onshore'!H51+'OL-Overseas'!I51 -> 3.018 | I51: ='OL-Onshore'!I51+'OL-Overseas'!J51 -> 0.904 | J51: ='OL-Onshore'!J51+'OL-Overseas'!J51 -> 0.008 | K51: ='OL-Onshore'!K51+'OL-Overseas'!K51 -> 0.304 | L51: ='OL-Onshore'!L51+'OL-Overseas'!L51 -> 1.4527411 | M51: ='OL-Onshore'!M51+'OL-Overseas'!M51 -> 1.7903673 | N51: ='OL-Onshore'!N51+'OL-Overseas'!N51 -> 3.048441 | O51: ='OL-Onshore'!O51+'OL-Overseas'!O51 -> 0 | P51: ='OL-Onshore'!P51+'OL-Overseas'!P51 -> 0.98967349 | Q51: ='OL-Onshore'!Q51+'OL-Overseas'!Q51 -> 1.420427 | ... S51: ='OL-Onshore'!S51+'OL-Overseas'!S51 -> 0 | T51: =SUMIF($D$6:$S$6,T$6,$D51:$S51) -> 6.024 | U51: =SUMIF($E$6:$S$6,U$6,$E51:$S51) -> 6.6035494 | V51: =SUMIF($E$6:$S$6,V$6,$E51:$S51) -> 10.372451 | W51: =SUM(T51:V51) -> 23
C52: 7 | D52: ='OL-Onshore'!D52+'OL-Overseas'!D52 -> 1.517 | E52: ='OL-Onshore'!E52+'OL-Overseas'!E52 -> -0.341 | F52: ='OL-Onshore'!F52+'OL-Overseas'!F52 -> -0.498 | G52: ='OL-Onshore'!G52+'OL-Overseas'!G52 -> 1.424 | H52: ='OL-Onshore'!H52+'OL-Overseas'!I52 -> 3.018 | I52: ='OL-Onshore'!I52+'OL-Overseas'!J52 -> 0.904 | J52: ='OL-Onshore'!J52+'OL-Overseas'!J52 -> 0.008 | K52: ='OL-Onshore'!K52+'OL-Overseas'!K52 -> 0.304 | L52: ='OL-Onshore'!L52+'OL-Overseas'!L52 -> 1.925 | M52: ='OL-Onshore'!M52+'OL-Overseas'!M52 -> 1.7903673 | N52: ='OL-Onshore'!N52+'OL-Overseas'!N52 -> 2.5761821 | O52: ='OL-Onshore'!O52+'OL-Overseas'!O52 -> 0 | P52: ='OL-Onshore'!P52+'OL-Overseas'!P52 -> 0.98967349 | Q52: ='OL-Onshore'!Q52+'OL-Overseas'!Q52 -> 1.420427 | ... S52: ='OL-Onshore'!S52+'OL-Overseas'!S52 -> 0 | T52: =SUMIF($D$6:$S$6,T$6,$D52:$S52) -> 6.024 | U52: =SUMIF($E$6:$S$6,U$6,$E52:$S52) -> 6.6035494 | V52: =SUMIF($E$6:$S$6,V$6,$E52:$S52) -> 10.372451 | W52: =SUM(T52:V52) -> 23
C53: 8 | D53: ='OL-Onshore'!D53+'OL-Overseas'!D53 -> 1.517 | E53: ='OL-Onshore'!E53+'OL-Overseas'!E53 -> -0.341 | F53: ='OL-Onshore'!F53+'OL-Overseas'!F53 -> -0.498 | G53: ='OL-Onshore'!G53+'OL-Overseas'!G53 -> 1.424 | H53: ='OL-Onshore'!H53+'OL-Overseas'!I53 -> 3.018 | I53: ='OL-Onshore'!I53+'OL-Overseas'!J53 -> 0.904 | J53: ='OL-Onshore'!J53+'OL-Overseas'!J53 -> 0.008 | K53: ='OL-Onshore'!K53+'OL-Overseas'!K53 -> 0.304 | L53: ='OL-Onshore'!L53+'OL-Overseas'!L53 -> 1.925 | M53: ='OL-Onshore'!M53+'OL-Overseas'!M53 -> 3.176 | N53: ='OL-Onshore'!N53+'OL-Overseas'!N53 -> 1.1905494 | O53: ='OL-Onshore'!O53+'OL-Overseas'!O53 -> 0 | P53: ='OL-Onshore'!P53+'OL-Overseas'!P53 -> 0.98967349 | Q53: ='OL-Onshore'!Q53+'OL-Overseas'!Q53 -> 1.420427 | ... S53: ='OL-Onshore'!S53+'OL-Overseas'!S53 -> 0 | T53: =SUMIF($D$6:$S$6,T$6,$D53:$S53) -> 6.024 | U53: =SUMIF($E$6:$S$6,U$6,$E53:$S53) -> 6.6035494 | V53: =SUMIF($E$6:$S$6,V$6,$E53:$S53) -> 10.372451 | W53: =SUM(T53:V53) -> 23
C54: 9 | D54: ='OL-Onshore'!D54+'OL-Overseas'!D54 -> 1.517 | E54: ='OL-Onshore'!E54+'OL-Overseas'!E54 -> -0.341 | F54: ='OL-Onshore'!F54+'OL-Overseas'!F54 -> -0.498 | G54: ='OL-Onshore'!G54+'OL-Overseas'!G54 -> 1.424 | H54: ='OL-Onshore'!H54+'OL-Overseas'!I54 -> 3.018 | I54: ='OL-Onshore'!I54+'OL-Overseas'!J54 -> 0.904 | J54: ='OL-Onshore'!J54+'OL-Overseas'!J54 -> 0.008 | K54: ='OL-Onshore'!K54+'OL-Overseas'!K54 -> 0.304 | L54: ='OL-Onshore'!L54+'OL-Overseas'!L54 -> 1.925 | M54: ='OL-Onshore'!M54+'OL-Overseas'!M54 -> 3.176 | N54: ='OL-Onshore'!N54+'OL-Overseas'!N54 -> 2.789 | O54: ='OL-Onshore'!O54+'OL-Overseas'!O54 -> 0 | P54: ='OL-Onshore'!P54+'OL-Overseas'!P54 -> 0.98967349 | Q54: ='OL-Onshore'!Q54+'OL-Overseas'!Q54 -> 1.420427 | ... S54: ='OL-Onshore'!S54+'OL-Overseas'!S54 -> 0 | T54: =SUMIF($D$6:$S$6,T$6,$D54:$S54) -> 6.024 | U54: =SUMIF($E$6:$S$6,U$6,$E54:$S54) -> 8.202 | V54: =SUMIF($E$6:$S$6,V$6,$E54:$S54) -> 8.774 | W54: =SUM(T54:V54) -> 23
C55: 10 | D55: ='OL-Onshore'!D55+'OL-Overseas'!D55 -> 1.517 | E55: ='OL-Onshore'!E55+'OL-Overseas'!E55 -> -0.341 | F55: ='OL-Onshore'!F55+'OL-Overseas'!F55 -> -0.498 | G55: ='OL-Onshore'!G55+'OL-Overseas'!G55 -> 1.424 | H55: ='OL-Onshore'!H55+'OL-Overseas'!I55 -> 3.018 | I55: ='OL-Onshore'!I55+'OL-Overseas'!J55 -> 0.904 | J55: ='OL-Onshore'!J55+'OL-Overseas'!J55 -> 0.008 | K55: ='OL-Onshore'!K55+'OL-Overseas'!K55 -> 0.304 | L55: ='OL-Onshore'!L55+'OL-Overseas'!L55 -> 1.925 | M55: ='OL-Onshore'!M55+'OL-Overseas'!M55 -> 3.176 | N55: ='OL-Onshore'!N55+'OL-Overseas'!N55 -> 2.789 | O55: ='OL-Onshore'!O55+'OL-Overseas'!O55 -> 0 | P55: ='OL-Onshore'!P55+'OL-Overseas'!P55 -> 0.477 | Q55: ='OL-Onshore'!Q55+'OL-Overseas'!Q55 -> 0 | ... S55: ='OL-Onshore'!S55+'OL-Overseas'!S55 -> 0 | T55: =SUMIF($D$6:$S$6,T$6,$D55:$S55) -> 6.024 | U55: =SUMIF($E$6:$S$6,U$6,$E55:$S55) -> 8.202 | V55: =SUMIF($E$6:$S$6,V$6,$E55:$S55) -> 0.477 | W55: =SUM(T55:V55) -> 14.703
C56: 11 | D56: ='OL-Onshore'!D56+'OL-Overseas'!D56 -> 0 | E56: ='OL-Onshore'!E56+'OL-Overseas'!E56 -> 0 | F56: ='OL-Onshore'!F56+'OL-Overseas'!F56 -> 0 | G56: ='OL-Onshore'!G56+'OL-Overseas'!G56 -> 0 | H56: ='OL-Onshore'!H56+'OL-Overseas'!I56 -> 0 | I56: ='OL-Onshore'!I56+'OL-Overseas'!J56 -> 0 | J56: ='OL-Onshore'!J56+'OL-Overseas'!J56 -> 0 | K56: ='OL-Onshore'!K56+'OL-Overseas'!K56 -> 0 | L56: ='OL-Onshore'!L56+'OL-Overseas'!L56 -> 0 | M56: ='OL-Onshore'!M56+'OL-Overseas'!M56 -> 0 | N56: ='OL-Onshore'!N56+'OL-Overseas'!N56 -> 0 | O56: ='OL-Onshore'!O56+'OL-Overseas'!O56 -> 0 | P56: ='OL-Onshore'!P56+'OL-Overseas'!P56 -> 0 | Q56: ='OL-Onshore'!Q56+'OL-Overseas'!Q56 -> 0 | ... S56: ='OL-Onshore'!S56+'OL-Overseas'!S56 -> 0 | T56: =SUMIF($D$6:$S$6,T$6,$D56:$S56) -> 0 | U56: =SUMIF($E$6:$S$6,U$6,$E56:$S56) -> 0 | V56: =SUMIF($E$6:$S$6,V$6,$E56:$S56) -> 0 | W56: =SUM(T56:V56) -> 0
C57: 12 | D57: ='OL-Onshore'!D57+'OL-Overseas'!D57 -> 0 | E57: ='OL-Onshore'!E57+'OL-Overseas'!E57 -> 0 | F57: ='OL-Onshore'!F57+'OL-Overseas'!F57 -> 0 | G57: ='OL-Onshore'!G57+'OL-Overseas'!G57 -> 0 | H57: ='OL-Onshore'!H57+'OL-Overseas'!I57 -> 0 | I57: ='OL-Onshore'!I57+'OL-Overseas'!J57 -> 0 | J57: ='OL-Onshore'!J57+'OL-Overseas'!J57 -> 0 | K57: ='OL-Onshore'!K57+'OL-Overseas'!K57 -> 0 | L57: ='OL-Onshore'!L57+'OL-Overseas'!L57 -> 0 | M57: ='OL-Onshore'!M57+'OL-Overseas'!M57 -> 0 | N57: ='OL-Onshore'!N57+'OL-Overseas'!N57 -> 0 | O57: ='OL-Onshore'!O57+'OL-Overseas'!O57 -> 0 | P57: ='OL-Onshore'!P57+'OL-Overseas'!P57 -> 0 | Q57: ='OL-Onshore'!Q57+'OL-Overseas'!Q57 -> 0 | ... S57: ='OL-Onshore'!S57+'OL-Overseas'!S57 -> 0 | T57: =SUMIF($D$6:$S$6,T$6,$D57:$S57) -> 0 | U57: =SUMIF($E$6:$S$6,U$6,$E57:$S57) -> 0 | V57: =SUMIF($E$6:$S$6,V$6,$E57:$S57) -> 0 | W57: =SUM(T57:V57) -> 0
C58: 13 | D58: ='OL-Onshore'!D58+'OL-Overseas'!D58 -> 0 | E58: ='OL-Onshore'!E58+'OL-Overseas'!E58 -> 0 | F58: ='OL-Onshore'!F58+'OL-Overseas'!F58 -> 0 | G58: ='OL-Onshore'!G58+'OL-Overseas'!G58 -> 0 | H58: ='OL-Onshore'!H58+'OL-Overseas'!I58 -> 0 | I58: ='OL-Onshore'!I58+'OL-Overseas'!J58 -> 0 | J58: ='OL-Onshore'!J58+'OL-Overseas'!J58 -> 0 | K58: ='OL-Onshore'!K58+'OL-Overseas'!K58 -> 0 | L58: ='OL-Onshore'!L58+'OL-Overseas'!L58 -> 0 | M58: ='OL-Onshore'!M58+'OL-Overseas'!M58 -> 0 | N58: ='OL-Onshore'!N58+'OL-Overseas'!N58 -> 0 | O58: ='OL-Onshore'!O58+'OL-Overseas'!O58 -> 0 | P58: ='OL-Onshore'!P58+'OL-Overseas'!P58 -> 0 | Q58: ='OL-Onshore'!Q58+'OL-Overseas'!Q58 -> 0 | ... S58: ='OL-Onshore'!S58+'OL-Overseas'!S58 -> 0 | T58: =SUMIF($D$6:$S$6,T$6,$D58:$S58) -> 0 | U58: =SUMIF($E$6:$S$6,U$6,$E58:$S58) -> 0 | V58: =SUMIF($E$6:$S$6,V$6,$E58:$S58) -> 0 | W58: =SUM(T58:V58) -> 0
B59: Actual | C59: 0 | D59: =INDEX(D46:D58,MATCH($E$1,$C$46:$C$58,0)) -> 1.517 | E59: =INDEX(E46:E58,MATCH($E$1,$C$46:$C$58,0)) -> -0.341 | F59: =INDEX(F46:F58,MATCH($E$1,$C$46:$C$58,0)) -> -0.498 | G59: =INDEX(G46:G58,MATCH($E$1,$C$46:$C$58,0)) -> 1.424 | H59: =INDEX(H46:H58,MATCH($E$1,$C$46:$C$58,0)) -> 3.018 | I59: 0 | J59: 0 | K59: 0 | L59: 0 | M59: 0 | N59: 0 | O59: 0 | P59: 0 | Q59: 0 | R59: 0 | S59: 0 | T59: =INDEX($E$46:$E$58,MATCH($E$1,$C$46:$C$58,0)) -> -0.341 | U59: =INDEX($E$46:$E$58,MATCH($E$1,$C$46:$C$58,0)) -> -0.341 | V59: =INDEX($E$46:$E$58,MATCH($E$1,$C$46:$C$58,0)) -> -0.341 | W59: =INDEX($E$46:$E$58,MATCH($E$1,$C$46:$C$58,0)) -> -0.341
B60: Delta to Target | C60: 0 | D60: =IF(D$9<=$E$2,D59-D43,0) -> 0 | E60: =IF(E$9<=$E$2,E59-E43,0) -> 0.53119476 | F60: =IF(F$9<=$E$2,F59-F43,0) -> -0.67157992 | G60: =IF(G$9<=$E$2,G59-G43,0) -> 0.46872215 | H60: =IF(H$9<=$E$2,H59-H43,0) -> 0.87699888 | I60: =IF(I$9<=$E$2,I59-I43,0) -> -0.10981754 | J60: =IF(J$9<=$E$2,J59-J43,0) -> 0 | K60: =IF(K$9<=$E$2,K59-K43,0) -> -0.72824813 | ... W60: =IF(W$9<=$E$2,W59-W43,0) -> 0
B61: % to Target | C61: 0 | D61: =IF($E$2<D$9,0,IF(AND(D43=0,D59=0),1,IF(AND(D43=0,D59>0),2,IF(D59<0,0,(D59/D43))))) -> 1 | E61: =IF($E$2<E$9,0,IF(AND(E43=0,E59=0),1,IF(AND(E43=0,E59>0),2,IF(E59<0,0,(E59/E43))))) -> 0 | F61: =IF($E$2<F$9,0,IF(AND(F43=0,F59=0),1,IF(AND(F43=0,F59>0),2,IF(F59<0,0,(F59/F43))))) -> 0 | G61: =IF($E$2<G$9,0,IF(AND(G43=0,G59=0),1,IF(AND(G43=0,G59>0),2,IF(G59<0,0,(G59/G43))))) -> 1.4906658 | H61: =IF($E$2<H$9,0,IF(AND(H43=0,H59=0),1,IF(AND(H43=0,H59>0),2,IF(H59<0,0,(H59/H43))))) -> 1.4096209 | I61: =IF($E$2<I$9,0,IF(AND(I43=0,I59=0),1,IF(AND(I43=0,I59>0),2,IF(I59<0,0,(I59/I43))))) -> 0 | J61: =IF($E$2<J$9,0,IF(AND(J43=0,J59=0),1,IF(AND(J43=0,J59>0),2,IF(J59<0,0,(J59/J43))))) -> 1 | K61: =IF($E$2<K$9,0,IF(AND(K43=0,K59=0),1,IF(AND(K43=0,K59>0),2,IF(K59<0,0,(K59/K43))))) -> 0 | ... W61: =IF($E$2<W$9,0,IF(AND(W43=0,W59=0),1,IF(AND(W43=0,W59>0),2,IF(W59<0,0,(W59/W43))))) -> 0
B62: ="Week "&$E$1&" View" -> Week 10 View | D62: =INDEX(D46:D58,MATCH($E$1,$C$13:$C$25,0)) -> 1.517 | E62: =INDEX(E46:E58,MATCH($E$1,$C$13:$C$25,0)) -> -0.341 | F62: =INDEX(F46:F58,MATCH($E$1,$C$13:$C$25,0)) -> -0.498 | G62: =INDEX(G46:G58,MATCH($E$1,$C$13:$C$25,0)) -> 1.424 | H62: =INDEX(H46:H58,MATCH($E$1,$C$13:$C$25,0)) -> 3.018 | I62: =INDEX(I46:I58,MATCH($E$1,$C$13:$C$25,0)) -> 0.904 | J62: =INDEX(J46:J58,MATCH($E$1,$C$13:$C$25,0)) -> 0.008 | K62: =INDEX(K46:K58,MATCH($E$1,$C$13:$C$25,0)) -> 0.304 | ... W62: =INDEX(W46:W58,MATCH($E$1,$C$13:$C$25,0)) -> 14.703
B63: Linearity | D63: =IFERROR(E62/$T62,0) -> -0.056606906 | E63: =IFERROR(F62/$T62,0) -> -0.082669323 | F63: =IFERROR(G62/$T62,0) -> 0.23638778 | G63: =IFERROR(H62/$T62,0) -> 0.50099602 | H63: =IFERROR(J62/$T62,0) -> 0.0013280212 | I63: =IFERROR(K62/$T62,0) -> 0.050464807 | J63: =IFERROR(K62/$T62,0) -> 0.050464807 | K63: =IFERROR(L62/$U62,0) -> 0.23469885 | L63: =IFERROR(M62/$U62,0) -> 0.38722263 | M63: =IFERROR(N62/$U62,0) -> 0.34003901 | N63: =IFERROR(P62/$U62,0) -> 0.058156547 | O63: =IFERROR(Q62/$U62,0) -> 0 | P63: =IFERROR(R62/$U62,0) -> 0 | Q63: =IFERROR(S62/$U62,0) -> 0 | R63: =IFERROR(T62/$U62,0) -> 0.73445501 | S63: =IFERROR(U62/$U62,0) -> 1 | T63: =IFERROR(T62/$W62,0) -> 0.4097123 | U63: =IFERROR(U62/$W62,0) -> 0.55784534 | V63: =IFERROR(V62/$W62,0) -> 0.032442359
B64: Last 4Q ROL Linearity
B65: QTD Actual | C65: 0 | D65: =IF(D$9<=$E$2,D59,0) -> 1.517 | E65: =IF(E$9<=$E$2,E59,0) -> -0.341 | F65: =IF(F$9<=$E$2,F59+E65,0) -> -0.839 | G65: =IF(G$9<=$E$2,G59+F65,0) -> 0.585 | H65: =IF(H$9<=$E$2,H59+G65,0) -> 3.603 | I65: =IF(I$9<=$E$2,I59+H65,0) -> 3.603 | J65: =IF(J$9<=$E$2,J59+H65,0) -> 3.603 | K65: =IF(K$9<=$E$2,K59+J65,0) -> 3.603 | L65: =IF(L$9<=$E$2,L59+K65,0) -> 3.603 | M65: =IF(M$9<=$E$2,M59+L65,0) -> 3.603 | N65: =IF(N$9<=$E$2,N59+M65,0) -> 3.603 | O65: =IF(O$9<=$E$2,O59+N65,0) -> 3.603 | P65: =IF(P$9<=$E$2,P59+O65,0) -> 3.603 | Q65: =IF(Q$9<=$E$2,Q59+P65,0) -> 0 | R65: =IF(R$9<=$E$2,R59+Q65,0) -> 0 | S65: =IF(S$9<=$E$2,S59+R65,0) -> 0 | T65: =IFERROR(INDEX(T$13:T$25,$E$1,0)/INDEX($W$13:$W$25,$E$1,0),0) -> 0.49433516 | U65: =IFERROR(INDEX(U$13:U$25,$E$1,0)/INDEX($W$13:$W$25,$E$1,0),0) -> 0.55076486 | V65: =IFERROR(INDEX(V$13:V$25,$E$1,0)/INDEX($W$13:$W$25,$E$1,0),0) -> -0.04510002 | W65: Current
B66: QTD Delta to Tgt | C66: 0 | D66: =IF(D$27=0,0,IF(D$9<=$E$2,E65-D44,E65-D44)) -> 0 | E66: =IF(E$27=0,0,IF(E$9<=$E$2,F65-E44,F65-E44)) -> 0.033194763 | F66: =IF(F$27=0,0,IF(F$9<=$E$2,G65-F44,G65-F44)) -> 1.2836148 | G66: =IF(G$27=0,0,IF(G$9<=$E$2,H65-G44,H65-G44)) -> 3.346337 | H66: =IF(H$27=0,0,IF(H$9<=$E$2,J65-H44,J65-H44)) -> 1.2053359 | I66: =IF(I$27=0,0,IF(I$9<=$E$2,K65-I44,K65-I44)) -> 1.0955183 | J66: =IF(J$27=0,0,IF(J$9<=$E$2,K65-J44,K65-J44)) -> 1.0955183 | K66: =IF(K$27=0,0,IF(K$9<=$E$2,L65-K44,L65-K44)) -> 0.3672702 | L66: =IF(L$27=0,0,IF(L$9<=$E$2,M65-L44,M65-L44)) -> -1.0854709 | M66: =IF(M$27=0,0,IF(M$9<=$E$2,N65-M44,N65-M44)) -> -2.8758383 | N66: =IF(N$27=0,0,IF(N$9<=$E$2,P65-N44,P65-N44)) -> -6.4120311 | O66: =IF(O$27=0,0,IF(O$9<=$E$2,Q65-O44,Q65-O44)) -> 0 | P66: =IF(P$27=0,0,IF(P$9<=$E$2,R65-P44,R65-P44)) -> -11.004705 | Q66: =IF(Q$27=0,0,IF(Q$9<=$E$2,S65-Q44,S65-Q44)) -> 0 | R66: =IF(R$27=0,0,IF(R$9<=$E$2,T65-R44,T65-R44)) -> 0 | S66: =IF(S$27=0,0,IF(S$9<=$E$2,U65-S44,U65-S44)) -> 0 | W66: Last 4Q
B67: % to Target | C67: 0 | D67: =IF($E$2<D$9,0,IF(AND(D44=0,D65=0),1,IF(AND(D44=0,D65>0),2,IF(D65<0,0,(D65/D44))))) -> 1 | E67: =IF($E$2<E$9,0,IF(AND(E44=0,E65=0),1,IF(AND(E44=0,E65>0),2,IF(E65<0,0,(E65/E44))))) -> 0 | F67: =IF($E$2<F$9,0,IF(AND(F44=0,F65=0),1,IF(AND(F44=0,F65>0),2,IF(F65<0,0,(F65/F44))))) -> 0 | G67: =IF($E$2<G$9,0,IF(AND(G44=0,G65=0),1,IF(AND(G44=0,G65>0),2,IF(G65<0,0,(G65/G44))))) -> 2.2792532 | H67: =IF($E$2<H$9,0,IF(AND(H44=0,H65=0),1,IF(AND(H44=0,H65>0),2,IF(H65<0,0,(H65/H44))))) -> 1.5027126 | I67: =IF($E$2<I$9,0,IF(AND(I44=0,I65=0),1,IF(AND(I44=0,I65>0),2,IF(I65<0,0,(I65/I44))))) -> 1.4368998 | J67: =IF($E$2<J$9,0,IF(AND(J44=0,J65=0),1,IF(AND(J44=0,J65>0),2,IF(J65<0,0,(J65/J44))))) -> 1.4368998 | K67: =IF($E$2<K$9,0,IF(AND(K44=0,K65=0),1,IF(AND(K44=0,K65>0),2,IF(K65<0,0,(K65/K44))))) -> 1.1135046 | ... N67: =IF($E$2<N$9,0,IF(AND(N44=0,N65=0),1,IF(AND(N44=0,N65>0),2,IF(N65<0,0,(N65/N44))))) -> 0.35975924 | P67: =IF($E$2<P$9,0,IF(AND(P44=0,P65=0),1,IF(AND(P44=0,P65>0),2,IF(P65<0,0,(P65/P44))))) -> 0.32740543 | Q67: =IF($E$2<Q$9,0,IF(AND(Q44=0,Q65=0),1,IF(AND(Q44=0,Q65>0),2,IF(Q65<0,0,(Q65/Q44))))) -> 0 | R67: =IF($E$2<R$9,0,IF(AND(R44=0,R65=0),1,IF(AND(R44=0,R65>0),2,IF(R65<0,0,(R65/R44))))) -> 0 | S67: =IF($E$2<S$9,0,IF(AND(S44=0,S65=0),1,IF(AND(S44=0,S65>0),2,IF(S65<0,0,(S65/S44))))) -> 0 | W67: Last 3Y
B68: Fy Q3 2425 | D68: ='OL-Onshore'!D68 -> 0.425 | E68: ='OL-Onshore'!E68 -> 0.48 | F68: ='OL-Onshore'!F68 -> -0.033 | G68: ='OL-Onshore'!G68 -> 0.063 | H68: ='OL-Onshore'!H68 -> 0.06 | I68: ='OL-Onshore'!I68 -> 0.698 | J68: ='OL-Onshore'!J68 -> 1.04 | K68: ='OL-Onshore'!K68 -> 1.777 | ... S68: ='OL-Onshore'!S68 -> 7.975 | T68: =SUM(D68:I68) -> 1.693 | U68: =SUM(J68:N68) -> 10.306 | V68: =SUM(O68:S68) -> 10.133 | W68: =SUM(T68:V68) -> 22.132
B69: Fy Q4 2324 | D69: ='OL-Onshore'!D69 -> 1.092 | E69: ='OL-Onshore'!E69 -> -0.98 | F69: ='OL-Onshore'!F69 -> -0.002 | G69: ='OL-Onshore'!G69 -> 0.456 | H69: ='OL-Onshore'!H69 -> 0.552 | I69: ='OL-Onshore'!I69 -> 0.937 | J69: ='OL-Onshore'!J69 -> 0.137 | K69: ='OL-Onshore'!K69 -> 1.453 | ... S69: ='OL-Onshore'!S69 -> 9.22 | T69: =SUM(D69:I69) -> 2.055 | U69: =SUM(J69:N69) -> 10.147 | V69: =SUM(O69:S69) -> 12.533 | W69: =SUM(T69:V69) -> 24.735
B71: Consumer OL NB WF Q3FY2526
C72: Month | D72: =D$6 -> 1 | E72: =E$6 -> 1 | F72: =F$6 -> 1 | G72: =G$6 -> 1 | H72: =H$6 -> 1 | I72: =I$6 -> 1 | J72: =J$6 -> 2 | K72: =K$6 -> 2 | ... W72: =W$6 -> QTR
C73: Week | D73: =D$7 -> OB | E73: =E$7 -> 1 | F73: =F$7 -> 2 | G73: =G$7 -> 3 | H73: =H$7 -> 4 | I73: =I$7 -> 5 | J73: =J$7 -> 5 | K73: =K$7 -> 6 | ... W73: =W$7 -> 0
C74: Begin | D74: =D$8 -> 45931 | E74: =E$8 -> 45931 | F74: =F$8 -> 45936 | G74: =G$8 -> 45943 | H74: =H$8 -> 45950 | I74: =I$8 -> 45957 | J74: =J$8 -> 45962 | K74: =K$8 -> 45964 | ... W74: =W$8 -> 45931
C75: End | D75: =D$9 -> 45931 | E75: =E$9 -> 45935 | F75: =F$9 -> 45942 | G75: =G$9 -> 45949 | H75: =H$9 -> 45956 | I75: =I$9 -> 45961 | J75: =J$9 -> 45963 | K75: =K$9 -> 45970 | ... W75: =W$9 -> 46022
B76: Target | C76: Week | D76: ='OL-Onshore'!D76+'OL-Overseas'!D76 -> 16.367 | E76: ='OL-Onshore'!E76+'OL-Overseas'!E76 -> -9.4423525 | F76: ='OL-Onshore'!F76+'OL-Overseas'!F76 -> 1.8640974 | G76: ='OL-Onshore'!G76+'OL-Overseas'!G76 -> 10.258853 | H76: ='OL-Onshore'!H76+'OL-Overseas'!H76 -> 22.99249 | I76: ='OL-Onshore'!I76+'OL-Overseas'!I76 -> 1.1793449 | J76: ='OL-Onshore'!J76+'OL-Overseas'!J76 -> 0 | K76: ='OL-Onshore'!K76+'OL-Overseas'!K76 -> 7.8207516 | ... S76: ='OL-Onshore'!S76+'OL-Overseas'!S76 -> 82.518923 | T76: =SUMIF($D$6:$S$6,T$6,$D76:$S76) -> 43.219434 | U76: =SUMIF($E$6:$S$6,U$6,$E76:$S76) -> 80.624553 | V76: =SUMIF($E$6:$S$6,V$6,$E76:$S76) -> 123.15601 | W76: =SUM(T76:V76) -> 247
C77: QTD | D77: =D76 -> 16.367 | E77: =E76 -> -9.4423525 | F77: =E77+F76 -> -7.578255 | G77: =F77+G76 -> 2.6805984 | H77: =G77+H76 -> 25.673089 | I77: =H77+I76 -> 26.852434 | J77: =I77+J76 -> 26.852434 | K77: =J77+K76 -> 34.673185 | L77: =K77+L76 -> 50.274362 | M77: =L77+M76 -> 69.50135 | ... S77: =R77+S76 -> 230.633 | T77: =IFERROR(T76/$W76,0) -> 0.17497746 | U77: =IFERROR(U76/$W76,0) -> 0.32641519 | V77: =IFERROR(V76/$W76,0) -> 0.49860734
C78: 0 | D78: ='OL-Onshore'!D78+'OL-Overseas'!D78 -> 16.367 | E78: ='OL-Onshore'!E78+'OL-Overseas'!E78 -> -9.4423525 | F78: ='OL-Onshore'!F78+'OL-Overseas'!F78 -> 1.8640974 | G78: ='OL-Onshore'!G78+'OL-Overseas'!G78 -> 10.258853 | H78: ='OL-Onshore'!H78+'OL-Overseas'!H78 -> 22.99249 | I78: ='OL-Onshore'!I78+'OL-Overseas'!I78 -> 1.1793449 | J78: ='OL-Onshore'!J78+'OL-Overseas'!J78 -> 0 | K78: ='OL-Onshore'!K78+'OL-Overseas'!K78 -> 7.8207516 | ... S78: ='OL-Onshore'!S78+'OL-Overseas'!S78 -> 82.518923 | T78: =SUMIF($D$6:$S$6,T$6,$D78:$S78) -> 43.219434 | U78: =SUMIF($E$6:$S$6,U$6,$E78:$S78) -> 80.624553 | V78: =SUMIF($E$6:$S$6,V$6,$E78:$S78) -> 123.15601 | W78: =SUM(T78:V78) -> 247
B79: Week | C79: 1 | D79: ='OL-Onshore'!D79+'OL-Overseas'!D79 -> 16.367 | E79: ='OL-Onshore'!E79+'OL-Overseas'!E79 -> 2.261 | F79: ='OL-Onshore'!F79+'OL-Overseas'!F79 -> 1.4045665 | G79: ='OL-Onshore'!G79+'OL-Overseas'!G79 -> 7.7298756 | H79: ='OL-Onshore'!H79+'OL-Overseas'!H79 -> 17.324459 | I79: ='OL-Onshore'!I79+'OL-Overseas'!I79 -> 0.88861677 | J79: ='OL-Onshore'!J79+'OL-Overseas'!J79 -> 0 | K79: ='OL-Onshore'!K79+'OL-Overseas'!K79 -> 5.7708932 | ... S79: ='OL-Onshore'!S79+'OL-Overseas'!S79 -> 94.83151 | T79: =SUMIF($D$6:$S$6,T$6,$D79:$S79) -> 45.975518 | U79: =SUMIF($E$6:$S$6,U$6,$E79:$S79) -> 59.492451 | V79: =SUMIF($E$6:$S$6,V$6,$E79:$S79) -> 141.53203 | W79: =SUM(T79:V79) -> 247
C80: 2 | D80: ='OL-Onshore'!D80+'OL-Overseas'!D80 -> 16.367 | E80: ='OL-Onshore'!E80+'OL-Overseas'!E80 -> 2.261 | F80: ='OL-Onshore'!F80+'OL-Overseas'!F80 -> 13.113 | G80: ='OL-Onshore'!G80+'OL-Overseas'!G80 -> 7.7298756 | H80: ='OL-Onshore'!H80+'OL-Overseas'!H80 -> 6.5889699 | I80: ='OL-Onshore'!I80+'OL-Overseas'!I80 -> 0.83253297 | J80: ='OL-Onshore'!J80+'OL-Overseas'!J80 -> 0 | K80: ='OL-Onshore'!K80+'OL-Overseas'!K80 -> 5.7708932 | ... S80: ='OL-Onshore'!S80+'OL-Overseas'!S80 -> 93.91465 | T80: =SUMIF($D$6:$S$6,T$6,$D80:$S80) -> 46.892379 | U80: =SUMIF($E$6:$S$6,U$6,$E80:$S80) -> 59.492451 | V80: =SUMIF($E$6:$S$6,V$6,$E80:$S80) -> 140.61517 | W80: =SUM(T80:V80) -> 247
C81: 3 | D81: ='OL-Onshore'!D81+'OL-Overseas'!D81 -> 16.367 | E81: ='OL-Onshore'!E81+'OL-Overseas'!E81 -> 2.261 | F81: ='OL-Onshore'!F81+'OL-Overseas'!F81 -> 13.113 | G81: ='OL-Onshore'!G81+'OL-Overseas'!G81 -> 21.876 | H81: ='OL-Onshore'!H81+'OL-Overseas'!H81 -> 3.3955183 | I81: ='OL-Onshore'!I81+'OL-Overseas'!I81 -> 2.2 | J81: ='OL-Onshore'!J81+'OL-Overseas'!J81 -> 0 | K81: ='OL-Onshore'!K81+'OL-Overseas'!K81 -> 8.924194 | ... S81: ='OL-Onshore'!S81+'OL-Overseas'!S81 -> 0 | T81: =SUMIF($D$6:$S$6,T$6,$D81:$S81) -> 59.212518 | U81: =SUMIF($E$6:$S$6,U$6,$E81:$S81) -> 84.255451 | V81: =SUMIF($E$6:$S$6,V$6,$E81:$S81) -> 113.53203 | W81: =SUM(T81:V81) -> 257
C82: 4 | D82: ='OL-Onshore'!D82+'OL-Overseas'!D82 -> 16.367 | E82: ='OL-Onshore'!E82+'OL-Overseas'!E82 -> 2.261 | F82: ='OL-Onshore'!F82+'OL-Overseas'!F82 -> 13.113 | G82: ='OL-Onshore'!G82+'OL-Overseas'!G82 -> 21.876 | H82: ='OL-Onshore'!H82+'OL-Overseas'!H82 -> 25.102 | I82: ='OL-Onshore'!I82+'OL-Overseas'!I82 -> 5 | J82: ='OL-Onshore'!J82+'OL-Overseas'!J82 -> 0 | K82: ='OL-Onshore'!K82+'OL-Overseas'!K82 -> 8.3451792 | ... S82: ='OL-Onshore'!S82+'OL-Overseas'!S82 -> 0 | T82: =SUMIF($D$6:$S$6,T$6,$D82:$S82) -> 83.719 | U82: =SUMIF($E$6:$S$6,U$6,$E82:$S82) -> 77.592451 | V82: =SUMIF($E$6:$S$6,V$6,$E82:$S82) -> 95.680549 | W82: =SUM(T82:V82) -> 256.992
C83: 5 | D83: ='OL-Onshore'!D83+'OL-Overseas'!D83 -> 16.367 | E83: ='OL-Onshore'!E83+'OL-Overseas'!E83 -> 2.261 | F83: ='OL-Onshore'!F83+'OL-Overseas'!F83 -> 13.113 | G83: ='OL-Onshore'!G83+'OL-Overseas'!G83 -> 21.876 | H83: ='OL-Onshore'!H83+'OL-Overseas'!H83 -> 25.102 | I83: ='OL-Onshore'!I83+'OL-Overseas'!I83 -> 10.2 | J83: ='OL-Onshore'!J83+'OL-Overseas'!J83 -> -0.31 | K83: ='OL-Onshore'!K83+'OL-Overseas'!K83 -> 8.2451792 | ... S83: ='OL-Onshore'!S83+'OL-Overseas'!S83 -> 0 | T83: =SUMIF($D$6:$S$6,T$6,$D83:$S83) -> 88.919 | U83: =SUMIF($E$6:$S$6,U$6,$E83:$S83) -> 72.392451 | V83: =SUMIF($E$6:$S$6,V$6,$E83:$S83) -> 95.680549 | W83: =SUM(T83:V83) -> 256.992
C84: 6 | D84: ='OL-Onshore'!D84+'OL-Overseas'!D84 -> 16.367 | E84: ='OL-Onshore'!E84+'OL-Overseas'!E84 -> 2.261 | F84: ='OL-Onshore'!F84+'OL-Overseas'!F84 -> 13.113 | G84: ='OL-Onshore'!G84+'OL-Overseas'!G84 -> 21.876 | H84: ='OL-Onshore'!H84+'OL-Overseas'!H84 -> 25.102 | I84: ='OL-Onshore'!I84+'OL-Overseas'!I84 -> 10.2 | J84: ='OL-Onshore'!J84+'OL-Overseas'!J84 -> -0.31 | K84: ='OL-Onshore'!K84+'OL-Overseas'!K84 -> 1.641 | ... S84: ='OL-Onshore'!S84+'OL-Overseas'!S84 -> 0 | T84: =SUMIF($D$6:$S$6,T$6,$D84:$S84) -> 88.919 | U84: =SUMIF($E$6:$S$6,U$6,$E84:$S84) -> 72.392451 | V84: =SUMIF($E$6:$S$6,V$6,$E84:$S84) -> 95.680549 | W84: =SUM(T84:V84) -> 256.992
C85: 7 | D85: ='OL-Onshore'!D85+'OL-Overseas'!D85 -> 16.367 | E85: ='OL-Onshore'!E85+'OL-Overseas'!E85 -> 2.261 | F85: ='OL-Onshore'!F85+'OL-Overseas'!F85 -> 13.113 | G85: ='OL-Onshore'!G85+'OL-Overseas'!G85 -> 21.876 | H85: ='OL-Onshore'!H85+'OL-Overseas'!H85 -> 25.102 | I85: ='OL-Onshore'!I85+'OL-Overseas'!I85 -> 10.2 | J85: ='OL-Onshore'!J85+'OL-Overseas'!J85 -> -0.31 | K85: ='OL-Onshore'!K85+'OL-Overseas'!K85 -> 1.641 | ... S85: ='OL-Onshore'!S85+'OL-Overseas'!S85 -> 0 | T85: =SUMIF($D$6:$S$6,T$6,$D85:$S85) -> 88.919 | U85: =SUMIF($E$6:$S$6,U$6,$E85:$S85) -> 76.346451 | V85: =SUMIF($E$6:$S$6,V$6,$E85:$S85) -> 101.73455 | W85: =SUM(T85:V85) -> 267
C86: 8 | D86: ='OL-Onshore'!D86+'OL-Overseas'!D86 -> 16.367 | E86: ='OL-Onshore'!E86+'OL-Overseas'!E86 -> 2.261 | F86: ='OL-Onshore'!F86+'OL-Overseas'!F86 -> 13.113 | G86: ='OL-Onshore'!G86+'OL-Overseas'!G86 -> 21.876 | H86: ='OL-Onshore'!H86+'OL-Overseas'!H86 -> 25.102 | I86: ='OL-Onshore'!I86+'OL-Overseas'!I86 -> 10.2 | J86: ='OL-Onshore'!J86+'OL-Overseas'!J86 -> -0.31 | K86: ='OL-Onshore'!K86+'OL-Overseas'!K86 -> 1.641 | ... S86: ='OL-Onshore'!S86+'OL-Overseas'!S86 -> 0 | T86: =SUMIF($D$6:$S$6,T$6,$D86:$S86) -> 88.919 | U86: =SUMIF($E$6:$S$6,U$6,$E86:$S86) -> 83.346451 | V86: =SUMIF($E$6:$S$6,V$6,$E86:$S86) -> 94.734549 | W86: =SUM(T86:V86) -> 267
C87: 9 | D87: ='OL-Onshore'!D87+'OL-Overseas'!D87 -> 16.367 | E87: ='OL-Onshore'!E87+'OL-Overseas'!E87 -> 2.261 | F87: ='OL-Onshore'!F87+'OL-Overseas'!F87 -> 13.113 | G87: ='OL-Onshore'!G87+'OL-Overseas'!G87 -> 21.876 | H87: ='OL-Onshore'!H87+'OL-Overseas'!H87 -> 25.102 | I87: ='OL-Onshore'!I87+'OL-Overseas'!I87 -> 10.2 | J87: ='OL-Onshore'!J87+'OL-Overseas'!J87 -> -0.31 | K87: ='OL-Onshore'!K87+'OL-Overseas'!K87 -> 1.641 | ... S87: ='OL-Onshore'!S87+'OL-Overseas'!S87 -> 0 | T87: =SUMIF($D$6:$S$6,T$6,$D87:$S87) -> 88.919 | U87: =SUMIF($E$6:$S$6,U$6,$E87:$S87) -> 97.579 | V87: =SUMIF($E$6:$S$6,V$6,$E87:$S87) -> 80.502 | W87: =SUM(T87:V87) -> 267
C88: 10 | D88: ='OL-Onshore'!D88+'OL-Overseas'!D88 -> 16.367 | E88: ='OL-Onshore'!E88+'OL-Overseas'!E88 -> 2.261 | F88: ='OL-Onshore'!F88+'OL-Overseas'!F88 -> 13.113 | G88: ='OL-Onshore'!G88+'OL-Overseas'!G88 -> 21.876 | H88: ='OL-Onshore'!H88+'OL-Overseas'!H88 -> 25.102 | I88: ='OL-Onshore'!I88+'OL-Overseas'!I88 -> 10.2 | J88: ='OL-Onshore'!J88+'OL-Overseas'!J88 -> -0.31 | K88: ='OL-Onshore'!K88+'OL-Overseas'!K88 -> 1.641 | ... S88: ='OL-Onshore'!S88+'OL-Overseas'!S88 -> 0 | T88: =SUMIF($D$6:$S$6,T$6,$D88:$S88) -> 88.919 | U88: =SUMIF($E$6:$S$6,U$6,$E88:$S88) -> 97.579 | V88: =SUMIF($E$6:$S$6,V$6,$E88:$S88) -> -9.139 | W88: =SUM(T88:V88) -> 177.359
C89: 11 | D89: ='OL-Onshore'!D89+'OL-Overseas'!D89 -> 0 | E89: ='OL-Onshore'!E89+'OL-Overseas'!E89 -> 0 | F89: ='OL-Onshore'!F89+'OL-Overseas'!F89 -> 0 | G89: ='OL-Onshore'!G89+'OL-Overseas'!G89 -> 0 | H89: ='OL-Onshore'!H89+'OL-Overseas'!H89 -> 0 | I89: ='OL-Onshore'!I89+'OL-Overseas'!I89 -> 0 | J89: ='OL-Onshore'!J89+'OL-Overseas'!J89 -> 0 | K89: ='OL-Onshore'!K89+'OL-Overseas'!K89 -> 0 | ... S89: ='OL-Onshore'!S89+'OL-Overseas'!S89 -> 0 | T89: =SUMIF($D$6:$S$6,T$6,$D89:$S89) -> 0 | U89: =SUMIF($E$6:$S$6,U$6,$E89:$S89) -> 0 | V89: =SUMIF($E$6:$S$6,V$6,$E89:$S89) -> 0 | W89: =SUM(T89:V89) -> 0
C90: 12 | D90: ='OL-Onshore'!D90+'OL-Overseas'!D90 -> 0 | E90: ='OL-Onshore'!E90+'OL-Overseas'!E90 -> 0 | F90: ='OL-Onshore'!F90+'OL-Overseas'!F90 -> 0 | G90: ='OL-Onshore'!G90+'OL-Overseas'!G90 -> 0 | H90: ='OL-Onshore'!H90+'OL-Overseas'!H90 -> 0 | I90: ='OL-Onshore'!I90+'OL-Overseas'!I90 -> 0 | J90: ='OL-Onshore'!J90+'OL-Overseas'!J90 -> 0 | K90: ='OL-Onshore'!K90+'OL-Overseas'!K90 -> 0 | ... S90: ='OL-Onshore'!S90+'OL-Overseas'!S90 -> 0 | T90: =SUMIF($D$6:$S$6,T$6,$D90:$S90) -> 0 | U90: =SUMIF($E$6:$S$6,U$6,$E90:$S90) -> 0 | V90: =SUMIF($E$6:$S$6,V$6,$E90:$S90) -> 0 | W90: =SUM(T90:V90) -> 0
C91: 13 | D91: ='OL-Onshore'!D91+'OL-Overseas'!D91 -> 0 | E91: ='OL-Onshore'!E91+'OL-Overseas'!E91 -> 0 | F91: ='OL-Onshore'!F91+'OL-Overseas'!F91 -> 0 | G91: ='OL-Onshore'!G91+'OL-Overseas'!G91 -> 0 | H91: ='OL-Onshore'!H91+'OL-Overseas'!H91 -> 0 | I91: ='OL-Onshore'!I91+'OL-Overseas'!I91 -> 0 | J91: ='OL-Onshore'!J91+'OL-Overseas'!J91 -> 0 | K91: ='OL-Onshore'!K91+'OL-Overseas'!K91 -> 0 | ... S91: ='OL-Onshore'!S91+'OL-Overseas'!S91 -> 0 | T91: =SUMIF($D$6:$S$6,T$6,$D91:$S91) -> 0 | U91: =SUMIF($E$6:$S$6,U$6,$E91:$S91) -> 0 | V91: =SUMIF($E$6:$S$6,V$6,$E91:$S91) -> 0 | W91: =SUM(T91:V91) -> 0
B92: Actual | C92: 0 | D92: =INDEX(D79:D91,MATCH($E$1,$C$79:$C$91,0)) -> 16.367 | E92: =INDEX(E79:E91,MATCH($E$1,$C$79:$C$91,0)) -> 2.261 | F92: =INDEX(F79:F91,MATCH($E$1,$C$79:$C$91,0)) -> 13.113 | G92: =INDEX(G79:G91,MATCH($E$1,$C$79:$C$91,0)) -> 21.876 | H92: =INDEX(H79:H91,MATCH($E$1,$C$79:$C$91,0)) -> 25.102 | I92: =INDEX(I79:I91,MATCH($E$1,$C$79:$C$91,0)) -> 10.2 | J92: =INDEX(J79:J91,MATCH($E$1,$C$79:$C$91,0)) -> -0.31 | K92: =INDEX(K79:K91,MATCH($E$1,$C$79:$C$91,0)) -> 1.641 | ... S92: =INDEX(S79:S91,MATCH($E$1,$C$79:$C$91,0)) -> 0 | T92: =INDEX($E$46:$E$58,MATCH($E$1,$C$46:$C$58,0)) -> -0.341 | U92: =INDEX($E$46:$E$58,MATCH($E$1,$C$46:$C$58,0)) -> -0.341 | V92: =INDEX($E$46:$E$58,MATCH($E$1,$C$46:$C$58,0)) -> -0.341 | W92: =INDEX($E$46:$E$58,MATCH($E$1,$C$46:$C$58,0)) -> -0.341
B93: Delta to Target | C93: 0 | D93: =IF(D$9<=$E$2,D92-D76,0) -> 0 | E93: =IF(E$9<=$E$2,E92-E76,0) -> 11.703352 | F93: =IF(F$9<=$E$2,F92-F76,0) -> 11.248903 | G93: =IF(G$9<=$E$2,G92-G76,0) -> 11.617147 | H93: =IF(H$9<=$E$2,H92-H76,0) -> 2.1095097 | I93: =IF(I$9<=$E$2,I92-I76,0) -> 9.0206551 | J93: =IF(J$9<=$E$2,J92-J76,0) -> -0.31 | K93: =IF(K$9<=$E$2,K92-K76,0) -> -6.1797516 | ... W93: =IF(W$9<=$E$2,W92-W76,0) -> 0
B94: % to Target | C94: 0 | D94: =IF($E$2<D$9,0,IF(AND(D76=0,D92=0),1,IF(AND(D76=0,D92>0),2,IF(D92<0,0,(D92/D76))))) -> 1 | E94: =IF($E$2<E$9,0,IF(AND(E76=0,E92=0),1,IF(AND(E76=0,E92>0),2,IF(E92<0,0,(E92/E76))))) -> -0.23945304 | F94: =IF($E$2<F$9,0,IF(AND(F76=0,F92=0),1,IF(AND(F76=0,F92>0),2,IF(F92<0,0,(F92/F76))))) -> 7.0345035 | G94: =IF($E$2<G$9,0,IF(AND(G76=0,G92=0),1,IF(AND(G76=0,G92>0),2,IF(G92<0,0,(G92/G76))))) -> 2.132402 | H94: =IF($E$2<H$9,0,IF(AND(H76=0,H92=0),1,IF(AND(H76=0,H92>0),2,IF(H92<0,0,(H92/H76))))) -> 1.0917478 | I94: =IF($E$2<I$9,0,IF(AND(I76=0,I92=0),1,IF(AND(I76=0,I92>0),2,IF(I92<0,0,(I92/I76))))) -> 8.6488696 | J94: =IF($E$2<J$9,0,IF(AND(J76=0,J92=0),1,IF(AND(J76=0,J92>0),2,IF(J92<0,0,(J92/J76))))) -> 0 | K94: =IF($E$2<K$9,0,IF(AND(K76=0,K92=0),1,IF(AND(K76=0,K92>0),2,IF(K92<0,0,(K92/K76))))) -> 0.20982638 | ... W94: =IF($E$2<W$9,0,IF(AND(W76=0,W92=0),1,IF(AND(W76=0,W92>0),2,IF(W92<0,0,(W92/W76))))) -> 0
B95: ="Week "&$E$1&" View" -> Week 10 View | D95: =INDEX(D79:D91,MATCH($E$1,$C$13:$C$25,0)) -> 16.367 | E95: =INDEX(E79:E91,MATCH($E$1,$C$13:$C$25,0)) -> 2.261 | F95: =INDEX(F79:F91,MATCH($E$1,$C$13:$C$25,0)) -> 13.113 | G95: =INDEX(G79:G91,MATCH($E$1,$C$13:$C$25,0)) -> 21.876 | H95: =INDEX(H79:H91,MATCH($E$1,$C$13:$C$25,0)) -> 25.102 | I95: =INDEX(I79:I91,MATCH($E$1,$C$13:$C$25,0)) -> 10.2 | J95: =INDEX(J79:J91,MATCH($E$1,$C$13:$C$25,0)) -> -0.31 | K95: =INDEX(K79:K91,MATCH($E$1,$C$13:$C$25,0)) -> 1.641 | ... W95: =INDEX(W79:W91,MATCH($E$1,$C$13:$C$25,0)) -> 177.359
B96: Linearity | D96: =IFERROR(E95/$T95,0) -> 0.025427636 | E96: =IFERROR(F95/$T95,0) -> 0.14747129 | F96: =IFERROR(G95/$T95,0) -> 0.24602166 | G96: =IFERROR(H95/$T95,0) -> 0.28230187 | H96: =IFERROR(J95/$T95,0) -> -0.003486319 | I96: =IFERROR(K95/$T95,0) -> 0.018454998 | J96: =IFERROR(K95/$T95,0) -> 0.018454998 | K96: =IFERROR(L95/$U95,0) -> 0.032394265 | L96: =IFERROR(M95/$U95,0) -> 0.27786716 | M96: =IFERROR(N95/$U95,0) -> 0.67609834 | N96: =IFERROR(P95/$U95,0) -> -0.093657447 | O96: =IFERROR(Q95/$U95,0) -> 0 | P96: =IFERROR(R95/$U95,0) -> 0 | Q96: =IFERROR(S95/$U95,0) -> 0 | R96: =IFERROR(T95/$U95,0) -> 0.9112514 | S96: =IFERROR(U95/$U95,0) -> 1 | T96: =IFERROR(T95/$W95,0) -> 0.50135037 | U96: =IFERROR(U95/$W95,0) -> 0.55017789 | V96: =IFERROR(V95/$W95,0) -> -0.051528256
B97: Last 4Q ROL Linearity
B98: QTD Actual | C98: 0 | D98: =IF(D$9<=$E$2,D92,0) -> 16.367 | E98: =IF(E$9<=$E$2,E92,0) -> 2.261 | F98: =IF(F$9<=$E$2,F92+E98,0) -> 15.374 | G98: =IF(G$9<=$E$2,G92+F98,0) -> 37.25 | H98: =IF(H$9<=$E$2,H92+G98,0) -> 62.352 | I98: =IF(I$9<=$E$2,I92+H98,0) -> 72.552 | J98: =IF(J$9<=$E$2,J92+H98,0) -> 62.042 | K98: =IF(K$9<=$E$2,K92+J98,0) -> 63.683 | L98: =IF(L$9<=$E$2,L92+K98,0) -> 66.844 | M98: =IF(M$9<=$E$2,M92+L98,0) -> 93.958 | N98: =IF(N$9<=$E$2,N92+M98,0) -> 159.931 | O98: =IF(O$9<=$E$2,O92+N98,0) -> 159.931 | P98: =IF(P$9<=$E$2,P92+O98,0) -> 150.792 | Q98: =IF(Q$9<=$E$2,Q92+P98,0) -> 0 | R98: =IF(R$9<=$E$2,R92+Q98,0) -> 0 | S98: =IF(S$9<=$E$2,S92+R98,0) -> 0 | T98: =IFERROR(INDEX(T$13:T$25,$E$1,0)/INDEX($W$13:$W$25,$E$1,0),0) -> 0.49433516 | U98: =IFERROR(INDEX(U$13:U$25,$E$1,0)/INDEX($W$13:$W$25,$E$1,0),0) -> 0.55076486 | V98: =IFERROR(INDEX(V$13:V$25,$E$1,0)/INDEX($W$13:$W$25,$E$1,0),0) -> -0.04510002 | W98: Current
B99: QTD Delta to Tgt | C99: 0 | D99: =IF(D$27=0,0,IF(D$9<=$E$2,E98-D77,E98-D77)) -> 0 | E99: =IF(E$27=0,0,IF(E$9<=$E$2,F98-E77,F98-E77)) -> 24.816352 | F99: =IF(F$27=0,0,IF(F$9<=$E$2,G98-F77,G98-F77)) -> 44.828255 | G99: =IF(G$27=0,0,IF(G$9<=$E$2,H98-G77,H98-G77)) -> 59.671402 | H99: =IF(H$27=0,0,IF(H$9<=$E$2,J98-H77,J98-H77)) -> 36.368911 | I99: =IF(I$27=0,0,IF(I$9<=$E$2,K98-I77,K98-I77)) -> 36.830566 | J99: =IF(J$27=0,0,IF(J$9<=$E$2,K98-J77,K98-J77)) -> 36.830566 | K99: =IF(K$27=0,0,IF(K$9<=$E$2,L98-K77,L98-K77)) -> 32.170815 | L99: =IF(L$27=0,0,IF(L$9<=$E$2,M98-L77,M98-L77)) -> 43.683638 | M99: =IF(M$27=0,0,IF(M$9<=$E$2,N98-M77,N98-M77)) -> 90.42965 | N99: =IF(N$27=0,0,IF(N$9<=$E$2,P98-N77,P98-N77)) -> 43.315014 | O99: =IF(O$27=0,0,IF(O$9<=$E$2,Q98-O77,Q98-O77)) -> 0 | P99: =IF(P$27=0,0,IF(P$9<=$E$2,R98-P77,R98-P77)) -> -118.10522 | Q99: =IF(Q$27=0,0,IF(Q$9<=$E$2,S98-Q77,S98-Q77)) -> 0 | R99: =IF(R$27=0,0,IF(R$9<=$E$2,T98-R77,T98-R77)) -> 0 | S99: =IF(S$27=0,0,IF(S$9<=$E$2,U98-S77,U98-S77)) -> 0 | W99: Last 4Q
B100: % to Target | C100: 0 | D100: =IF($E$2<D$9,0,IF(AND(D77=0,D98=0),1,IF(AND(D77=0,D98>0),2,IF(D98<0,0,(D98/D77))))) -> 1 | E100: =IF($E$2<E$9,0,IF(AND(E77=0,E98=0),1,IF(AND(E77=0,E98>0),2,IF(E98<0,0,(E98/E77))))) -> -0.23945304 | F100: =IF($E$2<F$9,0,IF(AND(F77=0,F98=0),1,IF(AND(F77=0,F98>0),2,IF(F98<0,0,(F98/F77))))) -> -2.0286992 | G100: =IF($E$2<G$9,0,IF(AND(G77=0,G98=0),1,IF(AND(G77=0,G98>0),2,IF(G98<0,0,(G98/G77))))) -> 13.896151 | H100: =IF($E$2<H$9,0,IF(AND(H77=0,H98=0),1,IF(AND(H77=0,H98>0),2,IF(H98<0,0,(H98/H77))))) -> 2.428691 | I100: =IF($E$2<I$9,0,IF(AND(I77=0,I98=0),1,IF(AND(I77=0,I98>0),2,IF(I98<0,0,(I98/I77))))) -> 2.701878 | J100: =IF($E$2<J$9,0,IF(AND(J77=0,J98=0),1,IF(AND(J77=0,J98>0),2,IF(J98<0,0,(J98/J77))))) -> 2.3104796 | K100: =IF($E$2<K$9,0,IF(AND(K77=0,K98=0),1,IF(AND(K77=0,K98>0),2,IF(K98<0,0,(K98/K77))))) -> 1.8366643 | ... S100: =IF($E$2<S$9,0,IF(AND(S77=0,S98=0),1,IF(AND(S77=0,S98>0),2,IF(S98<0,0,(S98/S77))))) -> 0 | W100: Last 3Y
B101: Fy Q3 2425 | D101: ='OL-Onshore'!D101+'OL-Overseas'!D101 -> 9.133 | E101: ='OL-Onshore'!E101+'OL-Overseas'!E101 -> -4.583 | F101: ='OL-Onshore'!F101+'OL-Overseas'!F101 -> 2.566 | G101: ='OL-Onshore'!G101+'OL-Overseas'!G101 -> 1.044 | H101: ='OL-Onshore'!H101+'OL-Overseas'!H101 -> 5.359 | I101: ='OL-Onshore'!I101+'OL-Overseas'!I101 -> 5.134 | J101: ='OL-Onshore'!J101+'OL-Overseas'!J101 -> 0.833 | K101: ='OL-Onshore'!K101+'OL-Overseas'!K101 -> 4.555 | ... S101: ='OL-Onshore'!S101+'OL-Overseas'!S101 -> 67.577 | T101: =SUM(D101:I101) -> 18.653 | U101: =SUM(J101:N101) -> 89.211 | V101: =SUM(O101:S101) -> 113.363 | W101: =SUM(T101:V101) -> 221.227
B102: Fy Q4 2324 | D102: ='OL-Onshore'!D102+'OL-Overseas'!D102 -> 12.318 | E102: ='OL-Onshore'!E102+'OL-Overseas'!E102 -> -6.254 | F102: ='OL-Onshore'!F102+'OL-Overseas'!F102 -> 0.574 | G102: ='OL-Onshore'!G102+'OL-Overseas'!G102 -> 2.607 | H102: ='OL-Onshore'!H102+'OL-Overseas'!H102 -> 25.189 | I102: ='OL-Onshore'!I102+'OL-Overseas'!I102 -> 18.982 | J102: ='OL-Onshore'!J102+'OL-Overseas'!J102 -> 4.098 | K102: ='OL-Onshore'!K102+'OL-Overseas'!K102 -> 11.758 | ... S102: ='OL-Onshore'!S102+'OL-Overseas'!S102 -> 55.413 | T102: =SUM(D102:I102) -> 53.416 | U102: =SUM(J102:N102) -> 125.217 | V102: =SUM(O102:S102) -> 155.703 | W102: =SUM(T102:V102) -> 334.336

Sheet OL-Onshore
C1: Week# | D1: ='OL -Overall'!E1 -> 10 | T1: DT | U1: 0.18446154 | V1: 0.37184615 | W1: 0.44369231
C2: Weekending dt: | D2: ='OL -Overall'!E2 -> 45998 | T2: NB | U2: 0.21 | V2: 0.32 | W2: 0.47
B5: Consumer OL India WF Q3FY2526
C6: Month | D6: ='OL -Overall'!D6 -> 1 | E6: ='OL -Overall'!E6 -> 1 | F6: ='OL -Overall'!F6 -> 1 | G6: ='OL -Overall'!G6 -> 1 | H6: ='OL -Overall'!H6 -> 1 | I6: 1 | J6: 2 | K6: ='OL -Overall'!K6 -> 2 | L6: ='OL -Overall'!L6 -> 2 | M6: ='OL -Overall'!M6 -> 2 | N6: ='OL -Overall'!N6 -> 2 | O6: 3 | P6: ='OL -Overall'!P6 -> 3 | Q6: ='OL -Overall'!Q6 -> 3 | R6: ='OL -Overall'!R6 -> 3 | S6: ='OL -Overall'!S6 -> 3 | T6: ='OL -Overall'!T6 -> 1 | U6: ='OL -Overall'!U6 -> 2 | V6: ='OL -Overall'!V6 -> 3 | W6: ='OL -Overall'!W6 -> QTR
C7: Week | D7: OB | E7: ='OL -Overall'!E7 -> 1 | F7: ='OL -Overall'!F7 -> 2 | G7: ='OL -Overall'!G7 -> 3 | H7: ='OL -Overall'!H7 -> 4 | I7: ='OL -Overall'!I7 -> 5 | J7: ='OL -Overall'!J7 -> 5 | K7: ='OL -Overall'!K7 -> 6 | L7: ='OL -Overall'!L7 -> 7 | ... W7: ='OL -Overall'!W7 -> 0
C8: Begin | D8: ='OL -Overall'!D8 -> 45931 | E8: ='OL -Overall'!E8 -> 45931 | F8: ='OL -Overall'!F8 -> 45936 | G8: ='OL -Overall'!G8 -> 45943 | H8: ='OL -Overall'!H8 -> 45950 | I8: ='OL -Overall'!I8 -> 45957 | J8: ='OL -Overall'!J8 -> 45962 | K8: ='OL -Overall'!K8 -> 45964 | ... W8: ='OL -Overall'!W8 -> 45931
C9: End | D9: ='OL -Overall'!D9 -> 45931 | E9: ='OL -Overall'!E9 -> 45935 | F9: ='OL -Overall'!F9 -> 45942 | G9: ='OL -Overall'!G9 -> 45949 | H9: ='OL -Overall'!H9 -> 45956 | I9: ='OL -Overall'!I9 -> 45961 | J9: ='OL -Overall'!J9 -> 45963 | K9: ='OL -Overall'!K9 -> 45970 | ... W9: ='OL -Overall'!W9 -> 46022
B10: Target | C10: Week | D10: =D43+D76 -> 14.978 | E10: =E43+E76 -> -10.314547 | F10: =F43+F76 -> 1.9301297 | G10: =G43+G76 -> 10.622255 | H10: =H43+H76 -> 23.806957 | I10: =I43+I76 -> 1.221121 | J10: =J43+J76 -> 0 | K10: =K43+K76 -> 7.869985 | ... S10: =S43+S76 -> 84.842586 | T10: =SUMIF($D$6:$S$6,T$6,$D10:$S10) -> 42.243915 | U10: =SUMIF($E$6:$S$6,U$6,$E10:$S10) -> 81.132102 | V10: =SUMIF($E$6:$S$6,V$6,$E10:$S10) -> 126.62398 | W10: =SUM(T10:V10) -> 250
C11: QTD | D11: =D10 -> 14.978 | E11: =E10+D11 -> 4.6634528 | F11: =E11+F10 -> 6.5935825 | G11: =F11+G10 -> 17.215837 | H11: =G11+H10 -> 41.022794 | I11: =H11+I10 -> 42.243915 | J11: =I11+J10 -> 42.243915 | K11: =J11+K10 -> 50.1139 | L11: =K11+L10 -> 65.81329 | M11: =L11+M10 -> 85.161316 | ... S11: =R11+S10 -> 250 | T11: =IFERROR(T10/$W10,0) -> 0.16897566 | U11: =IFERROR(U10/$W10,0) -> 0.32452841 | V11: =IFERROR(V10/$W10,0) -> 0.50649593
C12: 0 | D12: =D45+D78 -> 14.978 | E12: =E45+E78 -> -10.314547 | F12: =F45+F78 -> 1.9301297 | G12: =G45+G78 -> 10.622255 | H12: =H45+H78 -> 23.806957 | I12: =I45+I78 -> 1.221121 | J12: =J45+J78 -> 0 | K12: =K45+K78 -> 7.869985 | ... S12: =S45+S78 -> 84.842586 | T12: =SUMIF($D$6:$S$6,T$6,$D12:$S12) -> 42.243915 | U12: =SUMIF($E$6:$S$6,U$6,$E12:$S12) -> 81.132102 | V12: =SUMIF($E$6:$S$6,V$6,$E12:$S12) -> 126.62398 | W12: =SUM(T12:V12) -> 250
B13: Week | C13: 1 | D13: =D46+D79 -> 14.978 | E13: =E46+E79 -> 1.552 | F13: =F46+F79 -> 1.462217 | G13: =G46+G79 -> 8.0471492 | H13: =H46+H79 -> 18.035544 | I13: =I46+I79 -> 0.92509013 | J13: =J46+J79 -> 0 | K13: =K46+K79 -> 5.8201265 | ... S13: =S46+S79 -> 97.155173 | T13: =SUMIF($D$6:$S$6,T$6,$D13:$S13) -> 45 | U13: =SUMIF($E$6:$S$6,U$6,$E13:$S13) -> 60 | V13: =SUMIF($E$6:$S$6,V$6,$E13:$S13) -> 145 | W13: =SUM(T13:V13) -> 250
C14: 2 | D14: =D47+D80 -> 14.978 | E14: =IF($C14<=$D$1,E13,0) -> 1.552 | F14: =F47+F80 -> 10.46 | G14: =G47+G80 -> 8.0471492 | H14: =H47+H80 -> 8.3934629 | I14: =I47+I80 -> 1.5693879 | J14: =J47+J80 -> 0 | K14: =K47+K80 -> 5.8201265 | L14: =L47+L80 -> 11.610242 | M14: =M47+M80 -> 14.308536 | ... S14: =S47+S80 -> 97.155173 | T14: =SUMIF($D$6:$S$6,T$6,$D14:$S14) -> 45 | U14: =SUMIF($E$6:$S$6,U$6,$E14:$S14) -> 60 | V14: =SUMIF($E$6:$S$6,V$6,$E14:$S14) -> 145 | W14: =SUM(T14:V14) -> 250
C15: 3 | D15: =D48+D81 -> 14.978 | E15: =IF($C15<=$D$1,E14,0) -> 1.552 | F15: =IF($C15<=$D$1,F14,0) -> 10.46 | G15: =G48+G81 -> 15.492 | H15: =H48+H81 -> 4.581145 | I15: =I48+I81 -> 2.936855 | J15: =J48+J81 -> 0 | K15: =K48+K81 -> 8.9734274 | L15: =L48+L81 -> 17.900584 | M15: =M48+M81 -> 22.060793 | N15: =N48+N81 -> 36.065195 | ... S15: =S48+S81 -> 0 | T15: =SUMIF($D$6:$R$6,T$6,$D15:$R15) -> 50 | U15: =SUMIF($D$6:$R$6,U$6,$D15:$R15) -> 85 | V15: =SUMIF($E$6:$S$6,V$6,$E15:$S15) -> 125 | W15: =SUM(T15:V15) -> 260
C16: 4 | D16: =D49+D82 -> 14.978 | E16: =IF($C16<=$D$1,E15,0) -> 1.552 | F16: =IF($C16<=$D$1,F15,0) -> 10.46 | G16: =IF($C16<=$D$1,G15,0) -> 15.492 | H16: =H49+H82 -> 21.465 | I16: =I49+I82 -> 5 | J16: =J49+J82 -> 0 | K16: =K49+K82 -> 8.9734274 | L16: =L49+L82 -> 17.900584 | M16: =M49+M82 -> 22.060793 | N16: =N49+N82 -> 36.065195 | O16: =O49+O82 -> 0 | ... S16: =S49+S82 -> 0 | T16: =SUMIF($D$6:$R$6,T$6,$D16:$R16) -> 68.947 | U16: =SUMIF($D$6:$R$6,U$6,$D16:$R16) -> 85 | V16: =SUMIF($E$6:$S$6,V$6,$E16:$S16) -> 106.053 | W16: =SUM(T16:V16) -> 260
C17: 5 | D17: =D50+D83 -> 14.978 | E17: =IF($C17<=$D$1,E16,0) -> 1.552 | F17: =IF($C17<=$D$1,F16,0) -> 10.46 | G17: =IF($C17<=$D$1,G16,0) -> 15.492 | H17: =IF($C17<=$D$1,H16,0) -> 21.465 | I17: =I50+I83 -> 9.946 | J17: =J50+J83 -> 0.118 | K17: =K50+K83 -> 8.9734274 | L17: =L50+L83 -> 17.900584 | M17: =M50+M83 -> 22.060793 | N17: =N50+N83 -> 30.363195 | O17: =O50+O83 -> 0 | P17: =P50+P83 -> 29.206759 | ... S17: =S50+S83 -> 0 | T17: =SUMIF($D$6:$R$6,T$6,$D17:$R17) -> 73.893 | U17: =SUMIF($D$6:$R$6,U$6,$D17:$R17) -> 79.416 | V17: =SUMIF($E$6:$S$6,V$6,$E17:$S17) -> 106.053 | W17: =SUM(T17:V17) -> 259.362
C18: 6 | D18: =D51+D84 -> 14.978 | E18: =IF($C18<=$D$1,E17,0) -> 1.552 | F18: =IF($C18<=$D$1,F17,0) -> 10.46 | G18: =IF($C18<=$D$1,G17,0) -> 15.492 | H18: =IF($C18<=$D$1,H17,0) -> 21.465 | I18: =IF($C18<=$D$1,I17,0) -> 9.946 | J18: =IF($C18<=$D$1,J17,0) -> 0.118 | K18: =K51+K84 -> -0.257 | L18: =L51+L84 -> 15.698584 | M18: =M51+M84 -> 22.060793 | N18: =N51+N84 -> 39.593623 | O18: =O51+O84 -> 0 | P18: =P51+P84 -> 29.206759 | Q18: =Q51+Q84 -> 49.792574 | R18: =R51+R84 -> 27.053667 | S18: =S51+S84 -> 0 | T18: =SUMIF($D$6:$R$6,T$6,$D18:$R18) -> 73.893 | U18: =SUMIF($D$6:$R$6,U$6,$D18:$R18) -> 77.214 | V18: =SUMIF($E$6:$S$6,V$6,$E18:$S18) -> 106.053 | W18: =SUM(T18:V18) -> 257.16
C19: 7 | D19: =D52+D85 -> 14.978 | E19: =IF($C19<=$D$1,E18,0) -> 1.552 | F19: =IF($C19<=$D$1,F18,0) -> 10.46 | G19: =IF($C19<=$D$1,G18,0) -> 15.492 | H19: =IF($C19<=$D$1,H18,0) -> 21.465 | I19: =IF($C19<=$D$1,I18,0) -> 9.946 | J19: =IF($C19<=$D$1,J18,0) -> 0.118 | K19: =IF($C19<=$D$1,K18,0) -> -0.257 | L19: =L52+L85 -> 3.943 | M19: =M52+M85 -> 21.442534 | N19: =N52+N85 -> 48.753466 | O19: =O52+O85 -> 0 | P19: =P52+P85 -> 30.99214 | Q19: =Q52+Q85 -> 52.853227 | R19: =R52+R85 -> 28.261633 | S19: =S52+S85 -> 0 | T19: =SUMIF($D$6:$R$6,T$6,$D19:$R19) -> 73.893 | U19: =SUMIF($D$6:$R$6,U$6,$D19:$R19) -> 74 | V19: =SUMIF($E$6:$S$6,V$6,$E19:$S19) -> 112.107 | W19: =SUM(T19:V19) -> 260
C20: 8 | D20: =D53+D86 -> 14.978 | E20: =IF($C20<=$D$1,E19,0) -> 1.552 | F20: =IF($C20<=$D$1,F19,0) -> 10.46 | G20: =IF($C20<=$D$1,G19,0) -> 15.492 | H20: =IF($C20<=$D$1,H19,0) -> 21.465 | I20: =IF($C20<=$D$1,I19,0) -> 9.946 | J20: =IF($C20<=$D$1,J19,0) -> 0.118 | K20: =IF($C20<=$D$1,K19,0) -> -0.257 | L20: =IF($C20<=$D$1,L19,0) -> 3.943 | M20: =M53+M86 -> 26.21 | N20: =N53+N86 -> 50.986 | O20: =O53+O86 -> 0 | P20: =P53+P86 -> 28.927775 | Q20: =Q53+Q86 -> 49.314315 | R20: =R53+R86 -> 26.86491 | S20: =S53+S86 -> 0 | T20: =SUMIF($D$6:$R$6,T$6,$D20:$R20) -> 73.893 | U20: =SUMIF($D$6:$R$6,U$6,$D20:$R20) -> 81 | V20: =SUMIF($E$6:$S$6,V$6,$E20:$S20) -> 105.107 | W20: =SUM(T20:V20) -> 260
C21: 9 | D21: =D54+D87 -> 14.978 | E21: =IF($C21<=$D$1,E20,0) -> 1.552 | F21: =IF($C21<=$D$1,F20,0) -> 10.46 | G21: =IF($C21<=$D$1,G20,0) -> 15.492 | H21: =IF($C21<=$D$1,H20,0) -> 21.465 | I21: =IF($C21<=$D$1,I20,0) -> 9.946 | J21: =IF($C21<=$D$1,J20,0) -> 0.118 | K21: =IF($C21<=$D$1,K20,0) -> -0.257 | L21: =IF($C21<=$D$1,L20,0) -> 3.943 | M21: =IF($C21<=$D$1,M20,0) -> 26.21 | N21: =N54+N87 -> 61.562 | O21: =O54+O87 -> 0 | P21: =P54+P87 -> 19.950226 | Q21: =Q54+Q87 -> 49.314315 | R21: =R54+R87 -> 20.011459 | S21: =S54+S87 -> 0 | T21: =SUMIF($D$6:$R$6,T$6,$D21:$R21) -> 73.893 | U21: =SUMIF($D$6:$R$6,U$6,$D21:$R21) -> 91.576 | V21: =SUMIF($E$6:$S$6,V$6,$E21:$S21) -> 89.276 | W21: =SUM(T21:V21) -> 254.745
C22: 10 | D22: =D55+D88 -> 14.978 | E22: =IF($C22<=$D$1,E21,0) -> 1.552 | F22: =IF($C22<=$D$1,F21,0) -> 10.46 | G22: =IF($C22<=$D$1,G21,0) -> 15.492 | H22: =IF($C22<=$D$1,H21,0) -> 21.465 | I22: =IF($C22<=$D$1,I21,0) -> 9.946 | J22: =IF($C22<=$D$1,J21,0) -> 0.118 | K22: =IF($C22<=$D$1,K21,0) -> -0.257 | L22: =IF($C22<=$D$1,L21,0) -> 3.943 | ... O22: =IF($C22<=$D$1,O21,0) -> 0 | P22: =P55+P88 -> 1.88 | Q22: =Q55+Q88 -> 0 | R22: =R55+R88 -> 0 | S22: =S55+S88 -> 0 | T22: =SUMIF($D$6:$R$6,T$6,$D22:$R22) -> 73.893 | U22: =SUMIF($D$6:$R$6,U$6,$D22:$R22) -> 91.576 | V22: =SUMIF($E$6:$S$6,V$6,$E22:$S22) -> 1.88 | W22: =SUM(T22:V22) -> 167.349
C23: 11 | D23: =D56+D89 -> 0 | E23: =IF($C23<=$D$1,E22,0) -> 0 | F23: =IF($C23<=$D$1,F22,0) -> 0 | G23: =IF($C23<=$D$1,G22,0) -> 0 | H23: =IF($C23<=$D$1,H22,0) -> 0 | I23: =IF($C23<=$D$1,I22,0) -> 0 | J23: =IF($C23<=$D$1,J22,0) -> 0 | K23: =IF($C23<=$D$1,K22,0) -> 0 | L23: =IF($C23<=$D$1,L22,0) -> 0 | ... P23: =IF($C23<=$D$1,P22,0) -> 0 | Q23: =Q56+Q89 -> 0 | R23: =R56+R89 -> 0 | S23: =S56+S89 -> 0 | T23: =SUMIF($D$6:$R$6,T$6,$D23:$R23) -> 0 | U23: =SUMIF($D$6:$R$6,U$6,$D23:$R23) -> 0 | V23: =SUMIF($E$6:$S$6,V$6,$E23:$S23) -> 0 | W23: =SUM(T23:V23) -> 0
C24: 12 | D24: =D57+D90 -> 0 | E24: =IF($C24<=$D$1,E23,0) -> 0 | F24: =IF($C24<=$D$1,F23,0) -> 0 | G24: =IF($C24<=$D$1,G23,0) -> 0 | H24: =IF($C24<=$D$1,H23,0) -> 0 | I24: =IF($C24<=$D$1,I23,0) -> 0 | J24: =IF($C24<=$D$1,J23,0) -> 0 | K24: =IF($C24<=$D$1,K23,0) -> 0 | L24: =IF($C24<=$D$1,L23,0) -> 0 | ... Q24: =IF($C24<=$D$1,Q23,0) -> 0 | R24: =R57+R90 -> 0 | S24: =S57+S90 -> 0 | T24: =SUMIF($D$6:$R$6,T$6,$D24:$R24) -> 0 | U24: =SUMIF($D$6:$R$6,U$6,$D24:$R24) -> 0 | V24: =SUMIF($E$6:$S$6,V$6,$E24:$S24) -> 0 | W24: =SUM(T24:V24) -> 0
C25: 13 | D25: =D58+D91 -> 0 | E25: =IF($C25<=$D$1,E24,0) -> 0 | F25: =IF($C25<=$D$1,F24,0) -> 0 | G25: =IF($C25<=$D$1,G24,0) -> 0 | H25: =IF($C25<=$D$1,H24,0) -> 0 | I25: =IF($C25<=$D$1,I24,0) -> 0 | J25: =IF($C25<=$D$1,J24,0) -> 0 | K25: =IF($C25<=$D$1,K24,0) -> 0 | L25: =IF($C25<=$D$1,L24,0) -> 0 | ... R25: =IF($C25<=$D$1,R24,0) -> 0 | S25: =S58+S91 -> 0 | T25: =SUMIF($D$6:$R$6,T$6,$D25:$R25) -> 0 | U25: =SUMIF($D$6:$R$6,U$6,$D25:$R25) -> 0 | V25: =SUMIF($E$6:$S$6,V$6,$E25:$S25) -> 0 | W25: =SUM(T25:V25) -> 0
B26: Actual | C26: 0 | D26: =INDEX(D12:D25,MATCH($D$1,$C$12:$C$25,0)) -> 14.978 | E26: =INDEX(E12:E25,MATCH($D$1,$C$12:$C$25,0)) -> 1.552 | F26: =INDEX(F12:F25,MATCH($D$1,$C$12:$C$25,0)) -> 10.46 | G26: =INDEX(G12:G25,MATCH($D$1,$C$12:$C$25,0)) -> 15.492 | H26: =INDEX(H12:H25,MATCH($D$1,$C$12:$C$25,0)) -> 21.465 | I26: =INDEX(I12:I25,MATCH($D$1,$C$12:$C$25,0)) -> 9.946 | J26: =INDEX(J12:J25,MATCH($D$1,$C$12:$C$25,0)) -> 0.118 | K26: =INDEX(K12:K25,MATCH($D$1,$C$12:$C$25,0)) -> -0.257 | ... M26: =INDEX(M12:M25,MATCH($D$1,$C$12:$C$25,0)) -> 26.21 | N26: 0 | O26: 0 | P26: 0 | Q26: 0 | R26: 0 | S26: 0 | T26: =INDEX(T12:T25,MATCH($D$1,$C$12:$C$25,0)) -> 73.893 | U26: =INDEX(U12:U25,MATCH($D$1,$C$12:$C$25,0)) -> 91.576 | V26: =INDEX(V12:V25,MATCH($D$1,$C$12:$C$25,0)) -> 1.88 | W26: =INDEX(W12:W25,MATCH($D$1,$C$12:$C$25,0)) -> 167.349
B27: Delta to Target | C27: 0 | D27: =IF(D$9<=$D$2,D26-D10,0) -> 0 | E27: =IF(E$9<=$D$2,E26-E10,0) -> 11.866547 | F27: =IF(F$9<=$D$2,F26-F10,0) -> 8.5298703 | G27: =IF(G$9<=$D$2,G26-G10,0) -> 4.8697454 | H27: =IF(H$9<=$D$2,H26-H10,0) -> -2.3419572 | I27: =IF(I$9<=$D$2,I26-I10,0) -> 8.724879 | J27: =IF(J$9<=$D$2,J26-J10,0) -> 0.118 | K27: =IF(K$9<=$D$2,K26-K10,0) -> -8.126985 | ... W27: =IF(W$9<=$D$2,W26-W10,0) -> 0
B28: % to Target | C28: 0 | D28: =IF($D$2<D$9,0,IF(AND(D10=0,D26=0),1,IF(AND(D10=0,D26>0),2,IF(D26<0,0,(D26/D10))))) -> 1 | E28: =IF($D$2<E$9,0,IF(AND(E10=0,E26=0),1,IF(AND(E10=0,E26>0),2,IF(E26<0,0,(E26/E10))))) -> -0.1504671 | F28: =IF($D$2<F$9,0,IF(AND(F10=0,F26=0),1,IF(AND(F10=0,F26>0),2,IF(F26<0,0,(F26/F10))))) -> 5.419325 | G28: =IF($D$2<G$9,0,IF(AND(G10=0,G26=0),1,IF(AND(G10=0,G26>0),2,IF(G26<0,0,(G26/G10))))) -> 1.4584474 | H28: =IF($D$2<H$9,0,IF(AND(H10=0,H26=0),1,IF(AND(H10=0,H26>0),2,IF(H26<0,0,(H26/H10))))) -> 0.90162719 | I28: =IF($D$2<I$9,0,IF(AND(I10=0,I26=0),1,IF(AND(I10=0,I26>0),2,IF(I26<0,0,(I26/I10))))) -> 8.144975 | J28: =IF($D$2<J$9,0,IF(AND(J10=0,J26=0),1,IF(AND(J10=0,J26>0),2,IF(J26<0,0,(J26/J10))))) -> 2 | K28: =IF($D$2<K$9,0,IF(AND(K10=0,K26=0),1,IF(AND(K10=0,K26>0),2,IF(K26<0,0,(K26/K10))))) -> 0 | ... W28: =IF($D$2<W$9,0,IF(AND(W10=0,W26=0),1,IF(AND(W10=0,W26>0),2,IF(W26<0,0,(W26/W10))))) -> 0
B29: ="Week "&$D$1&" View" -> Week 10 View | D29: =INDEX(D13:D25,MATCH($D$1,$C$13:$C$25,0)) -> 14.978 | E29: =INDEX(E13:E25,MATCH($D$1,$C$13:$C$25,0)) -> 1.552 | F29: =INDEX(F13:F25,MATCH($D$1,$C$13:$C$25,0)) -> 10.46 | G29: =INDEX(G13:G25,MATCH($D$1,$C$13:$C$25,0)) -> 15.492 | H29: =INDEX(H13:H25,MATCH($D$1,$C$13:$C$25,0)) -> 21.465 | I29: =INDEX(I13:I25,MATCH($D$1,$C$13:$C$25,0)) -> 9.946 | J29: =INDEX(J13:J25,MATCH($D$1,$C$13:$C$25,0)) -> 0.118 | K29: =INDEX(K13:K25,MATCH($D$1,$C$13:$C$25,0)) -> -0.257 | ... W29: =INDEX(W13:W25,MATCH($D$1,$C$13:$C$25,0)) -> 167.349
B30: Linearity | D30: =D29/$T$29 -> 0.2026985 | E30: =E29/$T$29 -> 0.021003343 | F30: =F29/$T$29 -> 0.14155603 | G30: =G29/$T$29 -> 0.2096545 | H30: =H29/$T$29 -> 0.2904876 | I30: =I29/$T$29 -> 0.13460003 | J30: =IFERROR(J29/$U$29,0) -> 0.0012885472 | K30: =IFERROR(K29/$U$29,0) -> -0.0028064122 | L30: =IFERROR(L29/$U$29,0) -> 0.043057133 | M30: =IFERROR(M29/$U$29,0) -> 0.28621036 | N30: =IFERROR(N29/$U$29,0) -> 0.67225037 | O30: =IFERROR(O29/$V$29,0) -> 0 | P30: =IFERROR(P29/$V$29,0) -> 1 | Q30: =IFERROR(Q29/$V$29,0) -> 0 | R30: =IFERROR(R29/$V$29,0) -> 0 | S30: =IFERROR(S29/$V$29,0) -> 0 | T30: =IFERROR(T29/$W$29,0) -> 0.44155029 | U30: =IFERROR(U29/$W$29,0) -> 0.5472157 | V30: =IFERROR(V29/$W$29,0) -> 0.011234008
B31: Last 4Q ROL Linearity | J31: 0 | N31: 0 | O31: 0 | P31: 0 | Q31: 0 | R31: 0 | S31: 0
B32: QTD Actual | C32: 0 | D32: =IF(D$9<=$D$2,D26,0) -> 14.978 | E32: =IF(E$9<=$D$2,E26,0) -> 1.552 | F32: =IF(F$9<=$D$2,F26+E32,0) -> 12.012 | G32: =IF(G$9<=$D$2,G26+F32,0) -> 27.504 | H32: =IF(H$9<=$D$2,H26+G32,0) -> 48.969 | I32: =IF(I$9<=$D$2,I26+H32,0) -> 58.915 | J32: =IF(J$9<=$D$2,J26+I32,0) -> 59.033 | K32: =IF(K$9<=$D$2,K26+J32,0) -> 58.776 | L32: =IF(L$9<=$D$2,L26+K32,0) -> 62.719 | M32: =IF(M$9<=$D$2,M26+L32,0) -> 88.929 | ... S32: =IF(S$9<=$D$2,S26+R32,0) -> 0 | T32: =IFERROR(INDEX(T$13:T$25,$D$1,0)/INDEX($W$13:$W$25,$D$1,0),0) -> 0.44155029 | U32: =IFERROR(INDEX(U$13:U$25,$D$1,0)/INDEX($W$13:$W$25,$D$1,0),0) -> 0.5472157 | V32: =IFERROR(INDEX(V$13:V$25,$D$1,0)/INDEX($W$13:$W$25,$D$1,0),0) -> 0.011234008 | W32: Current
B33: QTD Delta to Tgt | C33: 0 | D33: =IF(D$27=0,0,IF(D$9<=$D$2,D32-D11,D32-D11)) -> 0 | E33: =IF(E$27=0,0,IF(E$9<=$D$2,E32-E11,E32-E11)) -> -3.1114528 | F33: =IF(F$27=0,0,IF(F$9<=$D$2,F32-F11,F32-F11)) -> 5.4184175 | G33: =IF(G$27=0,0,IF(G$9<=$D$2,G32-G11,G32-G11)) -> 10.288163 | H33: =IF(H$27=0,0,IF(H$9<=$D$2,H32-H11,H32-H11)) -> 7.9462058 | I33: =IF(I$27=0,0,IF(I$9<=$D$2,I32-I11,I32-I11)) -> 16.671085 | J33: =IF(J$27=0,0,IF(J$9<=$D$2,J32-J11,J32-J11)) -> 16.789085 | K33: =IF(K$27=0,0,IF(K$9<=$D$2,K32-K11,K32-K11)) -> 8.6620998 | ... S33: =IF(S$27=0,0,IF(S$9<=$D$2,S32-S11,S32-S11)) -> 0 | T33: 0 | U33: 0 | V33: 0 | W33: Last 4Q
B34: % to Target | C34: 0 | D34: =IF($D$2<D$9,0,IF(AND(D11=0,D32=0),1,IF(AND(D11=0,D32>0),2,IF(D32<0,0,(D32/D11))))) -> 1 | E34: =IF($D$2<E$9,0,IF(AND(E11=0,E32=0),1,IF(AND(E11=0,E32>0),2,IF(E32<0,0,(E32/E11))))) -> 0.33280062 | F34: =IF($D$2<F$9,0,IF(AND(F11=0,F32=0),1,IF(AND(F11=0,F32>0),2,IF(F32<0,0,(F32/F11))))) -> 1.8217714 | G34: =IF($D$2<G$9,0,IF(AND(G11=0,G32=0),1,IF(AND(G11=0,G32>0),2,IF(G32<0,0,(G32/G11))))) -> 1.5975988 | H34: =IF($D$2<H$9,0,IF(AND(H11=0,H32=0),1,IF(AND(H11=0,H32>0),2,IF(H32<0,0,(H32/H11))))) -> 1.1937022 | I34: =IF($D$2<I$9,0,IF(AND(I11=0,I32=0),1,IF(AND(I11=0,I32>0),2,IF(I32<0,0,(I32/I11))))) -> 1.3946387 | J34: =IF($D$2<J$9,0,IF(AND(J11=0,J32=0),1,IF(AND(J11=0,J32>0),2,IF(J32<0,0,(J32/J11))))) -> 1.397432 | K34: =IF($D$2<K$9,0,IF(AND(K11=0,K32=0),1,IF(AND(K11=0,K32>0),2,IF(K32<0,0,(K32/K11))))) -> 1.1728482 | ... S34: =IF($D$2<S$9,0,IF(AND(S11=0,S32=0),1,IF(AND(S11=0,S32>0),2,IF(S32<0,0,(S32/S11))))) -> 0 | T34: 0 | U34: 0 | V34: 0 | W34: Last 3Y
B35: ='OL -Overall'!B35 -> Fy Q2 2425 | D35: =D68+D101 -> 8.651 | E35: =E68+E101 -> -3.878 | F35: =F68+F101 -> -0.042 | G35: =G68+G101 -> 0.172 | H35: =H68+H101 -> 5.419 | I35: =I68+I101 -> 3.896 | J35: =J68+J101 -> 1.873 | K35: =K68+K101 -> 6.107 | ... S35: =S68+S101 -> 75.162 | T35: =SUM(D35:I35) -> 14.218 | U35: =SUM(J35:N35) -> 95.019 | V35: =SUM(O35:S35) -> 119.369 | W35: =SUM(T35:V35) -> 228.606
B36: ='OL -Overall'!B36 -> Fy Q3 2324 | D36: =D69+D102 -> 8.64 | E36: =E69+E102 -> -7.304 | F36: =F69+F102 -> 0.572 | G36: =G69+G102 -> 3.063 | H36: =H69+H102 -> 25.741 | I36: =I69+I102 -> 19.919 | J36: =J69+J102 -> 0.635 | K36: =K69+K102 -> 10.106 | ... S36: =S69+S102 -> 64.565 | T36: =SUM(D36:I36) -> 50.631 | U36: =SUM(J36:N36) -> 122.258 | V36: =SUM(O36:S36) -> 161.785 | W36: =SUM(T36:V36) -> 334.674
E37: 0 | F37: 0.074367089 | G37: 0.18037975 | H37: 0.21044304 | J37: 0.53481013 | K37: 0.1504065 | L37: 0.17174797 | M37: 0.20020325 | N37: 0.47764228 | P37: 0.056364788 | Q37: 0.10196327 | R37: 0.13742875 | S37: 0.70424319 | T37: =$W$37*U1 -> 5.995 | U37: =$W$37*V1 -> 12.085 | V37: =$W$37*W1 -> 14.42 | W37: 32.5
B38: Consumer OL India DT WF Q3FY2526
C39: Month | D39: =D$6 -> 1 | E39: =E$6 -> 1 | F39: =F$6 -> 1 | G39: =G$6 -> 1 | H39: =H$6 -> 1 | I39: =I$6 -> 1 | J39: =J$6 -> 2 | K39: =K$6 -> 2 | ... W39: =W$6 -> QTR
C40: Week | D40: =D$7 -> OB | E40: =E$7 -> 1 | F40: =F$7 -> 2 | G40: =G$7 -> 3 | H40: =H$7 -> 4 | I40: =I$7 -> 5 | J40: =J$7 -> 5 | K40: =K$7 -> 6 | ... W40: =W$7 -> 0
C41: Begin | D41: =D$8 -> 45931 | E41: =E$8 -> 45931 | F41: =F$8 -> 45936 | G41: =G$8 -> 45943 | H41: =H$8 -> 45950 | I41: =I$8 -> 45957 | J41: =J$8 -> 45962 | K41: =K$8 -> 45964 | ... W41: =W$8 -> 45931
C42: End | D42: =D$9 -> 45931 | E42: =E$9 -> 45935 | F42: =F$9 -> 45942 | G42: =G$9 -> 45949 | H42: =H$9 -> 45956 | I42: =I$9 -> 45961 | J42: =J$9 -> 45963 | K42: =K$9 -> 45970 | ... W42: =W$9 -> 46022
B43: Target | C43: Week | D43: 1.517 | E43: -0.87219476 | F43: 0.17357992 | G43: 0.95527785 | H43: 2.1410011 | I43: 0.10981754 | J43: 0 | K43: 0.72824813 | L43: 1.4527411 | M43: 1.7903673 | N43: 3.5361928 | O43: 0 | P43: 0.98967349 | Q43: 1.420427 | R43: 1.3739202 | S43: 7.6839483 | T43: =SUM(D43:J43) -> 4.0244817 | U43: =SUM(K43:N43) -> 7.5075494 | V43: =SUM(P43:S43) -> 11.467969 | W43: =SUM(T43:V43) -> 23 | AC43: 97 | AD43: =SUM(AA43:AC43) -> 97 | AE43: =AA43/$AD$43 -> 0 | AF43: =AB43/$AD$43 -> 0 | AG43: =AC43/$AD$43 -> 1
C44: QTD | D44: =D43 -> 1.517 | E44: =E43+D44 -> 0.64480524 | F44: =E44+F43 -> 0.81838516 | G44: =F44+G43 -> 1.773663 | H44: =G44+H43 -> 3.9146641 | I44: =H44+I43 -> 4.0244817 | J44: =I44+J43 -> 4.0244817 | K44: =J44+K43 -> 4.7527298 | L44: =K44+L43 -> 6.2054709 | M44: =L44+M43 -> 7.9958383 | ... S44: =R44+S43 -> 23 | T44: =IFERROR(T43/$W43,0) -> 0.17497746 | U44: =IFERROR(U43/$W43,0) -> 0.32641519 | V44: =IFERROR(V43/$W43,0) -> 0.49860734
C45: 0 | D45: 1.517 | E45: -0.87219476 | F45: 0.17357992 | G45: 0.95527785 | H45: 2.1410011 | I45: 0.10981754 | J45: 0 | K45: 0.72824813 | L45: 1.4527411 | M45: 1.7903673 | N45: 3.5361928 | O45: 0 | P45: 0.98967349 | Q45: 1.420427 | R45: 1.3739202 | S45: 7.6839483 | T45: =SUMIF($D$6:$S$6,T$6,$D45:$S45) -> 4.0244817 | U45: =SUMIF($E$6:$S$6,U$6,$E45:$S45) -> 7.5075494 | V45: =SUMIF($E$6:$S$6,V$6,$E45:$S45) -> 11.467969 | W45: =SUM(T45:V45) -> 23
B46: Week | C46: 1 | D46: 1.517 | E46: -0.341 | F46: 0.1462978 | G46: 0.80513372 | H46: 1.804493 | I46: 0.092557158 | J46: 0 | K46: 0.72824813 | L46: 1.4527411 | M46: 1.7903673 | N46: 3.5361928 | O46: 0 | P46: 0.98967349 | Q46: 1.420427 | R46: 1.3739202 | S46: 7.6839483 | T46: =SUMIF($D$6:$S$6,T$6,$D46:$S46) -> 4.0244817 | U46: =SUMIF($E$6:$S$6,U$6,$E46:$S46) -> 7.5075494 | V46: =SUMIF($E$6:$S$6,V$6,$E46:$S46) -> 11.467969 | W46: =SUM(T46:V46) -> 23
C47: 2 | D47: =IF($C47<=$D$1,D46,0) -> 1.517 | E47: =IF($C47<=$D$1,E46,0) -> -0.341 | F47: -0.498 | G47: 0.80513372 | H47: 1.804493 | I47: 0.73685496 | J47: 0 | K47: 0.72824813 | L47: 1.4527411 | M47: 1.7903673 | N47: 3.5361928 | O47: 0 | P47: 0.98967349 | Q47: 1.420427 | R47: 1.3739202 | S47: 7.6839483 | T47: =SUMIF($D$6:$S$6,T$6,$D47:$S47) -> 4.0244817 | U47: =SUMIF($E$6:$S$6,U$6,$E47:$S47) -> 7.5075494 | V47: =SUMIF($E$6:$S$6,V$6,$E47:$S47) -> 11.467969 | W47: =SUM(T47:V47) -> 23
C48: 3 | D48: =IF($C48<=$D$1,D47,0) -> 1.517 | E48: =IF($C48<=$D$1,E47,0) -> -0.341 | F48: =IF($C48<=$D$1,F47,0) -> -0.498 | G48: 1.424 | H48: 1.1856267 | I48: 0.73685496 | J48: 0 | K48: 0.72824813 | L48: 1.4527411 | M48: 1.7903673 | N48: 3.5361928 | O48: 0 | P48: 0.98967349 | Q48: 1.420427 | R48: 9.0578684 | S48: 0 | T48: =SUMIF($D$6:$S$6,T$6,$D48:$S48) -> 4.0244817 | U48: =SUMIF($E$6:$S$6,U$6,$E48:$S48) -> 7.5075494 | V48: =SUMIF($E$6:$S$6,V$6,$E48:$S48) -> 11.467969 | W48: =SUM(T48:V48) -> 23
C49: 4 | D49: =IF($C49<=$D$1,D48,0) -> 1.517 | E49: =IF($C49<=$D$1,E48,0) -> -0.341 | F49: =IF($C49<=$D$1,F48,0) -> -0.498 | G49: =IF($C49<=$D$1,G48,0) -> 1.424 | H49: 3.018 | I49: 0 | J49: 0 | K49: 0.72824813 | L49: 1.4527411 | M49: 1.7903673 | N49: 3.5361928 | O49: 0 | P49: 0.98967349 | Q49: 1.420427 | R49: 7.9623501 | S49: 0 | T49: =SUMIF($D$6:$S$6,T$6,$D49:$S49) -> 5.12 | U49: =SUMIF($E$6:$S$6,U$6,$E49:$S49) -> 7.5075494 | V49: =SUMIF($E$6:$S$6,V$6,$E49:$S49) -> 10.372451 | W49: =SUM(T49:V49) -> 23
C50: 5 | D50: =IF($C50<=$D$1,D49,0) -> 1.517 | E50: =IF($C50<=$D$1,E49,0) -> -0.341 | F50: =IF($C50<=$D$1,F49,0) -> -0.498 | G50: =IF($C50<=$D$1,G49,0) -> 1.424 | H50: =IF($C50<=$D$1,H49,0) -> 3.018 | I50: 0.904 | J50: 0.008 | K50: 0.72824813 | L50: 1.4527411 | M50: 1.7903673 | N50: 2.6241928 | O50: 0 | P50: 0.98967349 | Q50: 1.420427 | R50: 7.9623501 | S50: 0 | T50: =SUMIF($D$6:$S$6,T$6,$D50:$S50) -> 6.024 | U50: =SUMIF($E$6:$S$6,U$6,$E50:$S50) -> 6.6035494 | V50: =SUMIF($E$6:$S$6,V$6,$E50:$S50) -> 10.372451 | W50: =SUM(T50:V50) -> 23
C51: 6 | D51: =IF($C51<=$D$1,D50,0) -> 1.517 | E51: =IF($C51<=$D$1,E50,0) -> -0.341 | F51: =IF($C51<=$D$1,F50,0) -> -0.498 | G51: =IF($C51<=$D$1,G50,0) -> 1.424 | H51: =IF($C51<=$D$1,H50,0) -> 3.018 | I51: =IF($C51<=$D$1,I50,0) -> 0.904 | J51: =IF($C51<=$D$1,J50,0) -> 0.008 | K51: 0.304 | L51: 1.4527411 | M51: 1.7903673 | N51: 3.048441 | O51: 0 | P51: 0.98967349 | Q51: 1.420427 | R51: 7.9623501 | S51: 0 | T51: =SUMIF($D$6:$S$6,T$6,$D51:$S51) -> 6.024 | U51: =SUMIF($E$6:$S$6,U$6,$E51:$S51) -> 6.6035494 | V51: =SUMIF($E$6:$S$6,V$6,$E51:$S51) -> 10.372451 | W51: =SUM(T51:V51) -> 23
C52: 7 | D52: =IF($C52<=$D$1,D51,0) -> 1.517 | E52: =IF($C52<=$D$1,E51,0) -> -0.341 | F52: =IF($C52<=$D$1,F51,0) -> -0.498 | G52: =IF($C52<=$D$1,G51,0) -> 1.424 | H52: =IF($C52<=$D$1,H51,0) -> 3.018 | I52: =IF($C52<=$D$1,I51,0) -> 0.904 | J52: =IF($C52<=$D$1,J51,0) -> 0.008 | K52: =IF($C52<=$D$1,K51,0) -> 0.304 | L52: 1.925 | M52: 1.7903673 | N52: 2.5761821 | O52: 0 | P52: 0.98967349 | Q52: 1.420427 | R52: 7.9623501 | S52: 0 | T52: =SUMIF($D$6:$S$6,T$6,$D52:$S52) -> 6.024 | U52: =SUMIF($E$6:$S$6,U$6,$E52:$S52) -> 6.6035494 | V52: =SUMIF($E$6:$S$6,V$6,$E52:$S52) -> 10.372451 | W52: =SUM(T52:V52) -> 23
C53: 8 | D53: =IF($C53<=$D$1,D52,0) -> 1.517 | E53: =IF($C53<=$D$1,E52,0) -> -0.341 | F53: =IF($C53<=$D$1,F52,0) -> -0.498 | G53: =IF($C53<=$D$1,G52,0) -> 1.424 | H53: =IF($C53<=$D$1,H52,0) -> 3.018 | I53: =IF($C53<=$D$1,I52,0) -> 0.904 | J53: =IF($C53<=$D$1,J52,0) -> 0.008 | K53: =IF($C53<=$D$1,K52,0) -> 0.304 | L53: =IF($C53<=$D$1,L52,0) -> 1.925 | M53: 3.176 | N53: 1.1905494 | O53: 0 | P53: 0.98967349 | Q53: 1.420427 | R53: 7.9623501 | S53: 0 | T53: =SUMIF($D$6:$S$6,T$6,$D53:$S53) -> 6.024 | U53: =SUMIF($E$6:$S$6,U$6,$E53:$S53) -> 6.6035494 | V53: =SUMIF($E$6:$S$6,V$6,$E53:$S53) -> 10.372451 | W53: =SUM(T53:V53) -> 23
C54: 9 | D54: =IF($C54<=$D$1,D53,0) -> 1.517 | E54: =IF($C54<=$D$1,E53,0) -> -0.341 | F54: =IF($C54<=$D$1,F53,0) -> -0.498 | G54: =IF($C54<=$D$1,G53,0) -> 1.424 | H54: =IF($C54<=$D$1,H53,0) -> 3.018 | I54: =IF($C54<=$D$1,I53,0) -> 0.904 | J54: =IF($C54<=$D$1,J53,0) -> 0.008 | K54: =IF($C54<=$D$1,K53,0) -> 0.304 | ... M54: =IF($C54<=$D$1,M53,0) -> 3.176 | N54: 2.789 | P54: 0.98967349 | Q54: 1.420427 | R54: 6.3638996 | S54: 0 | T54: =SUMIF($D$6:$S$6,T$6,$D54:$S54) -> 6.024 | U54: =SUMIF($E$6:$S$6,U$6,$E54:$S54) -> 8.202 | V54: =SUMIF($E$6:$S$6,V$6,$E54:$S54) -> 8.774 | W54: =SUM(T54:V54) -> 23
C55: 10 | D55: =IF($C55<=$D$1,D54,0) -> 1.517 | E55: =IF($C55<=$D$1,E54,0) -> -0.341 | F55: =IF($C55<=$D$1,F54,0) -> -0.498 | G55: =IF($C55<=$D$1,G54,0) -> 1.424 | H55: =IF($C55<=$D$1,H54,0) -> 3.018 | I55: =IF($C55<=$D$1,I54,0) -> 0.904 | J55: =IF($C55<=$D$1,J54,0) -> 0.008 | K55: =IF($C55<=$D$1,K54,0) -> 0.304 | ... O55: =IF($C55<=$D$1,O54,0) -> 0 | P55: 0.477 | T55: =SUMIF($D$6:$S$6,T$6,$D55:$S55) -> 6.024 | U55: =SUMIF($E$6:$S$6,U$6,$E55:$S55) -> 8.202 | V55: =SUMIF($E$6:$S$6,V$6,$E55:$S55) -> 0.477 | W55: =SUM(T55:V55) -> 14.703
C56: 11 | D56: =IF($C56<=$D$1,D55,0) -> 0 | E56: =IF($C56<=$D$1,E55,0) -> 0 | F56: =IF($C56<=$D$1,F55,0) -> 0 | G56: =IF($C56<=$D$1,G55,0) -> 0 | H56: =IF($C56<=$D$1,H55,0) -> 0 | I56: =IF($C56<=$D$1,I55,0) -> 0 | J56: =IF($C56<=$D$1,J55,0) -> 0 | K56: =IF($C56<=$D$1,K55,0) -> 0 | ... P56: =IF($C56<=$D$1,P55,0) -> 0 | T56: =SUMIF($D$6:$S$6,T$6,$D56:$S56) -> 0 | U56: =SUMIF($E$6:$S$6,U$6,$E56:$S56) -> 0 | V56: =SUMIF($E$6:$S$6,V$6,$E56:$S56) -> 0 | W56: =SUM(T56:V56) -> 0
C57: 12 | D57: =IF($C57<=$D$1,D56,0) -> 0 | E57: =IF($C57<=$D$1,E56,0) -> 0 | F57: =IF($C57<=$D$1,F56,0) -> 0 | G57: =IF($C57<=$D$1,G56,0) -> 0 | H57: =IF($C57<=$D$1,H56,0) -> 0 | I57: =IF($C57<=$D$1,I56,0) -> 0 | J57: =IF($C57<=$D$1,J56,0) -> 0 | K57: =IF($C57<=$D$1,K56,0) -> 0 | ... Q57: =IF($C57<=$D$1,Q56,0) -> 0 | T57: =SUMIF($D$6:$S$6,T$6,$D57:$S57) -> 0 | U57: =SUMIF($E$6:$S$6,U$6,$E57:$S57) -> 0 | V57: =SUMIF($E$6:$S$6,V$6,$E57:$S57) -> 0 | W57: =SUM(T57:V57) -> 0
C58: 13 | D58: =IF($C58<=$D$1,D57,0) -> 0 | E58: =IF($C58<=$D$1,E57,0) -> 0 | F58: =IF($C58<=$D$1,F57,0) -> 0 | G58: =IF($C58<=$D$1,G57,0) -> 0 | H58: =IF($C58<=$D$1,H57,0) -> 0 | I58: =IF($C58<=$D$1,I57,0) -> 0 | J58: =IF($C58<=$D$1,J57,0) -> 0 | K58: =IF($C58<=$D$1,K57,0) -> 0 | ... R58: =IF($C58<=$D$1,R57,0) -> 0 | T58: =SUMIF($D$6:$S$6,T$6,$D58:$S58) -> 0 | U58: =SUMIF($E$6:$S$6,U$6,$E58:$S58) -> 0 | V58: =SUMIF($E$6:$S$6,V$6,$E58:$S58) -> 0 | W58: =SUM(T58:V58) -> 0
B59: Actual | C59: 0 | D59: =INDEX($D$46:$D$58,MATCH($D$1,$C$46:$C$58,0)) -> 1.517 | E59: =INDEX($E$46:$E$58,MATCH($D$1,$C$46:$C$58,0)) -> -0.341 | F59: =INDEX($F$46:$F$58,MATCH($D$1,$C$46:$C$58,0)) -> -0.498 | G59: =INDEX($G$46:$G$58,MATCH($D$1,$C$46:$C$58,0)) -> 1.424 | H59: =INDEX($H$46:$H$58,MATCH($D$1,$C$46:$C$58,0)) -> 3.018 | I59: =INDEX($I$46:$I$58,MATCH($D$1,$C$46:$C$58,0)) -> 0.904 | J59: =INDEX($J$46:$J$58,MATCH($D$1,$C$46:$C$58,0)) -> 0.008 | K59: =INDEX($K$46:$K$58,MATCH($D$1,$C$46:$C$58,0)) -> 0.304 | L59: =INDEX($L$46:$L$58,MATCH($D$1,$C$46:$C$58,0)) -> 1.925 | M59: =INDEX($M$46:$M$58,MATCH($D$1,$C$46:$C$58,0)) -> 3.176 | N59: =INDEX($N$46:$N$58,MATCH($D$1,$C$46:$C$58,0)) -> 2.789 | O59: =INDEX($O$46:$O$58,MATCH($D$1,$C$46:$C$58,0)) -> 0 | P59: =INDEX($P$46:$P$58,MATCH($D$1,$C$46:$C$58,0)) -> 0.477 | Q59: =INDEX($Q$46:$Q$58,MATCH($D$1,$C$46:$C$58,0)) -> 0 | R59: =INDEX($R$46:$R$58,MATCH($D$1,$C$46:$C$58,0)) -> 0 | S59: =INDEX($S$46:$S$58,MATCH($D$1,$C$46:$C$58,0)) -> 0 | T59: =INDEX($E$46:$E$58,MATCH($D$1,$C$46:$C$58,0)) -> -0.341 | U59: =INDEX($E$46:$E$58,MATCH($D$1,$C$46:$C$58,0)) -> -0.341 | V59: =INDEX($E$46:$E$58,MATCH($D$1,$C$46:$C$58,0)) -> -0.341 | W59: =INDEX($E$46:$E$58,MATCH($D$1,$C$46:$C$58,0)) -> -0.341
B60: Delta to Target | C60: 0 | D60: =IF(D$9<=$D$2,D59-D43,0) -> 0 | E60: =IF(E$9<=$D$2,E59-E43,0) -> 0.53119476 | F60: =IF(F$9<=$D$2,F59-F43,0) -> -0.67157992 | G60: =IF(G$9<=$D$2,G59-G43,0) -> 0.46872215 | H60: =IF(H$9<=$D$2,H59-H43,0) -> 0.87699888 | I60: =IF(I$9<=$D$2,I59-I43,0) -> 0.79418246 | J60: =IF(J$9<=$D$2,J59-J43,0) -> 0.008 | K60: =IF(K$9<=$D$2,K59-K43,0) -> -0.42424813 | ... W60: =IF(W$9<=$D$2,W59-W43,0) -> 0
B61: % to Target | C61: 0 | D61: =IF($D$2<D$9,0,IF(AND(D43=0,D59=0),1,IF(AND(D43=0,D59>0),2,IF(D59<0,0,(D59/D43))))) -> 1 | E61: =IF($D$2<E$9,0,IF(AND(E43=0,E59=0),1,IF(AND(E43=0,E59>0),2,IF(E59<0,0,(E59/E43))))) -> 0 | F61: =IF($D$2<F$9,0,IF(AND(F43=0,F59=0),1,IF(AND(F43=0,F59>0),2,IF(F59<0,0,(F59/F43))))) -> 0 | G61: =IF($D$2<G$9,0,IF(AND(G43=0,G59=0),1,IF(AND(G43=0,G59>0),2,IF(G59<0,0,(G59/G43))))) -> 1.4906658 | H61: =IF($D$2<H$9,0,IF(AND(H43=0,H59=0),1,IF(AND(H43=0,H59>0),2,IF(H59<0,0,(H59/H43))))) -> 1.4096209 | I61: =IF($D$2<I$9,0,IF(AND(I43=0,I59=0),1,IF(AND(I43=0,I59>0),2,IF(I59<0,0,(I59/I43))))) -> 8.2318363 | J61: =IF($D$2<J$9,0,IF(AND(J43=0,J59=0),1,IF(AND(J43=0,J59>0),2,IF(J59<0,0,(J59/J43))))) -> 2 | K61: =IF($D$2<K$9,0,IF(AND(K43=0,K59=0),1,IF(AND(K43=0,K59>0),2,IF(K59<0,0,(K59/K43))))) -> 0.41744014 | ... W61: =IF($D$2<W$9,0,IF(AND(W43=0,W59=0),1,IF(AND(W43=0,W59>0),2,IF(W59<0,0,(W59/W43))))) -> 0
B62: ="Week "&$D$1&" View" -> Week 10 View | D62: =INDEX(D46:D58,MATCH($D$1,$C$13:$C$25,0)) -> 1.517 | E62: =INDEX(E46:E58,MATCH($D$1,$C$13:$C$25,0)) -> -0.341 | F62: =INDEX(F46:F58,MATCH($D$1,$C$13:$C$25,0)) -> -0.498 | G62: =INDEX(G46:G58,MATCH($D$1,$C$13:$C$25,0)) -> 1.424 | H62: =INDEX(H46:H58,MATCH($D$1,$C$13:$C$25,0)) -> 3.018 | I62: =INDEX(I46:I58,MATCH($D$1,$C$13:$C$25,0)) -> 0.904 | J62: =INDEX(J46:J58,MATCH($D$1,$C$13:$C$25,0)) -> 0.008 | K62: =INDEX(K46:K58,MATCH($D$1,$C$13:$C$25,0)) -> 0.304 | ... W62: =INDEX(W46:W58,MATCH($D$1,$C$13:$C$25,0)) -> 14.703
B63: Linearity | D63: =IFERROR(D62/$T62,0) -> 0.25182603 | E63: =IFERROR(E62/$T62,0) -> -0.056606906 | F63: =IFERROR(F62/$T62,0) -> -0.082669323 | G63: =IFERROR(G62/$T62,0) -> 0.23638778 | H63: =IFERROR(H62/$T62,0) -> 0.50099602 | I63: =IFERROR(I62/$T62,0) -> 0.1500664 | J63: =IFERROR(J62/$T62,0) -> 0.0013280212 | K63: =IFERROR(K62/$T62,0) -> 0.050464807 | ... Q63: =IFERROR(Q62/$T62,0) -> 0 | R63: =IFERROR(R62/$U62,0) -> 0 | S63: =IFERROR(S62/$U62,0) -> 0 | T63: =IFERROR(T62/$W62,0) -> 0.4097123 | U63: =IFERROR(U62/$W62,0) -> 0.55784534 | V63: =IFERROR(V62/$W62,0) -> 0.032442359
B64: Last 4Q ROL Linearity
B65: QTD Actual | C65: 0 | D65: =IF(D$9<=$D$2,D59,0) -> 1.517 | E65: =IF(E$9<=$D$2,E59,0) -> -0.341 | F65: =IF(F$9<=$D$2,F59+E65,0) -> -0.839 | G65: =IF(G$9<=$D$2,G59+F65,0) -> 0.585 | H65: =IF(H$9<=$D$2,H59+G65,0) -> 3.603 | I65: =IF(I$9<=$D$2,I59+H65,0) -> 4.507 | J65: =IF(J$9<=$D$2,J59+I65,0) -> 4.515 | K65: =IF(K$9<=$D$2,K59+J65,0) -> 4.819 | L65: =IF(L$9<=$D$2,L59+K65,0) -> 6.744 | M65: =IF(M$9<=$D$2,M59+L65,0) -> 9.92 | ... S65: =IF(S$9<=$D$2,S59+R65,0) -> 0 | T65: =IFERROR(INDEX(T$13:T$25,$D$1,0)/INDEX($W$13:$W$25,$D$1,0),0) -> 0.44155029 | U65: =IFERROR(INDEX(U$13:U$25,$D$1,0)/INDEX($W$13:$W$25,$D$1,0),0) -> 0.5472157 | V65: =IFERROR(INDEX(V$13:V$25,$D$1,0)/INDEX($W$13:$W$25,$D$1,0),0) -> 0.011234008 | W65: Current
B66: QTD Delta to Tgt | C66: 0 | D66: =IF(D$27=0,0,IF(D$9<=$D$2,E65-D44,E65-D44)) -> 0 | E66: =IF(E$27=0,0,IF(E$9<=$D$2,F65-E44,F65-E44)) -> -1.4838052 | F66: =IF(F$27=0,0,IF(F$9<=$D$2,G65-F44,G65-F44)) -> -0.23338516 | G66: =IF(G$27=0,0,IF(G$9<=$D$2,H65-G44,H65-G44)) -> 1.829337 | H66: =IF(H$27=0,0,IF(H$9<=$D$2,J65-H44,J65-H44)) -> 0.60033587 | I66: =IF(I$27=0,0,IF(I$9<=$D$2,K65-I44,K65-I44)) -> 0.79451833 | J66: =IF(J$27=0,0,IF(J$9<=$D$2,L65-J44,L65-J44)) -> 2.7195183 | K66: =IF(K$27=0,0,IF(K$9<=$D$2,M65-K44,M65-K44)) -> 5.1672702 | L66: =IF(L$27=0,0,IF(L$9<=$D$2,N65-L44,N65-L44)) -> 6.5035291 | M66: =IF(M$27=0,0,IF(M$9<=$D$2,O65-M44,O65-M44)) -> 4.7131617 | N66: =IF(N$27=0,0,IF(N$9<=$D$2,P65-N44,P65-N44)) -> 1.6539689 | O66: =IF(O$27=0,0,IF(O$9<=$D$2,Q65-O44,Q65-O44)) -> 0 | ... S66: =IF(S$27=0,0,IF(S$9<=$D$2,U65-S44,U65-S44)) -> 0 | T66: =T33 -> 0 | U66: =U33 -> 0 | V66: =V33 -> 0 | W66: Last 4Q
B67: % to Target | C67: 0 | D67: =IF($D$2<D$9,0,IF(AND(D44=0,D65=0),1,IF(AND(D44=0,D65>0),2,IF(D65<0,0,(D65/D44))))) -> 1 | E67: =IF($D$2<E$9,0,IF(AND(E44=0,E65=0),1,IF(AND(E44=0,E65>0),2,IF(E65<0,0,(E65/E44))))) -> 0 | F67: =IF($D$2<F$9,0,IF(AND(F44=0,F65=0),1,IF(AND(F44=0,F65>0),2,IF(F65<0,0,(F65/F44))))) -> 0 | G67: =IF($D$2<G$9,0,IF(AND(G44=0,G65=0),1,IF(AND(G44=0,G65>0),2,IF(G65<0,0,(G65/G44))))) -> 0.3298259 | H67: =IF($D$2<H$9,0,IF(AND(H44=0,H65=0),1,IF(AND(H44=0,H65>0),2,IF(H65<0,0,(H65/H44))))) -> 0.92038547 | I67: =IF($D$2<I$9,0,IF(AND(I44=0,I65=0),1,IF(AND(I44=0,I65>0),2,IF(I65<0,0,(I65/I44))))) -> 1.1198958 | J67: =IF($D$2<J$9,0,IF(AND(J44=0,J65=0),1,IF(AND(J44=0,J65>0),2,IF(J65<0,0,(J65/J44))))) -> 1.1218836 | K67: =IF($D$2<K$9,0,IF(AND(K44=0,K65=0),1,IF(AND(K44=0,K65>0),2,IF(K65<0,0,(K65/K44))))) -> 1.0139436 | ... S67: =IF($D$2<S$9,0,IF(AND(S44=0,S65=0),1,IF(AND(S44=0,S65>0),2,IF(S65<0,0,(S65/S44))))) -> 0 | T67: =T34 -> 0 | U67: =U34 -> 0 | V67: =V34 -> 0 | W67: Last 3Y
B68: Fy Q3 2425 | D68: 0.425 | E68: 0.48 | F68: -0.033 | G68: 0.063 | H68: 0.06 | I68: 0.698 | J68: 1.04 | K68: 1.777 | L68: 1.387 | M68: 0.877 | N68: 5.225 | O68: 0.009 | P68: 0.181 | Q68: 0.214 | R68: 1.754 | S68: 7.975 | T68: =SUM(D68:I68) -> 1.693 | U68: =SUM(J68:N68) -> 10.306 | V68: =SUM(O68:S68) -> 10.133 | W68: =SUM(T68:V68) -> 22.132
B69: Fy Q4 2324 | D69: 1.092 | E69: -0.98 | F69: -0.002 | G69: 0.456 | H69: 0.552 | I69: 0.937 | J69: 0.137 | K69: 1.453 | L69: 0.234 | M69: 3.834 | N69: 4.489 | O69: -0.567 | P69: 2.016 | Q69: 0.709 | R69: 1.155 | S69: 9.22 | T69: =SUM(D69:I69) -> 2.055 | U69: =SUM(J69:N69) -> 10.147 | V69: =SUM(O69:S69) -> 12.533 | W69: =SUM(T69:V69) -> 24.735
E70: 0 | F70: 0.074367089 | G70: 0.18037975 | H70: 0.21044304 | J70: 0.53481013 | K70: 0.1504065 | L70: 0.17174797 | M70: 0.20020325 | N70: 0.47764228 | P70: 0.056364788 | Q70: 0.10196327 | R70: 0.13742875 | S70: 0.70424319 | T70: =$W$70*U2 -> 63.525 | U70: =$W$70*V2 -> 96.8 | V70: =$W$70*W2 -> 142.175 | W70: 302.5
B71: Consumer OL India NB WF Q3FY2526
C72: Month | D72: =D$6 -> 1 | E72: =E$6 -> 1 | F72: =F$6 -> 1 | G72: =G$6 -> 1 | H72: =H$6 -> 1 | I72: =I$6 -> 1 | J72: =J$6 -> 2 | K72: =K$6 -> 2 | ... W72: =W$6 -> QTR
C73: Week | D73: =D$7 -> OB | E73: =E$7 -> 1 | F73: =F$7 -> 2 | G73: =G$7 -> 3 | H73: =H$7 -> 4 | I73: =I$7 -> 5 | J73: =J$7 -> 5 | K73: =K$7 -> 6 | ... W73: =W$7 -> 0
C74: Begin | D74: =D$8 -> 45931 | E74: =E$8 -> 45931 | F74: =F$8 -> 45936 | G74: =G$8 -> 45943 | H74: =H$8 -> 45950 | I74: =I$8 -> 45957 | J74: =J$8 -> 45962 | K74: =K$8 -> 45964 | ... W74: =W$8 -> 45931
C75: End | D75: =D$9 -> 45931 | E75: =E$9 -> 45935 | F75: =F$9 -> 45942 | G75: =G$9 -> 45949 | H75: =H$9 -> 45956 | I75: =I$9 -> 45961 | J75: =J$9 -> 45963 | K75: =K$9 -> 45970 | ... W75: =W$9 -> 46022
B76: Target | C76: Week | D76: 13.461 | E76: -9.4423525 | F76: 1.7565498 | G76: 9.6669767 | H76: 21.665956 | I76: 1.1113035 | J76: 0 | K76: 7.1417369 | L76: 14.246648 | M76: 17.557659 | N76: 34.678508 | O76: 0 | P76: 9.9378412 | Q76: 14.263267 | R76: 13.796268 | S76: 77.158637 | T76: =SUM(D76:J76) -> 38.219434 | U76: =SUM(K76:N76) -> 73.624553 | V76: =SUM(P76:S76) -> 115.15601 | W76: =SUM(T76:V76) -> 227
C77: QTD | D77: =D76 -> 13.461 | E77: =E76+D77 -> 4.0186475 | F77: =E77+F76 -> 5.7751973 | G77: =F77+G76 -> 15.442174 | H77: =G77+H76 -> 37.10813 | I77: =H77+I76 -> 38.219434 | J77: =I77+J76 -> 38.219434 | K77: =J77+K76 -> 45.36117 | L77: =K77+L76 -> 59.607819 | M77: =L77+M76 -> 77.165478 | ... S77: =R77+S76 -> 227 | T77: =IFERROR(T76/$W76,0) -> 0.16836755 | U77: =IFERROR(U76/$W76,0) -> 0.32433724 | V77: =IFERROR(V76/$W76,0) -> 0.50729521
C78: 0 | D78: 13.461 | E78: -9.4423525 | F78: 1.7565498 | G78: 9.6669767 | H78: 21.665956 | I78: 1.1113035 | J78: 0 | K78: 7.1417369 | L78: 14.246648 | M78: 17.557659 | N78: 34.678508 | O78: 0 | P78: 9.9378412 | Q78: 14.263267 | R78: 13.796268 | S78: 77.158637 | T78: =SUMIF($D$6:$S$6,T$6,$D78:$S78) -> 38.219434 | U78: =SUMIF($D$6:$S$6,U$6,$D78:$S78) -> 73.624553 | V78: =SUMIF($E$6:$S$6,V$6,$E78:$S78) -> 115.15601 | W78: =SUM(T78:V78) -> 227
B79: Week | C79: 1 | D79: 13.461 | E79: 1.893 | F79: 1.3159192 | G79: 7.2420154 | H79: 16.231051 | I79: 0.83253297 | J79: 0 | K79: 5.0918784 | L79: 10.157501 | M79: 12.518168 | N79: 24.724903 | O79: 0 | P79: 11.523672 | Q79: 16.539328 | R79: 15.997807 | S79: 89.471224 | T79: =SUMIF($D$6:$S$6,T$6,$D79:$S79) -> 40.975518 | U79: =SUMIF($D$6:$S$6,U$6,$D79:$S79) -> 52.492451 | V79: =SUMIF($E$6:$S$6,V$6,$E79:$S79) -> 133.53203 | W79: =SUM(T79:V79) -> 227
C80: 2 | D80: =IF($C80<=$D$1,D79,0) -> 13.461 | E80: =IF($C80<=$D$1,E79,0) -> 1.893 | F80: 10.958 | G80: 7.2420154 | H80: 6.5889699 | I80: 0.83253297 | J80: 0 | K80: 5.0918784 | L80: 10.157501 | M80: 12.518168 | N80: 24.724903 | O80: 0 | P80: 11.523672 | Q80: 16.539328 | R80: 15.997807 | S80: 89.471224 | T80: =SUMIF($D$6:$S$6,T$6,$D80:$S80) -> 40.975518 | U80: =SUMIF($D$6:$S$6,U$6,$D80:$S80) -> 52.492451 | V80: =SUMIF($E$6:$S$6,V$6,$E80:$S80) -> 133.53203 | W80: =SUM(T80:V80) -> 227
C81: 3 | D81: =IF($C81<=$D$1,D80,0) -> 13.461 | E81: =IF($C81<=$D$1,E80,0) -> 1.893 | F81: =IF($C81<=$D$1,F80,0) -> 10.958 | G81: 14.068 | H81: 3.3955183 | I81: 2.2 | J81: 0 | K81: 8.2451792 | L81: 16.447843 | M81: 20.270426 | N81: 32.529002 | O81: 0 | P81: 35 | Q81: 60 | R81: 18.532031 | S81: 0 | T81: =SUMIF($D$6:$S$6,T$6,$D81:$S81) -> 45.975518 | U81: =SUMIF($D$6:$S$6,U$6,$D81:$S81) -> 77.492451 | V81: =SUMIF($E$6:$S$6,V$6,$E81:$S81) -> 113.53203 | W81: =SUM(T81:V81) -> 237
C82: 4 | D82: =IF($C82<=$D$1,D81,0) -> 13.461 | E82: =IF($C82<=$D$1,E81,0) -> 1.893 | F82: =IF($C82<=$D$1,F81,0) -> 10.958 | G82: =IF($C82<=$D$1,G81,0) -> 14.068 | H82: 18.447 | I82: 5 | J82: 0 | K82: 8.2451792 | L82: 16.447843 | M82: 20.270426 | N82: 32.529002 | O82: 0 | P82: 28.217086 | Q82: 48.372147 | R82: 19.091317 | S82: 0 | T82: =SUMIF($D$6:$S$6,T$6,$D82:$S82) -> 63.827 | U82: =SUMIF($D$6:$S$6,U$6,$D82:$S82) -> 77.492451 | V82: =SUMIF($E$6:$S$6,V$6,$E82:$S82) -> 95.680549 | W82: =SUM(T82:V82) -> 237
C83: 5 | D83: =IF($C83<=$D$1,D82,0) -> 13.461 | E83: =IF($C83<=$D$1,E82,0) -> 1.893 | F83: =IF($C83<=$D$1,F82,0) -> 10.958 | G83: =IF($C83<=$D$1,G82,0) -> 14.068 | H83: =IF($C83<=$D$1,H82,0) -> 18.447 | I83: 9.042 | J83: 0.11 | K83: 8.2451792 | L83: 16.447843 | M83: 20.270426 | N83: 27.739002 | O83: 0 | P83: 28.217086 | Q83: 48.372147 | R83: 19.091317 | S83: 0 | T83: =SUMIF($D$6:$S$6,T$6,$D83:$S83) -> 67.869 | U83: =SUMIF($D$6:$S$6,U$6,$D83:$S83) -> 72.812451 | V83: =SUMIF($E$6:$S$6,V$6,$E83:$S83) -> 95.680549 | W83: =SUM(T83:V83) -> 236.362
C84: 6 | D84: =IF($C84<=$D$1,D83,0) -> 13.461 | E84: =IF($C84<=$D$1,E83,0) -> 1.893 | F84: =IF($C84<=$D$1,F83,0) -> 10.958 | G84: =IF($C84<=$D$1,G83,0) -> 14.068 | H84: =IF($C84<=$D$1,H83,0) -> 18.447 | I84: =IF($C84<=$D$1,I83,0) -> 9.042 | J84: =IF($C84<=$D$1,J83,0) -> 0.11 | K84: -0.561 | L84: 14.245843 | M84: 20.270426 | N84: 36.545182 | O84: 0 | P84: 28.217086 | Q84: 48.372147 | R84: 19.091317 | S84: 0 | T84: =SUMIF($D$6:$S$6,T$6,$D84:$S84) -> 67.869 | U84: =SUMIF($D$6:$S$6,U$6,$D84:$S84) -> 70.610451 | V84: =SUMIF($E$6:$S$6,V$6,$E84:$S84) -> 95.680549 | W84: =SUM(T84:V84) -> 234.16
C85: 7 | D85: =IF($C85<=$D$1,D84,0) -> 13.461 | E85: =IF($C85<=$D$1,E84,0) -> 1.893 | F85: =IF($C85<=$D$1,F84,0) -> 10.958 | G85: =IF($C85<=$D$1,G84,0) -> 14.068 | H85: =IF($C85<=$D$1,H84,0) -> 18.447 | I85: =IF($C85<=$D$1,I84,0) -> 9.042 | J85: =IF($C85<=$D$1,J84,0) -> 0.11 | K85: =IF($C85<=$D$1,K84,0) -> -0.561 | L85: 2.018 | M85: 19.652167 | N85: 46.177284 | P85: 30.002467 | Q85: 51.4328 | R85: 20.299283 | S85: 0 | T85: =SUMIF($D$6:$S$6,T$6,$D85:$S85) -> 67.869 | U85: =SUMIF($D$6:$S$6,U$6,$D85:$S85) -> 67.396451 | V85: =SUMIF($E$6:$S$6,V$6,$E85:$S85) -> 101.73455 | W85: =SUM(T85:V85) -> 237
C86: 8 | D86: =IF($C86<=$D$1,D85,0) -> 13.461 | E86: =IF($C86<=$D$1,E85,0) -> 1.893 | F86: =IF($C86<=$D$1,F85,0) -> 10.958 | G86: =IF($C86<=$D$1,G85,0) -> 14.068 | H86: =IF($C86<=$D$1,H85,0) -> 18.447 | I86: =IF($C86<=$D$1,I85,0) -> 9.042 | J86: =IF($C86<=$D$1,J85,0) -> 0.11 | K86: =IF($C86<=$D$1,K85,0) -> -0.561 | L86: =IF($C86<=$D$1,L85,0) -> 2.018 | M86: 23.034 | N86: 49.795451 | P86: 27.938101 | Q86: 47.893888 | R86: 18.90256 | S86: 0 | T86: =SUMIF($D$6:$S$6,T$6,$D86:$S86) -> 67.869 | U86: =SUMIF($D$6:$S$6,U$6,$D86:$S86) -> 74.396451 | V86: =SUMIF($E$6:$S$6,V$6,$E86:$S86) -> 94.734549 | W86: =SUM(T86:V86) -> 237
C87: 9 | D87: =IF($C87<=$D$1,D86,0) -> 13.461 | E87: =IF($C87<=$D$1,E86,0) -> 1.893 | F87: =IF($C87<=$D$1,F86,0) -> 10.958 | G87: =IF($C87<=$D$1,G86,0) -> 14.068 | H87: =IF($C87<=$D$1,H86,0) -> 18.447 | I87: =IF($C87<=$D$1,I86,0) -> 9.042 | J87: =IF($C87<=$D$1,J86,0) -> 0.11 | K87: =IF($C87<=$D$1,K86,0) -> -0.561 | ... M87: =IF($C87<=$D$1,M86,0) -> 23.034 | N87: 58.773 | P87: 18.960552 | Q87: 47.893888 | R87: 13.64756 | S87: 0 | T87: =SUMIF($D$6:$S$6,T$6,$D87:$S87) -> 67.869 | U87: =SUMIF($D$6:$S$6,U$6,$D87:$S87) -> 83.374 | V87: =SUMIF($E$6:$S$6,V$6,$E87:$S87) -> 80.502 | W87: =SUM(T87:V87) -> 231.745
C88: 10 | D88: =IF($C88<=$D$1,D87,0) -> 13.461 | E88: =IF($C88<=$D$1,E87,0) -> 1.893 | F88: =IF($C88<=$D$1,F87,0) -> 10.958 | G88: =IF($C88<=$D$1,G87,0) -> 14.068 | H88: =IF($C88<=$D$1,H87,0) -> 18.447 | I88: =IF($C88<=$D$1,I87,0) -> 9.042 | J88: =IF($C88<=$D$1,J87,0) -> 0.11 | K88: =IF($C88<=$D$1,K87,0) -> -0.561 | ... O88: =IF($C88<=$D$1,O87,0) -> 0 | P88: 1.403 | T88: =SUMIF($D$6:$S$6,T$6,$D88:$S88) -> 67.869 | U88: =SUMIF($D$6:$S$6,U$6,$D88:$S88) -> 83.374 | V88: =SUMIF($E$6:$S$6,V$6,$E88:$S88) -> 1.403 | W88: =SUM(T88:V88) -> 152.646
C89: 11 | D89: =IF($C89<=$D$1,D88,0) -> 0 | E89: =IF($C89<=$D$1,E88,0) -> 0 | F89: =IF($C89<=$D$1,F88,0) -> 0 | G89: =IF($C89<=$D$1,G88,0) -> 0 | H89: =IF($C89<=$D$1,H88,0) -> 0 | I89: =IF($C89<=$D$1,I88,0) -> 0 | J89: =IF($C89<=$D$1,J88,0) -> 0 | K89: =IF($C89<=$D$1,K88,0) -> 0 | ... P89: =IF($C89<=$D$1,P88,0) -> 0 | T89: =SUMIF($D$6:$S$6,T$6,$D89:$S89) -> 0 | U89: =SUMIF($D$6:$S$6,U$6,$D89:$S89) -> 0 | V89: =SUMIF($E$6:$S$6,V$6,$E89:$S89) -> 0 | W89: =SUM(T89:V89) -> 0
C90: 12 | D90: =IF($C90<=$D$1,D89,0) -> 0 | E90: =IF($C90<=$D$1,E89,0) -> 0 | F90: =IF($C90<=$D$1,F89,0) -> 0 | G90: =IF($C90<=$D$1,G89,0) -> 0 | H90: =IF($C90<=$D$1,H89,0) -> 0 | I90: =IF($C90<=$D$1,I89,0) -> 0 | J90: =IF($C90<=$D$1,J89,0) -> 0 | K90: =IF($C90<=$D$1,K89,0) -> 0 | ... Q90: =IF($C90<=$D$1,Q89,0) -> 0 | T90: =SUMIF($D$6:$S$6,T$6,$D90:$S90) -> 0 | U90: =SUMIF($D$6:$S$6,U$6,$D90:$S90) -> 0 | V90: =SUMIF($E$6:$S$6,V$6,$E90:$S90) -> 0 | W90: =SUM(T90:V90) -> 0
C91: 13 | D91: =IF($C91<=$D$1,D90,0) -> 0 | E91: =IF($C91<=$D$1,E90,0) -> 0 | F91: =IF($C91<=$D$1,F90,0) -> 0 | G91: =IF($C91<=$D$1,G90,0) -> 0 | H91: =IF($C91<=$D$1,H90,0) -> 0 | I91: =IF($C91<=$D$1,I90,0) -> 0 | J91: =IF($C91<=$D$1,J90,0) -> 0 | K91: =IF($C91<=$D$1,K90,0) -> 0 | ... R91: =IF($C91<=$D$1,R90,0) -> 0 | T91: =SUMIF($D$6:$S$6,T$6,$D91:$S91) -> 0 | U91: =SUMIF($D$6:$S$6,U$6,$D91:$S91) -> 0 | V91: =SUMIF($E$6:$S$6,V$6,$E91:$S91) -> 0 | W91: =SUM(T91:V91) -> 0
B92: Actual | C92: 0 | D92: =INDEX(E79:E91,MATCH($D$1,$C$79:$C$91,0)) -> 1.893 | E92: =INDEX(F79:F91,MATCH($D$1,$C$79:$C$91,0)) -> 10.958 | F92: =INDEX(G79:G91,MATCH($D$1,$C$79:$C$91,0)) -> 14.068 | G92: =INDEX(H79:H91,MATCH($D$1,$C$79:$C$91,0)) -> 18.447 | H92: =INDEX(I79:I91,MATCH($D$1,$C$79:$C$91,0)) -> 9.042 | I92: =INDEX(J79:J91,MATCH($D$1,$C$79:$C$91,0)) -> 0.11 | J92: =INDEX(K79:K91,MATCH($D$1,$C$79:$C$91,0)) -> -0.561 | K92: =INDEX(L79:L91,MATCH($D$1,$C$79:$C$91,0)) -> 2.018 | ... S92: =INDEX(T79:T91,MATCH($D$1,$C$79:$C$91,0)) -> 67.869 | T92: =INDEX($E$46:$E$58,MATCH($D$1,$C$46:$C$58,0)) -> -0.341 | U92: =INDEX($E$46:$E$58,MATCH($D$1,$C$46:$C$58,0)) -> -0.341 | V92: =INDEX($E$46:$E$58,MATCH($D$1,$C$46:$C$58,0)) -> -0.341 | W92: =INDEX($E$46:$E$58,MATCH($D$1,$C$46:$C$58,0)) -> -0.341
B93: Delta to Target | C93: 0 | D93: =IF(D$9<=$D$2,D92-D76,0) -> -11.568 | E93: =IF(E$9<=$D$2,E92-E76,0) -> 20.400352 | F93: =IF(F$9<=$D$2,F92-F76,0) -> 12.31145 | G93: =IF(G$9<=$D$2,G92-G76,0) -> 8.7800233 | H93: =IF(H$9<=$D$2,H92-H76,0) -> -12.623956 | I93: =IF(I$9<=$D$2,I92-I76,0) -> -1.0013035 | J93: =IF(J$9<=$D$2,J92-J76,0) -> -0.561 | K93: =IF(K$9<=$D$2,K92-K76,0) -> -5.1237369 | ... W93: =IF(W$9<=$D$2,W92-W76,0) -> 0
B94: % to Target | C94: 0 | D94: =IF($D$2<D$9,0,IF(AND(D76=0,D92=0),1,IF(AND(D76=0,D92>0),2,IF(D92<0,0,(D92/D76))))) -> 0.14062848 | E94: =IF($D$2<E$9,0,IF(AND(E76=0,E92=0),1,IF(AND(E76=0,E92>0),2,IF(E92<0,0,(E92/E76))))) -> -1.1605159 | F94: =IF($D$2<F$9,0,IF(AND(F76=0,F92=0),1,IF(AND(F76=0,F92>0),2,IF(F92<0,0,(F92/F76))))) -> 8.0088821 | G94: =IF($D$2<G$9,0,IF(AND(G76=0,G92=0),1,IF(AND(G76=0,G92>0),2,IF(G92<0,0,(G92/G76))))) -> 1.9082491 | H94: =IF($D$2<H$9,0,IF(AND(H76=0,H92=0),1,IF(AND(H76=0,H92>0),2,IF(H92<0,0,(H92/H76))))) -> 0.41733676 | I94: =IF($D$2<I$9,0,IF(AND(I76=0,I92=0),1,IF(AND(I76=0,I92>0),2,IF(I92<0,0,(I92/I76))))) -> 0.098982864 | J94: =IF($D$2<J$9,0,IF(AND(J76=0,J92=0),1,IF(AND(J76=0,J92>0),2,IF(J92<0,0,(J92/J76))))) -> 0 | K94: =IF($D$2<K$9,0,IF(AND(K76=0,K92=0),1,IF(AND(K76=0,K92>0),2,IF(K92<0,0,(K92/K76))))) -> 0.28256432 | ... W94: =IF($D$2<W$9,0,IF(AND(W76=0,W92=0),1,IF(AND(W76=0,W92>0),2,IF(W92<0,0,(W92/W76))))) -> 0
B95: ="Week "&$D$1&" View" -> Week 10 View | D95: =INDEX(D79:D91,MATCH($D$1,$C$13:$C$25,0)) -> 13.461 | E95: =INDEX(E79:E91,MATCH($D$1,$C$13:$C$25,0)) -> 1.893 | F95: =INDEX(F79:F91,MATCH($D$1,$C$13:$C$25,0)) -> 10.958 | G95: =INDEX(G79:G91,MATCH($D$1,$C$13:$C$25,0)) -> 14.068 | H95: =INDEX(H79:H91,MATCH($D$1,$C$13:$C$25,0)) -> 18.447 | I95: =INDEX(I79:I91,MATCH($D$1,$C$13:$C$25,0)) -> 9.042 | J95: =INDEX(J79:J91,MATCH($D$1,$C$13:$C$25,0)) -> 0.11 | K95: =INDEX(K79:K91,MATCH($D$1,$C$13:$C$25,0)) -> -0.561 | ... W95: =INDEX(W79:W91,MATCH($D$1,$C$13:$C$25,0)) -> 152.646
B96: Linearity | D96: =IFERROR(D95/$T95,0) -> 0.19833797 | E96: =IFERROR(E95/$T95,0) -> 0.027891968 | F96: =IFERROR(F95/$T95,0) -> 0.1614581 | G96: =IFERROR(G95/$T95,0) -> 0.20728167 | H96: =IFERROR(H95/$T95,0) -> 0.27180303 | I96: =IFERROR(I95/$T95,0) -> 0.13322725 | J96: =IFERROR(J95/$T95,0) -> 0.0016207694 | K96: =IFERROR(K95/$U95,0) -> -0.0067287164 | L96: =IFERROR(L95/$U95,0) -> 0.024204188 | M96: =IFERROR(M95/$U95,0) -> 0.27627318 | N96: =IFERROR(N95/$U95,0) -> 0.70493199 | O96: =IFERROR(O95/$U95,0) -> 0 | P96: =IFERROR(P95/$U95,0) -> 0.016827788 | Q96: =IFERROR(Q95/$U95,0) -> 0 | R96: =IFERROR(R95/$U95,0) -> 0 | S96: =IFERROR(S95/$U95,0) -> 0 | T96: =IFERROR(T95/$W95,0) -> 0.44461696 | U96: =IFERROR(U95/$W95,0) -> 0.54619184 | V96: =IFERROR(V95/$W95,0) -> 0.0091912006
B97: Last 4Q ROL Linearity
B98: QTD Actual | C98: 0 | D98: =IF(D$9<=$D$2,D92,0) -> 1.893 | E98: =IF(E$9<=$D$2,E92,0) -> 10.958 | F98: =IF(F$9<=$D$2,F92+E98,0) -> 25.026 | G98: =IF(G$9<=$D$2,G92+F98,0) -> 43.473 | H98: =IF(H$9<=$D$2,H92+G98,0) -> 52.515 | I98: =IF(I$9<=$D$2,I92+H98,0) -> 52.625 | J98: =IF(J$9<=$D$2,J92+H98,0) -> 51.954 | K98: =IF(K$9<=$D$2,K92+J98,0) -> 53.972 | L98: =IF(L$9<=$D$2,L92+K98,0) -> 77.006 | M98: =IF(M$9<=$D$2,M92+L98,0) -> 135.779 | N98: =IF(N$9<=$D$2,N92+M98,0) -> 135.779 | O98: =IF(O$9<=$D$2,O92+N98,0) -> 137.182 | P98: =IF(P$9<=$D$2,P92+O98,0) -> 137.182 | Q98: =IF(Q$9<=$D$2,Q92+P98,0) -> 0 | R98: =IF(R$9<=$D$2,R92+Q98,0) -> 0 | S98: =IF(S$9<=$D$2,S92+R98,0) -> 0 | T98: =IFERROR(INDEX(T$13:T$25,$D$1,0)/INDEX($W$13:$W$25,$D$1,0),0) -> 0.44155029 | U98: =IFERROR(INDEX(U$13:U$25,$D$1,0)/INDEX($W$13:$W$25,$D$1,0),0) -> 0.5472157 | V98: =IFERROR(INDEX(V$13:V$25,$D$1,0)/INDEX($W$13:$W$25,$D$1,0),0) -> 0.011234008 | W98: Current
B99: QTD Delta to Tgt | C99: 0 | D99: =IF(D$27=0,0,IF(D$9<=$D$2,E98-D77,E98-D77)) -> 0 | E99: =IF(E$27=0,0,IF(E$9<=$D$2,F98-E77,F98-E77)) -> 21.007352 | F99: =IF(F$27=0,0,IF(F$9<=$D$2,G98-F77,G98-F77)) -> 37.697803 | G99: =IF(G$27=0,0,IF(G$9<=$D$2,H98-G77,H98-G77)) -> 37.072826 | H99: =IF(H$27=0,0,IF(H$9<=$D$2,J98-H77,J98-H77)) -> 14.84587 | I99: =IF(I$27=0,0,IF(I$9<=$D$2,K98-I77,K98-I77)) -> 15.752566 | J99: =IF(J$27=0,0,IF(J$9<=$D$2,K98-J77,K98-J77)) -> 15.752566 | K99: =IF(K$27=0,0,IF(K$9<=$D$2,L98-K77,L98-K77)) -> 31.64483 | L99: =IF(L$27=0,0,IF(L$9<=$D$2,M98-L77,M98-L77)) -> 76.171181 | M99: =IF(M$27=0,0,IF(M$9<=$D$2,N98-M77,N98-M77)) -> 58.613522 | N99: =IF(N$27=0,0,IF(N$9<=$D$2,P98-N77,P98-N77)) -> 25.338014 | O99: =IF(O$27=0,0,IF(O$9<=$D$2,Q98-O77,Q98-O77)) -> 0 | P99: =IF(P$27=0,0,IF(P$9<=$D$2,R98-P77,R98-P77)) -> -121.78183 | Q99: =IF(Q$27=0,0,IF(Q$9<=$D$2,S98-Q77,S98-Q77)) -> 0 | R99: =IF(R$27=0,0,IF(R$9<=$D$2,T98-R77,T98-R77)) -> 0 | S99: =IF(S$27=0,0,IF(S$9<=$D$2,U98-S77,U98-S77)) -> 0 | T99: =T66 -> 0 | U99: =U66 -> 0 | V99: =V66 -> 0 | W99: Last 4Q
B100: % to Target | C100: 0 | D100: =IF($D$2<D$9,0,IF(AND(D77=0,D98=0),1,IF(AND(D77=0,D98>0),2,IF(D98<0,0,(D98/D77))))) -> 0.14062848 | E100: =IF($D$2<E$9,0,IF(AND(E77=0,E98=0),1,IF(AND(E77=0,E98>0),2,IF(E98<0,0,(E98/E77))))) -> 2.726788 | F100: =IF($D$2<F$9,0,IF(AND(F77=0,F98=0),1,IF(AND(F77=0,F98>0),2,IF(F98<0,0,(F98/F77))))) -> 4.3333584 | G100: =IF($D$2<G$9,0,IF(AND(G77=0,G98=0),1,IF(AND(G77=0,G98>0),2,IF(G98<0,0,(G98/G77))))) -> 2.8152124 | H100: =IF($D$2<H$9,0,IF(AND(H77=0,H98=0),1,IF(AND(H77=0,H98>0),2,IF(H98<0,0,(H98/H77))))) -> 1.4151885 | I100: =IF($D$2<I$9,0,IF(AND(I77=0,I98=0),1,IF(AND(I77=0,I98>0),2,IF(I98<0,0,(I98/I77))))) -> 1.3769173 | J100: =IF($D$2<J$9,0,IF(AND(J77=0,J98=0),1,IF(AND(J77=0,J98>0),2,IF(J98<0,0,(J98/J77))))) -> 1.3593608 | K100: =IF($D$2<K$9,0,IF(AND(K77=0,K98=0),1,IF(AND(K77=0,K98>0),2,IF(K98<0,0,(K98/K77))))) -> 1.1898282 | ... S100: =IF($D$2<S$9,0,IF(AND(S77=0,S98=0),1,IF(AND(S77=0,S98>0),2,IF(S98<0,0,(S98/S77))))) -> 0 | T100: =T67 -> 0 | U100: =U67 -> 0 | V100: =V67 -> 0 | W100: Last 3Y
B101: Fy Q3 2425 | D101: 8.226 | E101: -4.358 | F101: -0.009 | G101: 0.109 | H101: 5.359 | I101: 3.198 | J101: 0.833 | K101: 4.33 | L101: 11.945 | M101: 13.264 | N101: 54.341 | O101: 0.17 | P101: 2.917 | Q101: 14.504 | R101: 24.458 | S101: 67.187 | T101: =SUM(D101:I101) -> 12.525 | U101: =SUM(J101:N101) -> 84.713 | V101: =SUM(O101:S101) -> 109.236 | W101: =SUM(T101:V101) -> 206.474
B102: Fy Q4 2324 | D102: 7.548 | E102: -6.324 | F102: 0.574 | G102: 2.607 | H102: 25.189 | I102: 18.982 | J102: 0.498 | K102: 8.653 | L102: 22.775 | M102: 29.524 | N102: 50.661 | O102: -0.508 | P102: 5.441 | Q102: 22.801 | R102: 66.173 | S102: 55.345 | T102: =SUM(D102:I102) -> 48.576 | U102: =SUM(J102:N102) -> 112.111 | V102: =SUM(O102:S102) -> 149.252 | W102: =SUM(T102:V102) -> 309.939

Sheet OL-Overseas
C1: Week# | E1: ='OL -Overall'!E1 -> 10
C2: Weekending dt: | E2: ='OL -Overall'!E2 -> 45998
B5: Consumer OL Overseas WF Q3FY2526
C6: Month | D6: 1 | E6: 1 | F6: 1 | G6: 1 | H6: 1 | I6: 1 | J6: 2 | K6: 2 | L6: 2 | M6: 2 | N6: 2 | O6: 3 | P6: 3 | Q6: 3 | R6: 3 | S6: 3 | T6: 1 | U6: 2 | V6: 3 | W6: QTR
C7: Week | D7: OB | E7: ='OL -Overall'!E7 -> 1 | F7: ='OL -Overall'!F7 -> 2 | G7: ='OL -Overall'!G7 -> 3 | H7: ='OL -Overall'!H7 -> 4 | I7: ='OL -Overall'!I7 -> 5 | J7: ='OL -Overall'!J7 -> 5 | K7: ='OL -Overall'!K7 -> 6 | L7: ='OL -Overall'!L7 -> 7 | ... S7: ='OL -Overall'!S7 -> 13
C8: Begin | D8: ='OL -Overall'!D8 -> 45931 | E8: ='OL -Overall'!E8 -> 45931 | F8: ='OL -Overall'!F8 -> 45936 | G8: ='OL -Overall'!G8 -> 45943 | H8: ='OL -Overall'!H8 -> 45950 | I8: ='OL -Overall'!I8 -> 45957 | J8: ='OL -Overall'!J8 -> 45962 | K8: ='OL -Overall'!K8 -> 45964 | ... S8: ='OL -Overall'!S8 -> 46013 | T8: =E8 -> 45931 | U8: =J8 -> 45962 | V8: =P8 -> 45992 | W8: =E8 -> 45931
C9: End | D9: =D8 -> 45931 | E9: ='OL -Overall'!E9 -> 45935 | F9: ='OL -Overall'!F9 -> 45942 | G9: ='OL -Overall'!G9 -> 45949 | H9: ='OL -Overall'!H9 -> 45956 | I9: ='OL -Overall'!I9 -> 45961 | J9: ='OL -Overall'!J9 -> 45963 | K9: ='OL -Overall'!K9 -> 45970 | L9: ='OL -Overall'!L9 -> 45977 | ... S9: ='OL -Overall'!S9 -> 46022 | T9: =I9 -> 45961 | U9: =N9 -> 45991 | V9: =S9 -> 46022 | W9: =V9 -> 46022
B10: Target | C10: Week | D10: =D43+D76 -> 2.906 | E10: =E43+E76 -> 0 | F10: =F43+F76 -> 0.10754768 | G10: =G43+G76 -> 0.59187672 | H10: =H43+H76 -> 1.3265342 | I10: =I43+I76 -> 0.068041403 | J10: =J43+J76 -> 0 | K10: =K43+K76 -> 0.67901476 | ... S10: =S43+S76 -> 5.3602854 | T10: =SUMIF($D$6:$S$6,T$6,$D10:$S10) -> 5 | U10: =SUMIF($E$6:$S$6,U$6,$E10:$S10) -> 7 | V10: =SUMIF($E$6:$S$6,V$6,$E10:$S10) -> 8 | W10: =SUM(T10:V10) -> 20
C11: QTD | D11: =D10 -> 2.906 | E11: =D11+E10 -> 2.906 | F11: =E11+F10 -> 3.0135477 | G11: =F11+G10 -> 3.6054244 | H11: =G11+H10 -> 4.9319586 | I11: =H11+I10 -> 5 | J11: =I11+J10 -> 5 | K11: =J11+K10 -> 5.6790148 | L11: =K11+L10 -> 7.033543 | ... S11: =R11+S10 -> 20 | T11: =IFERROR(T10/$W10,0) -> 0.25 | U11: =IFERROR(U10/$W10,0) -> 0.35 | V11: =IFERROR(V10/$W10,0) -> 0.4
C12: 0 | D12: =D45+D78 -> 2.906 | E12: =E45+E78 -> 0 | F12: =F45+F78 -> 0.10754768 | G12: =G45+G78 -> 0.59187672 | H12: =H45+H78 -> 1.3265342 | I12: =I45+I78 -> 0.068041403 | J12: =J45+J78 -> 0 | K12: =K45+K78 -> 0.67901476 | ... S12: =S45+S78 -> 5.3602854 | T12: =SUMIF($D$6:$S$6,T$6,$D12:$S12) -> 5 | U12: =SUMIF($E$6:$S$6,U$6,$E12:$S12) -> 7 | V12: =SUMIF($E$6:$S$6,V$6,$E12:$S12) -> 8 | W12: =SUM(T12:V12) -> 20
B13: Week | C13: 1 | D13: =D46+D79 -> 2.906 | E13: =E46+E79 -> 0.368 | F13: =F46+F79 -> 0.088647229 | G13: =G46+G79 -> 0.48786018 | H13: =H46+H79 -> 1.0934088 | I13: =I46+I79 -> 0.056083792 | J13: =J46+J79 -> 0 | K13: =K46+K79 -> 0.67901476 | ... S13: =S46+S79 -> 5.3602854 | T13: =SUMIF($D$6:$S$6,T$6,$D13:$S13) -> 5 | U13: =SUMIF($E$6:$S$6,U$6,$E13:$S13) -> 7 | V13: =SUMIF($E$6:$S$6,V$6,$E13:$S13) -> 8 | W13: =SUM(T13:V13) -> 20
C14: 2 | D14: =D47+D80 -> 2.906 | E14: =E47+E80 -> 0.368 | F14: =F47+F80 -> 2.155 | G14: =G47+G80 -> 0.48786018 | H14: =H47+H80 -> 0 | I14: =I47+I80 -> 0 | J14: =J47+J80 -> 0 | K14: =K47+K80 -> 0.67901476 | ... S14: =S47+S80 -> 4.4434252 | T14: =SUMIF($D$6:$S$6,T$6,$D14:$S14) -> 5.9168602 | U14: =SUMIF($E$6:$S$6,U$6,$E14:$S14) -> 7 | V14: =SUMIF($E$6:$S$6,V$6,$E14:$S14) -> 7.0831398 | W14: =SUM(T14:V14) -> 20
C15: 3 | D15: =D48+D81 -> 2.906 | E15: =E48+E81 -> 0.368 | F15: =F48+F81 -> 2.155 | G15: =G48+G81 -> 7.808 | H15: =H48+H81 -> 0 | I15: =I48+I81 -> 0 | J15: =J48+J81 -> 0 | K15: =K48+K81 -> 0.67901476 | ... S15: =S48+S81 -> 0 | T15: =SUMIF($D$6:$R$6,T$6,$D15:$R15) -> 13.237 | U15: =SUMIF($D$6:$R$6,U$6,$D15:$R15) -> 6.763 | V15: =SUMIF($E$6:$S$6,V$6,$E15:$S15) -> 0 | W15: =SUM(T15:V15) -> 20
C16: 4 | D16: =D49+D82 -> 2.906 | E16: =E49+E82 -> 0.368 | F16: =F49+F82 -> 2.155 | G16: =G49+G82 -> 7.808 | H16: =H49+H82 -> 6.655 | I16: =I49+I82 -> 0 | J16: =J49+J82 -> 0 | K16: =K49+K82 -> 0.1 | ... S16: =S49+S82 -> 0 | T16: =SUMIF($D$6:$R$6,T$6,$D16:$R16) -> 19.892 | U16: =SUMIF($D$6:$R$6,U$6,$D16:$R16) -> 0.1 | V16: =SUMIF($E$6:$S$6,V$6,$E16:$S16) -> 0 | W16: =SUM(T16:V16) -> 19.992
C17: 5 | D17: =D50+D83 -> 2.906 | E17: =E50+E83 -> 0.368 | F17: =F50+F83 -> 2.155 | G17: =G50+G83 -> 7.808 | H17: =H50+H83 -> 6.655 | I17: =I50+I83 -> 1.158 | J17: =J50+J83 -> -0.42 | K17: =K50+K83 -> 0 | ... S17: =S50+S83 -> 0 | T17: =SUMIF($D$6:$R$6,T$6,$D17:$R17) -> 21.05 | U17: =SUMIF($D$6:$R$6,U$6,$D17:$R17) -> -0.42 | V17: =SUMIF($E$6:$S$6,V$6,$E17:$S17) -> 0 | W17: =SUM(T17:V17) -> 20.63
C18: 6 | D18: =D51+D84 -> 2.906 | E18: =E51+E84 -> 0.368 | F18: =F51+F84 -> 2.155 | G18: =G51+G84 -> 7.808 | H18: =H51+H84 -> 6.655 | I18: =I51+I84 -> 1.158 | J18: =J51+J84 -> -0.42 | K18: =K51+K84 -> 2.202 | ... S18: =S51+S84 -> 0 | T18: =SUMIF($D$6:$R$6,T$6,$D18:$R18) -> 21.05 | U18: =SUMIF($D$6:$R$6,U$6,$D18:$R18) -> 1.782 | V18: =SUMIF($E$6:$S$6,V$6,$E18:$S18) -> 0 | W18: =SUM(T18:V18) -> 22.832
C19: 7 | D19: =D52+D85 -> 2.906 | E19: =E52+E85 -> 0.368 | F19: =F52+F85 -> 2.155 | G19: =G52+G85 -> 7.808 | H19: =H52+H85 -> 6.655 | I19: =I52+I85 -> 1.158 | J19: =J52+J85 -> -0.42 | K19: =K52+K85 -> 2.202 | ... S19: =S52+S85 -> 0 | T19: =SUMIF($D$6:$R$6,T$6,$D19:$R19) -> 21.05 | U19: =SUMIF($D$6:$R$6,U$6,$D19:$R19) -> 8.95 | V19: =SUMIF($E$6:$S$6,V$6,$E19:$S19) -> 0 | W19: =SUM(T19:V19) -> 30
C20: 8 | D20: =D53+D86 -> 2.906 | E20: =E53+E86 -> 0.368 | F20: =F53+F86 -> 2.155 | G20: =G53+G86 -> 7.808 | H20: =H53+H86 -> 6.655 | I20: =I53+I86 -> 1.158 | J20: =J53+J86 -> -0.42 | K20: =K53+K86 -> 2.202 | ... S20: =S53+S86 -> 0 | T20: =SUMIF($D$6:$R$6,T$6,$D20:$R20) -> 21.05 | U20: =SUMIF($D$6:$R$6,U$6,$D20:$R20) -> 8.95 | V20: =SUMIF($E$6:$S$6,V$6,$E20:$S20) -> 0 | W20: =SUM(T20:V20) -> 30
C21: 9 | D21: =D54+D87 -> 2.906 | E21: =E54+E87 -> 0.368 | F21: =F54+F87 -> 2.155 | G21: =G54+G87 -> 7.808 | H21: =H54+H87 -> 6.655 | I21: =I54+I87 -> 1.158 | J21: =J54+J87 -> -0.42 | K21: =K54+K87 -> 2.202 | ... S21: =S54+S87 -> 0 | T21: =SUMIF($D$6:$R$6,T$6,$D21:$R21) -> 21.05 | U21: =SUMIF($D$6:$R$6,U$6,$D21:$R21) -> 14.205 | V21: =SUMIF($E$6:$S$6,V$6,$E21:$S21) -> 0 | W21: =SUM(T21:V21) -> 35.255
C22: 10 | D22: =D55+D88 -> 2.906 | E22: =E55+E88 -> 0.368 | F22: =IF($C22<=$E$1,F21,0) -> 2.155 | G22: =IF($C22<=$E$1,G21,0) -> 7.808 | H22: =IF($C22<=$E$1,H21,0) -> 6.655 | I22: =IF($C22<=$E$1,I21,0) -> 1.158 | J22: =IF($C22<=$E$1,J21,0) -> -0.42 | K22: =IF($C22<=$E$1,K21,0) -> 2.202 | L22: =IF($C22<=$E$1,L21,0) -> 1.143 | M22: =IF($C22<=$E$1,M21,0) -> 4.08 | ... O22: =IF($C22<=$E$1,O21,0) -> 0 | P22: =P55+P88 -> -10.542 | Q22: =Q55+Q88 -> 0 | R22: =R55+R88 -> 0 | S22: =S55+S88 -> 0 | T22: =SUMIF($D$6:$R$6,T$6,$D22:$R22) -> 21.05 | U22: =SUMIF($D$6:$R$6,U$6,$D22:$R22) -> 14.205 | V22: =SUMIF($E$6:$S$6,V$6,$E22:$S22) -> -10.542 | W22: =SUM(T22:V22) -> 24.713
C23: 11 | D23: =D56+D89 -> 0 | E23: =E56+E89 -> 0 | F23: =IF($C23<=$E$1,F22,0) -> 0 | G23: =IF($C23<=$E$1,G22,0) -> 0 | H23: =IF($C23<=$E$1,H22,0) -> 0 | I23: =IF($C23<=$E$1,I22,0) -> 0 | J23: =IF($C23<=$E$1,J22,0) -> 0 | K23: =IF($C23<=$E$1,K22,0) -> 0 | L23: =IF($C23<=$E$1,L22,0) -> 0 | M23: =IF($C23<=$E$1,M22,0) -> 0 | ... P23: =IF($C23<=$E$1,P22,0) -> 0 | Q23: =Q56+Q89 -> 0 | R23: =R56+R89 -> 0 | S23: =S56+S89 -> 0 | T23: =SUMIF($D$6:$R$6,T$6,$D23:$R23) -> 0 | U23: =SUMIF($D$6:$R$6,U$6,$D23:$R23) -> 0 | V23: =SUMIF($E$6:$S$6,V$6,$E23:$S23) -> 0 | W23: =SUM(T23:V23) -> 0
C24: 12 | D24: =D57+D90 -> 0 | E24: =E57+E90 -> 0 | F24: =IF($C24<=$E$1,F23,0) -> 0 | G24: =IF($C24<=$E$1,G23,0) -> 0 | H24: =IF($C24<=$E$1,H23,0) -> 0 | I24: =IF($C24<=$E$1,I23,0) -> 0 | J24: =IF($C24<=$E$1,J23,0) -> 0 | K24: =IF($C24<=$E$1,K23,0) -> 0 | L24: =IF($C24<=$E$1,L23,0) -> 0 | M24: =IF($C24<=$E$1,M23,0) -> 0 | ... Q24: =IF($C24<=$E$1,Q23,0) -> 0 | R24: =R57+R90 -> 0 | S24: =S57+S90 -> 0 | T24: =SUMIF($D$6:$R$6,T$6,$D24:$R24) -> 0 | U24: =SUMIF($D$6:$R$6,U$6,$D24:$R24) -> 0 | V24: =SUMIF($E$6:$S$6,V$6,$E24:$S24) -> 0 | W24: =SUM(T24:V24) -> 0
C25: 13 | D25: =D58+D91 -> 0 | E25: =E58+E91 -> 0 | F25: =IF($C25<=$E$1,F24,0) -> 0 | G25: =IF($C25<=$E$1,G24,0) -> 0 | H25: =IF($C25<=$E$1,H24,0) -> 0 | I25: =IF($C25<=$E$1,I24,0) -> 0 | J25: =IF($C25<=$E$1,J24,0) -> 0 | K25: =IF($C25<=$E$1,K24,0) -> 0 | L25: =IF($C25<=$E$1,L24,0) -> 0 | M25: =IF($C25<=$E$1,M24,0) -> 0 | ... R25: =IF($C25<=$E$1,R24,0) -> 0 | S25: =S58+S91 -> 0 | T25: =SUMIF($D$6:$R$6,T$6,$D25:$R25) -> 0 | U25: =SUMIF($D$6:$R$6,U$6,$D25:$R25) -> 0 | V25: =SUMIF($E$6:$S$6,V$6,$E25:$S25) -> 0 | W25: =SUM(T25:V25) -> 0
B26: Actual | C26: 0 | D26: =INDEX(D12:D25,MATCH($E$1,$C$12:$C$25,0)) -> 2.906 | E26: =INDEX(E12:E25,MATCH($E$1,$C$12:$C$25,0)) -> 0.368 | F26: =INDEX(F12:F25,MATCH($E$1,$C$12:$C$25,0)) -> 2.155 | G26: =INDEX(G12:G25,MATCH($E$1,$C$12:$C$25,0)) -> 7.808 | H26: =INDEX(H12:H25,MATCH($E$1,$C$12:$C$25,0)) -> 6.655 | I26: =INDEX(I12:I25,MATCH($E$1,$C$12:$C$25,0)) -> 1.158 | J26: =INDEX(J12:J25,MATCH($E$1,$C$12:$C$25,0)) -> -0.42 | K26: =INDEX(K12:K25,MATCH($E$1,$C$12:$C$25,0)) -> 2.202 | ... O26: =INDEX(O12:O25,MATCH($E$1,$C$12:$C$25,0)) -> 0 | P26: 0 | Q26: 0 | R26: 0 | S26: 0 | T26: =INDEX(T12:T25,MATCH($E$1,$C$12:$C$25,0)) -> 21.05 | U26: =INDEX(U12:U25,MATCH($E$1,$C$12:$C$25,0)) -> 14.205 | V26: =INDEX(V12:V25,MATCH($E$1,$C$12:$C$25,0)) -> -10.542 | W26: =INDEX(W12:W25,MATCH($E$1,$C$12:$C$25,0)) -> 24.713
B27: Delta to Target | C27: 0 | D27: =IF(D$9<=$E$2,D26-D10,0) -> 0 | E27: =IF(E$9<=$E$2,E26-E10,0) -> 0.368 | F27: =IF(F$9<=$E$2,F26-F10,0) -> 2.0474523 | G27: =IF(G$9<=$E$2,G26-G10,0) -> 7.2161233 | H27: =IF(H$9<=$E$2,H26-H10,0) -> 5.3284658 | I27: =IF(I$9<=$E$2,I26-I10,0) -> 1.0899586 | J27: =IF(J$9<=$E$2,J26-J10,0) -> -0.42 | K27: =IF(K$9<=$E$2,K26-K10,0) -> 1.5229852 | ... W27: =IF(W$9<=$E$2,W26-W10,0) -> 0
B28: % to Target | C28: 0 | D28: =IF($E$2<D$9,0,IF(AND(D10=0,D26=0),1,IF(AND(D10=0,D26>0),2,IF(D26<0,0,(D26/D10))))) -> 1 | E28: =IF($E$2<E$9,0,IF(AND(E10=0,E26=0),1,IF(AND(E10=0,E26>0),2,IF(E26<0,0,(E26/E10))))) -> 2 | F28: =IF($E$2<F$9,0,IF(AND(F10=0,F26=0),1,IF(AND(F10=0,F26>0),2,IF(F26<0,0,(F26/F10))))) -> 20.037624 | G28: =IF($E$2<G$9,0,IF(AND(G10=0,G26=0),1,IF(AND(G10=0,G26>0),2,IF(G26<0,0,(G26/G10))))) -> 13.191936 | H28: =IF($E$2<H$9,0,IF(AND(H10=0,H26=0),1,IF(AND(H10=0,H26>0),2,IF(H26<0,0,(H26/H10))))) -> 5.0168326 | I28: =IF($E$2<I$9,0,IF(AND(I10=0,I26=0),1,IF(AND(I10=0,I26>0),2,IF(I26<0,0,(I26/I10))))) -> 17.019049 | J28: =IF($E$2<J$9,0,IF(AND(J10=0,J26=0),1,IF(AND(J10=0,J26>0),2,IF(J26<0,0,(J26/J10))))) -> 0 | K28: =IF($E$2<K$9,0,IF(AND(K10=0,K26=0),1,IF(AND(K10=0,K26>0),2,IF(K26<0,0,(K26/K10))))) -> 3.2429339 | ... W28: =IF($E$2<W$9,0,IF(AND(W10=0,W26=0),1,IF(AND(W10=0,W26>0),2,IF(W26<0,0,(W26/W10))))) -> 0
B29: ="Week "&$E$1&" View" -> Week 10 View | D29: =INDEX(D13:D25,MATCH($E$1,$C$13:$C$25,0)) -> 2.906 | E29: =INDEX(E13:E25,MATCH($E$1,$C$13:$C$25,0)) -> 0.368 | F29: =INDEX(F13:F25,MATCH($E$1,$C$13:$C$25,0)) -> 2.155 | G29: =INDEX(G13:G25,MATCH($E$1,$C$13:$C$25,0)) -> 7.808 | H29: =INDEX(H13:H25,MATCH($E$1,$C$13:$C$25,0)) -> 6.655 | I29: =INDEX(I13:I25,MATCH($E$1,$C$13:$C$25,0)) -> 1.158 | J29: =INDEX(J13:J25,MATCH($E$1,$C$13:$C$25,0)) -> -0.42 | K29: =INDEX(K13:K25,MATCH($E$1,$C$13:$C$25,0)) -> 2.202 | ... W29: =INDEX(W13:W25,MATCH($E$1,$C$13:$C$25,0)) -> 24.713
B30: Linearity | D30: =D29/$T$29 -> 0.13805226 | E30: =E29/$T$29 -> 0.017482185 | F30: =F29/$T$29 -> 0.1023753 | G30: =G29/$T$29 -> 0.37092637 | H30: =H29/$T$29 -> 0.31615202 | I30: =I29/$T$29 -> 0.055011876 | J30: =J29/$U$29 -> -0.029567054 | K30: =K29/$U$29 -> 0.15501584 | L30: =L29/$U$29 -> 0.080464625 | M30: =M29/$U$29 -> 0.28722281 | N30: =N29/$U$29 -> 0.50686378 | O30: =O29/$V$29 -> 0 | P30: =P29/$V$29 -> 1 | Q30: =Q29/$V$29 -> 0 | R30: =R29/$V$29 -> 0 | S30: =S29/$V$29 -> 0 | T30: =T29/$W$29 -> 0.85177842 | U30: =U29/$W$29 -> 0.57479869 | V30: =V29/$W$29 -> -0.42657711
B31: Last 4Q ROL Linearity | P31: 0 | Q31: 0 | R31: 0 | S31: 0
B32: QTD Actual | C32: 0 | D32: =IF(D$9<=$E$2,D26,0) -> 2.906 | E32: =D32+E26 -> 3.274 | F32: =IF(F$9<=$E$2,F26+E32,0) -> 5.429 | G32: =IF(G$9<=$E$2,G26+F32,0) -> 13.237 | H32: =IF(H$9<=$E$2,H26+G32,0) -> 19.892 | I32: =IF(I$9<=$E$2,I26+H32,0) -> 21.05 | J32: =IF(J$9<=$E$2,J26+I32,0) -> 20.63 | K32: =IF(K$9<=$E$2,K26+J32,0) -> 22.832 | L32: =IF(L$9<=$E$2,L26+K32,0) -> 23.975 | M32: =IF(M$9<=$E$2,M26+L32,0) -> 28.055 | ... S32: =IF(S$9<=$E$2,S26+R32,0) -> 0 | T32: =IFERROR(INDEX(T$13:T$25,$E$1,0)/INDEX($W$13:$W$25,$E$1,0),0) -> 0.85177842 | U32: =IFERROR(INDEX(U$13:U$25,$E$1,0)/INDEX($W$13:$W$25,$E$1,0),0) -> 0.57479869 | V32: =IFERROR(INDEX(V$13:V$25,$E$1,0)/INDEX($W$13:$W$25,$E$1,0),0) -> -0.42657711 | W32: Current
B33: QTD Delta to Tgt | C33: 0 | D33: =IF(D$27=0,0,IF(D$9<=$E$2,D32-D11,D32-D11)) -> 0 | E33: =IF(E$27=0,0,IF(E$9<=$E$2,E32-E11,E32-E11)) -> 0.368 | F33: =IF(F$27=0,0,IF(F$9<=$E$2,F32-F11,F32-F11)) -> 2.4154523 | G33: =IF(G$27=0,0,IF(G$9<=$E$2,G32-G11,G32-G11)) -> 9.6315756 | H33: =IF(H$27=0,0,IF(H$9<=$E$2,H32-H11,H32-H11)) -> 14.960041 | I33: =IF(I$27=0,0,IF(I$9<=$E$2,I32-I11,I32-I11)) -> 16.05 | J33: =IF(J$27=0,0,IF(J$9<=$E$2,J32-J11,J32-J11)) -> 15.63 | K33: =IF(K$27=0,0,IF(K$9<=$E$2,K32-K11,K32-K11)) -> 17.152985 | ... S33: =IF(S$27=0,0,IF(S$9<=$E$2,S32-S11,S32-S11)) -> 0 | T33: 0 | U33: 0 | V33: 0 | W33: Last 4Q
B34: % to Target | C34: 0 | D34: =IF($E$2<D$9,0,IF(AND(D11=0,D32=0),1,IF(AND(D11=0,D32>0),2,IF(D32<0,0,(D32/D11))))) -> 1 | E34: =IF($E$2<E$9,0,IF(AND(E11=0,E32=0),1,IF(AND(E11=0,E32>0),2,IF(E32<0,0,(E32/E11))))) -> 1.1266345 | F34: =IF($E$2<F$9,0,IF(AND(F11=0,F32=0),1,IF(AND(F11=0,F32>0),2,IF(F32<0,0,(F32/F11))))) -> 1.8015311 | G34: =IF($E$2<G$9,0,IF(AND(G11=0,G32=0),1,IF(AND(G11=0,G32>0),2,IF(G32<0,0,(G32/G11))))) -> 3.6714124 | H34: =IF($E$2<H$9,0,IF(AND(H11=0,H32=0),1,IF(AND(H11=0,H32>0),2,IF(H32<0,0,(H32/H11))))) -> 4.0332861 | I34: =IF($E$2<I$9,0,IF(AND(I11=0,I32=0),1,IF(AND(I11=0,I32>0),2,IF(I32<0,0,(I32/I11))))) -> 4.21 | J34: =IF($E$2<J$9,0,IF(AND(J11=0,J32=0),1,IF(AND(J11=0,J32>0),2,IF(J32<0,0,(J32/J11))))) -> 4.126 | K34: =IF($E$2<K$9,0,IF(AND(K11=0,K32=0),1,IF(AND(K11=0,K32>0),2,IF(K32<0,0,(K32/K11))))) -> 4.0204157 | ... S34: =IF($E$2<S$9,0,IF(AND(S11=0,S32=0),1,IF(AND(S11=0,S32>0),2,IF(S32<0,0,(S32/S11))))) -> 0 | T34: 0 | U34: 0 | V34: 0 | W34: Last 3Y
B35: Fy Q3 2425 | D35: =D101 -> 0.907 | E35: =E101 -> -0.225 | F35: =F101 -> 2.575 | G35: =G101 -> 0.935 | H35: =H101 -> 0 | I35: =I101 -> 1.936 | J35: =J101 -> 0 | K35: =K101 -> 0.225 | ... S35: =S101 -> 0.39 | T35: =SUM(D35:I35) -> 6.128 | U35: =SUM(J35:N35) -> 4.498 | V35: =SUM(O35:S35) -> 4.127 | W35: =SUM(T35:V35) -> 14.753
B36: Fy Q4 2324 | D36: =D102 -> 4.77 | E36: =E102 -> 0.07 | F36: =F102 -> 0 | G36: =G102 -> 0 | H36: =H102 -> 0 | I36: =I102 -> 0 | J36: =J102 -> 3.6 | K36: =K102 -> 3.105 | ... S36: =S102 -> 0.068 | T36: =SUM(D36:J36) -> 8.44 | U36: =SUM(K36:N36) -> 9.506 | V36: =SUM(P36:S36) -> 6.451 | W36: =SUM(T36:V36) -> 24.397
B38: Consumer OL Overseas WF DT Q3FY2324
C39: Month | D39: =D$6 -> 1 | E39: =E$6 -> 1 | F39: =F$6 -> 1 | G39: =G$6 -> 1 | I39: =I$6 -> 1 | J39: =J$6 -> 2 | K39: =K$6 -> 2 | L39: =L$6 -> 2 | M39: =M$6 -> 2 | N39: =N$6 -> 2 | O39: =O$6 -> 3 | P39: 3 | Q39: =Q$6 -> 3 | R39: =R$6 -> 3 | S39: =S$6 -> 3 | T39: 1 | U39: 2 | V39: 3 | W39: QTR
C40: Week | D40: =D$7 -> OB | E40: =E$7 -> 1 | F40: =F$7 -> 2 | G40: =G$7 -> 3 | I40: =I$7 -> 5 | J40: =J$7 -> 5 | K40: =K$7 -> 6 | L40: =L$7 -> 7 | M40: =M$7 -> 8 | N40: =N$7 -> 9 | O40: =O$7 -> 9b | P40: 9 | Q40: =Q$7 -> 11 | R40: =R$7 -> 12 | S40: =S$7 -> 13
C41: Begin | D41: =D$8 -> 45931 | E41: =E$8 -> 45931 | F41: =F$8 -> 45936 | G41: =G$8 -> 45943 | I41: =I$8 -> 45957 | J41: =J$8 -> 45962 | K41: =K$8 -> 45964 | L41: =L$8 -> 45971 | M41: =M$8 -> 45978 | N41: =N$8 -> 45985 | O41: =O$8 -> 45985 | P41: =P$8 -> 45992 | ... S41: =S$8 -> 46013 | T41: =E41 -> 45931 | U41: =K41 -> 45964 | V41: =P41 -> 45992 | W41: =E41 -> 45931
C42: End | D42: =D$9 -> 45931 | E42: =E$9 -> 45935 | F42: =F$9 -> 45942 | G42: =G$9 -> 45949 | I42: =I$9 -> 45961 | J42: =J$9 -> 45963 | K42: =K$9 -> 45970 | L42: =L$9 -> 45977 | M42: =M$9 -> 45984 | N42: =N$9 -> 45991 | O42: =O$9 -> 45991 | P42: =P$9 -> 45998 | ... S42: =S$9 -> 46022 | T42: =J42 -> 45963 | U42: =N42 -> 45991 | V42: =S42 -> 46022 | W42: =V42 -> 46022
B43: Target | C43: Week | T43: =SUMIF($E$6:$S$6,T$6,$E43:$S43) -> 0 | U43: =SUMIF($E$6:$S$6,U$6,$E43:$S43) -> 0 | V43: =SUMIF($E$6:$S$6,V$6,$E43:$S43) -> 0 | W43: =SUM(T43:V43) -> 0
C44: QTD | T44: =IFERROR(T43/$W43,0) -> 0 | U44: =IFERROR(U43/$W43,0) -> 0 | V44: =IFERROR(V43/$W43,0) -> 0
C45: 0 | T45: =SUMIF($E$6:$S$6,T$6,$D45:$S45) -> 0 | U45: =SUMIF($E$6:$S$6,U$6,$E45:$S45) -> 0 | V45: =SUMIF($E$6:$S$6,V$6,$E45:$S45) -> 0 | W45: =SUM(T45:V45) -> 0
B46: Week | C46: 1 | T46: =SUMIF($E$6:$S$6,T$6,$D46:$S46) -> 0 | U46: =SUMIF($E$6:$S$6,U$6,$E46:$S46) -> 0 | V46: =SUMIF($E$6:$S$6,V$6,$E46:$S46) -> 0 | W46: =SUM(T46:V46) -> 0
C47: 2 | T47: =SUMIF($E$6:$S$6,T$6,$D47:$S47) -> 0 | U47: =SUMIF($E$6:$S$6,U$6,$E47:$S47) -> 0 | V47: =SUMIF($E$6:$S$6,V$6,$E47:$S47) -> 0 | W47: =SUM(T47:V47) -> 0
C48: 3 | T48: =SUMIF($E$6:$S$6,T$6,$D48:$S48) -> 0 | U48: =SUMIF($E$6:$S$6,U$6,$E48:$S48) -> 0 | V48: =SUMIF($E$6:$S$6,V$6,$E48:$S48) -> 0 | W48: =SUM(T48:V48) -> 0
C49: 4 | T49: =SUMIF($E$6:$S$6,T$6,$D49:$S49) -> 0 | U49: =SUMIF($E$6:$S$6,U$6,$E49:$S49) -> 0 | V49: =SUMIF($E$6:$S$6,V$6,$E49:$S49) -> 0 | W49: =SUM(T49:V49) -> 0
C50: 5
C51: 6
C52: 7
C53: 8
C54: 9
C55: 10
C56: 11
C57: 12
C58: 13
B59: Actual | C59: 0 | D59: =INDEX($E$46:$E$58,MATCH($E$1,$C$46:$C$58,0)) -> 0 | E59: =INDEX($E$46:$E$58,MATCH($E$1,$C$46:$C$58,0)) -> 0 | F59: =INDEX($E$46:$E$58,MATCH($E$1,$C$46:$C$58,0)) -> 0 | G59: =INDEX($E$46:$E$58,MATCH($E$1,$C$46:$C$58,0)) -> 0 | I59: =INDEX($E$46:$E$58,MATCH($E$1,$C$46:$C$58,0)) -> 0 | J59: =INDEX($E$46:$E$58,MATCH($E$1,$C$46:$C$58,0)) -> 0 | K59: =INDEX($E$46:$E$58,MATCH($E$1,$C$46:$C$58,0)) -> 0 | L59: =INDEX($E$46:$E$58,MATCH($E$1,$C$46:$C$58,0)) -> 0 | M59: =INDEX($E$46:$E$58,MATCH($E$1,$C$46:$C$58,0)) -> 0 | N59: =INDEX($E$46:$E$58,MATCH($E$1,$C$46:$C$58,0)) -> 0 | O59: =INDEX($E$46:$E$58,MATCH($E$1,$C$46:$C$58,0)) -> 0 | P59: =INDEX($E$46:$E$58,MATCH($E$1,$C$46:$C$58,0)) -> 0 | ... W59: =INDEX($E$46:$E$58,MATCH($E$1,$C$46:$C$58,0)) -> 0
B60: Delta to Target | C60: 0 | D60: =IF(D$9<=$E$2,D59-D43,0) -> 0 | E60: =IF(E$9<=$E$2,E59-E43,0) -> 0 | F60: =IF(F$9<=$E$2,F59-F43,0) -> 0 | G60: =IF(G$9<=$E$2,G59-G43,0) -> 0 | I60: =IF(I$9<=$E$2,I59-I43,0) -> 0 | J60: =IF(J$9<=$E$2,J59-J43,0) -> 0 | K60: =IF(K$9<=$E$2,K59-K43,0) -> 0 | L60: =IF(L$9<=$E$2,L59-L43,0) -> 0 | M60: =IF(M$9<=$E$2,M59-M43,0) -> 0 | N60: =IF(N$9<=$E$2,N59-N43,0) -> 0 | O60: =IF(O$9<=$E$2,O59-O43,0) -> 0 | P60: =IF(P$9<=$E$2,P59-P43,0) -> 0 | ... W60: =IF(W$9<=$E$2,W59-W43,0) -> 0
B61: % to Target | C61: 0 | D61: =IF($E$2<D$9,0,IF(AND(D43=0,D59=0),1,IF(AND(D43=0,D59>0),2,IF(D59<0,0,(D59/D43))))) -> 1 | E61: =IF($E$2<E$9,0,IF(AND(E43=0,E59=0),1,IF(AND(E43=0,E59>0),2,IF(E59<0,0,(E59/E43))))) -> 1 | F61: =IF($E$2<F$9,0,IF(AND(F43=0,F59=0),1,IF(AND(F43=0,F59>0),2,IF(F59<0,0,(F59/F43))))) -> 1 | G61: =IF($E$2<G$9,0,IF(AND(G43=0,G59=0),1,IF(AND(G43=0,G59>0),2,IF(G59<0,0,(G59/G43))))) -> 1 | I61: =IF($E$2<I$9,0,IF(AND(I43=0,I59=0),1,IF(AND(I43=0,I59>0),2,IF(I59<0,0,(I59/I43))))) -> 1 | J61: =IF($E$2<J$9,0,IF(AND(J43=0,J59=0),1,IF(AND(J43=0,J59>0),2,IF(J59<0,0,(J59/J43))))) -> 1 | K61: =IF($E$2<K$9,0,IF(AND(K43=0,K59=0),1,IF(AND(K43=0,K59>0),2,IF(K59<0,0,(K59/K43))))) -> 1 | L61: =IF($E$2<L$9,0,IF(AND(L43=0,L59=0),1,IF(AND(L43=0,L59>0),2,IF(L59<0,0,(L59/L43))))) -> 1 | M61: =IF($E$2<M$9,0,IF(AND(M43=0,M59=0),1,IF(AND(M43=0,M59>0),2,IF(M59<0,0,(M59/M43))))) -> 1 | N61: =IF($E$2<N$9,0,IF(AND(N43=0,N59=0),1,IF(AND(N43=0,N59>0),2,IF(N59<0,0,(N59/N43))))) -> 1 | O61: =IF($E$2<O$9,0,IF(AND(O43=0,O59=0),1,IF(AND(O43=0,O59>0),2,IF(O59<0,0,(O59/O43))))) -> 1 | P61: =IF($E$2<P$9,0,IF(AND(P43=0,P59=0),1,IF(AND(P43=0,P59>0),2,IF(P59<0,0,(P59/P43))))) -> 1 | ... W61: =IF($E$2<W$9,0,IF(AND(W43=0,W59=0),1,IF(AND(W43=0,W59>0),2,IF(W59<0,0,(W59/W43))))) -> 0
B62: ="Week "&$E$1&" View" -> Week 10 View | D62: =INDEX(D46:D58,MATCH($E$1,$C$13:$C$25,0)) -> 0 | E62: =INDEX(E46:E58,MATCH($E$1,$C$13:$C$25,0)) -> 0 | F62: =INDEX(F46:F58,MATCH($E$1,$C$13:$C$25,0)) -> 0 | G62: =INDEX(G46:G58,MATCH($E$1,$C$13:$C$25,0)) -> 0 | I62: =INDEX(I46:I58,MATCH($E$1,$C$13:$C$25,0)) -> 0 | J62: =INDEX(J46:J58,MATCH($E$1,$C$13:$C$25,0)) -> 0 | K62: =INDEX(K46:K58,MATCH($E$1,$C$13:$C$25,0)) -> 0 | L62: =INDEX(L46:L58,MATCH($E$1,$C$13:$C$25,0)) -> 0 | M62: =INDEX(M46:M58,MATCH($E$1,$C$13:$C$25,0)) -> 0 | N62: =INDEX(N46:N58,MATCH($E$1,$C$13:$C$25,0)) -> 0 | O62: =INDEX(O46:O58,MATCH($E$1,$C$13:$C$25,0)) -> 0 | P62: =INDEX(P46:P58,MATCH($E$1,$C$13:$C$25,0)) -> 0 | ... W62: =INDEX(W46:W58,MATCH($E$1,$C$13:$C$25,0)) -> 0
B63: Linearity | D63: =IFERROR(D62/$T62,0) -> 0 | E63: =IFERROR(E62/$T62,0) -> 0 | F63: =IFERROR(F62/$T62,0) -> 0 | G63: =IFERROR(G62/$T62,0) -> 0 | I63: =IFERROR(I62/$T62,0) -> 0 | J63: =IFERROR(J62/$T62,0) -> 0 | K63: =IFERROR(K62/$U62,0) -> 0 | L63: =IFERROR(L62/$U62,0) -> 0 | M63: =IFERROR(M62/$U62,0) -> 0 | N63: =IFERROR(N62/$U62,0) -> 0 | O63: =IFERROR(O62/$U62,0) -> 0 | P63: =IFERROR(P62/$U62,0) -> 0 | Q63: =IFERROR(Q62/$U62,0) -> 0 | R63: =IFERROR(R62/$U62,0) -> 0 | S63: =IFERROR(S62/$U62,0) -> 0 | T63: =IFERROR(T62/$W62,0) -> 0 | U63: =IFERROR(U62/$W62,0) -> 0 | V63: =IFERROR(V62/$W62,0) -> 0
B64: Last 4Q ROL Linearity
B65: QTD Actual | C65: 0 | D65: =IF(D$9<=$E$2,D59,0) -> 0 | E65: =IF(E$9<=$E$2,E59,0) -> 0 | F65: =IF(F$9<=$E$2,F59+E65,0) -> 0 | G65: =IF(G$9<=$E$2,G59+F65,0) -> 0 | I65: =IF(I$9<=$E$2,I59+G65,0) -> 0 | J65: =IF(J$9<=$E$2,J59+I65,0) -> 0 | K65: =IF(K$9<=$E$2,K59+J65,0) -> 0 | L65: =IF(L$9<=$E$2,L59+K65,0) -> 0 | M65: =IF(M$9<=$E$2,M59+L65,0) -> 0 | N65: =IF(N$9<=$E$2,N59+M65,0) -> 0 | O65: =IF(O$9<=$E$2,O59+N65,0) -> 0 | P65: =IF(P$9<=$E$2,P59+O65,0) -> 0 | Q65: =IF(Q$9<=$E$2,Q59+P65,0) -> 0 | ... S65: =IF(S$9<=$E$2,S59+R65,0) -> 0 | T65: =IFERROR(INDEX(T$13:T$25,$E$1,0)/INDEX($W$13:$W$25,$E$1,0),0) -> 0.85177842 | U65: =IFERROR(INDEX(U$13:U$25,$E$1,0)/INDEX($W$13:$W$25,$E$1,0),0) -> 0.57479869 | V65: =IFERROR(INDEX(V$13:V$25,$E$1,0)/INDEX($W$13:$W$25,$E$1,0),0) -> -0.42657711 | W65: Current
B66: QTD Delta to Tgt | C66: 0 | D66: =IF(D60=0,0,IF(D$9<=$E$2,D65-D44,D65-D44)) -> 0 | E66: =IF(E60=0,0,IF(E$9<=$E$2,E65-E44,E65-E44)) -> 0 | F66: =IF(F60=0,0,IF(F$9<=$E$2,F65-F44,F65-F44)) -> 0 | G66: =IF(G60=0,0,IF(G$9<=$E$2,G65-G44,G65-G44)) -> 0 | I66: =IF(I60=0,0,IF(I$9<=$E$2,I65-I44,I65-I44)) -> 0 | J66: =IF(J60=0,0,IF(J$9<=$E$2,J65-J44,J65-J44)) -> 0 | K66: =IF(K60=0,0,IF(K$9<=$E$2,K65-K44,K65-K44)) -> 0 | L66: =IF(L60=0,0,IF(L$9<=$E$2,L65-L44,L65-L44)) -> 0 | M66: =IF(M60=0,0,IF(M$9<=$E$2,M65-M44,M65-M44)) -> 0 | N66: =IF(N60=0,0,IF(N$9<=$E$2,N65-N44,N65-N44)) -> 0 | O66: =IF(O60=0,0,IF(O$9<=$E$2,O65-O44,O65-O44)) -> 0 | P66: =IF(P60=0,0,IF(P$9<=$E$2,P65-P44,P65-P44)) -> 0 | ... S66: =IF(S60=0,0,IF(S$9<=$E$2,S65-S44,S65-S44)) -> 0 | W66: Last 4Q
B67: % to Target | C67: 0 | D67: =IF($E$2<D$9,0,IF(AND(D44=0,D65=0),1,IF(AND(D44=0,D65>0),2,IF(D65<0,0,(D65/D44))))) -> 1 | E67: =IF($E$2<E$9,0,IF(AND(E44=0,E65=0),1,IF(AND(E44=0,E65>0),2,IF(E65<0,0,(E65/E44))))) -> 1 | F67: =IF($E$2<F$9,0,IF(AND(F44=0,F65=0),1,IF(AND(F44=0,F65>0),2,IF(F65<0,0,(F65/F44))))) -> 1 | G67: =IF($E$2<G$9,0,IF(AND(G44=0,G65=0),1,IF(AND(G44=0,G65>0),2,IF(G65<0,0,(G65/G44))))) -> 1 | I67: =IF($E$2<I$9,0,IF(AND(I44=0,I65=0),1,IF(AND(I44=0,I65>0),2,IF(I65<0,0,(I65/I44))))) -> 1 | J67: =IF($E$2<J$9,0,IF(AND(J44=0,J65=0),1,IF(AND(J44=0,J65>0),2,IF(J65<0,0,(J65/J44))))) -> 1 | K67: =IF($E$2<K$9,0,IF(AND(K44=0,K65=0),1,IF(AND(K44=0,K65>0),2,IF(K65<0,0,(K65/K44))))) -> 1 | L67: =IF($E$2<L$9,0,IF(AND(L44=0,L65=0),1,IF(AND(L44=0,L65>0),2,IF(L65<0,0,(L65/L44))))) -> 1 | M67: =IF($E$2<M$9,0,IF(AND(M44=0,M65=0),1,IF(AND(M44=0,M65>0),2,IF(M65<0,0,(M65/M44))))) -> 1 | N67: =IF($E$2<N$9,0,IF(AND(N44=0,N65=0),1,IF(AND(N44=0,N65>0),2,IF(N65<0,0,(N65/N44))))) -> 1 | P67: =IF($E$2<P$9,0,IF(AND(P44=0,P65=0),1,IF(AND(P44=0,P65>0),2,IF(P65<0,0,(P65/P44))))) -> 1 | Q67: =IF($E$2<Q$9,0,IF(AND(Q44=0,Q65=0),1,IF(AND(Q44=0,Q65>0),2,IF(Q65<0,0,(Q65/Q44))))) -> 0 | R67: =IF($E$2<R$9,0,IF(AND(R44=0,R65=0),1,IF(AND(R44=0,R65>0),2,IF(R65<0,0,(R65/R44))))) -> 0 | S67: =IF($E$2<S$9,0,IF(AND(S44=0,S65=0),1,IF(AND(S44=0,S65>0),2,IF(S65<0,0,(S65/S44))))) -> 0 | W67: Last 3Y
B68: =B35 -> Fy Q3 2425
B69: =B36 -> Fy Q4 2324
B71: Consumer OL Overseas WF NB Q3FY2526
C72: Month | D72: =D$6 -> 1 | E72: =E$6 -> 1 | F72: =F$6 -> 1 | G72: =G$6 -> 1 | H72: =H$6 -> 1 | I72: =I$6 -> 1 | J72: =J$6 -> 2 | K72: =K$6 -> 2 | ... S72: =S$6 -> 3 | T72: 1 | U72: 2 | V72: 3 | W72: QTR
C73: Week | D73: =D$7 -> OB | E73: =E$7 -> 1 | F73: =F$7 -> 2 | G73: =G$7 -> 3 | H73: =H$7 -> 4 | I73: =I$7 -> 5 | J73: =J$7 -> 5 | K73: =K$7 -> 6 | ... S73: =S$7 -> 13
C74: Begin | D74: =D$8 -> 45931 | E74: =E$8 -> 45931 | F74: =F$8 -> 45936 | G74: =G$8 -> 45943 | H74: =H$8 -> 45950 | I74: =I$8 -> 45957 | J74: =J$8 -> 45962 | K74: =K$8 -> 45964 | ... S74: =S$8 -> 46013 | T74: =E74 -> 45931 | U74: =K74 -> 45964 | V74: =P74 -> 45992 | W74: =E74 -> 45931
C75: End | D75: =D$9 -> 45931 | E75: =E$9 -> 45935 | F75: =F$9 -> 45942 | G75: =G$9 -> 45949 | H75: =H$9 -> 45956 | I75: =I$9 -> 45961 | J75: =J$9 -> 45963 | K75: =K$9 -> 45970 | ... S75: =S$9 -> 46022 | T75: =J75 -> 45963 | U75: =N75 -> 45991 | V75: =S75 -> 46022 | W75: =V75 -> 46022
B76: Target | C76: Week | D76: 2.906 | E76: 0 | F76: 0.10754768 | G76: 0.59187672 | H76: 1.3265342 | I76: 0.068041403 | J76: 0 | K76: 0.67901476 | L76: 1.3545283 | M76: 1.6693292 | N76: 3.2971278 | O76: 0 | P76: 0.69039147 | Q76: 0.99088302 | R76: 0.95844012 | S76: 5.3602854 | T76: =SUMIF($D$6:$S$6,T$6,$D76:$S76) -> 5 | U76: =SUMIF($E$6:$S$6,U$6,$E76:$S76) -> 7 | V76: =SUMIF($E$6:$S$6,V$6,$E76:$S76) -> 8 | W76: =SUM(T76:V76) -> 20
C77: QTD | D77: =D76 -> 2.906 | E77: =E76+D77 -> 2.906 | F77: =E77+F76 -> 3.0135477 | G77: =F77+G76 -> 3.6054244 | H77: =G77+H76 -> 4.9319586 | I77: =H77+I76 -> 5 | J77: =I77+J76 -> 5 | K77: =J77+K76 -> 5.6790148 | L77: =K77+L76 -> 7.033543 | M77: =L77+M76 -> 8.7028722 | ... S77: =R77+S76 -> 20 | T77: =IFERROR(T76/$W76,0) -> 0.25 | U77: =IFERROR(U76/$W76,0) -> 0.35 | V77: =IFERROR(V76/$W76,0) -> 0.4
C78: 0 | D78: 2.906 | E78: 0 | F78: 0.10754768 | G78: 0.59187672 | H78: 1.3265342 | I78: 0.068041403 | J78: 0 | K78: 0.67901476 | L78: 1.3545283 | M78: 1.6693292 | N78: 3.2971278 | O78: 0 | P78: 0.69039147 | Q78: 0.99088302 | R78: 0.95844012 | S78: 5.3602854 | T78: =SUMIF($D$6:$S$6,T$6,$D78:$S78) -> 5 | U78: =SUMIF($E$6:$S$6,U$6,$E78:$S78) -> 7 | V78: =SUMIF($E$6:$S$6,V$6,$E78:$S78) -> 8 | W78: =SUM(T78:V78) -> 20
B79: Week | C79: 1 | D79: 2.906 | E79: 0.368 | F79: 0.088647229 | G79: 0.48786018 | H79: 1.0934088 | I79: 0.056083792 | J79: 0 | K79: 0.67901476 | L79: 1.3545283 | M79: 1.6693292 | N79: 3.2971278 | O79: 0 | P79: 0.69039147 | Q79: 0.99088302 | R79: 0.95844012 | S79: 5.3602854 | T79: =SUMIF($D$6:$S$6,T$6,$D79:$S79) -> 5 | U79: =SUMIF($E$6:$S$6,U$6,$E79:$S79) -> 7 | V79: =SUMIF($E$6:$S$6,V$6,$E79:$S79) -> 8 | W79: =SUM(T79:V79) -> 20
C80: 2 | D80: =IF($C80<=$E$1,D79,0) -> 2.906 | E80: =IF($C80<=$E$1,E79,0) -> 0.368 | F80: 2.155 | G80: 0.48786018 | H80: 0 | I80: 0 | J80: 0 | K80: 0.67901476 | L80: 1.3545283 | M80: 1.6693292 | N80: 3.2971278 | O80: 0 | P80: 0.69039147 | Q80: 0.99088302 | R80: 0.95844012 | S80: 4.4434252 | T80: =SUMIF($D$6:$S$6,T$6,$D80:$S80) -> 5.9168602 | U80: =SUMIF($E$6:$S$6,U$6,$E80:$S80) -> 7 | V80: =SUMIF($E$6:$S$6,V$6,$E80:$S80) -> 7.0831398 | W80: =SUM(T80:V80) -> 20
C81: 3 | D81: =IF($C81<=$E$1,D80,0) -> 2.906 | E81: =IF($C81<=$E$1,E80,0) -> 0.368 | F81: =IF($C81<=$E$1,F80,0) -> 2.155 | G81: 7.808 | H81: 0 | I81: 0 | J81: 0 | K81: 0.67901476 | L81: 1.3545283 | M81: 1.6693292 | N81: 3.0601278 | O81: 0 | P81: 0 | Q81: 0 | R81: 0 | S81: 0 | T81: =SUMIF($D$6:$S$6,T$6,$D81:$S81) -> 13.237 | U81: =SUMIF($E$6:$S$6,U$6,$E81:$S81) -> 6.763 | V81: =SUMIF($E$6:$S$6,V$6,$E81:$S81) -> 0 | W81: =SUM(T81:V81) -> 20
C82: 4 | D82: =IF($C82<=$E$1,D81,0) -> 2.906 | E82: =IF($C82<=$E$1,E81,0) -> 0.368 | F82: =IF($C82<=$E$1,F81,0) -> 2.155 | G82: =IF($C82<=$E$1,G81,0) -> 7.808 | H82: 6.655 | I82: 0 | J82: 0 | K82: 0.1 | L82: 0 | M82: 0 | N82: 0 | O82: 0 | P82: 0 | Q82: 0 | R82: 0 | S82: 0 | T82: =SUMIF($D$6:$S$6,T$6,$D82:$S82) -> 19.892 | U82: =SUMIF($E$6:$S$6,U$6,$E82:$S82) -> 0.1 | V82: =SUMIF($E$6:$S$6,V$6,$E82:$S82) -> 0 | W82: =SUM(T82:V82) -> 19.992
C83: 5 | D83: =IF($C83<=$E$1,D82,0) -> 2.906 | E83: =IF($C83<=$E$1,E82,0) -> 0.368 | F83: =IF($C83<=$E$1,F82,0) -> 2.155 | G83: =IF($C83<=$E$1,G82,0) -> 7.808 | H83: =IF($C83<=$E$1,H82,0) -> 6.655 | I83: 1.158 | J83: -0.42 | K83: 0 | L83: 0 | M83: 0 | N83: 0 | O83: 0 | P83: 0 | Q83: 0 | R83: 0 | S83: 0 | T83: =SUMIF($D$6:$S$6,T$6,$D83:$S83) -> 21.05 | U83: =SUMIF($E$6:$S$6,U$6,$E83:$S83) -> -0.42 | V83: =SUMIF($E$6:$S$6,V$6,$E83:$S83) -> 0 | W83: =SUM(T83:V83) -> 20.63
C84: 6 | D84: =IF($C84<=$E$1,D83,0) -> 2.906 | E84: =IF($C84<=$E$1,E83,0) -> 0.368 | F84: =IF($C84<=$E$1,F83,0) -> 2.155 | G84: =IF($C84<=$E$1,G83,0) -> 7.808 | H84: =IF($C84<=$E$1,H83,0) -> 6.655 | I84: =IF($C84<=$E$1,I83,0) -> 1.158 | J84: =IF($C84<=$E$1,J83,0) -> -0.42 | K84: 2.202 | L84: 0 | M84: 0 | N84: 0 | O84: 0 | P84: 0 | Q84: 0 | R84: 0 | S84: 0 | T84: =SUMIF($D$6:$S$6,T$6,$D84:$S84) -> 21.05 | U84: =SUMIF($E$6:$S$6,U$6,$E84:$S84) -> 1.782 | V84: =SUMIF($E$6:$S$6,V$6,$E84:$S84) -> 0 | W84: =SUM(T84:V84) -> 22.832
C85: 7 | D85: =IF($C85<=$E$1,D84,0) -> 2.906 | E85: =IF($C85<=$E$1,E84,0) -> 0.368 | F85: =IF($C85<=$E$1,F84,0) -> 2.155 | G85: =IF($C85<=$E$1,G84,0) -> 7.808 | H85: =IF($C85<=$E$1,H84,0) -> 6.655 | I85: =IF($C85<=$E$1,I84,0) -> 1.158 | J85: =IF($C85<=$E$1,J84,0) -> -0.42 | K85: =IF($C85<=$E$1,K84,0) -> 2.202 | L85: 1.143 | M85: 2.0251274 | N85: 3.9998726 | P85: 0 | Q85: 0 | R85: 0 | S85: 0 | T85: =SUMIF($D$6:$S$6,T$6,$D85:$S85) -> 21.05 | U85: =SUMIF($E$6:$S$6,U$6,$E85:$S85) -> 8.95 | V85: =SUMIF($E$6:$S$6,V$6,$E85:$S85) -> 0 | W85: =SUM(T85:V85) -> 30
C86: 8 | D86: =IF($C86<=$E$1,D85,0) -> 2.906 | E86: =IF($C86<=$E$1,E85,0) -> 0.368 | F86: =IF($C86<=$E$1,F85,0) -> 2.155 | G86: =IF($C86<=$E$1,G85,0) -> 7.808 | H86: =IF($C86<=$E$1,H85,0) -> 6.655 | I86: =IF($C86<=$E$1,I85,0) -> 1.158 | J86: =IF($C86<=$E$1,J85,0) -> -0.42 | K86: =IF($C86<=$E$1,K85,0) -> 2.202 | L86: =IF($C86<=$E$1,L85,0) -> 1.143 | M86: 4.08 | N86: 1.945 | P86: 0 | Q86: 0 | R86: 0 | S86: 0 | T86: =SUMIF($D$6:$S$6,T$6,$D86:$S86) -> 21.05 | U86: =SUMIF($E$6:$S$6,U$6,$E86:$S86) -> 8.95 | V86: =SUMIF($E$6:$S$6,V$6,$E86:$S86) -> 0 | W86: =SUM(T86:V86) -> 30
C87: 9 | D87: =IF($C87<=$E$1,D86,0) -> 2.906 | E87: =IF($C87<=$E$1,E86,0) -> 0.368 | F87: =IF($C87<=$E$1,F86,0) -> 2.155 | G87: =IF($C87<=$E$1,G86,0) -> 7.808 | H87: =IF($C87<=$E$1,H86,0) -> 6.655 | I87: =IF($C87<=$E$1,I86,0) -> 1.158 | J87: =IF($C87<=$E$1,J86,0) -> -0.42 | K87: =IF($C87<=$E$1,K86,0) -> 2.202 | ... M87: =IF($C87<=$E$1,M86,0) -> 4.08 | N87: 7.2 | P87: 0 | Q87: 0 | R87: 0 | S87: 0 | T87: =SUMIF($D$6:$S$6,T$6,$D87:$S87) -> 21.05 | U87: =SUMIF($E$6:$S$6,U$6,$E87:$S87) -> 14.205 | V87: =SUMIF($E$6:$S$6,V$6,$E87:$S87) -> 0 | W87: =SUM(T87:V87) -> 35.255
C88: 10 | D88: =IF($C88<=$E$1,D87,0) -> 2.906 | E88: =IF($C88<=$E$1,E87,0) -> 0.368 | F88: =IF($C88<=$E$1,F87,0) -> 2.155 | G88: =IF($C88<=$E$1,G87,0) -> 7.808 | H88: =IF($C88<=$E$1,H87,0) -> 6.655 | I88: =IF($C88<=$E$1,I87,0) -> 1.158 | J88: =IF($C88<=$E$1,J87,0) -> -0.42 | K88: =IF($C88<=$E$1,K87,0) -> 2.202 | ... O88: =IF($C88<=$E$1,O87,0) -> 0 | P88: -10.542 | T88: =SUMIF($D$6:$S$6,T$6,$D88:$S88) -> 21.05 | U88: =SUMIF($E$6:$S$6,U$6,$E88:$S88) -> 14.205 | V88: =SUMIF($E$6:$S$6,V$6,$E88:$S88) -> -10.542 | W88: =SUM(T88:V88) -> 24.713
C89: 11 | D89: =IF($C89<=$E$1,D88,0) -> 0 | E89: =IF($C89<=$E$1,E88,0) -> 0 | F89: =IF($C89<=$E$1,F88,0) -> 0 | G89: =IF($C89<=$E$1,G88,0) -> 0 | H89: =IF($C89<=$E$1,H88,0) -> 0 | I89: =IF($C89<=$E$1,I88,0) -> 0 | J89: =IF($C89<=$E$1,J88,0) -> 0 | K89: =IF($C89<=$E$1,K88,0) -> 0 | ... P89: =IF($C89<=$E$1,P88,0) -> 0 | T89: =SUMIF($D$6:$S$6,T$6,$D89:$S89) -> 0 | U89: =SUMIF($E$6:$S$6,U$6,$E89:$S89) -> 0 | V89: =SUMIF($E$6:$S$6,V$6,$E89:$S89) -> 0 | W89: =SUM(T89:V89) -> 0
C90: 12 | D90: =IF($C90<=$E$1,D89,0) -> 0 | E90: =IF($C90<=$E$1,E89,0) -> 0 | F90: =IF($C90<=$E$1,F89,0) -> 0 | G90: =IF($C90<=$E$1,G89,0) -> 0 | H90: =IF($C90<=$E$1,H89,0) -> 0 | I90: =IF($C90<=$E$1,I89,0) -> 0 | J90: =IF($C90<=$E$1,J89,0) -> 0 | K90: =IF($C90<=$E$1,K89,0) -> 0 | ... Q90: =IF($C90<=$E$1,Q89,0) -> 0 | T90: =SUMIF($D$6:$S$6,T$6,$D90:$S90) -> 0 | U90: =SUMIF($E$6:$S$6,U$6,$E90:$S90) -> 0 | V90: =SUMIF($E$6:$S$6,V$6,$E90:$S90) -> 0 | W90: =SUM(T90:V90) -> 0
C91: 13 | D91: =IF($C91<=$E$1,D90,0) -> 0 | E91: =IF($C91<=$E$1,E90,0) -> 0 | F91: =IF($C91<=$D$1,F90,0) -> 0 | G91: =IF($C91<=$D$1,G90,0) -> 0 | H91: =IF($C91<=$D$1,H90,0) -> 0 | I91: =IF($C91<=$E$1,I90,0) -> 0 | J91: =IF($C91<=$E$1,J90,0) -> 0 | K91: =IF($C91<=$E$1,K90,0) -> 0 | L91: =IF($C91<=$E$1,L90,0) -> 0 | M91: =IF($C91<=$E$1,M90,0) -> 0 | N91: =IF($C91<=$E$1,N90,0) -> 0 | O91: =IF($C91<=$E$1,O90,0) -> 0 | P91: =IF($C91<=$E$1,P90,0) -> 0 | ... R91: =IF($C91<=$E$1,R90,0) -> 0 | T91: =SUMIF($D$6:$S$6,T$6,$D91:$S91) -> 0 | U91: =SUMIF($E$6:$S$6,U$6,$E91:$S91) -> 0 | V91: =SUMIF($E$6:$S$6,V$6,$E91:$S91) -> 0 | W91: =SUM(T91:V91) -> 0
B92: Actual | C92: 0 | D92: =INDEX($E$46:$E$58,MATCH($E$1,$C$46:$C$58,0)) -> 0 | E92: =INDEX($E$46:$E$58,MATCH($E$1,$C$46:$C$58,0)) -> 0 | F92: =INDEX($E$46:$E$58,MATCH($E$1,$C$46:$C$58,0)) -> 0 | G92: =INDEX($E$46:$E$58,MATCH($E$1,$C$46:$C$58,0)) -> 0 | H92: =INDEX($E$46:$E$58,MATCH($E$1,$C$46:$C$58,0)) -> 0 | I92: =INDEX($E$46:$E$58,MATCH($E$1,$C$46:$C$58,0)) -> 0 | J92: =INDEX($E$46:$E$58,MATCH($E$1,$C$46:$C$58,0)) -> 0 | K92: =INDEX($E$46:$E$58,MATCH($E$1,$C$46:$C$58,0)) -> 0 | ... W92: =INDEX($E$46:$E$58,MATCH($E$1,$C$46:$C$58,0)) -> 0
B93: Delta to Target | C93: 0 | D93: =IF(D$9<=$E$2,D92-D76,0) -> -2.906 | E93: =IF(E$9<=$E$2,E92-E76,0) -> 0 | F93: =IF(F$9<=$E$2,F92-F76,0) -> -0.10754768 | G93: =IF(G$9<=$E$2,G92-G76,0) -> -0.59187672 | H93: =IF(H$9<=$E$2,H92-H76,0) -> -1.3265342 | I93: =IF(I$9<=$E$2,I92-I76,0) -> -0.068041403 | J93: =IF(J$9<=$E$2,J92-J76,0) -> 0 | K93: =IF(K$9<=$E$2,K92-K76,0) -> -0.67901476 | ... W93: =IF(W$9<=$E$2,W92-W76,0) -> 0
B94: % to Target | C94: 0 | D94: =IF($E$2<D$9,0,IF(AND(D76=0,D92=0),1,IF(AND(D76=0,D92>0),2,IF(D92<0,0,(D92/D76))))) -> 0 | E94: =IF($E$2<E$9,0,IF(AND(E76=0,E92=0),1,IF(AND(E76=0,E92>0),2,IF(E92<0,0,(E92/E76))))) -> 1 | F94: =IF($E$2<F$9,0,IF(AND(F76=0,F92=0),1,IF(AND(F76=0,F92>0),2,IF(F92<0,0,(F92/F76))))) -> 0 | G94: =IF($E$2<G$9,0,IF(AND(G76=0,G92=0),1,IF(AND(G76=0,G92>0),2,IF(G92<0,0,(G92/G76))))) -> 0 | H94: =IF($E$2<H$9,0,IF(AND(H76=0,H92=0),1,IF(AND(H76=0,H92>0),2,IF(H92<0,0,(H92/H76))))) -> 0 | I94: =IF($E$2<I$9,0,IF(AND(I76=0,I92=0),1,IF(AND(I76=0,I92>0),2,IF(I92<0,0,(I92/I76))))) -> 0 | J94: =IF($E$2<J$9,0,IF(AND(J76=0,J92=0),1,IF(AND(J76=0,J92>0),2,IF(J92<0,0,(J92/J76))))) -> 1 | K94: =IF($E$2<K$9,0,IF(AND(K76=0,K92=0),1,IF(AND(K76=0,K92>0),2,IF(K92<0,0,(K92/K76))))) -> 0 | ... W94: =IF($E$2<W$9,0,IF(AND(W76=0,W92=0),1,IF(AND(W76=0,W92>0),2,IF(W92<0,0,(W92/W76))))) -> 0
B95: ="Week "&$E$1&" View" -> Week 10 View | D95: =INDEX(D79:D91,MATCH($E$1,$C$13:$C$25,0)) -> 2.906 | E95: =INDEX(E79:E91,MATCH($E$1,$C$13:$C$25,0)) -> 0.368 | F95: =INDEX(F79:F91,MATCH($E$1,$C$13:$C$25,0)) -> 2.155 | G95: =INDEX(G79:G91,MATCH($E$1,$C$13:$C$25,0)) -> 7.808 | H95: =INDEX(H79:H91,MATCH($E$1,$C$13:$C$25,0)) -> 6.655 | I95: =INDEX(I79:I91,MATCH($E$1,$C$13:$C$25,0)) -> 1.158 | J95: =INDEX(J79:J91,MATCH($E$1,$C$13:$C$25,0)) -> -0.42 | K95: =INDEX(K79:K91,MATCH($E$1,$C$13:$C$25,0)) -> 2.202 | ... W95: =INDEX(W79:W91,MATCH($E$1,$C$13:$C$25,0)) -> 24.713
B96: Linearity | D96: =IFERROR(D95/$T95,0) -> 0.13805226 | E96: =IFERROR(E95/$T95,0) -> 0.017482185 | F96: =IFERROR(F95/$T95,0) -> 0.1023753 | G96: =IFERROR(G95/$T95,0) -> 0.37092637 | H96: =IFERROR(H95/$T95,0) -> 0.31615202 | I96: =IFERROR(I95/$T95,0) -> 0.055011876 | J96: =IFERROR(J95/$T95,0) -> -0.019952494 | K96: =IFERROR(K95/$T95,0) -> 0.10460808 | ... R96: =IFERROR(R95/$T95,0) -> 0 | S96: =IFERROR(S95/$U95,0) -> 0 | T96: =IFERROR(T95/$W95,0) -> 0.85177842 | U96: =IFERROR(U95/$W95,0) -> 0.57479869 | V96: =IFERROR(V95/$W95,0) -> -0.42657711
B97: Last 4Q ROL Linearity
B98: QTD Actual | C98: 0 | D98: =IF(D$9<=$E$2,D92,0) -> 0 | E98: =IF(E$9<=$E$2,E92,0) -> 0 | F98: =IF(F$9<=$E$2,F92+E98,0) -> 0 | G98: =IF(G$9<=$E$2,G92+F98,0) -> 0 | H98: =IF(H$9<=$E$2,H92+G98,0) -> 0 | I98: =IF(I$9<=$E$2,I92+H98,0) -> 0 | J98: =IF(J$9<=$E$2,J92+I98,0) -> 0 | K98: =IF(K$9<=$E$2,K92+J98,0) -> 0 | L98: =IF(L$9<=$E$2,L92+K98,0) -> 0 | M98: =IF(M$9<=$E$2,M92+L98,0) -> 0 | ... S98: =IF(S$9<=$E$2,S92+R98,0) -> 0 | T98: =IFERROR(INDEX(T$13:T$25,$E$1,0)/INDEX($W$13:$W$25,$E$1,0),0) -> 0.85177842 | U98: =IFERROR(INDEX(U$13:U$25,$E$1,0)/INDEX($W$13:$W$25,$E$1,0),0) -> 0.57479869 | V98: =IFERROR(INDEX(V$13:V$25,$E$1,0)/INDEX($W$13:$W$25,$E$1,0),0) -> -0.42657711 | W98: Current
B99: QTD Delta to Tgt | C99: 0 | D99: =IF(D$93=0,0,IF(D$9<=$E$2,D98-D77,D98-D77)) -> -2.906 | E99: =IF(E$93=0,0,IF(E$9<=$E$2,E98-E77,E98-E77)) -> 0 | F99: =IF(F$93=0,0,IF(F$9<=$E$2,F98-F77,F98-F77)) -> -3.0135477 | G99: =IF(G$93=0,0,IF(G$9<=$E$2,G98-G77,G98-G77)) -> -3.6054244 | H99: =IF(H$93=0,0,IF(H$9<=$E$2,H98-H77,H98-H77)) -> -4.9319586 | I99: =IF(I$93=0,0,IF(I$9<=$E$2,I98-I77,I98-I77)) -> -5 | J99: =IF(J$93=0,0,IF(J$9<=$E$2,J98-J77,J98-J77)) -> 0 | K99: =IF(K$93=0,0,IF(K$9<=$E$2,K98-K77,K98-K77)) -> -5.6790148 | ... S99: =IF(S$93=0,0,IF(S$9<=$E$2,S98-S77,S98-S77)) -> 0 | T99: 0 | U99: 0 | V99: 0 | W99: Last 4Q
B100: % to Target | C100: 0 | D100: =IF($E$2<D$9,0,IF(AND(D77=0,D98=0),1,IF(AND(D77=0,D98>0),2,IF(D98<0,0,(D98/D77))))) -> 0 | E100: =IF($E$2<E$9,0,IF(AND(E77=0,E98=0),1,IF(AND(E77=0,E98>0),2,IF(E98<0,0,(E98/E77))))) -> 0 | F100: =IF($E$2<F$9,0,IF(AND(F77=0,F98=0),1,IF(AND(F77=0,F98>0),2,IF(F98<0,0,(F98/F77))))) -> 0 | G100: =IF($E$2<G$9,0,IF(AND(G77=0,G98=0),1,IF(AND(G77=0,G98>0),2,IF(G98<0,0,(G98/G77))))) -> 0 | H100: =IF($E$2<H$9,0,IF(AND(H77=0,H98=0),1,IF(AND(H77=0,H98>0),2,IF(H98<0,0,(H98/H77))))) -> 0 | I100: =IF($E$2<I$9,0,IF(AND(I77=0,I98=0),1,IF(AND(I77=0,I98>0),2,IF(I98<0,0,(I98/I77))))) -> 0 | J100: =IF($E$2<J$9,0,IF(AND(J77=0,J98=0),1,IF(AND(J77=0,J98>0),2,IF(J98<0,0,(J98/J77))))) -> 0 | K100: =IF($E$2<K$9,0,IF(AND(K77=0,K98=0),1,IF(AND(K77=0,K98>0),2,IF(K98<0,0,(K98/K77))))) -> 0 | ... S100: =IF($E$2<S$9,0,IF(AND(S77=0,S98=0),1,IF(AND(S77=0,S98>0),2,IF(S98<0,0,(S98/S77))))) -> 0 | T100: 0 | U100: 0 | V100: 0 | W100: Last 3Y
B101: Fy Q3 2425 | D101: 0.907 | E101: -0.225 | F101: 2.575 | G101: 0.935 | H101: 0 | I101: 1.936 | J101: 0 | K101: 0.225 | L101: 0.21 | M101: 0 | N101: 4.063 | O101: 0 | P101: 1.037 | Q101: -0.38 | R101: 3.08 | S101: 0.39 | T101: =SUM(D101:I101) -> 6.128 | U101: =SUM(J101:N101) -> 4.498 | V101: =SUM(O101:S101) -> 4.127 | W101: =SUM(T101:V101) -> 14.753
B102: Fy Q4 2324 | D102: 4.77 | E102: 0.07 | F102: 0 | G102: 0 | H102: 0 | I102: 0 | J102: 3.6 | K102: 3.105 | L102: 5 | M102: 0.506 | N102: 0.895 | O102: 0 | P102: 5.81 | Q102: 0.56 | R102: 0.013 | S102: 0.068 | T102: =SUM(D102:I102) -> 4.84 | U102: =SUM(J102:N102) -> 13.106 | V102: =SUM(O102:S102) -> 6.451 | W102: =SUM(T102:V102) -> 24.397
