Workbook
Name PERF_GREEN: 1

Sheet Linearity
B1: Month | C1: 1 | D1: 1 | E1: 1 | F1: 1 | G1: 1 | H1: 2 | I1: 2 | J1: 2 | K1: 2 | L1: 2 | M1: 3 | N1: 3 | O1: 3 | P1: 3 | Q1: 3 | R1: 1 | S1: 2 | T1: 3 | U1: QTR
B2: Week | C2: 1 | D2: 2 | E2: 3 | F2: 4 | G2: 5 | H2: 5 | I2: 6 | J2: 7 | K2: 8 | L2: 9 | M2: 9 | N2: 10 | O2: 11 | P2: 12 | Q2: 13
B3: Begin | C3: 43831 | D3: 43836 | E3: 43843 | F3: 43850 | G3: 43857 | H3: 43862 | I3: 43864 | J3: 43871 | K3: 43878 | L3: 43885 | M3: 43891 | N3: 43892 | O3: 43899 | P3: 43906 | Q3: 43913 | R3: 43831 | S3: 43862 | T3: 43891 | U3: 43831
B4: End | C4: 43835 | D4: 43842 | E4: 43849 | F4: 43856 | G4: 43861 | H4: 43863 | I4: 43870 | J4: 43877 | K4: 43884 | L4: 43890 | M4: 43891 | N4: 43898 | O4: 43905 | P4: 43912 | Q4: 43921 | R4: 43861 | S4: 43890 | T4: 43921 | U4: 43921
B6: India | C6: ='OL-Onshore'!E10 -> -10.314547 | D6: ='OL-Onshore'!F10 -> 1.9301297 | E6: ='OL-Onshore'!G10 -> 10.622255 | F6: ='OL-Onshore'!H10 -> 23.806957 | G6: ='OL-Onshore'!J10 -> 0 | H6: ='OL-Onshore'!K10 -> 7.869985 | I6: ='OL-Onshore'!L10 -> 15.699389 | J6: ='OL-Onshore'!M10 -> 19.348026 | K6: ='OL-Onshore'!N10 -> 38.214701 | L6: ='OL-Onshore'!#REF! -> #REF! | M6: ='OL-Onshore'!P10 -> 10.927515 | N6: ='OL-Onshore'!Q10 -> 15.683694 | O6: ='OL-Onshore'!R10 -> 15.170188 | P6: ='OL-Onshore'!S10 -> 84.842586 | Q6: ='OL-Onshore'!#REF! -> #REF! | R6: ='OL-Onshore'!T10 -> 42.243915 | S6: ='OL-Onshore'!U10 -> 81.132102 | T6: ='OL-Onshore'!V10 -> 126.62398 | U6: ='OL-Onshore'!W10 -> 250
B7: SLBD | C7: ='OL-Overseas'!E10 -> 0 | D7: ='OL-Overseas'!F10 -> 0.10754768 | E7: ='OL-Overseas'!G10 -> 0.59187672 | F7: ='OL-Overseas'!I10 -> 0.068041403 | G7: ='OL-Overseas'!J10 -> 0 | H7: ='OL-Overseas'!K10 -> 0.67901476 | I7: ='OL-Overseas'!L10 -> 1.3545283 | J7: ='OL-Overseas'!M10 -> 1.6693292 | K7: ='OL-Overseas'!N10 -> 3.2971278 | L7: ='OL-Overseas'!#REF! -> #REF! | M7: ='OL-Overseas'!P10 -> 0.69039147 | N7: ='OL-Overseas'!Q10 -> 0.99088302 | O7: ='OL-Overseas'!R10 -> 0.95844012 | P7: ='OL-Overseas'!S10 -> 5.3602854 | Q7: ='OL-Overseas'!#REF! -> #REF! | R7: ='OL-Overseas'!T10 -> 5 | S7: ='OL-Overseas'!U10 -> 7 | T7: ='OL-Overseas'!V10 -> 8 | U7: ='OL-Overseas'!W10 -> 20
B8: Total | C8: =SUM(C6:C7) -> -10.314547 | D8: =SUM(D6:D7) -> 2.0376774 | E8: =SUM(E6:E7) -> 11.214131 | F8: =SUM(F6:F7) -> 23.874999 | G8: =SUM(G6:G7) -> 0 | H8: =SUM(H6:H7) -> 8.5489997 | I8: =SUM(I6:I7) -> 17.053918 | J8: =SUM(J6:J7) -> 21.017356 | ... U8: =SUM(U6:U7) -> 270
A10: Cumma. | B10: India | C10: =C6 -> -10.314547 | D10: =C10+D6 -> -8.3844175 | E10: =D10+E6 -> 2.237837 | F10: =E10+F6 -> 26.044794 | G10: =F10+G6 -> 26.044794 | H10: =G10+H6 -> 33.914779 | I10: =H10+I6 -> 49.614169 | J10: =I10+J6 -> 68.962195 | K10: =J10+K6 -> 107.1769 | ... Q10: =P10+Q6 -> #REF!
B11: SLBD | C11: =C7 -> 0 | D11: =C11+D7 -> 0.10754768 | E11: =D11+E7 -> 0.69942441 | F11: =E11+F7 -> 0.76746581 | G11: =F11+G7 -> 0.76746581 | H11: =G11+H7 -> 1.4464806 | I11: =H11+I7 -> 2.8010088 | J11: =I11+J7 -> 4.470338 | K11: =J11+K7 -> 7.7674658 | ... Q11: =P11+Q7 -> #REF!
B12: Total | C12: =C8 -> -10.314547 | D12: =C12+D8 -> -8.2768698 | E12: =D12+E8 -> 2.9372614 | F12: =E12+F8 -> 26.81226 | G12: =F12+G8 -> 26.81226 | H12: =G12+H8 -> 35.36126 | I12: =H12+I8 -> 52.415178 | J12: =I12+J8 -> 73.432533 | K12: =J12+K8 -> 114.94436 | ... Q12: =P12+Q8 -> #REF!
A15: mtd
B16: India | C16: =C6/$R6 -> -0.24416646 | D16: =D6/$R6 -> 0.045690123 | E16: =E6/$R6 -> 0.25145052 | F16: =F6/$R6 -> 0.56355944 | G16: =G6/$R6 -> 0 | H16: =H6/$S6 -> 0.097002109 | I16: =I6/$S6 -> 0.19350404 | J16: =J6/$S6 -> 0.2384756 | K16: =K6/$S6 -> 0.47101826 | L16: =L6/$S6 -> #REF! | M16: =M6/$T6 -> 0.086298934 | N16: =N6/$T6 -> 0.12386038 | O16: =O6/$T6 -> 0.11980501 | P16: =P6/$T6 -> 0.67003567 | Q16: =Q6/$T6 -> #REF!
B17: SLBD | C17: =C7/$R7 -> 0 | D17: =D7/$R7 -> 0.021509536 | E17: =E7/$R7 -> 0.11837534 | F17: =F7/$R7 -> 0.013608281 | G17: =G7/$R7 -> 0 | H17: =H7/$S7 -> 0.097002109 | I17: =I7/$S7 -> 0.19350404 | J17: =J7/$S7 -> 0.2384756 | K17: =K7/$S7 -> 0.47101826 | L17: =L7/$S7 -> #REF! | M17: =M7/$T7 -> 0.086298934 | N17: =N7/$T7 -> 0.12386038 | O17: =O7/$T7 -> 0.11980501 | P17: =P7/$T7 -> 0.67003567 | Q17: =Q7/$T7 -> #REF!
B18: Total | C18: =C8/$R8 -> -0.21832541 | D18: =D8/$R8 -> 0.043131001 | E18: =E8/$R8 -> 0.23736668 | F18: =F8/$R8 -> 0.50535605 | G18: =G8/$R8 -> 0 | H18: =H8/$S8 -> 0.097002109 | I18: =I8/$S8 -> 0.19350404 | J18: =J8/$S8 -> 0.2384756 | K18: =K8/$S8 -> 0.47101826 | L18: =L8/$S8 -> #REF! | M18: =M8/$T8 -> 0.086298934 | N18: =N8/$T8 -> 0.12386038 | O18: =O8/$T8 -> 0.11980501 | P18: =P8/$T8 -> 0.67003567 | Q18: =Q8/$T8 -> #REF!
A19: qtd
B20: India | C20: =C10/$Q$10 -> #REF! | D20: =D10/$Q$10 -> #REF! | E20: =E10/$Q$10 -> #REF! | F20: =F10/$Q$10 -> #REF! | G20: =G10/$Q$10 -> #REF! | H20: =H10/$Q$10 -> #REF! | I20: =I10/$Q$10 -> #REF! | J20: =J10/$Q$10 -> #REF! | ... Q20: =Q10/$Q$10 -> #REF!
B21: SLBD | C21: =C11/$Q11 -> #REF! | D21: =D11/$Q11 -> #REF! | E21: =E11/$Q11 -> #REF! | F21: =F11/$Q11 -> #REF! | G21: =G11/$Q11 -> #REF! | H21: =H11/$Q11 -> #REF! | I21: =I11/$Q11 -> #REF! | J21: =J11/$Q11 -> #REF! | ... Q21: =Q11/$Q11 -> #REF!
B22: Total | C22: =C12/$Q12 -> #REF! | D22: =D12/$Q12 -> #REF! | E22: =E12/$Q12 -> #REF! | F22: =F12/$Q12 -> #REF! | G22: =G12/$Q12 -> #REF! | H22: =H12/$Q12 -> #REF! | I22: =I12/$Q12 -> #REF! | J22: =J12/$Q12 -> #REF! | ... Q22: =Q12/$Q12 -> #REF!

Sheet OL -Overall
C1: Week# | E1: 10
C2: Weekending dt: | E2: =HLOOKUP(E1,D7:S9,3,0) -> 45998
B5: Consumer OL WF Q3FY2526
C6: Month | D6: 1 | E6: 1 | F6: 1 | G6: 1 | H6: 1 | I6: 1 | J6: 2 | K6: 2 | L6: 2 | M6: 2 | N6: 2 | O6: 3 | P6: 3 | Q6: 3 | R6: 3 | S6: 3 | T6: 1 | U6: 2 | V6: 3 | W6: QTR
C7: Week | D7: OB | E7: 1 | F7: 2 | G7: 3 | H7: 4 | I7: 5 | J7: 5 | K7: 6 | L7: 7 | M7: 8 | N7: 9 | O7: 9b | P7: 10 | Q7: 11 | R7: 12 | S7: 13
C8: Begin | D8: =E8 -> 45931 | E8: 45931 | F8: 45936 | G8: 45943 | H8: 45950 | I8: 45957 | J8: 45962 | K8: 45964 | L8: 45971 | M8: 45978 | N8: 45985 | O8: 45985 | P8: 45992 | Q8: 45999 | R8: 46006 | S8: 46013 | T8: =E8 -> 45931 | U8: =J8 -> 45962 | V8: =P8 -> 45992 | W8: =E8 -> 45931
C9: End | D9: =D8 -> 45931 | E9: 45935 | F9: 45942 | G9: 45949 | H9: 45956 | I9: 45961 | J9: 45963 | K9: 45970 | L9: 45977 | M9: 45984 | N9: 45991 | O9: 45991 | P9: 45998 | Q9: 46005 | R9: 46012 | S9: 46022 | T9: =I9 -> 45961 | U9: =N9 -> 45991 | V9: =S9 -> 46022 | W9: =V9 -> 46022
B10: Target | C10: Week | D10: =D43+D76 -> 17.884 | E10: =E43+E76 -> -10.314547 | F10: =F43+F76 -> 2.0376774 | G10: =G43+G76 -> 11.214131 | H10: =H43+H76 -> 25.133491 | I10: =I43+I76 -> 1.2891624 | J10: =J43+J76 -> 0 | K10: =K43+K76 -> 8.5489997 | ... S10: =S43+S76 -> 90.202871 | T10: =SUM(D10:I10) -> 47.243915 | U10: =SUM(J10:N10) -> 88.132102 | V10: =SUM(O10:S10) -> 134.62398 | W10: =SUM(T10:V10) -> 270
C11: QTD | D11: =D10 -> 17.884 | E11: =E10+D11 -> 7.5694528 | F11: =E11+F10 -> 9.6071302 | G11: =F11+G10 -> 20.821261 | H11: =G11+H10 -> 45.954753 | I11: =H11+I10 -> 47.243915 | J11: =I11+J10 -> 47.243915 | K11: =J11+K10 -> 55.792915 | L11: =K11+L10 -> 72.846833 | M11: =L11+M10 -> 93.864188 | ... S11: =R11+S10 -> 270 | T11: =IFERROR(T10/$W10,0) -> 0.17497746 | U11: =IFERROR(U10/$W10,0) -> 0.32641519 | V11: =IFERROR(V10/$W10,0) -> 0.49860734
C12: 0 | D12: =D45+D78 -> 17.884 | E12: =E45+E78 -> -10.314547 | F12: =F45+F78 -> 2.0376774 | G12: =G45+G78 -> 11.214131 | H12: =H45+H78 -> 25.133491 | I12: =I45+I78 -> 1.2891624 | J12: =J45+J78 -> 0 | K12: =K45+K78 -> 8.5489997 | ... S12: =S45+S78 -> 90.202871 | T12: =SUMIF($D$6:$S$6,T$6,$D12:$S12) -> 47.243915 | U12: =SUMIF($E$6:$S$6,U$6,$E12:$S12) -> 88.132102 | V12: =SUMIF($E$6:$S$6,V$6,$E12:$S12) -> 134.62398 | W12: =SUM(T12:V12) -> 270
B13: Week | C13: 1 | D13: =D46+D79 -> 17.884 | E13: =E46+E79 -> 1.92 | F13: =F46+F79 -> 1.5508643 | G13: =G46+G79 -> 8.5350093 | H13: =H46+H79 -> 19.128952 | I13: =I46+I79 -> 0.98117392 | J13: =J46+J79 -> 0 | K13: =K46+K79 -> 6.4991413 | ... S13: =S46+S79 -> 102.51546 | T13: =SUMIF($D$6:$S$6,T$6,$D13:$S13) -> 50 | U13: =SUMIF($E$6:$S$6,U$6,$E13:$S13) -> 67 | V13: =SUMIF($E$6:$S$6,V$6,$E13:$S13) -> 153 | W13: =SUM(T13:V13) -> 270
C14: 2 | D14: =IF(IF($C14<=$E$1,D13,0)=0,"-",IF($C14<=$E$1,D13,0)) -> 17.884 | E14: =IF(IF($C14<=$E$1,E13,0)=0,"-",IF($C14<=$E$1,E13,0)) -> 1.92 | F14: =F47+F80 -> 12.615 | G14: =G47+G80 -> 8.5350093 | H14: =H47+H80 -> 8.3934629 | I14: =I47+I80 -> 1.5693879 | J14: =J47+J80 -> 0 | K14: =K47+K80 -> 6.4991413 | L14: =L47+L80 -> 12.964771 | M14: =M47+M80 -> 15.977865 | ... S14: =S47+S80 -> 101.5986 | T14: =SUMIF($D$6:$S$6,T$6,$D14:$S14) -> 50.91686 | U14: =SUMIF($E$6:$S$6,U$6,$E14:$S14) -> 67 | V14: =SUMIF($E$6:$S$6,V$6,$E14:$S14) -> 152.08314 | W14: =SUM(T14:V14) -> 270
C15: 3 | D15: =D48+D81 -> 17.884 | E15: =IF(IF($C15<=$E$1,E14,0)=0,"-",IF($C15<=$E$1,E14,0)) -> 1.92 | F15: =IF(IF($C15<=$E$1,F14,0)=0,"-",IF($C15<=$E$1,F14,0)) -> 12.615 | G15: =G48+G81 -> 23.3 | H15: =H48+H81 -> 4.581145 | I15: =I48+I81 -> 2.936855 | J15: =J48+J81 -> 0 | K15: =K48+K81 -> 9.6524421 | L15: =L48+L81 -> 19.255113 | M15: =M48+M81 -> 23.730122 | N15: =N48+N81 -> 39.125323 | ... S15: =S48+S81 -> 0 | T15: =SUMIF($D$6:$R$6,T$6,$D15:$R15) -> 63.237 | U15: =SUMIF($D$6:$R$6,U$6,$D15:$R15) -> 91.763 | V15: =SUMIF($E$6:$S$6,V$6,$E15:$S15) -> 125 | W15: =SUM(T15:V15) -> 280
C16: 4 | D16: =D49+D82 -> 17.884 | E16: =E49+E82 -> 1.92 | F16: =F49+F82 -> 12.615 | G16: =G49+G82 -> 23.3 | H16: =H49+H82 -> 28.12 | I16: =I49+I82 -> 5 | J16: =J49+J82 -> 0 | K16: =K49+K82 -> 9.0734274 | ... S16: =S49+S82 -> 0 | T16: =SUMIF($D$6:$R$6,T$6,$D16:$R16) -> 88.839 | U16: =SUMIF($D$6:$R$6,U$6,$D16:$R16) -> 85.1 | V16: =SUMIF($E$6:$S$6,V$6,$E16:$S16) -> 106.053 | W16: =SUM(T16:V16) -> 279.992
C17: 5 | D17: =D50+D83 -> 17.884 | E17: =E50+E83 -> 1.92 | F17: =F50+F83 -> 12.615 | G17: =G50+G83 -> 23.3 | H17: =H50+H83 -> 28.12 | I17: =I50+I83 -> 11.104 | J17: =J50+J83 -> -0.302 | K17: =K50+K83 -> 8.9734274 | ... S17: =S50+S83 -> 0 | T17: =SUMIF($D$6:$R$6,T$6,$D17:$R17) -> 94.943 | U17: =SUMIF($D$6:$R$6,U$6,$D17:$R17) -> 78.996 | V17: =SUMIF($E$6:$S$6,V$6,$E17:$S17) -> 106.053 | W17: =SUM(T17:V17) -> 279.992
C18: 6 | D18: =D51+D84 -> 17.884 | E18: =E51+E84 -> 1.92 | F18: =F51+F84 -> 12.615 | G18: =G51+G84 -> 23.3 | H18: =H51+H84 -> 28.12 | I18: =I51+I84 -> 11.104 | J18: =J51+J84 -> -0.302 | K18: =K51+K84 -> 1.945 | ... S18: =S51+S84 -> 0 | T18: =SUMIF($D$6:$R$6,T$6,$D18:$R18) -> 94.943 | U18: =SUMIF($D$6:$R$6,U$6,$D18:$R18) -> 78.996 | V18: =SUMIF($E$6:$S$6,V$6,$E18:$S18) -> 106.053 | W18: =SUM(T18:V18) -> 279.992
C19: 7 | D19: =D52+D85 -> 17.884 | E19: =E52+E85 -> 1.92 | F19: =F52+F85 -> 12.615 | G19: =G52+G85 -> 23.3 | H19: =H52+H85 -> 28.12 | I19: =I52+I85 -> 11.104 | J19: =J52+J85 -> -0.302 | K19: =K52+K85 -> 1.945 | ... S19: =S52+S85 -> 0 | T19: =SUMIF($D$6:$R$6,T$6,$D19:$R19) -> 94.943 | U19: =SUMIF($D$6:$R$6,U$6,$D19:$R19) -> 82.95 | V19: =SUMIF($E$6:$S$6,V$6,$E19:$S19) -> 112.107 | W19: =SUM(T19:V19) -> 290
C20: 8 | D20: =D53+D86 -> 17.884 | E20: =E53+E86 -> 1.92 | F20: =F53+F86 -> 12.615 | G20: =G53+G86 -> 23.3 | H20: =H53+H86 -> 28.12 | I20: =I53+I86 -> 11.104 | J20: =J53+J86 -> -0.302 | K20: =K53+K86 -> 1.945 | ... S20: =S53+S86 -> 0 | T20: =SUMIF($D$6:$R$6,T$6,$D20:$R20) -> 94.943 | U20: =SUMIF($D$6:$R$6,U$6,$D20:$R20) -> 89.95 | V20: =SUMIF($E$6:$S$6,V$6,$E20:$S20) -> 105.107 | W20: =SUM(T20:V20) -> 290
C21: 9 | D21: =D54+D87 -> 17.884 | E21: =E54+E87 -> 1.92 | F21: =F54+F87 -> 12.615 | G21: =G54+G87 -> 23.3 | H21: =H54+H87 -> 28.12 | I21: =I54+I87 -> 11.104 | J21: =J54+J87 -> -0.302 | K21: =K54+K87 -> 1.945 | ... S21: =S54+S87 -> 0 | T21: =SUMIF($D$6:$R$6,T$6,$D21:$R21) -> 94.943 | U21: =SUMIF($D$6:$R$6,U$6,$D21:$R21) -> 105.781 | V21: =SUMIF($E$6:$S$6,V$6,$E21:$S21) -> 89.276 | W21: =SUM(T21:V21) -> 290
C22: 10 | D22: =D55+D88 -> 17.884 | E22: =E55+E88 -> 1.92 | F22: =F55+F88 -> 12.615 | G22: =G55+G88 -> 23.3 | H22: =H55+H88 -> 28.12 | I22: =I55+I88 -> 11.104 | J22: =J55+J88 -> -0.302 | K22: =K55+K88 -> 1.945 | ... S22: =S55+S88 -> 0 | T22: =SUMIF($D$6:$R$6,T$6,$D22:$R22) -> 94.943 | U22: =SUMIF($D$6:$R$6,U$6,$D22:$R22) -> 105.781 | V22: =SUMIF($E$6:$S$6,V$6,$E22:$S22) -> -8.662 | W22: =SUM(T22:V22) -> 192.062
C23: 11 | D23: =D56+D89 -> 0 | E23: =E56+E89 -> 0 | F23: =F56+F89 -> 0 | G23: =G56+G89 -> 0 | H23: =H56+H89 -> 0 | I23: =I56+I89 -> 0 | J23: =J56+J89 -> 0 | K23: =K56+K89 -> 0 | ... S23: =S56+S89 -> 0 | T23: =SUMIF($D$6:$R$6,T$6,$D23:$R23) -> 0 | U23: =SUMIF($D$6:$R$6,U$6,$D23:$R23) -> 0 | V23: =SUMIF($E$6:$S$6,V$6,$E23:$S23) -> 0 | W23: =SUM(T23:V23) -> 0
C24: 12 | D24: =D57+D90 -> 0 | E24: =E57+E90 -> 0 | F24: =F57+F90 -> 0 | G24: =G57+G90 -> 0 | H24: =H57+H90 -> 0 | I24: =I57+I90 -> 0 | J24: =J57+J90 -> 0 | K24: =K57+K90 -> 0 | ... S24: =S57+S90 -> 0 | T24: =SUMIF($D$6:$R$6,T$6,$D24:$R24) -> 0 | U24: =SUMIF($D$6:$R$6,U$6,$D24:$R24) -> 0 | V24: =SUMIF($E$6:$S$6,V$6,$E24:$S24) -> 0 | W24: =SUM(T24:V24) -> 0
C25: 13 | D25: =D58+D91 -> 0 | E25: =E58+E91 -> 0 | F25: =F58+F91 -> 0 | G25: =G58+G91 -> 0 | H25: =H58+H91 -> 0 | I25: =I58+I91 -> 0 | J25: =J58+J91 -> 0 | K25: =K58+K91 -> 0 | ... S25: =S58+S91 -> 0 | T25: =SUMIF($D$6:$R$6,T$6,$D25:$R25) -> 0 | U25: =SUMIF($D$6:$R$6,U$6,$D25:$R25) -> 0 | V25: =SUMIF($E$6:$S$6,V$6,$E25:$S25) -> 0 | W25: =SUM(T25:V25) -> 0
B26: Actual | C26: 0 | D26: =INDEX(D12:D25,2,1) -> 17.884 | E26: =INDEX(E13:S25,1,1) -> 1.92 | F26: =INDEX(E13:S25,2,2) -> 12.615 | G26: =INDEX(E13:S25,3,3) -> 23.3 | H26: =INDEX($E$13:$S$25,4,4) -> 28.12 | I26: =INDEX($E$13:$S$25,5,5) -> 11.104 | J26: =INDEX($E$13:$S$25,5,6) -> -0.302 | K26: =INDEX($E$13:$S$25,6,7) -> 1.945 | L26: =INDEX($E$13:$S$25,7,8) -> 5.086 | M26: =INDEX($E$13:$S$25,8,9) -> 30.29 | N26: =INDEX($E$13:$S$25,9,10) -> 68.762 | O26: =INDEX($E$13:$S$25,9,11) -> 0 | P26: =INDEX($E$13:$S$25,10,12) -> -8.662 | Q26: =INDEX($E$13:$S$25,11,13) -> 0 | R26: =INDEX($E$13:$S$25,12,14) -> 0 | S26: 0 | T26: =INDEX(T12:T25,MATCH($E$1,C12:C25,0)) -> 94.943 | U26: =INDEX(U12:U25,MATCH($E$1,C12:C25,0)) -> 105.781 | V26: =INDEX(V12:V25,MATCH($E$1,C12:C25,0)) -> -8.662 | W26: =INDEX(W12:W25,MATCH($E$1,C12:C25,0)) -> 192.062
B27: Delta to Target | C27: 0 | D27: =IF(D$9<=$E$2,D26-D10,0) -> 0 | E27: =IF(E$9<=$E$2,E26-E10,0) -> 12.234547 | F27: =IF(F$9<=$E$2,F26-F10,0) -> 10.577323 | G27: =IF(G$9<=$E$2,G26-G10,0) -> 12.085869 | H27: =IF(H$9<=$E$2,H26-H10,0) -> 2.9865086 | I27: =IF(I$9<=$E$2,I26-I10,0) -> 9.8148376 | J27: =IF(J$9<=$E$2,J26-J10,0) -> -0.302 | K27: =IFERROR(IF(K$9<=$E$2,K26-K10,0),0) -> -6.6039997 | L27: =IFERROR(IF(L$9<=$E$2,L26-L10,0),0) -> -11.967918 | M27: =IFERROR(IF(M$9<=$E$2,M26-M10,0),0) -> 9.2726444 | N27: =IFERROR(IF(N$9<=$E$2,N26-N10,0),0) -> 27.250171 | O27: =IFERROR(IF(O$9<=$E$2,O26-O10,0),0) -> 0 | P27: =IFERROR(IF(P$9<=$E$2,P26-P10,0),0) -> -20.279906 | Q27: =IFERROR(IF(Q$9<=$E$2,Q26-Q10,0),0) -> 0 | R27: =IFERROR(IF(R$9<=$E$2,R26-R10,0),0) -> 0 | S27: =IFERROR(IF(S$9<=$E$2,S26-S10,0),0) -> 0 | T27: =IF(T$9<=$E$2,T26-T10,0) -> 47.699085 | U27: =IF(U$9<=$E$2,U26-U10,0) -> 17.648898 | V27: =IF(V$9<=$E$2,V26-V10,0) -> 0 | W27: =IF(W$9<=$E$2,W26-W10,0) -> 0
B28: % to Target | C28: 0 | D28: =IF($E$2<D$9,0,IF(AND(D10=0,D26=0),1,IF(AND(D10=0,D26>0),2,IF(D26<0,0,(D26/D10))))) -> 1 | E28: =IF($E$2<E$9,0,IF(AND(E10=0,E26=0),1,IF(AND(E10=0,E26>0),2,IF(E26<0,0,(E26/E10))))) -> -0.18614487 | F28: =IF($E$2<F$9,0,IF(AND(F10=0,F26=0),1,IF(AND(F10=0,F26>0),2,IF(F26<0,0,(F26/F10))))) -> 6.1908721 | G28: =IF($E$2<G$9,0,IF(AND(G10=0,G26=0),1,IF(AND(G10=0,G26>0),2,IF(G26<0,0,(G26/G10))))) -> 2.0777356 | H28: =IF($E$2<H$9,0,IF(AND(H10=0,H26=0),1,IF(AND(H10=0,H26>0),2,IF(H26<0,0,(H26/H10))))) -> 1.1188259 | I28: =IF($E$2<I$9,0,IF(AND(I10=0,I26=0),1,IF(AND(I10=0,I26>0),2,IF(I26<0,0,(I26/I10))))) -> 8.6133446 | J28: =IF($E$2<J$9,0,IF(AND(J10=0,J26=0),1,IF(AND(J10=0,J26>0),2,IF(J26<0,0,(J26/J10))))) -> 0 | K28: =IF($E$2<K$9,0,IF(AND(K10=0,K26=0),1,IF(AND(K10=0,K26>0),2,IF(K26<0,0,(K26/K10))))) -> 0.227512 | L28: =IFERROR(IF($E$2<L$9,0,IF(AND(L10=0,L26=0),1,IF(AND(L10=0,L26>0),2,IF(L26<0,0,(L26/L10))))),0) -> 0.29823059 | M28: =IFERROR(IF($E$2<M$9,0,IF(AND(M10=0,M26=0),1,IF(AND(M10=0,M26>0),2,IF(M26<0,0,(M26/M10))))),0) -> 1.4411899 | N28: =IFERROR(IF($E$2<N$9,0,IF(AND(N10=0,N26=0),1,IF(AND(N10=0,N26>0),2,IF(N26<0,0,(N26/N10))))),0) -> 1.6564435 | O28: =IFERROR(IF($E$2<O$9,0,IF(AND(O10=0,O26=0),1,IF(AND(O10=0,O26>0),2,IF(O26<0,0,(O26/O10))))),0) -> 1 | P28: =IFERROR(IF($E$2<P$9,0,IF(AND(P10=0,P26=0),1,IF(AND(P10=0,P26>0),2,IF(P26<0,0,(P26/P10))))),0) -> 0 | Q28: =IFERROR(IF($E$2<Q$9,0,IF(AND(Q10=0,Q26=0),1,IF(AND(Q10=0,Q26>0),2,IF(Q26<0,0,(Q26/Q10))))),0) -> 0 | R28: =IFERROR(IF($E$2<R$9,0,IF(AND(R10=0,R26=0),1,IF(AND(R10=0,R26>0),2,IF(R26<0,0,(R26/R10))))),0) -> 0 | S28: =IFERROR(IF($E$2<S$9,0,IF(AND(S10=0,S26=0),1,IF(AND(S10=0,S26>0),2,IF(S26<0,0,(S26/S10))))),0) -> 0 | T28: =IF($E$2<T$9,0,IF(AND(T10=0,T26=0),1,IF(AND(T10=0,T26>0),2,IF(T26<0,0,(T26/T10))))) -> 2.0096345 | U28: =IF($E$2<U$9,0,IF(AND(U10=0,U26=0),1,IF(AND(U10=0,U26>0),2,IF(U26<0,0,(U26/U10))))) -> 1.200255 | V28: =IF($E$2<V$9,0,IF(AND(V10=0,V26=0),1,IF(AND(V10=0,V26>0),2,IF(V26<0,0,(V26/V10))))) -> 0 | W28: =IF($E$2<W$9,0,IF(AND(W10=0,W26=0),1,IF(AND(W10=0,W26>0),2,IF(W26<0,0,(W26/W10))))) -> 0
B29: ="Week "&$E$1&" View" -> Week 10 View | D29: =INDEX(D13:D25,MATCH($E$1,$C$13:$C$25,0)) -> 17.884 | E29: =INDEX(E13:E25,MATCH($E$1,$C$13:$C$25,0)) -> 1.92 | F29: =INDEX(F13:F25,MATCH($E$1,$C$13:$C$25,0)) -> 12.615 | G29: =INDEX(G13:G25,MATCH($E$1,$C$13:$C$25,0)) -> 23.3 | H29: =INDEX(H13:H25,MATCH($E$1,$C$13:$C$25,0)) -> 28.12 | I29: =INDEX(I13:I25,MATCH($E$1,$C$13:$C$25,0)) -> 11.104 | J29: =INDEX(J13:J25,MATCH($E$1,$C$13:$C$25,0)) -> -0.302 | K29: =INDEX(K13:K25,MATCH($E$1,$C$13:$C$25,0)) -> 1.945 | ... W29: =INDEX(W13:W25,MATCH($E$1,$C$13:$C$25,0)) -> 192.062
B30: Linearity | D30: =D29/$T$29 -> 0.18836565 | E30: =E29/$T$29 -> 0.02022266 | F30: =F29/$T$29 -> 0.1328692 | G30: =G29/$T$29 -> 0.2454104 | H30: =H29/$T$29 -> 0.29617771 | I30: =I29/$T$29 -> 0.11695438 | J30: =J29/$U$29 -> -0.002854955 | K30: =K29/$U$29 -> 0.018387045 | L30: =L29/$U$29 -> 0.048080468 | M30: =M29/$U$29 -> 0.28634632 | N30: =N29/$U$29 -> 0.65004112 | O30: =O29/$V$29 -> 0 | P30: =P29/$V$29 -> 1 | Q30: =Q29/$V$29 -> 0 | R30: =R29/$V$29 -> 0 | S30: =S29/$V$29 -> 0 | T30: =T29/$W$29 -> 0.49433516 | U30: =U29/$W$29 -> 0.55076486 | V30: =V29/$W$29 -> -0.04510002
B31: Last 4Q ROL Linearity | I31: 0 | N31: 0 | S31: 0
B32: QTD Actual | C32: 0 | D32: =IF(D$9<=$E$2,D26,0) -> 17.884 | E32: =D26+E26 -> 19.804 | F32: =IF(F$9<=$E$2,F26+E32,0) -> 32.419 | G32: =IF(G$9<=$E$2,G26+F32,0) -> 55.719 | H32: =IF(H$9<=$E$2,H26+G32,0) -> 83.839 | I32: =IF(I$9<=$E$2,I26+H32,0) -> 94.943 | J32: =IF(J$9<=$E$2,J26+I32,0) -> 94.641 | K32: =IF(K$9<=$E$2,K26+J32,0) -> 96.586 | L32: =IF(L$9<=$E$2,L26+K32,0) -> 101.672 | M32: =IF(M$9<=$E$2,M26+L32,0) -> 131.962 | ... S32: =IF(S$9<=$E$2,S26+R32,0) -> 0 | T32: =IFERROR(INDEX(T$13:T$25,$E$1,0)/INDEX($W$13:$W$25,$E$1,0),0) -> 0.49433516 | U32: =IFERROR(INDEX(U$13:U$25,$E$1,0)/INDEX($W$13:$W$25,$E$1,0),0) -> 0.55076486 | V32: =IFERROR(INDEX(V$13:V$25,$E$1,0)/INDEX($W$13:$W$25,$E$1,0),0) -> -0.04510002 | W32: Current
B33: QTD Delta to Tgt | C33: 0 | D33: =IF(D$27=0,0,IF(D$9<=$E$2,D32-D11,D32-D11)) -> 0 | E33: =IF(E$27=0,0,IF(E$9<=$E$2,E32-E11,E32-E11)) -> 12.234547 | F33: =IF(F$27=0,0,IF(F$9<=$E$2,F32-F11,F32-F11)) -> 22.81187 | G33: =IF(G$27=0,0,IF(G$9<=$E$2,G32-G11,G32-G11)) -> 34.897739 | H33: =IF(H$27=0,0,IF(H$9<=$E$2,H32-H11,H32-H11)) -> 37.884247 | I33: =IF(I$27=0,0,IF(I$9<=$E$2,I32-I11,I32-I11)) -> 47.699085 | J33: =IF(J$27=0,0,IF(J$9<=$E$2,J32-J11,J32-J11)) -> 47.397085 | K33: =IF(K$27=0,0,IF(K$9<=$E$2,K32-K11,K32-K11)) -> 40.793085 | ... S33: =IF(S$27=0,0,IF(S$9<=$E$2,S32-S11,S32-S11)) -> 0 | T33: 0.12976066 | U33: 0.22639287 | V33: 0.64384647 | W33: Last 4Q
B34: % to Target | C34: 0 | D34: =IF($E$2<D$9,0,IF(AND(D11=0,D32=0),1,IF(AND(D11=0,D32>0),2,IF(D32<0,0,(D32/D11))))) -> 1 | E34: =IF($E$2<E$9,0,IF(AND(E11=0,E32=0),1,IF(AND(E11=0,E32>0),2,IF(E32<0,0,(E32/E11))))) -> 2.6163054 | F34: =IF($E$2<F$9,0,IF(AND(F11=0,F32=0),1,IF(AND(F11=0,F32>0),2,IF(F32<0,0,(F32/F11))))) -> 3.3744729 | G34: =IF($E$2<G$9,0,IF(AND(G11=0,G32=0),1,IF(AND(G11=0,G32>0),2,IF(G32<0,0,(G32/G11))))) -> 2.6760626 | H34: =IF($E$2<H$9,0,IF(AND(H11=0,H32=0),1,IF(AND(H11=0,H32>0),2,IF(H32<0,0,(H32/H11))))) -> 1.8243815 | I34: =IF($E$2<I$9,0,IF(AND(I11=0,I32=0),1,IF(AND(I11=0,I32>0),2,IF(I32<0,0,(I32/I11))))) -> 2.0096345 | J34: =IF($E$2<J$9,0,IF(AND(J11=0,J32=0),1,IF(AND(J11=0,J32>0),2,IF(J32<0,0,(J32/J11))))) -> 2.0032421 | K34: =IF($E$2<K$9,0,IF(AND(K11=0,K32=0),1,IF(AND(K11=0,K32>0),2,IF(K32<0,0,(K32/K11))))) -> 1.7311517 | ... S34: =IF($E$2<S$9,0,IF(AND(S11=0,S32=0),1,IF(AND(S11=0,S32>0),2,IF(S32<0,0,(S32/S11))))) -> 0 | T34: 0.095327512 | U34: 0.26320876 | V34: 0.64146373 | W34: Last 3Y
B35: Fy Q2 2425 | D35: =D68+D101 -> 9.558 | E35: =E68+E101 -> -4.103 | F35: =F68+F101 -> 2.533 | G35: =G68+G101 -> 1.107 | H35: =H68+H101 -> 5.419 | I35: =I68+I101 -> 5.832 | J35: =J68+J101 -> 1.873 | K35: =K68+K101 -> 6.332 | ... S35: =S68+S101 -> 75.552 | T35: =SUM(D35:I35) -> 20.346 | U35: =SUM(J35:N35) -> 99.517 | V35: =SUM(O35:S35) -> 123.496 | W35: =SUM(T35:V35) -> 243.359
B36: Fy Q3 2324 | D36: ='OL-Onshore'!D36+'OL-Overseas'!D36 -> 13.41 | E36: ='OL-Onshore'!E36+'OL-Overseas'!E36 -> -7.234 | F36: ='OL-Onshore'!F36+'OL-Overseas'!F36 -> 0.572 | G36: ='OL-Onshore'!G36+'OL-Overseas'!G36 -> 3.063 | H36: ='OL-Onshore'!H36+'OL-Overseas'!H36 -> 25.741 | I36: ='OL-Onshore'!I36+'OL-Overseas'!I36 -> 19.919 | J36: ='OL-Onshore'!J36+'OL-Overseas'!J36 -> 4.235 | K36: ='OL-Onshore'!K36+'OL-Overseas'!K36 -> 13.211 | ... S36: ='OL-Onshore'!S36+'OL-Overseas'!S36 -> 64.633 | T36: =SUM(D36:I36) -> 55.471 | U36: =SUM(J36:N36) -> 135.364 | V36: =SUM(O36:S36) -> 168.236 | W36: =SUM(T36:V36) -> 359.071
B38: ="Consumer OL DT WF"&" "&RIGHT(B5,8) -> Consumer OL DT WF Q3FY2526
C39: Month | D39: =D$6 -> 1 | E39: =E$6 -> 1 | F39: =F$6 -> 1 | G39: =G$6 -> 1 | H39: =H$6 -> 1 | I39: =I$6 -> 1 | J39: =J$6 -> 2 | K39: =K$6 -> 2 | ... W39: =W$6 -> QTR
C40: Week | D40: =D7 -> OB | E40: =E7 -> 1 | F40: =F7 -> 2 | G40: =G7 -> 3 | H40: =H7 -> 4 | I40: =I7 -> 5 | J40: =J7 -> 5 | K40: =K7 -> 6 | ... W40: =W7 -> 0
C41: Begin | D41: =D$8 -> 45931 | E41: =E$8 -> 45931 | F41: =F$8 -> 45936 | G41: =G$8 -> 45943 | H41: =H$8 -> 45950 | I41: =I$8 -> 45957 | J41: =J$8 -> 45962 | K41: =K$8 -> 45964 | ... W41: =W$8 -> 45931
C42: End | D42: =D$9 -> 45931 | E42: =E$9 -> 45935 | F42: =F$9 -> 45942 | G42: =G$9 -> 45949 | H42: =H$9 -> 45956 | I42: =I$9 -> 45961 | J42: =J$9 -> 45963 | K42: =K$9 -> 45970 | ... W42: =W$9 -> 46022
B43: Target | C43: Week | D43: ='OL-Onshore'!D43+'OL-Overseas'!D43 -> 1.517 | E43: ='OL-Onshore'!E43+'OL-Overseas'!E43 -> -0.87219476 | F43: ='OL-Onshore'!F43+'OL-Overseas'!F43 -> 0.17357992 | G43: ='OL-Onshore'!G43+'OL-Overseas'!G43 -> 0.95527785 | H43: ='OL-Onshore'!H43+'OL-Overseas'!I43 -> 2.1410011 | I43: ='OL-Onshore'!I43+'OL-Overseas'!J43 -> 0.10981754 | J43: ='OL-Onshore'!J43+'OL-Overseas'!K43 -> 0 | K43: ='OL-Onshore'!K43+'OL-Overseas'!L43 -> 0.72824813 | L43: ='OL-Onshore'!L43+'OL-Overseas'!M43 -> 1.4527411 | M43: ='OL-Onshore'!M43+'OL-Overseas'!N43 -> 1.7903673 | N43: ='OL-Onshore'!N43+'OL-Overseas'!O43 -> 3.5361928 | O43: ='OL-Onshore'!O43+'OL-Overseas'!P43 -> 0 | ... S43: ='OL-Onshore'!S43+'OL-Overseas'!T43 -> 7.6839483 | T43: =SUM(D43:H43) -> 3.9146641 | U43: =SUM(J43:N43) -> 7.5075494 | V43: =SUM(O43:S43) -> 11.467969 | W43: =SUM(T43:V43) -> 22.890182
...

Sheet OL-Onshore
C1: Week# | D1: ='OL -Overall'!E1 -> 10 | T1: DT | U1: 0.18446154 | V1: 0.37184615 | W1: 0.44369231
C2: Weekending dt: | D2: ='OL -Overall'!E2 -> 45998 | T2: NB | U2: 0.21 | V2: 0.32 | W2: 0.47
B5: Consumer OL India WF Q3FY2526
C6: Month | D6: ='OL -Overall'!D6 -> 1 | E6: ='OL -Overall'!E6 -> 1 | F6: ='OL -Overall'!F6 -> 1 | G6: ='OL -Overall'!G6 -> 1 | H6: ='OL -Overall'!H6 -> 1 | I6: 1 | J6: 2 | K6: ='OL -Overall'!K6 -> 2 | L6: ='OL -Overall'!L6 -> 2 | M6: ='OL -Overall'!M6 -> 2 | N6: ='OL -Overall'!N6 -> 2 | O6: 3 | P6: ='OL -Overall'!P6 -> 3 | Q6: ='OL -Overall'!Q6 -> 3 | R6: ='OL -Overall'!R6 -> 3 | S6: ='OL -Overall'!S6 -> 3 | T6: ='OL -Overall'!T6 -> 1 | U6: ='OL -Overall'!U6 -> 2 | V6: ='OL -Overall'!V6 -> 3 | W6: ='OL -Overall'!W6 -> QTR
C7: Week | D7: OB | E7: ='OL -Overall'!E7 -> 1 | F7: ='OL -Overall'!F7 -> 2 | G7: ='OL -Overall'!G7 -> 3 | H7: ='OL -Overall'!H7 -> 4 | I7: ='OL -Overall'!I7 -> 5 | J7: ='OL -Overall'!J7 -> 5 | K7: ='OL -Overall'!K7 -> 6 | L7: ='OL -Overall'!L7 -> 7 | ... W7: ='OL -Overall'!W7 -> 0
C8: Begin | D8: ='OL -Overall'!D8 -> 45931 | E8: ='OL -Overall'!E8 -> 45931 | F8: ='OL -Overall'!F8 -> 45936 | G8: ='OL -Overall'!G8 -> 45943 | H8: ='OL -Overall'!H8 -> 45950 | I8: ='OL -Overall'!I8 -> 45957 | J8: ='OL -Overall'!J8 -> 45962 | K8: ='OL -Overall'!K8 -> 45964 | ... W8: ='OL -Overall'!W8 -> 45931
C9: End | D9: ='OL -Overall'!D9 -> 45931 | E9: ='OL -Overall'!E9 -> 45935 | F9: ='OL -Overall'!F9 -> 45942 | G9: ='OL -Overall'!G9 -> 45949 | H9: ='OL -Overall'!H9 -> 45956 | I9: ='OL -Overall'!I9 -> 45961 | J9: ='OL -Overall'!J9 -> 45963 | K9: ='OL -Overall'!K9 -> 45970 | ... W9: ='OL -Overall'!W9 -> 46022
B10: Target | C10: Week | D10: =D43+D76 -> 14.978 | E10: =E43+E76 -> -10.314547 | F10: =F43+F76 -> 1.9301297 | G10: =G43+G76 -> 10.622255 | H10: =H43+H76 -> 23.806957 | I10: =I43+I76 -> 1.221121 | J10: =J43+J76 -> 0 | K10: =K43+K76 -> 7.869985 | ... S10: =S43+S76 -> 84.842586 | T10: =SUMIF($D$6:$S$6,T$6,$D10:$S10) -> 42.243915 | U10: =SUMIF($E$6:$S$6,U$6,$E10:$S10) -> 81.132102 | V10: =SUMIF($E$6:$S$6,V$6,$E10:$S10) -> 126.62398 | W10: =SUM(T10:V10) -> 250
C11: QTD | D11: =D10 -> 14.978 | E11: =E10+D11 -> 4.6634528 | F11: =E11+F10 -> 6.5935825 | G11: =F11+G10 -> 17.215837 | H11: =G11+H10 -> 41.022794 | I11: =H11+I10 -> 42.243915 | J11: =I11+J10 -> 42.243915 | K11: =J11+K10 -> 50.1139 | L11: =K11+L10 -> 65.81329 | M11: =L11+M10 -> 85.161316 | ... S11: =R11+S10 -> 250 | T11: =IFERROR(T10/$W10,0) -> 0.16897566 | U11: =IFERROR(U10/$W10,0) -> 0.32452841 | V11: =IFERROR(V10/$W10,0) -> 0.50649593
C12: 0 | D12: =D45+D78 -> 14.978 | E12: =E45+E78 -> -10.314547 | F12: =F45+F78 -> 1.9301297 | G12: =G45+G78 -> 10.622255 | H12: =H45+H78 -> 23.806957 | I12: =I45+I78 -> 1.221121 | J12: =J45+J78 -> 0 | K12: =K45+K78 -> 7.869985 | ... S12: =S45+S78 -> 84.842586 | T12: =SUMIF($D$6:$S$6,T$6,$D12:$S12) -> 42.243915 | U12: =SUMIF($E$6:$S$6,U$6,$E12:$S12) -> 81.132102 | V12: =SUMIF($E$6:$S$6,V$6,$E12:$S12) -> 126.62398 | W12: =SUM(T12:V12) -> 250
B13: Week | C13: 1 | D13: =D46+D79 -> 14.978 | E13: =E46+E79 -> 1.552 | F13: =F46+F79 -> 1.462217 | G13: =G46+G79 -> 8.0471492 | H13: =H46+H79 -> 18.035544 | I13: =I46+I79 -> 0.92509013 | J13: =J46+J79 -> 0 | K13: =K46+K79 -> 5.8201265 | ... S13: =S46+S79 -> 97.155173 | T13: =SUMIF($D$6:$S$6,T$6,$D13:$S13) -> 45 | U13: =SUMIF($E$6:$S$6,U$6,$E13:$S13) -> 60 | V13: =SUMIF($E$6:$S$6,V$6,$E13:$S13) -> 145 | W13: =SUM(T13:V13) -> 250
C14: 2 | D14: =D47+D80 -> 14.978 | E14: =IF($C14<=$D$1,E13,0) -> 1.552 | F14: =F47+F80 -> 10.46 | G14: =G47+G80 -> 8.0471492 | H14: =H47+H80 -> 8.3934629 | I14: =I47+I80 -> 1.5693879 | J14: =J47+J80 -> 0 | K14: =K47+K80 -> 5.8201265 | L14: =L47+L80 -> 11.610242 | M14: =M47+M80 -> 14.308536 | ... S14: =S47+S80 -> 97.155173 | T14: =SUMIF($D$6:$S$6,T$6,$D14:$S14) -> 45 | U14: =SUMIF($E$6:$S$6,U$6,$E14:$S14) -> 60 | V14: =SUMIF($E$6:$S$6,V$6,$E14:$S14) -> 145 | W14: =SUM(T14:V14) -> 250
C15: 3 | D15: =D48+D81 -> 14.978 | E15: =IF($C15<=$D$1,E14,0) -> 1.552 | F15: =IF($C15<=$D$1,F14,0) -> 10.46 | G15: =G48+G81 -> 15.492 | H15: =H48+H81 -> 4.581145 | I15: =I48+I81 -> 2.936855 | J15: =J48+J81 -> 0 | K15: =K48+K81 -> 8.9734274 | L15: =L48+L81 -> 17.900584 | M15: =M48+M81 -> 22.060793 | N15: =N48+N81 -> 36.065195 | ... S15: =S48+S81 -> 0 | T15: =SUMIF($D$6:$R$6,T$6,$D15:$R15) -> 50 | U15: =SUMIF($D$6:$R$6,U$6,$D15:$R15) -> 85 | V15: =SUMIF($E$6:$S$6,V$6,$E15:$S15) -> 125 | W15: =SUM(T15:V15) -> 260
C16: 4 | D16: =D49+D82 -> 14.978 | E16: =IF($C16<=$D$1,E15,0) -> 1.552 | F16: =IF($C16<=$D$1,F15,0) -> 10.46 | G16: =IF($C16<=$D$1,G15,0) -> 15.492 | H16: =H49+H82 -> 21.465 | I16: =I49+I82 -> 5 | J16: =J49+J82 -> 0 | K16: =K49+K82 -> 8.9734274 | L16: =L49+L82 -> 17.900584 | M16: =M49+M82 -> 22.060793 | N16: =N49+N82 -> 36.065195 | O16: =O49+O82 -> 0 | ... S16: =S49+S82 -> 0 | T16: =SUMIF($D$6:$R$6,T$6,$D16:$R16) -> 68.947 | U16: =SUMIF($D$6:$R$6,U$6,$D16:$R16) -> 85 | V16: =SUMIF($E$6:$S$6,V$6,$E16:$S16) -> 106.053 | W16: =SUM(T16:V16) -> 260
C17: 5 | D17: =D50+D83 -> 14.978 | E17: =IF($C17<=$D$1,E16,0) -> 1.552 | F17: =IF($C17<=$D$1,F16,0) -> 10.46 | G17: =IF($C17<=$D$1,G16,0) -> 15.492 | H17: =IF($C17<=$D$1,H16,0) -> 21.465 | I17: =I50+I83 -> 9.946 | J17: =J50+J83 -> 0.118 | K17: =K50+K83 -> 8.9734274 | L17: =L50+L83 -> 17.900584 | M17: =M50+M83 -> 22.060793 | N17: =N50+N83 -> 30.363195 | O17: =O50+O83 -> 0 | P17: =P50+P83 -> 29.206759 | ... S17: =S50+S83 -> 0 | T17: =SUMIF($D$6:$R$6,T$6,$D17:$R17) -> 73.893 | U17: =SUMIF($D$6:$R$6,U$6,$D17:$R17) -> 79.416 | V17: =SUMIF($E$6:$S$6,V$6,$E17:$S17) -> 106.053 | W17: =SUM(T17:V17) -> 259.362
C18: 6 | D18: =D51+D84 -> 14.978 | E18: =IF($C18<=$D$1,E17,0) -> 1.552 | F18: =IF($C18<=$D$1,F17,0) -> 10.46 | G18: =IF($C18<=$D$1,G17,0) -> 15.492 | H18: =IF($C18<=$D$1,H17,0) -> 21.465 | I18: =IF($C18<=$D$1,I17,0) -> 9.946 | J18: =IF($C18<=$D$1,J17,0) -> 0.118 | K18: =K51+K84 -> -0.257 | L18: =L51+L84 -> 15.698584 | M18: =M51+M84 -> 22.060793 | N18: =N51+N84 -> 39.593623 | O18: =O51+O84 -> 0 | P18: =P51+P84 -> 29.206759 | Q18: =Q51+Q84 -> 49.792574 | R18: =R51+R84 -> 27.053667 | S18: =S51+S84 -> 0 | T18: =SUMIF($D$6:$R$6,T$6,$D18:$R18) -> 73.893 | U18: =SUMIF($D$6:$R$6,U$6,$D18:$R18) -> 77.214 | V18: =SUMIF($E$6:$S$6,V$6,$E18:$S18) -> 106.053 | W18: =SUM(T18:V18) -> 257.16
C19: 7 | D19: =D52+D85 -> 14.978 | E19: =IF($C19<=$D$1,E18,0) -> 1.552 | F19: =IF($C19<=$D$1,F18,0) -> 10.46 | G19: =IF($C19<=$D$1,G18,0) -> 15.492 | H19: =IF($C19<=$D$1,H18,0) -> 21.465 | I19: =IF($C19<=$D$1,I18,0) -> 9.946 | J19: =IF($C19<=$D$1,J18,0) -> 0.118 | K19: =IF($C19<=$D$1,K18,0) -> -0.257 | L19: =L52+L85 -> 3.943 | M19: =M52+M85 -> 21.442534 | N19: =N52+N85 -> 48.753466 | O19: =O52+O85 -> 0 | P19: =P52+P85 -> 30.99214 | Q19: =Q52+Q85 -> 52.853227 | R19: =R52+R85 -> 28.261633 | S19: =S52+S85 -> 0 | T19: =SUMIF($D$6:$R$6,T$6,$D19:$R19) -> 73.893 | U19: =SUMIF($D$6:$R$6,U$6,$D19:$R19) -> 74 | V19: =SUMIF($E$6:$S$6,V$6,$E19:$S19) -> 112.107 | W19: =SUM(T19:V19) -> 260
C20: 8 | D20: =D53+D86 -> 14.978 | E20: =IF($C20<=$D$1,E19,0) -> 1.552 | F20: =IF($C20<=$D$1,F19,0) -> 10.46 | G20: =IF($C20<=$D$1,G19,0) -> 15.492 | H20: =IF($C20<=$D$1,H19,0) -> 21.465 | I20: =IF($C20<=$D$1,I19,0) -> 9.946 | J20: =IF($C20<=$D$1,J19,0) -> 0.118 | K20: =IF($C20<=$D$1,K19,0) -> -0.257 | L20: =IF($C20<=$D$1,L19,0) -> 3.943 | M20: =M53+M86 -> 26.21 | N20: =N53+N86 -> 50.986 | O20: =O53+O86 -> 0 | P20: =P53+P86 -> 28.927775 | Q20: =Q53+Q86 -> 49.314315 | R20: =R53+R86 -> 26.86491 | S20: =S53+S86 -> 0 | T20: =SUMIF($D$6:$R$6,T$6,$D20:$R20) -> 73.893 | U20: =SUMIF($D$6:$R$6,U$6,$D20:$R20) -> 81 | V20: =SUMIF($E$6:$S$6,V$6,$E20:$S20) -> 105.107 | W20: =SUM(T20:V20) -> 260
C21: 9 | D21: =D54+D87 -> 14.978 | E21: =IF($C21<=$D$1,E20,0) -> 1.552 | F21: =IF($C21<=$D$1,F20,0) -> 10.46 | G21: =IF($C21<=$D$1,G20,0) -> 15.492 | H21: =IF($C21<=$D$1,H20,0) -> 21.465 | I21: =IF($C21<=$D$1,I20,0) -> 9.946 | J21: =IF($C21<=$D$1,J20,0) -> 0.118 | K21: =IF($C21<=$D$1,K20,0) -> -0.257 | L21: =IF($C21<=$D$1,L20,0) -> 3.943 | M21: =IF($C21<=$D$1,M20,0) -> 26.21 | N21: =N54+N87 -> 61.562 | O21: =O54+O87 -> 0 | P21: =P54+P87 -> 19.950226 | Q21: =Q54+Q87 -> 49.314315 | R21: =R54+R87 -> 20.011459 | S21: =S54+S87 -> 0 | T21: =SUMIF($D$6:$R$6,T$6,$D21:$R21) -> 73.893 | U21: =SUMIF($D$6:$R$6,U$6,$D21:$R21) -> 91.576 | V21: =SUMIF($E$6:$S$6,V$6,$E21:$S21) -> 89.276 | W21: =SUM(T21:V21) -> 254.745
C22: 10 | D22: =D55+D88 -> 14.978 | E22: =IF($C22<=$D$1,E21,0) -> 1.552 | F22: =IF($C22<=$D$1,F21,0) -> 10.46 | G22: =IF($C22<=$D$1,G21,0) -> 15.492 | H22: =IF($C22<=$D$1,H21,0) -> 21.465 | I22: =IF($C22<=$D$1,I21,0) -> 9.946 | J22: =IF($C22<=$D$1,J21,0) -> 0.118 | K22: =IF($C22<=$D$1,K21,0) -> -0.257 | L22: =IF($C22<=$D$1,L21,0) -> 3.943 | ... O22: =IF($C22<=$D$1,O21,0) -> 0 | P22: =P55+P88 -> 1.88 | Q22: =Q55+Q88 -> 0 | R22: =R55+R88 -> 0 | S22: =S55+S88 -> 0 | T22: =SUMIF($D$6:$R$6,T$6,$D22:$R22) -> 73.893 | U22: =SUMIF($D$6:$R$6,U$6,$D22:$R22) -> 91.576 | V22: =SUMIF($E$6:$S$6,V$6,$E22:$S22) -> 1.88 | W22: =SUM(T22:V22) -> 167.349
C23: 11 | D23: =D56+D89 -> 0 | E23: =IF($C23<=$D$1,E22,0) -> 0 | F23: =IF($C23<=$D$1,F22,0) -> 0 | G23: =IF($C23<=$D$1,G22,0) -> 0 | H23: =IF($C23<=$D$1,H22,0) -> 0 | I23: =IF($C23<=$D$1,I22,0) -> 0 | J23: =IF($C23<=$D$1,J22,0) -> 0 | K23: =IF($C23<=$D$1,K22,0) -> 0 | L23: =IF($C23<=$D$1,L22,0) -> 0 | ... P23: =IF($C23<=$D$1,P22,0) -> 0 | Q23: =Q56+Q89 -> 0 | R23: =R56+R89 -> 0 | S23: =S56+S89 -> 0 | T23: =SUMIF($D$6:$R$6,T$6,$D23:$R23) -> 0 | U23: =SUMIF($D$6:$R$6,U$6,$D23:$R23) -> 0 | V23: =SUMIF($E$6:$S$6,V$6,$E23:$S23) -> 0 | W23: =SUM(T23:V23) -> 0
C24: 12 | D24: =D57+D90 -> 0 | E24: =IF($C24<=$D$1,E23,0) -> 0 | F24: =IF($C24<=$D$1,F23,0) -> 0 | G24: =IF($C24<=$D$1,G23,0) -> 0 | H24: =IF($C24<=$D$1,H23,0) -> 0 | I24: =IF($C24<=$D$1,I23,0) -> 0 | J24: =IF($C24<=$D$1,J23,0) -> 0 | K24: =IF($C24<=$D$1,K23,0) -> 0 | L24: =IF($C24<=$D$1,L23,0) -> 0 | ... Q24: =IF($C24<=$D$1,Q23,0) -> 0 | R24: =R57+R90 -> 0 | S24: =S57+S90 -> 0 | T24: =SUMIF($D$6:$R$6,T$6,$D24:$R24) -> 0 | U24: =SUMIF($D$6:$R$6,U$6,$D24:$R24) -> 0 | V24: =SUMIF($E$6:$S$6,V$6,$E24:$S24) -> 0 | W24: =SUM(T24:V24) -> 0
C25: 13 | D25: =D58+D91 -> 0 | E25: =IF($C25<=$D$1,E24,0) -> 0 | F25: =IF($C25<=$D$1,F24,0) -> 0 | G25: =IF($C25<=$D$1,G24,0) -> 0 | H25: =IF($C25<=$D$1,H24,0) -> 0 | I25: =IF($C25<=$D$1,I24,0) -> 0 | J25: =IF($C25<=$D$1,J24,0) -> 0 | K25: =IF($C25<=$D$1,K24,0) -> 0 | L25: =IF($C25<=$D$1,L24,0) -> 0 | ... R25: =IF($C25<=$D$1,R24,0) -> 0 | S25: =S58+S91 -> 0 | T25: =SUMIF($D$6:$R$6,T$6,$D25:$R25) -> 0 | U25: =SUMIF($D$6:$R$6,U$6,$D25:$R25) -> 0 | V25: =SUMIF($E$6:$S$6,V$6,$E25:$S25) -> 0 | W25: =SUM(T25:V25) -> 0
B26: Actual | C26: 0 | D26: =INDEX(D12:D25,MATCH($D$1,$C$12:$C$25,0)) -> 14.978 | E26: =INDEX(E12:E25,MATCH($D$1,$C$12:$C$25,0)) -> 1.552 | F26: =INDEX(F12:F25,MATCH($D$1,$C$12:$C$25,0)) -> 10.46 | G26: =INDEX(G12:G25,MATCH($D$1,$C$12:$C$25,0)) -> 15.492 | H26: =INDEX(H12:H25,MATCH($D$1,$C$12:$C$25,0)) -> 21.465 | I26: =INDEX(I12:I25,MATCH($D$1,$C$12:$C$25,0)) -> 9.946 | J26: =INDEX(J12:J25,MATCH($D$1,$C$12:$C$25,0)) -> 0.118 | K26: =INDEX(K12:K25,MATCH($D$1,$C$12:$C$25,0)) -> -0.257 | ... M26: =INDEX(M12:M25,MATCH($D$1,$C$12:$C$25,0)) -> 26.21 | N26: 0 | O26: 0 | P26: 0 | Q26: 0 | R26: 0 | S26: 0 | T26: =INDEX(T12:T25,MATCH($D$1,$C$12:$C$25,0)) -> 73.893 | U26: =INDEX(U12:U25,MATCH($D$1,$C$12:$C$25,0)) -> 91.576 | V26: =INDEX(V12:V25,MATCH($D$1,$C$12:$C$25,0)) -> 1.88 | W26: =INDEX(W12:W25,MATCH($D$1,$C$12:$C$25,0)) -> 167.349
B27: Delta to Target | C27: 0 | D27: =IF(D$9<=$D$2,D26-D10,0) -> 0 | E27: =IF(E$9<=$D$2,E26-E10,0) -> 11.866547 | F27: =IF(F$9<=$D$2,F26-F10,0) -> 8.5298703 | G27: =IF(G$9<=$D$2,G26-G10,0) -> 4.8697454 | H27: =IF(H$9<=$D$2,H26-H10,0) -> -2.3419572 | I27: =IF(I$9<=$D$2,I26-I10,0) -> 8.724879 | J27: =IF(J$9<=$D$2,J26-J10,0) -> 0.118 | K27: =IF(K$9<=$D$2,K26-K10,0) -> -8.126985 | ... W27: =IF(W$9<=$D$2,W26-W10,0) -> 0
B28: % to Target | C28: 0 | D28: =IF($D$2<D$9,0,IF(AND(D10=0,D26=0),1,IF(AND(D10=0,D26>0),2,IF(D26<0,0,(D26/D10))))) -> 1 | E28: =IF($D$2<E$9,0,IF(AND(E10=0,E26=0),1,IF(AND(E10=0,E26>0),2,IF(E26<0,0,(E26/E10))))) -> -0.1504671 | F28: =IF($D$2<F$9,0,IF(AND(F10=0,F26=0),1,IF(AND(F10=0,F26>0),2,IF(F26<0,0,(F26/F10))))) -> 5.419325 | G28: =IF($D$2<G$9,0,IF(AND(G10=0,G26=0),1,IF(AND(G10=0,G26>0),2,IF(G26<0,0,(G26/G10))))) -> 1.4584474 | H28: =IF($D$2<H$9,0,IF(AND(H10=0,H26=0),1,IF(AND(H10=0,H26>0),2,IF(H26<0,0,(H26/H10))))) -> 0.90162719 | I28: =IF($D$2<I$9,0,IF(AND(I10=0,I26=0),1,IF(AND(I10=0,I26>0),2,IF(I26<0,0,(I26/I10))))) -> 8.144975 | J28: =IF($D$2<J$9,0,IF(AND(J10=0,J26=0),1,IF(AND(J10=0,J26>0),2,IF(J26<0,0,(J26/J10))))) -> 2 | K28: =IF($D$2<K$9,0,IF(AND(K10=0,K26=0),1,IF(AND(K10=0,K26>0),2,IF(K26<0,0,(K26/K10))))) -> 0 | ... W28: =IF($D$2<W$9,0,IF(AND(W10=0,W26=0),1,IF(AND(W10=0,W26>0),2,IF(W26<0,0,(W26/W10))))) -> 0
B29: ="Week "&$D$1&" View" -> Week 10 View | D29: =INDEX(D13:D25,MATCH($D$1,$C$13:$C$25,0)) -> 14.978 | E29: =INDEX(E13:E25,MATCH($D$1,$C$13:$C$25,0)) -> 1.552 | F29: =INDEX(F13:F25,MATCH($D$1,$C$13:$C$25,0)) -> 10.46 | G29: =INDEX(G13:G25,MATCH($D$1,$C$13:$C$25,0)) -> 15.492 | H29: =INDEX(H13:H25,MATCH($D$1,$C$13:$C$25,0)) -> 21.465 | I29: =INDEX(I13:I25,MATCH($D$1,$C$13:$C$25,0)) -> 9.946 | J29: =INDEX(J13:J25,MATCH($D$1,$C$13:$C$25,0)) -> 0.118 | K29: =INDEX(K13:K25,MATCH($D$1,$C$13:$C$25,0)) -> -0.257 | ... W29: =INDEX(W13:W25,MATCH($D$1,$C$13:$C$25,0)) -> 167.349
B30: Linearity | D30: =D29/$T$29 -> 0.2026985 | E30: =E29/$T$29 -> 0.021003343 | F30: =F29/$T$29 -> 0.14155603 | G30: =G29/$T$29 -> 0.2096545 | H30: =H29/$T$29 -> 0.2904876 | I30: =I29/$T$29 -> 0.13460003 | J30: =IFERROR(J29/$U$29,0) -> 0.0012885472 | K30: =IFERROR(K29/$U$29,0) -> -0.0028064122 | L30: =IFERROR(L29/$U$29,0) -> 0.043057133 | M30: =IFERROR(M29/$U$29,0) -> 0.28621036 | N30: =IFERROR(N29/$U$29,0) -> 0.67225037 | O30: =IFERROR(O29/$V$29,0) -> 0 | P30: =IFERROR(P29/$V$29,0) -> 1 | Q30: =IFERROR(Q29/$V$29,0) -> 0 | R30: =IFERROR(R29/$V$29,0) -> 0 | S30: =IFERROR(S29/$V$29,0) -> 0 | T30: =IFERROR(T29/$W$29,0) -> 0.44155029 | U30: =IFERROR(U29/$W$29,0) -> 0.5472157 | V30: =IFERROR(V29/$W$29,0) -> 0.011234008
B31: Last 4Q ROL Linearity | J31: 0 | N31: 0 | O31: 0 | P31: 0 | Q31: 0 | R31: 0 | S31: 0
B32: QTD Actual | C32: 0 | D32: =IF(D$9<=$D$2,D26,0) -> 14.978 | E32: =IF(E$9<=$D$2,E26,0) -> 1.552 | F32: =IF(F$9<=$D$2,F26+E32,0) -> 12.012 | G32: =IF(G$9<=$D$2,G26+F32,0) -> 27.504 | H32: =IF(H$9<=$D$2,H26+G32,0) -> 48.969 | I32: =IF(I$9<=$D$2,I26+H32,0) -> 58.915 | J32: =IF(J$9<=$D$2,J26+I32,0) -> 59.033 | K32: =IF(K$9<=$D$2,K26+J32,0) -> 58.776 | L32: =IF(L$9<=$D$2,L26+K32,0) -> 62.719 | M32: =IF(M$9<=$D$2,M26+L32,0) -> 88.929 | ... S32: =IF(S$9<=$D$2,S26+R32,0) -> 0 | T32: =IFERROR(INDEX(T$13:T$25,$D$1,0)/INDEX($W$13:$W$25,$D$1,0),0) -> 0.44155029 | U32: =IFERROR(INDEX(U$13:U$25,$D$1,0)/INDEX($W$13:$W$25,$D$1,0),0) -> 0.5472157 | V32: =IFERROR(INDEX(V$13:V$25,$D$1,0)/INDEX($W$13:$W$25,$D$1,0),0) -> 0.011234008 | W32: Current
B33: QTD Delta to Tgt | C33: 0 | D33: =IF(D$27=0,0,IF(D$9<=$D$2,D32-D11,D32-D11)) -> 0 | E33: =IF(E$27=0,0,IF(E$9<=$D$2,E32-E11,E32-E11)) -> -3.1114528 | F33: =IF(F$27=0,0,IF(F$9<=$D$2,F32-F11,F32-F11)) -> 5.4184175 | G33: =IF(G$27=0,0,IF(G$9<=$D$2,G32-G11,G32-G11)) -> 10.288163 | H33: =IF(H$27=0,0,IF(H$9<=$D$2,H32-H11,H32-H11)) -> 7.9462058 | I33: =IF(I$27=0,0,IF(I$9<=$D$2,I32-I11,I32-I11)) -> 16.671085 | J33: =IF(J$27=0,0,IF(J$9<=$D$2,J32-J11,J32-J11)) -> 16.789085 | K33: =IF(K$27=0,0,IF(K$9<=$D$2,K32-K11,K32-K11)) -> 8.6620998 | ... S33: =IF(S$27=0,0,IF(S$9<=$D$2,S32-S11,S32-S11)) -> 0 | T33: 0 | U33: 0 | V33: 0 | W33: Last 4Q
B34: % to Target | C34: 0 | D34: =IF($D$2<D$9,0,IF(AND(D11=0,D32=0),1,IF(AND(D11=0,D32>0),2,IF(D32<0,0,(D32/D11))))) -> 1 | E34: =IF($D$2<E$9,0,IF(AND(E11=0,E32=0),1,IF(AND(E11=0,E32>0),2,IF(E32<0,0,(E32/E11))))) -> 0.33280062 | F34: =IF($D$2<F$9,0,IF(AND(F11=0,F32=0),1,IF(AND(F11=0,F32>0),2,IF(F32<0,0,(F32/F11))))) -> 1.8217714 | G34: =IF($D$2<G$9,0,IF(AND(G11=0,G32=0),1,IF(AND(G11=0,G32>0),2,IF(G32<0,0,(G32/G11))))) -> 1.5975988 | H34: =IF($D$2<H$9,0,IF(AND(H11=0,H32=0),1,IF(AND(H11=0,H32>0),2,IF(H32<0,0,(H32/H11))))) -> 1.1937022 | I34: =IF($D$2<I$9,0,IF(AND(I11=0,I32=0),1,IF(AND(I11=0,I32>0),2,IF(I32<0,0,(I32/I11))))) -> 1.3946387 | J34: =IF($D$2<J$9,0,IF(AND(J11=0,J32=0),1,IF(AND(J11=0,J32>0),2,IF(J32<0,0,(J32/J11))))) -> 1.397432 | K34: =IF($D$2<K$9,0,IF(AND(K11=0,K32=0),1,IF(AND(K11=0,K32>0),2,IF(K32<0,0,(K32/K11))))) -> 1.1728482 | ... S34: =IF($D$2<S$9,0,IF(AND(S11=0,S32=0),1,IF(AND(S11=0,S32>0),2,IF(S32<0,0,(S32/S11))))) -> 0 | T34: 0 | U34: 0 | V34: 0 | W34: Last 3Y
B35: ='OL -Overall'!B35 -> Fy Q2 2425 | D35: =D68+D101 -> 8.651 | E35: =E68+E101 -> -3.878 | F35: =F68+F101 -> -0.042 | G35: =G68+G101 -> 0.172 | H35: =H68+H101 -> 5.419 | I35: =I68+I101 -> 3.896 | J35: =J68+J101 -> 1.873 | K35: =K68+K101 -> 6.107 | ... S35: =S68+S101 -> 75.162 | T35: =SUM(D35:I35) -> 14.218 | U35: =SUM(J35:N35) -> 95.019 | V35: =SUM(O35:S35) -> 119.369 | W35: =SUM(T35:V35) -> 228.606
B36: ='OL -Overall'!B36 -> Fy Q3 2324 | D36: =D69+D102 -> 8.64 | E36: =E69+E102 -> -7.304 | F36: =F69+F102 -> 0.572 | G36: =G69+G102 -> 3.063 | H36: =H69+H102 -> 25.741 | I36: =I69+I102 -> 19.919 | J36: =J69+J102 -> 0.635 | K36: =K69+K102 -> 10.106 | ... S36: =S69+S102 -> 64.565 | T36: =SUM(D36:I36) -> 50.631 | U36: =SUM(J36:N36) -> 122.258 | V36: =SUM(O36:S36) -> 161.785 | W36: =SUM(T36:V36) -> 334.674
E37: 0 | F37: 0.074367089 | G37: 0.18037975 | H37: 0.21044304 | J37: 0.53481013 | K37: 0.1504065 | L37: 0.17174797 | M37: 0.20020325 | N37: 0.47764228 | P37: 0.056364788 | Q37: 0.10196327 | R37: 0.13742875 | S37: 0.70424319 | T37: =$W$37*U1 -> 5.995 | U37: =$W$37*V1 -> 12.085 | V37: =$W$37*W1 -> 14.42 | W37: 32.5
B38: Consumer OL India DT WF Q3FY2526
C39: Month | D39: =D$6 -> 1 | E39: =E$6 -> 1 | F39: =F$6 -> 1 | G39: =G$6 -> 1 | H39: =H$6 -> 1 | I39: =I$6 -> 1 | J39: =J$6 -> 2 | K39: =K$6 -> 2 | ... W39: =W$6 -> QTR
C40: Week | D40: =D$7 -> OB | E40: =E$7 -> 1 | F40: =F$7 -> 2 | G40: =G$7 -> 3 | H40: =H$7 -> 4 | I40: =I$7 -> 5 | J40: =J$7 -> 5 | K40: =K$7 -> 6 | ... W40: =W$7 -> 0
C41: Begin | D41: =D$8 -> 45931 | E41: =E$8 -> 45931 | F41: =F$8 -> 45936 | G41: =G$8 -> 45943 | H41: =H$8 -> 45950 | I41: =I$8 -> 45957 | J41: =J$8 -> 45962 | K41: =K$8 -> 45964 | ... W41: =W$8 -> 45931
C42: End | D42: =D$9 -> 45931 | E42: =E$9 -> 45935 | F42: =F$9 -> 45942 | G42: =G$9 -> 45949 | H42: =H$9 -> 45956 | I42: =I$9 -> 45961 | J42: =J$9 -> 45963 | K42: =K$9 -> 45970 | ... W42: =W$9 -> 46022
...

Sheet OL-Overseas
C1: Week# | E1: ='OL -Overall'!E1 -> 10
C2: Weekending dt: | E2: ='OL -Overall'!E2 -> 45998
B5: Consumer OL Overseas WF Q3FY2526
C6: Month | D6: 1 | E6: 1 | F6: 1 | G6: 1 | H6: 1 | I6: 1 | J6: 2 | K6: 2 | L6: 2 | M6: 2 | N6: 2 | O6: 3 | P6: 3 | Q6: 3 | R6: 3 | S6: 3 | T6: 1 | U6: 2 | V6: 3 | W6: QTR
C7: Week | D7: OB | E7: ='OL -Overall'!E7 -> 1 | F7: ='OL -Overall'!F7 -> 2 | G7: ='OL -Overall'!G7 -> 3 | H7: ='OL -Overall'!H7 -> 4 | I7: ='OL -Overall'!I7 -> 5 | J7: ='OL -Overall'!J7 -> 5 | K7: ='OL -Overall'!K7 -> 6 | L7: ='OL -Overall'!L7 -> 7 | ... S7: ='OL -Overall'!S7 -> 13
C8: Begin | D8: ='OL -Overall'!D8 -> 45931 | E8: ='OL -Overall'!E8 -> 45931 | F8: ='OL -Overall'!F8 -> 45936 | G8: ='OL -Overall'!G8 -> 45943 | H8: ='OL -Overall'!H8 -> 45950 | I8: ='OL -Overall'!I8 -> 45957 | J8: ='OL -Overall'!J8 -> 45962 | K8: ='OL -Overall'!K8 -> 45964 | ... S8: ='OL -Overall'!S8 -> 46013 | T8: =E8 -> 45931 | U8: =J8 -> 45962 | V8: =P8 -> 45992 | W8: =E8 -> 45931
C9: End | D9: =D8 -> 45931 | E9: ='OL -Overall'!E9 -> 45935 | F9: ='OL -Overall'!F9 -> 45942 | G9: ='OL -Overall'!G9 -> 45949 | H9: ='OL -Overall'!H9 -> 45956 | I9: ='OL -Overall'!I9 -> 45961 | J9: ='OL -Overall'!J9 -> 45963 | K9: ='OL -Overall'!K9 -> 45970 | L9: ='OL -Overall'!L9 -> 45977 | ... S9: ='OL -Overall'!S9 -> 46022 | T9: =I9 -> 45961 | U9: =N9 -> 45991 | V9: =S9 -> 46022 | W9: =V9 -> 46022
B10: Target | C10: Week | D10: =D43+D76 -> 2.906 | E10: =E43+E76 -> 0 | F10: =F43+F76 -> 0.10754768 | G10: =G43+G76 -> 0.59187672 | H10: =H43+H76 -> 1.3265342 | I10: =I43+I76 -> 0.068041403 | J10: =J43+J76 -> 0 | K10: =K43+K76 -> 0.67901476 | ... S10: =S43+S76 -> 5.3602854 | T10: =SUMIF($D$6:$S$6,T$6,$D10:$S10) -> 5 | U10: =SUMIF($E$6:$S$6,U$6,$E10:$S10) -> 7 | V10: =SUMIF($E$6:$S$6,V$6,$E10:$S10) -> 8 | W10: =SUM(T10:V10) -> 20
C11: QTD | D11: =D10 -> 2.906 | E11: =D11+E10 -> 2.906 | F11: =E11+F10 -> 3.0135477 | G11: =F11+G10 -> 3.6054244 | H11: =G11+H10 -> 4.9319586 | I11: =H11+I10 -> 5 | J11: =I11+J10 -> 5 | K11: =J11+K10 -> 5.6790148 | L11: =K11+L10 -> 7.033543 | ... S11: =R11+S10 -> 20 | T11: =IFERROR(T10/$W10,0) -> 0.25 | U11: =IFERROR(U10/$W10,0) -> 0.35 | V11: =IFERROR(V10/$W10,0) -> 0.4
C12: 0 | D12: =D45+D78 -> 2.906 | E12: =E45+E78 -> 0 | F12: =F45+F78 -> 0.10754768 | G12: =G45+G78 -> 0.59187672 | H12: =H45+H78 -> 1.3265342 | I12: =I45+I78 -> 0.068041403 | J12: =J45+J78 -> 0 | K12: =K45+K78 -> 0.67901476 | ... S12: =S45+S78 -> 5.3602854 | T12: =SUMIF($D$6:$S$6,T$6,$D12:$S12) -> 5 | U12: =SUMIF($E$6:$S$6,U$6,$E12:$S12) -> 7 | V12: =SUMIF($E$6:$S$6,V$6,$E12:$S12) -> 8 | W12: =SUM(T12:V12) -> 20
B13: Week | C13: 1 | D13: =D46+D79 -> 2.906 | E13: =E46+E79 -> 0.368 | F13: =F46+F79 -> 0.088647229 | G13: =G46+G79 -> 0.48786018 | H13: =H46+H79 -> 1.0934088 | I13: =I46+I79 -> 0.056083792 | J13: =J46+J79 -> 0 | K13: =K46+K79 -> 0.67901476 | ... S13: =S46+S79 -> 5.3602854 | T13: =SUMIF($D$6:$S$6,T$6,$D13:$S13) -> 5 | U13: =SUMIF($E$6:$S$6,U$6,$E13:$S13) -> 7 | V13: =SUMIF($E$6:$S$6,V$6,$E13:$S13) -> 8 | W13: =SUM(T13:V13) -> 20
C14: 2 | D14: =D47+D80 -> 2.906 | E14: =E47+E80 -> 0.368 | F14: =F47+F80 -> 2.155 | G14: =G47+G80 -> 0.48786018 | H14: =H47+H80 -> 0 | I14: =I47+I80 -> 0 | J14: =J47+J80 -> 0 | K14: =K47+K80 -> 0.67901476 | ... S14: =S47+S80 -> 4.4434252 | T14: =SUMIF($D$6:$S$6,T$6,$D14:$S14) -> 5.9168602 | U14: =SUMIF($E$6:$S$6,U$6,$E14:$S14) -> 7 | V14: =SUMIF($E$6:$S$6,V$6,$E14:$S14) -> 7.0831398 | W14: =SUM(T14:V14) -> 20
C15: 3 | D15: =D48+D81 -> 2.906 | E15: =E48+E81 -> 0.368 | F15: =F48+F81 -> 2.155 | G15: =G48+G81 -> 7.808 | H15: =H48+H81 -> 0 | I15: =I48+I81 -> 0 | J15: =J48+J81 -> 0 | K15: =K48+K81 -> 0.67901476 | ... S15: =S48+S81 -> 0 | T15: =SUMIF($D$6:$R$6,T$6,$D15:$R15) -> 13.237 | U15: =SUMIF($D$6:$R$6,U$6,$D15:$R15) -> 6.763 | V15: =SUMIF($E$6:$S$6,V$6,$E15:$S15) -> 0 | W15: =SUM(T15:V15) -> 20
C16: 4 | D16: =D49+D82 -> 2.906 | E16: =E49+E82 -> 0.368 | F16: =F49+F82 -> 2.155 | G16: =G49+G82 -> 7.808 | H16: =H49+H82 -> 6.655 | I16: =I49+I82 -> 0 | J16: =J49+J82 -> 0 | K16: =K49+K82 -> 0.1 | ... S16: =S49+S82 -> 0 | T16: =SUMIF($D$6:$R$6,T$6,$D16:$R16) -> 19.892 | U16: =SUMIF($D$6:$R$6,U$6,$D16:$R16) -> 0.1 | V16: =SUMIF($E$6:$S$6,V$6,$E16:$S16) -> 0 | W16: =SUM(T16:V16) -> 19.992
C17: 5 | D17: =D50+D83 -> 2.906 | E17: =E50+E83 -> 0.368 | F17: =F50+F83 -> 2.155 | G17: =G50+G83 -> 7.808 | H17: =H50+H83 -> 6.655 | I17: =I50+I83 -> 1.158 | J17: =J50+J83 -> -0.42 | K17: =K50+K83 -> 0 | ... S17: =S50+S83 -> 0 | T17: =SUMIF($D$6:$R$6,T$6,$D17:$R17) -> 21.05 | U17: =SUMIF($D$6:$R$6,U$6,$D17:$R17) -> -0.42 | V17: =SUMIF($E$6:$S$6,V$6,$E17:$S17) -> 0 | W17: =SUM(T17:V17) -> 20.63
C18: 6 | D18: =D51+D84 -> 2.906 | E18: =E51+E84 -> 0.368 | F18: =F51+F84 -> 2.155 | G18: =G51+G84 -> 7.808 | H18: =H51+H84 -> 6.655 | I18: =I51+I84 -> 1.158 | J18: =J51+J84 -> -0.42 | K18: =K51+K84 -> 2.202 | ... S18: =S51+S84 -> 0 | T18: =SUMIF($D$6:$R$6,T$6,$D18:$R18) -> 21.05 | U18: =SUMIF($D$6:$R$6,U$6,$D18:$R18) -> 1.782 | V18: =SUMIF($E$6:$S$6,V$6,$E18:$S18) -> 0 | W18: =SUM(T18:V18) -> 22.832
C19: 7 | D19: =D52+D85 -> 2.906 | E19: =E52+E85 -> 0.368 | F19: =F52+F85 -> 2.155 | G19: =G52+G85 -> 7.808 | H19: =H52+H85 -> 6.655 | I19: =I52+I85 -> 1.158 | J19: =J52+J85 -> -0.42 | K19: =K52+K85 -> 2.202 | ... S19: =S52+S85 -> 0 | T19: =SUMIF($D$6:$R$6,T$6,$D19:$R19) -> 21.05 | U19: =SUMIF($D$6:$R$6,U$6,$D19:$R19) -> 8.95 | V19: =SUMIF($E$6:$S$6,V$6,$E19:$S19) -> 0 | W19: =SUM(T19:V19) -> 30
C20: 8 | D20: =D53+D86 -> 2.906 | E20: =E53+E86 -> 0.368 | F20: =F53+F86 -> 2.155 | G20: =G53+G86 -> 7.808 | H20: =H53+H86 -> 6.655 | I20: =I53+I86 -> 1.158 | J20: =J53+J86 -> -0.42 | K20: =K53+K86 -> 2.202 | ... S20: =S53+S86 -> 0 | T20: =SUMIF($D$6:$R$6,T$6,$D20:$R20) -> 21.05 | U20: =SUMIF($D$6:$R$6,U$6,$D20:$R20) -> 8.95 | V20: =SUMIF($E$6:$S$6,V$6,$E20:$S20) -> 0 | W20: =SUM(T20:V20) -> 30
C21: 9 | D21: =D54+D87 -> 2.906 | E21: =E54+E87 -> 0.368 | F21: =F54+F87 -> 2.155 | G21: =G54+G87 -> 7.808 | H21: =H54+H87 -> 6.655 | I21: =I54+I87 -> 1.158 | J21: =J54+J87 -> -0.42 | K21: =K54+K87 -> 2.202 | ... S21: =S54+S87 -> 0 | T21: =SUMIF($D$6:$R$6,T$6,$D21:$R21) -> 21.05 | U21: =SUMIF($D$6:$R$6,U$6,$D21:$R21) -> 14.205 | V21: =SUMIF($E$6:$S$6,V$6,$E21:$S21) -> 0 | W21: =SUM(T21:V21) -> 35.255
C22: 10 | D22: =D55+D88 -> 2.906 | E22: =E55+E88 -> 0.368 | F22: =IF($C22<=$E$1,F21,0) -> 2.155 | G22: =IF($C22<=$E$1,G21,0) -> 7.808 | H22: =IF($C22<=$E$1,H21,0) -> 6.655 | I22: =IF($C22<=$E$1,I21,0) -> 1.158 | J22: =IF($C22<=$E$1,J21,0) -> -0.42 | K22: =IF($C22<=$E$1,K21,0) -> 2.202 | L22: =IF($C22<=$E$1,L21,0) -> 1.143 | M22: =IF($C22<=$E$1,M21,0) -> 4.08 | ... O22: =IF($C22<=$E$1,O21,0) -> 0 | P22: =P55+P88 -> -10.542 | Q22: =Q55+Q88 -> 0 | R22: =R55+R88 -> 0 | S22: =S55+S88 -> 0 | T22: =SUMIF($D$6:$R$6,T$6,$D22:$R22) -> 21.05 | U22: =SUMIF($D$6:$R$6,U$6,$D22:$R22) -> 14.205 | V22: =SUMIF($E$6:$S$6,V$6,$E22:$S22) -> -10.542 | W22: =SUM(T22:V22) -> 24.713
C23: 11 | D23: =D56+D89 -> 0 | E23: =E56+E89 -> 0 | F23: =IF($C23<=$E$1,F22,0) -> 0 | G23: =IF($C23<=$E$1,G22,0) -> 0 | H23: =IF($C23<=$E$1,H22,0) -> 0 | I23: =IF($C23<=$E$1,I22,0) -> 0 | J23: =IF($C23<=$E$1,J22,0) -> 0 | K23: =IF($C23<=$E$1,K22,0) -> 0 | L23: =IF($C23<=$E$1,L22,0) -> 0 | M23: =IF($C23<=$E$1,M22,0) -> 0 | ... P23: =IF($C23<=$E$1,P22,0) -> 0 | Q23: =Q56+Q89 -> 0 | R23: =R56+R89 -> 0 | S23: =S56+S89 -> 0 | T23: =SUMIF($D$6:$R$6,T$6,$D23:$R23) -> 0 | U23: =SUMIF($D$6:$R$6,U$6,$D23:$R23) -> 0 | V23: =SUMIF($E$6:$S$6,V$6,$E23:$S23) -> 0 | W23: =SUM(T23:V23) -> 0
C24: 12 | D24: =D57+D90 -> 0 | E24: =E57+E90 -> 0 | F24: =IF($C24<=$E$1,F23,0) -> 0 | G24: =IF($C24<=$E$1,G23,0) -> 0 | H24: =IF($C24<=$E$1,H23,0) -> 0 | I24: =IF($C24<=$E$1,I23,0) -> 0 | J24: =IF($C24<=$E$1,J23,0) -> 0 | K24: =IF($C24<=$E$1,K23,0) -> 0 | L24: =IF($C24<=$E$1,L23,0) -> 0 | M24: =IF($C24<=$E$1,M23,0) -> 0 | ... Q24: =IF($C24<=$E$1,Q23,0) -> 0 | R24: =R57+R90 -> 0 | S24: =S57+S90 -> 0 | T24: =SUMIF($D$6:$R$6,T$6,$D24:$R24) -> 0 | U24: =SUMIF($D$6:$R$6,U$6,$D24:$R24) -> 0 | V24: =SUMIF($E$6:$S$6,V$6,$E24:$S24) -> 0 | W24: =SUM(T24:V24) -> 0
C25: 13 | D25: =D58+D91 -> 0 | E25: =E58+E91 -> 0 | F25: =IF($C25<=$E$1,F24,0) -> 0 | G25: =IF($C25<=$E$1,G24,0) -> 0 | H25: =IF($C25<=$E$1,H24,0) -> 0 | I25: =IF($C25<=$E$1,I24,0) -> 0 | J25: =IF($C25<=$E$1,J24,0) -> 0 | K25: =IF($C25<=$E$1,K24,0) -> 0 | L25: =IF($C25<=$E$1,L24,0) -> 0 | M25: =IF($C25<=$E$1,M24,0) -> 0 | ... R25: =IF($C25<=$E$1,R24,0) -> 0 | S25: =S58+S91 -> 0 | T25: =SUMIF($D$6:$R$6,T$6,$D25:$R25) -> 0 | U25: =SUMIF($D$6:$R$6,U$6,$D25:$R25) -> 0 | V25: =SUMIF($E$6:$S$6,V$6,$E25:$S25) -> 0 | W25: =SUM(T25:V25) -> 0
B26: Actual | C26: 0 | D26: =INDEX(D12:D25,MATCH($E$1,$C$12:$C$25,0)) -> 2.906 | E26: =INDEX(E12:E25,MATCH($E$1,$C$12:$C$25,0)) -> 0.368 | F26: =INDEX(F12:F25,MATCH($E$1,$C$12:$C$25,0)) -> 2.155 | G26: =INDEX(G12:G25,MATCH($E$1,$C$12:$C$25,0)) -> 7.808 | H26: =INDEX(H12:H25,MATCH($E$1,$C$12:$C$25,0)) -> 6.655 | I26: =INDEX(I12:I25,MATCH($E$1,$C$12:$C$25,0)) -> 1.158 | J26: =INDEX(J12:J25,MATCH($E$1,$C$12:$C$25,0)) -> -0.42 | K26: =INDEX(K12:K25,MATCH($E$1,$C$12:$C$25,0)) -> 2.202 | ... O26: =INDEX(O12:O25,MATCH($E$1,$C$12:$C$25,0)) -> 0 | P26: 0 | Q26: 0 | R26: 0 | S26: 0 | T26: =INDEX(T12:T25,MATCH($E$1,$C$12:$C$25,0)) -> 21.05 | U26: =INDEX(U12:U25,MATCH($E$1,$C$12:$C$25,0)) -> 14.205 | V26: =INDEX(V12:V25,MATCH($E$1,$C$12:$C$25,0)) -> -10.542 | W26: =INDEX(W12:W25,MATCH($E$1,$C$12:$C$25,0)) -> 24.713
B27: Delta to Target | C27: 0 | D27: =IF(D$9<=$E$2,D26-D10,0) -> 0 | E27: =IF(E$9<=$E$2,E26-E10,0) -> 0.368 | F27: =IF(F$9<=$E$2,F26-F10,0) -> 2.0474523 | G27: =IF(G$9<=$E$2,G26-G10,0) -> 7.2161233 | H27: =IF(H$9<=$E$2,H26-H10,0) -> 5.3284658 | I27: =IF(I$9<=$E$2,I26-I10,0) -> 1.0899586 | J27: =IF(J$9<=$E$2,J26-J10,0) -> -0.42 | K27: =IF(K$9<=$E$2,K26-K10,0) -> 1.5229852 | ... W27: =IF(W$9<=$E$2,W26-W10,0) -> 0
B28: % to Target | C28: 0 | D28: =IF($E$2<D$9,0,IF(AND(D10=0,D26=0),1,IF(AND(D10=0,D26>0),2,IF(D26<0,0,(D26/D10))))) -> 1 | E28: =IF($E$2<E$9,0,IF(AND(E10=0,E26=0),1,IF(AND(E10=0,E26>0),2,IF(E26<0,0,(E26/E10))))) -> 2 | F28: =IF($E$2<F$9,0,IF(AND(F10=0,F26=0),1,IF(AND(F10=0,F26>0),2,IF(F26<0,0,(F26/F10))))) -> 20.037624 | G28: =IF($E$2<G$9,0,IF(AND(G10=0,G26=0),1,IF(AND(G10=0,G26>0),2,IF(G26<0,0,(G26/G10))))) -> 13.191936 | H28: =IF($E$2<H$9,0,IF(AND(H10=0,H26=0),1,IF(AND(H10=0,H26>0),2,IF(H26<0,0,(H26/H10))))) -> 5.0168326 | I28: =IF($E$2<I$9,0,IF(AND(I10=0,I26=0),1,IF(AND(I10=0,I26>0),2,IF(I26<0,0,(I26/I10))))) -> 17.019049 | J28: =IF($E$2<J$9,0,IF(AND(J10=0,J26=0),1,IF(AND(J10=0,J26>0),2,IF(J26<0,0,(J26/J10))))) -> 0 | K28: =IF($E$2<K$9,0,IF(AND(K10=0,K26=0),1,IF(AND(K10=0,K26>0),2,IF(K26<0,0,(K26/K10))))) -> 3.2429339 | ... W28: =IF($E$2<W$9,0,IF(AND(W10=0,W26=0),1,IF(AND(W10=0,W26>0),2,IF(W26<0,0,(W26/W10))))) -> 0
B29: ="Week "&$E$1&" View" -> Week 10 View | D29: =INDEX(D13:D25,MATCH($E$1,$C$13:$C$25,0)) -> 2.906 | E29: =INDEX(E13:E25,MATCH($E$1,$C$13:$C$25,0)) -> 0.368 | F29: =INDEX(F13:F25,MATCH($E$1,$C$13:$C$25,0)) -> 2.155 | G29: =INDEX(G13:G25,MATCH($E$1,$C$13:$C$25,0)) -> 7.808 | H29: =INDEX(H13:H25,MATCH($E$1,$C$13:$C$25,0)) -> 6.655 | I29: =INDEX(I13:I25,MATCH($E$1,$C$13:$C$25,0)) -> 1.158 | J29: =INDEX(J13:J25,MATCH($E$1,$C$13:$C$25,0)) -> -0.42 | K29: =INDEX(K13:K25,MATCH($E$1,$C$13:$C$25,0)) -> 2.202 | ... W29: =INDEX(W13:W25,MATCH($E$1,$C$13:$C$25,0)) -> 24.713
B30: Linearity | D30: =D29/$T$29 -> 0.13805226 | E30: =E29/$T$29 -> 0.017482185 | F30: =F29/$T$29 -> 0.1023753 | G30: =G29/$T$29 -> 0.37092637 | H30: =H29/$T$29 -> 0.31615202 | I30: =I29/$T$29 -> 0.055011876 | J30: =J29/$U$29 -> -0.029567054 | K30: =K29/$U$29 -> 0.15501584 | L30: =L29/$U$29 -> 0.080464625 | M30: =M29/$U$29 -> 0.28722281 | N30: =N29/$U$29 -> 0.50686378 | O30: =O29/$V$29 -> 0 | P30: =P29/$V$29 -> 1 | Q30: =Q29/$V$29 -> 0 | R30: =R29/$V$29 -> 0 | S30: =S29/$V$29 -> 0 | T30: =T29/$W$29 -> 0.85177842 | U30: =U29/$W$29 -> 0.57479869 | V30: =V29/$W$29 -> -0.42657711
B31: Last 4Q ROL Linearity | P31: 0 | Q31: 0 | R31: 0 | S31: 0
B32: QTD Actual | C32: 0 | D32: =IF(D$9<=$E$2,D26,0) -> 2.906 | E32: =D32+E26 -> 3.274 | F32: =IF(F$9<=$E$2,F26+E32,0) -> 5.429 | G32: =IF(G$9<=$E$2,G26+F32,0) -> 13.237 | H32: =IF(H$9<=$E$2,H26+G32,0) -> 19.892 | I32: =IF(I$9<=$E$2,I26+H32,0) -> 21.05 | J32: =IF(J$9<=$E$2,J26+I32,0) -> 20.63 | K32: =IF(K$9<=$E$2,K26+J32,0) -> 22.832 | L32: =IF(L$9<=$E$2,L26+K32,0) -> 23.975 | M32: =IF(M$9<=$E$2,M26+L32,0) -> 28.055 | ... S32: =IF(S$9<=$E$2,S26+R32,0) -> 0 | T32: =IFERROR(INDEX(T$13:T$25,$E$1,0)/INDEX($W$13:$W$25,$E$1,0),0) -> 0.85177842 | U32: =IFERROR(INDEX(U$13:U$25,$E$1,0)/INDEX($W$13:$W$25,$E$1,0),0) -> 0.57479869 | V32: =IFERROR(INDEX(V$13:V$25,$E$1,0)/INDEX($W$13:$W$25,$E$1,0),0) -> -0.42657711 | W32: Current
B33: QTD Delta to Tgt | C33: 0 | D33: =IF(D$27=0,0,IF(D$9<=$E$2,D32-D11,D32-D11)) -> 0 | E33: =IF(E$27=0,0,IF(E$9<=$E$2,E32-E11,E32-E11)) -> 0.368 | F33: =IF(F$27=0,0,IF(F$9<=$E$2,F32-F11,F32-F11)) -> 2.4154523 | G33: =IF(G$27=0,0,IF(G$9<=$E$2,G32-G11,G32-G11)) -> 9.6315756 | H33: =IF(H$27=0,0,IF(H$9<=$E$2,H32-H11,H32-H11)) -> 14.960041 | I33: =IF(I$27=0,0,IF(I$9<=$E$2,I32-I11,I32-I11)) -> 16.05 | J33: =IF(J$27=0,0,IF(J$9<=$E$2,J32-J11,J32-J11)) -> 15.63 | K33: =IF(K$27=0,0,IF(K$9<=$E$2,K32-K11,K32-K11)) -> 17.152985 | ... S33: =IF(S$27=0,0,IF(S$9<=$E$2,S32-S11,S32-S11)) -> 0 | T33: 0 | U33: 0 | V33: 0 | W33: Last 4Q
B34: % to Target | C34: 0 | D34: =IF($E$2<D$9,0,IF(AND(D11=0,D32=0),1,IF(AND(D11=0,D32>0),2,IF(D32<0,0,(D32/D11))))) -> 1 | E34: =IF($E$2<E$9,0,IF(AND(E11=0,E32=0),1,IF(AND(E11=0,E32>0),2,IF(E32<0,0,(E32/E11))))) -> 1.1266345 | F34: =IF($E$2<F$9,0,IF(AND(F11=0,F32=0),1,IF(AND(F11=0,F32>0),2,IF(F32<0,0,(F32/F11))))) -> 1.8015311 | G34: =IF($E$2<G$9,0,IF(AND(G11=0,G32=0),1,IF(AND(G11=0,G32>0),2,IF(G32<0,0,(G32/G11))))) -> 3.6714124 | H34: =IF($E$2<H$9,0,IF(AND(H11=0,H32=0),1,IF(AND(H11=0,H32>0),2,IF(H32<0,0,(H32/H11))))) -> 4.0332861 | I34: =IF($E$2<I$9,0,IF(AND(I11=0,I32=0),1,IF(AND(I11=0,I32>0),2,IF(I32<0,0,(I32/I11))))) -> 4.21 | J34: =IF($E$2<J$9,0,IF(AND(J11=0,J32=0),1,IF(AND(J11=0,J32>0),2,IF(J32<0,0,(J32/J11))))) -> 4.126 | K34: =IF($E$2<K$9,0,IF(AND(K11=0,K32=0),1,IF(AND(K11=0,K32>0),2,IF(K32<0,0,(K32/K11))))) -> 4.0204157 | ... S34: =IF($E$2<S$9,0,IF(AND(S11=0,S32=0),1,IF(AND(S11=0,S32>0),2,IF(S32<0,0,(S32/S11))))) -> 0 | T34: 0 | U34: 0 | V34: 0 | W34: Last 3Y
B35: Fy Q3 2425 | D35: =D101 -> 0.907 | E35: =E101 -> -0.225 | F35: =F101 -> 2.575 | G35: =G101 -> 0.935 | H35: =H101 -> 0 | I35: =I101 -> 1.936 | J35: =J101 -> 0 | K35: =K101 -> 0.225 | ... S35: =S101 -> 0.39 | T35: =SUM(D35:I35) -> 6.128 | U35: =SUM(J35:N35) -> 4.498 | V35: =SUM(O35:S35) -> 4.127 | W35: =SUM(T35:V35) -> 14.753
B36: Fy Q4 2324 | D36: =D102 -> 4.77 | E36: =E102 -> 0.07 | F36: =F102 -> 0 | G36: =G102 -> 0 | H36: =H102 -> 0 | I36: =I102 -> 0 | J36: =J102 -> 3.6 | K36: =K102 -> 3.105 | ... S36: =S102 -> 0.068 | T36: =SUM(D36:J36) -> 8.44 | U36: =SUM(K36:N36) -> 9.506 | V36: =SUM(P36:S36) -> 6.451 | W36: =SUM(T36:V36) -> 24.397
B38: Consumer OL Overseas WF DT Q3FY2324
C39: Month | D39: =D$6 -> 1 | E39: =E$6 -> 1 | F39: =F$6 -> 1 | G39: =G$6 -> 1 | I39: =I$6 -> 1 | J39: =J$6 -> 2 | K39: =K$6 -> 2 | L39: =L$6 -> 2 | M39: =M$6 -> 2 | N39: =N$6 -> 2 | O39: =O$6 -> 3 | P39: 3 | Q39: =Q$6 -> 3 | R39: =R$6 -> 3 | S39: =S$6 -> 3 | T39: 1 | U39: 2 | V39: 3 | W39: QTR
C40: Week | D40: =D$7 -> OB | E40: =E$7 -> 1 | F40: =F$7 -> 2 | G40: =G$7 -> 3 | I40: =I$7 -> 5 | J40: =J$7 -> 5 | K40: =K$7 -> 6 | L40: =L$7 -> 7 | M40: =M$7 -> 8 | N40: =N$7 -> 9 | O40: =O$7 -> 9b | P40: 9 | Q40: =Q$7 -> 11 | R40: =R$7 -> 12 | S40: =S$7 -> 13
C41: Begin | D41: =D$8 -> 45931 | E41: =E$8 -> 45931 | F41: =F$8 -> 45936 | G41: =G$8 -> 45943 | I41: =I$8 -> 45957 | J41: =J$8 -> 45962 | K41: =K$8 -> 45964 | L41: =L$8 -> 45971 | M41: =M$8 -> 45978 | N41: =N$8 -> 45985 | O41: =O$8 -> 45985 | P41: =P$8 -> 45992 | ... S41: =S$8 -> 46013 | T41: =E41 -> 45931 | U41: =K41 -> 45964 | V41: =P41 -> 45992 | W41: =E41 -> 45931
C42: End | D42: =D$9 -> 45931 | E42: =E$9 -> 45935 | F42: =F$9 -> 45942 | G42: =G$9 -> 45949 | I42: =I$9 -> 45961 | J42: =J$9 -> 45963 | K42: =K$9 -> 45970 | L42: =L$9 -> 45977 | M42: =M$9 -> 45984 | N42: =N$9 -> 45991 | O42: =O$9 -> 45991 | P42: =P$9 -> 45998 | ... S42: =S$9 -> 46022 | T42: =J42 -> 45963 | U42: =N42 -> 45991 | V42: =S42 -> 46022 | W42: =V42 -> 46022
B43: Target | C43: Week | T43: =SUMIF($E$6:$S$6,T$6,$E43:$S43) -> 0 | U43: =SUMIF($E$6:$S$6,U$6,$E43:$S43) -> 0 | V43: =SUMIF($E$6:$S$6,V$6,$E43:$S43) -> 0 | W43: =SUM(T43:V43) -> 0
...
