Workbook
Name PERF_GREEN: 1

Sheet Linearity
B1: Month | C1: 1 | D1: 1 | E1: 1 | F1: 1 | G1: 1 | H1: 2 | I1: 2 | J1: 2 | K1: 2 | L1: 2 | M1: 3 | N1: 3 | O1: 3 | P1: 3 | Q1: 3 | R1: 1 | S1: 2 | T1: 3 | U1: QTR
B2: Week | C2: 1 | D2: 2 | E2: 3 | F2: 4 | G2: 5 | H2: 5 | I2: 6 | J2: 7 | K2: 8 | L2: 9 | M2: 9 | N2: 10 | O2: 11 | P2: 12 | Q2: 13
B3: Begin | C3: 43831 | D3: 43836 | E3: 43843 | F3: 43850 | G3: 43857 | H3: 43862 | I3: 43864 | J3: 43871 | K3: 43878 | L3: 43885 | M3: 43891 | N3: 43892 | O3: 43899 | P3: 43906 | Q3: 43913 | R3: 43831 | S3: 43862 | T3: 43891 | U3: 43831
B4: End | C4: 43835 | D4: 43842 | E4: 43849 | F4: 43856 | G4: 43861 | H4: 43863 | I4: 43870 | J4: 43877 | K4: 43884 | L4: 43890 | M4: 43891 | N4: 43898 | O4: 43905 | P4: 43912 | Q4: 43921 | R4: 43861 | S4: 43890 | T4: 43921 | U4: 43921
B6: India | C6: ='SI-Onshore'!D10 -> 0.74845585 | D6: ='SI-Onshore'!E10 -> 0.48541433 | E6: ='SI-Onshore'!F10 -> 10.43692 | F6: ='SI-Onshore'!H10 -> 5.4458227 | G6: ='SI-Onshore'!I10 -> 0 | H6: ='SI-Onshore'!J10 -> 2.924211 | I6: ='SI-Onshore'!K10 -> 10.20987 | J6: ='SI-Onshore'!L10 -> 18.496786 | K6: ='SI-Onshore'!M10 -> 27.438802 | L6: ='SI-Onshore'!#REF! -> #REF! | M6: ='SI-Onshore'!O10 -> 13.190423 | N6: ='SI-Onshore'!P10 -> 13.865355 | O6: ='SI-Onshore'!Q10 -> 23.509741 | P6: ='SI-Onshore'!R10 -> 106.90863 | Q6: ='SI-Onshore'!#REF! -> #REF! | R6: ='SI-Onshore'!S10 -> 33.456186 | S6: ='SI-Onshore'!T10 -> 59.069669 | T6: ='SI-Onshore'!U10 -> 157.47415 | U6: ='SI-Onshore'!V10 -> 250
B7: SLBD | C7: ='SI-Overseas'!D10 -> 0.11185612 | D7: ='SI-Overseas'!E10 -> 0.072544779 | E7: ='SI-Overseas'!F10 -> 1.5597893 | F7: ='SI-Overseas'!H10 -> 0.8138738 | G7: ='SI-Overseas'!I10 -> 0 | H7: ='SI-Overseas'!J10 -> 0.3465311 | I7: ='SI-Overseas'!K10 -> 1.2099118 | J7: ='SI-Overseas'!L10 -> 2.1919456 | K7: ='SI-Overseas'!M10 -> 3.2516115 | L7: ='SI-Overseas'!#REF! -> #REF! | M7: ='SI-Overseas'!O10 -> 0.67009973 | N7: ='SI-Overseas'!P10 -> 0.70438762 | O7: ='SI-Overseas'!Q10 -> 1.1943416 | P7: ='SI-Overseas'!R10 -> 5.431171 | Q7: ='SI-Overseas'!#REF! -> #REF! | R7: ='SI-Overseas'!S10 -> 5 | S7: ='SI-Overseas'!T10 -> 7 | T7: ='SI-Overseas'!U10 -> 8 | U7: ='SI-Overseas'!V10 -> 20
B8: Total | C8: =SUM(C6:C7) -> 0.86031197 | D8: =SUM(D6:D7) -> 0.55795911 | E8: =SUM(E6:E7) -> 11.996709 | F8: =SUM(F6:F7) -> 6.2596965 | G8: =SUM(G6:G7) -> 0 | H8: =SUM(H6:H7) -> 3.2707421 | I8: =SUM(I6:I7) -> 11.419782 | J8: =SUM(J6:J7) -> 20.688731 | ... U8: =SUM(U6:U7) -> 270
A10: Cumma. | B10: India | C10: =C6 -> 0.74845585 | D10: =C10+D6 -> 1.2338702 | E10: =D10+E6 -> 11.67079 | F10: =E10+F6 -> 17.116613 | G10: =F10+G6 -> 17.116613 | H10: =G10+H6 -> 20.040824 | I10: =H10+I6 -> 30.250694 | J10: =I10+J6 -> 48.74748 | K10: =J10+K6 -> 76.186282 | ... Q10: =P10+Q6 -> #REF!
B11: SLBD | C11: =C7 -> 0.11185612 | D11: =C11+D7 -> 0.1844009 | E11: =D11+E7 -> 1.7441902 | F11: =E11+F7 -> 2.558064 | G11: =F11+G7 -> 2.558064 | H11: =G11+H7 -> 2.9045951 | I11: =H11+I7 -> 4.1145069 | J11: =I11+J7 -> 6.3064525 | K11: =J11+K7 -> 9.558064 | ... Q11: =P11+Q7 -> #REF!
B12: Total | C12: =C8 -> 0.86031197 | D12: =C12+D8 -> 1.4182711 | E12: =D12+E8 -> 13.41498 | F12: =E12+F8 -> 19.674677 | G12: =F12+G8 -> 19.674677 | H12: =G12+H8 -> 22.945419 | I12: =H12+I8 -> 34.365201 | J12: =I12+J8 -> 55.053932 | K12: =J12+K8 -> 85.744346 | ... Q12: =P12+Q8 -> #REF!
A15: mtd
B16: India | C16: =C6/$R6 -> 0.022371224 | D16: =D6/$R6 -> 0.014508956 | E16: =E6/$R6 -> 0.31195786 | F16: =F6/$R6 -> 0.16277476 | G16: =G6/$R6 -> 0 | H16: =H6/$S6 -> 0.049504442 | I16: =I6/$S6 -> 0.17284455 | J16: =J6/$S6 -> 0.31313509 | K16: =K6/$S6 -> 0.46451593 | L16: =L6/$S6 -> #REF! | M16: =M6/$T6 -> 0.083762466 | N16: =N6/$T6 -> 0.088048453 | O16: =O6/$T6 -> 0.1492927 | P16: =P6/$T6 -> 0.67889638 | Q16: =Q6/$T6 -> #REF!
B17: SLBD | C17: =C7/$R7 -> 0.022371224 | D17: =D7/$R7 -> 0.014508956 | E17: =E7/$R7 -> 0.31195786 | F17: =F7/$R7 -> 0.16277476 | G17: =G7/$R7 -> 0 | H17: =H7/$S7 -> 0.049504442 | I17: =I7/$S7 -> 0.17284455 | J17: =J7/$S7 -> 0.31313509 | K17: =K7/$S7 -> 0.46451593 | L17: =L7/$S7 -> #REF! | M17: =M7/$T7 -> 0.083762466 | N17: =N7/$T7 -> 0.088048453 | O17: =O7/$T7 -> 0.1492927 | P17: =P7/$T7 -> 0.67889638 | Q17: =Q7/$T7 -> #REF!
B18: Total | C18: =C8/$R8 -> 0.022371224 | D18: =D8/$R8 -> 0.014508956 | E18: =E8/$R8 -> 0.31195786 | F18: =F8/$R8 -> 0.16277476 | G18: =G8/$R8 -> 0 | H18: =H8/$S8 -> 0.049504442 | I18: =I8/$S8 -> 0.17284455 | J18: =J8/$S8 -> 0.31313509 | K18: =K8/$S8 -> 0.46451593 | L18: =L8/$S8 -> #REF! | M18: =M8/$T8 -> 0.083762466 | N18: =N8/$T8 -> 0.088048453 | O18: =O8/$T8 -> 0.1492927 | P18: =P8/$T8 -> 0.67889638 | Q18: =Q8/$T8 -> #REF!
A19: qtd
B20: India | C20: =C10/$Q$10 -> #REF! | D20: =D10/$Q$10 -> #REF! | E20: =E10/$Q$10 -> #REF! | F20: =F10/$Q$10 -> #REF! | G20: =G10/$Q$10 -> #REF! | H20: =H10/$Q$10 -> #REF! | I20: =I10/$Q$10 -> #REF! | J20: =J10/$Q$10 -> #REF! | ... Q20: =Q10/$Q$10 -> #REF!
B21: SLBD | C21: =C11/$Q11 -> #REF! | D21: =D11/$Q11 -> #REF! | E21: =E11/$Q11 -> #REF! | F21: =F11/$Q11 -> #REF! | G21: =G11/$Q11 -> #REF! | H21: =H11/$Q11 -> #REF! | I21: =I11/$Q11 -> #REF! | J21: =J11/$Q11 -> #REF! | ... Q21: =Q11/$Q11 -> #REF!
B22: Total | C22: =C12/$Q12 -> #REF! | D22: =D12/$Q12 -> #REF! | E22: =E12/$Q12 -> #REF! | F22: =F12/$Q12 -> #REF! | G22: =G12/$Q12 -> #REF! | H22: =H12/$Q12 -> #REF! | I22: =I12/$Q12 -> #REF! | J22: =J12/$Q12 -> #REF! | ... Q22: =Q12/$Q12 -> #REF!

Sheet SI -Overall
C1: Week# | D1: 10
C2: Weekending dt: | D2: =HLOOKUP(D1,D7:R9,3,0) -> 45998
B5: Consumer SI WF Q3FY2526
C6: Month | D6: 1 | E6: 1 | F6: 1 | G6: 1 | H6: 1 | I6: 2 | J6: 2 | K6: 2 | L6: 2 | M6: 2 | N6: 3 | O6: 3 | P6: 3 | Q6: 3 | R6: 3 | S6: 1 | T6: 2 | U6: 3 | V6: QTR
C7: Week | D7: 1 | E7: 2 | F7: 3 | G7: 4 | H7: 5 | I7: 5 | J7: 6 | K7: 7 | L7: 8 | M7: 9 | N7: 9b | O7: 10 | P7: 11 | Q7: 12 | R7: 13
C8: Begin | D8: 45931 | E8: 45936 | F8: 45943 | G8: 45950 | H8: 45957 | I8: 45962 | J8: 45964 | K8: 45971 | L8: 45978 | M8: 45985 | N8: 45985 | O8: 45992 | P8: 45999 | Q8: 46006 | R8: 46013 | S8: =D8 -> 45931 | T8: =S9+1 -> 45962 | U8: =T9+1 -> 45992 | V8: =D8 -> 45931
C9: End | D9: 45935 | E9: 45942 | F9: 45949 | G9: 45956 | H9: 45961 | I9: 45963 | J9: 45970 | K9: 45977 | L9: 45984 | M9: 45991 | N9: 45991 | O9: 45998 | P9: 46005 | Q9: 46012 | R9: 46022 | S9: =H9 -> 45961 | T9: =M9 -> 45991 | U9: =R9 -> 46022 | V9: =R9 -> 46022
B10: Target | C10: Week | D10: =D43+D76 -> 0.86031197 | E10: =E43+E76 -> 0.55795911 | F10: =F43+F76 -> 11.996709 | G10: =G43+G76 -> 18.781509 | H10: =H43+H76 -> 6.2596965 | I10: =I43+I76 -> 0 | J10: =J43+J76 -> 3.2707421 | K10: =K43+K76 -> 11.419782 | ... R10: =R43+R76 -> 112.3398 | S10: =SUM(D10:H10) -> 38.456186 | T10: =SUM(I10:M10) -> 66.069669 | U10: =SUM(N10:R10) -> 165.47415 | V10: =SUM(S10:U10) -> 270
C11: QTD | D11: =D10 -> 0.86031197 | E11: =D11+E10 -> 1.4182711 | F11: =E11+F10 -> 13.41498 | G11: =F11+G10 -> 32.19649 | H11: =G11+H10 -> 38.456186 | I11: =H11+I10 -> 38.456186 | J11: =I11+J10 -> 41.726928 | K11: =J11+K10 -> 53.14671 | L11: =K11+L10 -> 73.835442 | ... R11: =Q11+R10 -> 270 | S11: =IFERROR(S10/$V10,0) -> 0.14243032 | T11: =IFERROR(T10/$V10,0) -> 0.24470248 | U11: =IFERROR(U10/$V10,0) -> 0.6128672
C12: 0 | D12: =D45+D78 -> 0.11185612 | E12: =E45+E78 -> 1.306415 | F12: =F45+F78 -> 11.996709 | G12: =G45+G78 -> 18.781509 | H12: =H45+H78 -> 6.2596965 | I12: =I45+I78 -> 0 | J12: =J45+J78 -> 3.2707421 | K12: =K45+K78 -> 11.419782 | ... R12: =R45+R78 -> 112.3398 | S12: =SUMIF($D$6:$R$6,S$6,$D12:$R12) -> 38.456186 | T12: =SUMIF($D$6:$R$6,T$6,$D12:$R12) -> 66.069669 | U12: =SUMIF($D$6:$R$6,U$6,$D12:$R12) -> 165.47415 | V12: =SUM(S12:U12) -> 270
B13: Week | C13: 1 | D13: =D46+D79 -> 0.044 | E13: =E46+E79 -> 1.8423863 | F13: =F46+F79 -> 15.584167 | G13: =G46+G79 -> 24.397871 | H13: =H46+H79 -> 8.1315759 | I13: =I46+I79 -> 0 | J13: =J46+J79 -> 3.3167976 | K13: =K46+K79 -> 11.580585 | ... R13: =R46+R79 -> 104.19225 | S13: =SUMIF($D$6:$R$6,S$6,$D13:$R13) -> 50 | T13: =SUMIF($D$6:$R$6,T$6,$D13:$R13) -> 67 | U13: =SUMIF($D$6:$R$6,U$6,$D13:$R13) -> 153 | V13: =SUM(S13:U13) -> 270
C14: 2 | D14: =IF($C14<=$D$1,D13,0) -> 0.044 | E14: =E47+E80 -> 10.579 | F14: =F47+F80 -> 15.584167 | G14: =G47+G80 -> 16.382041 | H14: =H47+H80 -> 7.4107925 | I14: =I47+I80 -> 0 | J14: =J47+J80 -> 3.3167976 | K14: =K47+K80 -> 11.580585 | L14: =L47+L80 -> 20.980051 | ... R14: =R47+R80 -> 104.19225 | S14: =SUMIF($D$6:$R$6,S$6,$D14:$R14) -> 50 | T14: =SUMIF($D$6:$R$6,T$6,$D14:$R14) -> 67 | U14: =SUMIF($D$6:$R$6,U$6,$D14:$R14) -> 153 | V14: =SUM(S14:U14) -> 270
C15: 3 | D15: =IF($C15<=$D$1,D14,0) -> 0.044 | E15: =IF($C15<=$D$1,E14,0) -> 10.579 | F15: =F48+F81 -> 16.442 | G15: =G48+G81 -> 16.196047 | H15: =H48+H81 -> 7.9879532 | I15: =I48+I81 -> 0.65 | J15: =J48+J81 -> 6.2389742 | K15: =K48+K81 -> 17.50036 | L15: =L48+L81 -> 26.362373 | M15: =M48+M81 -> 39.598293 | ... R15: =R48+R81 -> 18.961638 | S15: =SUMIF($D$6:$R$6,S$6,$D15:$R15) -> 51.249 | T15: =SUMIF($D$6:$R$6,T$6,$D15:$R15) -> 90.35 | U15: =SUMIF($D$6:$R$6,U$6,$D15:$R15) -> 138.4 | V15: =SUM(S15:U15) -> 279.999
C16: 4 | D16: =IF($C16<=$D$1,D15,0) -> 0.044 | E16: =IF($C16<=$D$1,E15,0) -> 10.579 | F16: =IF($C16<=$D$1,F15,0) -> 16.442 | G16: =G49+G82 -> 11.037 | H16: =H49+H82 -> 27.492 | I16: =I49+I82 -> 0.65 | J16: =J49+J82 -> 6.0052278 | K16: =K49+K82 -> 17.229983 | L16: =L49+L82 -> 27.848151 | M16: =M49+M82 -> 41.916638 | N16: =N49+N82 -> 0 | ... R16: =R49+R82 -> 16.858427 | S16: =SUMIF($D$6:$R$6,S$6,$D16:$R16) -> 65.594 | T16: =SUMIF($D$6:$R$6,T$6,$D16:$R16) -> 93.65 | U16: =SUMIF($D$6:$R$6,U$6,$D16:$R16) -> 120.8 | V16: =SUM(S16:U16) -> 280.044
C17: 5 | D17: =IF($C17<=$D$1,D16,0) -> 0.044 | E17: =IF($C17<=$D$1,E16,0) -> 10.579 | F17: =IF($C17<=$D$1,F16,0) -> 16.442 | G17: =IF($C17<=$D$1,G16,0) -> 11.037 | H17: =H50+H83 -> 32.626 | I17: =I50+I83 -> 0.12 | J17: =J50+J83 -> 6.0052278 | K17: =K50+K83 -> 17.229983 | L17: =L50+L83 -> 27.848151 | M17: =M50+M83 -> 37.312638 | N17: =N50+N83 -> 0 | O17: =O50+O83 -> 23.042472 | ... R17: =R50+R83 -> 16.858427 | S17: =SUMIF($D$6:$R$6,S$6,$D17:$R17) -> 70.728 | T17: =SUMIF($D$6:$R$6,T$6,$D17:$R17) -> 88.516 | U17: =SUMIF($D$6:$R$6,U$6,$D17:$R17) -> 120.8 | V17: =SUM(S17:U17) -> 280.044
C18: 6 | D18: =IF($C18<=$D$1,D17,0) -> 0.044 | E18: =IF($C18<=$D$1,E17,0) -> 10.579 | F18: =IF($C18<=$D$1,F17,0) -> 16.442 | G18: =IF($C18<=$D$1,G17,0) -> 11.037 | H18: =IF($C18<=$D$1,H17,0) -> 32.626 | I18: =IF($C18<=$D$1,I17,0) -> 0.12 | J18: =J51+J84 -> 3.448 | K18: =K51+K84 -> 17.929983 | L18: =L51+L84 -> 26.848151 | M18: =M51+M84 -> 40.169866 | N18: =N51+N84 -> 0 | O18: =O51+O84 -> 23.042472 | P18: =P51+P84 -> 32.083767 | Q18: =Q51+Q84 -> 48.815334 | R18: =R51+R84 -> 16.858427 | S18: =SUMIF($D$6:$R$6,S$6,$D18:$R18) -> 70.728 | T18: =SUMIF($D$6:$R$6,T$6,$D18:$R18) -> 88.516 | U18: =SUMIF($D$6:$R$6,U$6,$D18:$R18) -> 120.8 | V18: =SUM(S18:U18) -> 280.044
C19: 7 | D19: =IF($C19<=$D$1,D18,0) -> 0.044 | E19: =IF($C19<=$D$1,E18,0) -> 10.579 | F19: =IF($C19<=$D$1,F18,0) -> 16.442 | G19: =IF($C19<=$D$1,G18,0) -> 11.037 | H19: =IF($C19<=$D$1,H18,0) -> 32.626 | I19: =IF($C19<=$D$1,I18,0) -> 0.12 | J19: =IF($C19<=$D$1,J18,0) -> 3.448 | K19: =K52+K85 -> 7.388 | L19: =L52+L85 -> 25.754805 | M19: =M52+M85 -> 47.289195 | N19: =N52+N85 -> 0 | O19: =O52+O85 -> 27.382025 | P19: =P52+P85 -> 35.883941 | Q19: =Q52+Q85 -> 52.87821 | R19: =R52+R85 -> 19.127824 | S19: =SUMIF($D$6:$R$6,S$6,$D19:$R19) -> 70.728 | T19: =SUMIF($D$6:$R$6,T$6,$D19:$R19) -> 84 | U19: =SUMIF($D$6:$R$6,U$6,$D19:$R19) -> 135.272 | V19: =SUM(S19:U19) -> 290
C20: 8 | D20: =IF($C20<=$D$1,D19,0) -> 0.044 | E20: =IF($C20<=$D$1,E19,0) -> 10.579 | F20: =IF($C20<=$D$1,F19,0) -> 16.442 | G20: =IF($C20<=$D$1,G19,0) -> 11.037 | H20: =IF($C20<=$D$1,H19,0) -> 32.626 | I20: =IF($C20<=$D$1,I19,0) -> 0.12 | J20: =IF($C20<=$D$1,J19,0) -> 3.448 | K20: =IF($C20<=$D$1,K19,0) -> 7.388 | L20: =L53+L86 -> 33.066 | M20: =M53+M86 -> 50.018 | N20: =N53+N86 -> 0 | O20: =O53+O86 -> 22.856852 | P20: =P53+P86 -> 33.305337 | Q20: =Q53+Q86 -> 50.881587 | R20: =R53+R86 -> 18.188224 | S20: =SUMIF($D$6:$R$6,S$6,$D20:$R20) -> 70.728 | T20: =SUMIF($D$6:$R$6,T$6,$D20:$R20) -> 94.04 | U20: =SUMIF($D$6:$R$6,U$6,$D20:$R20) -> 125.232 | V20: =SUM(S20:U20) -> 290
C21: 9 | D21: =IF($C21<=$D$1,D20,0) -> 0.044 | E21: =IF($C21<=$D$1,E20,0) -> 10.579 | F21: =IF($C21<=$D$1,F20,0) -> 16.442 | G21: =IF($C21<=$D$1,G20,0) -> 11.037 | H21: =IF($C21<=$D$1,H20,0) -> 32.626 | I21: =IF($C21<=$D$1,I20,0) -> 0.12 | J21: =IF($C21<=$D$1,J20,0) -> 3.448 | K21: =IF($C21<=$D$1,K20,0) -> 7.388 | L21: =IF($C21<=$D$1,L20,0) -> 33.066 | M21: =M54+M87 -> 64.11 | N21: =N54+N87 -> 0 | O21: =O54+O87 -> 25.556852 | P21: =P54+P87 -> 31.805337 | Q21: =Q54+Q87 -> 38.89243 | R21: =R54+R87 -> 14.885381 | S21: =SUMIF($D$6:$R$6,S$6,$D21:$R21) -> 70.728 | T21: =SUMIF($D$6:$R$6,T$6,$D21:$R21) -> 108.132 | U21: =SUMIF($D$6:$R$6,U$6,$D21:$R21) -> 111.14 | V21: =SUM(S21:U21) -> 290
C22: 10 | D22: =IF($C22<=$D$1,D21,0) -> 0.044 | E22: =IF($C22<=$D$1,E21,0) -> 10.579 | F22: =IF($C22<=$D$1,F21,0) -> 16.442 | G22: =IF($C22<=$D$1,G21,0) -> 11.037 | H22: =IF($C22<=$D$1,H21,0) -> 32.626 | I22: =IF($C22<=$D$1,I21,0) -> 0.12 | J22: =IF($C22<=$D$1,J21,0) -> 3.448 | K22: =IF($C22<=$D$1,K21,0) -> 7.388 | ... N22: =IF($C22<=$D$1,N21,0) -> 0 | O22: =O55+O88 -> -0.704 | P22: =P55+P88 -> 0 | Q22: =Q55+Q88 -> 0 | R22: =R55+R88 -> 0 | S22: =SUMIF($D$6:$R$6,S$6,$D22:$R22) -> 70.728 | T22: =SUMIF($D$6:$R$6,T$6,$D22:$R22) -> 108.132 | U22: =SUMIF($D$6:$R$6,U$6,$D22:$R22) -> -0.704 | V22: =SUM(S22:U22) -> 178.156
C23: 11 | D23: =IF($C23<=$D$1,D22,0) -> 0 | E23: =IF($C23<=$D$1,E22,0) -> 0 | F23: =IF($C23<=$D$1,F22,0) -> 0 | G23: =IF($C23<=$D$1,G22,0) -> 0 | H23: =IF($C23<=$D$1,H22,0) -> 0 | I23: =IF($C23<=$D$1,I22,0) -> 0 | J23: =IF($C23<=$D$1,J22,0) -> 0 | K23: =IF($C23<=$D$1,K22,0) -> 0 | ... O23: =IF($C23<=$D$1,O22,0) -> 0 | P23: =P56+P89 -> 0 | Q23: =Q56+Q89 -> 0 | R23: =R56+R89 -> 0 | S23: =SUMIF($D$6:$R$6,S$6,$D23:$R23) -> 0 | T23: =SUMIF($D$6:$R$6,T$6,$D23:$R23) -> 0 | U23: =SUMIF($D$6:$R$6,U$6,$D23:$R23) -> 0 | V23: =SUM(S23:U23) -> 0
C24: 12 | D24: =IF($C24<=$D$1,D23,0) -> 0 | E24: =IF($C24<=$D$1,E23,0) -> 0 | F24: =IF($C24<=$D$1,F23,0) -> 0 | G24: =IF($C24<=$D$1,G23,0) -> 0 | H24: =IF($C24<=$D$1,H23,0) -> 0 | I24: =IF($C24<=$D$1,I23,0) -> 0 | J24: =IF($C24<=$D$1,J23,0) -> 0 | K24: =IF($C24<=$D$1,K23,0) -> 0 | ... P24: =IF($C24<=$D$1,P23,0) -> 0 | Q24: =Q57+Q90 -> 0 | R24: =R57+R90 -> 0 | S24: =SUMIF($D$6:$R$6,S$6,$D24:$R24) -> 0 | T24: =SUMIF($D$6:$R$6,T$6,$D24:$R24) -> 0 | U24: =SUMIF($D$6:$R$6,U$6,$D24:$R24) -> 0 | V24: =SUM(S24:U24) -> 0
C25: 13 | D25: =IF($C25<=$D$1,D24,0) -> 0 | E25: =IF($C25<=$D$1,E24,0) -> 0 | F25: =IF($C25<=$D$1,F24,0) -> 0 | G25: =IF($C25<=$D$1,G24,0) -> 0 | H25: =IF($C25<=$D$1,H24,0) -> 0 | I25: =IF($C25<=$D$1,I24,0) -> 0 | J25: =IF($C25<=$D$1,J24,0) -> 0 | K25: =IF($C25<=$D$1,K24,0) -> 0 | ... Q25: =IF($C25<=$D$1,Q24,0) -> 0 | R25: =R58+R91 -> 0 | S25: =SUMIF($D$6:$R$6,S$6,$D25:$R25) -> 0 | T25: =SUMIF($D$6:$R$6,T$6,$D25:$R25) -> 0 | U25: =SUMIF($D$6:$R$6,U$6,$D25:$R25) -> 0 | V25: =SUM(S25:U25) -> 0
B26: Actual | C26: 0 | D26: =INDEX($D$13:$R$25,1,1) -> 0.044 | E26: =INDEX($D$13:$R$25,2,2) -> 10.579 | F26: =INDEX($D$13:$R$25,3,3) -> 16.442 | G26: =INDEX($D$13:$R$25,4,4) -> 11.037 | H26: =INDEX($D$13:$R$25,5,5) -> 32.626 | I26: =INDEX($D$13:$R$25,5,6) -> 0.12 | J26: =INDEX($D$13:$R$25,6,7) -> 3.448 | K26: =INDEX($D$13:$R$25,7,8) -> 7.388 | L26: =INDEX($D$13:$R$25,8,9) -> 33.066 | M26: =INDEX($D$13:$R$25,9,10) -> 64.11 | N26: =INDEX($D$13:$R$25,9,11) -> 0 | O26: =INDEX($D$13:$R$25,10,12) -> -0.704 | P26: =INDEX($D$13:$R$25,11,13) -> 0 | Q26: =INDEX($D$13:$R$25,12,14) -> 0 | R26: 0 | S26: =INDEX(S12:S25,MATCH($D$1,C12:C25,0)) -> 70.728 | T26: =INDEX(T12:T25,MATCH($D$1,C12:C25,0)) -> 108.132 | U26: =INDEX(U12:U25,MATCH($D$1,C12:C25,0)) -> -0.704 | V26: =INDEX(V12:V25,MATCH($D$1,C12:C25,0)) -> 178.156
B27: Delta to Target | C27: 0 | D27: =IF(D$9<=$D$2,D26-D10,0) -> -0.81631197 | E27: =IF(E$9<=$D$2,E26-E10,0) -> 10.021041 | F27: =IF(F$9<=$D$2,F26-F10,0) -> 4.4452906 | G27: =IF(G$9<=$D$2,G26-G10,0) -> -7.7445093 | H27: =IF(H$9<=$D$2,H26-H10,0) -> 26.366304 | I27: =IF(I$9<=$D$2,I26-I10,0) -> 0.12 | J27: =IF(J$9<=$D$2,J26-J10,0) -> 0.1772579 | K27: =IF(K$9<=$D$2,K26-K10,0) -> -4.0317818 | ... R27: =IF(R$9<=$D$2,R26-R10,0) -> 0 | S27: =IF(S$9>=$D$2,S26-S10,0) -> 0 | T27: =IF(T$9>=$D$2,T26-T10,0) -> 0 | U27: =IF(U$9>=$D$2,U26-U10,0) -> -166.17815 | V27: =IF(V$9>=$D$2,V26-V10,0) -> -91.844
B28: % to Target | C28: 0 | D28: =IF($D$2<D$9,0,IF(AND(D10=0,D26=0),1,IF(AND(D10=0,D26>0),2,IF(D26<0,0,(D26/D10))))) -> 0.051144238 | E28: =IF($D$2<E$9,0,IF(AND(E10=0,E26=0),1,IF(AND(E10=0,E26>0),2,IF(E26<0,0,(E26/E10))))) -> 18.960171 | F28: =IF($D$2<F$9,0,IF(AND(F10=0,F26=0),1,IF(AND(F10=0,F26>0),2,IF(F26<0,0,(F26/F10))))) -> 1.3705425 | G28: =IF($D$2<G$9,0,IF(AND(G10=0,G26=0),1,IF(AND(G10=0,G26>0),2,IF(G26<0,0,(G26/G10))))) -> 0.58765245 | H28: =IF($D$2<H$9,0,IF(AND(H10=0,H26=0),1,IF(AND(H10=0,H26>0),2,IF(H26<0,0,(H26/H10))))) -> 5.2120738 | I28: =IF($D$2<I$9,0,IF(AND(I10=0,I26=0),1,IF(AND(I10=0,I26>0),2,IF(I26<0,0,(I26/I10))))) -> 2 | J28: =IF($D$2<J$9,0,IF(AND(J10=0,J26=0),1,IF(AND(J10=0,J26>0),2,IF(J26<0,0,(J26/J10))))) -> 1.054195 | K28: =IF($D$2<K$9,0,IF(AND(K10=0,K26=0),1,IF(AND(K10=0,K26>0),2,IF(K26<0,0,(K26/K10))))) -> 0.64694756 | ... V28: =IF($D$2<V$9,0,IF(AND(V10=0,V26=0),1,IF(AND(V10=0,V26>0),2,IF(V26<0,0,(V26/V10))))) -> 0
B29: ="Week "&$D$1&" View" -> Week 10 View | D29: =INDEX(D13:D25,MATCH($D$1,$C$13:$C$25,0)) -> 0.044 | E29: =INDEX(E13:E25,MATCH($D$1,$C$13:$C$25,0)) -> 10.579 | F29: =INDEX(F13:F25,MATCH($D$1,$C$13:$C$25,0)) -> 16.442 | G29: =INDEX(G13:G25,MATCH($D$1,$C$13:$C$25,0)) -> 11.037 | H29: =INDEX(H13:H25,MATCH($D$1,$C$13:$C$25,0)) -> 32.626 | I29: =INDEX(I13:I25,MATCH($D$1,$C$13:$C$25,0)) -> 0.12 | J29: =INDEX(J13:J25,MATCH($D$1,$C$13:$C$25,0)) -> 3.448 | K29: =INDEX(K13:K25,MATCH($D$1,$C$13:$C$25,0)) -> 7.388 | ... V29: =INDEX(V13:V25,MATCH($D$1,$C$13:$C$25,0)) -> 178.156
B30: Linearity | D30: =D29/$S$29 -> 0.00062210157 | E30: =E29/$S$29 -> 0.14957301 | F30: =F29/$S$29 -> 0.23246805 | G30: =G29/$S$29 -> 0.15604852 | H30: =H29/$S$29 -> 0.46128832 | I30: =I29/$T$29 -> 0.0011097547 | J30: =J29/$T$29 -> 0.031886953 | K30: =K29/$T$29 -> 0.0683239 | L30: =L29/$T$29 -> 0.30579292 | M30: =M29/$T$29 -> 0.59288647 | N30: =N29/$U$29 -> 0 | O30: =O29/$U$29 -> 1 | P30: =P29/$U$29 -> 0 | Q30: =Q29/$U$29 -> 0 | R30: =R29/$U$29 -> 0 | S30: =S29/$V$29 -> 0.39700038 | T30: =T29/$V$29 -> 0.60695121 | U30: =U29/$V$29 -> -0.003951593
B31: Last 4Q ROL Linearity | H31: 0 | M31: 0 | R31: 0
B32: QTD Actual | C32: 0 | D32: =IF(D$9<=$D$2,D26,0) -> 0.044 | E32: =IF(E$9<=$D$2,E26+D32,0) -> 10.623 | F32: =IF(F$9<=$D$2,F26+E32,0) -> 27.065 | G32: =IF(G$9<=$D$2,G26+F32,0) -> 38.102 | H32: =IF(H$9<=$D$2,H26+G32,0) -> 70.728 | I32: =IF(I$9<=$D$2,I26+H32,0) -> 70.848 | J32: =IF(J$9<=$D$2,J26+I32,0) -> 74.296 | K32: =IF(K$9<=$D$2,K26+J32,0) -> 81.684 | L32: =IF(L$9<=$D$2,L26+K32,0) -> 114.75 | ... R32: =IF(R$9<=$D$2,R26+Q32,0) -> 0 | S32: =IFERROR(INDEX(S$13:S$25,$D$1,0)/INDEX($V$13:$V$25,$D$1,0),0) -> 0.39700038 | T32: =IFERROR(INDEX(T$13:T$25,$D$1,0)/INDEX($V$13:$V$25,$D$1,0),0) -> 0.60695121 | U32: =IFERROR(INDEX(U$13:U$25,$D$1,0)/INDEX($V$13:$V$25,$D$1,0),0) -> -0.003951593 | V32: Current
B33: QTD Delta to Tgt | C33: 0 | D33: =IF(D$27=0,0,IF(D$9<=$D$2,D32-D11,D32-D11)) -> -0.81631197 | E33: =IF(E$27=0,0,IF(E$9<=$D$2,E32-E11,E32-E11)) -> 9.2047289 | F33: =IF(F$27=0,0,IF(F$9<=$D$2,F32-F11,F32-F11)) -> 13.65002 | G33: =IF(G$27=0,0,IF(G$9<=$D$2,G32-G11,G32-G11)) -> 5.9055102 | H33: =IF(H$27=0,0,IF(H$9<=$D$2,H32-H11,H32-H11)) -> 32.271814 | I33: =IF(I$27=0,0,IF(I$9<=$D$2,I32-I11,I32-I11)) -> 32.391814 | J33: =IF(J$27=0,0,IF(J$9<=$D$2,J32-J11,J32-J11)) -> 32.569072 | K33: =IF(K$27=0,0,IF(K$9<=$D$2,K32-K11,K32-K11)) -> 28.53729 | ... R33: =IF(R$27=0,0,IF(R$9<=$D$2,R32-R11,R32-R11)) -> 0 | S33: 0 | T33: 0 | U33: 0 | V33: Last 4Q
B34: % to Target | C34: 0 | D34: =IF($D$2<D$9,0,IF(AND(D11=0,D32=0),1,IF(AND(D11=0,D32>0),2,IF(D32<0,0,(D32/D11))))) -> 0.051144238 | E34: =IF($D$2<E$9,0,IF(AND(E11=0,E32=0),1,IF(AND(E11=0,E32>0),2,IF(E32<0,0,(E32/E11))))) -> 7.4901055 | F34: =IF($D$2<F$9,0,IF(AND(F11=0,F32=0),1,IF(AND(F11=0,F32>0),2,IF(F32<0,0,(F32/F11))))) -> 2.0175206 | G34: =IF($D$2<G$9,0,IF(AND(G11=0,G32=0),1,IF(AND(G11=0,G32>0),2,IF(G32<0,0,(G32/G11))))) -> 1.1834209 | H34: =IF($D$2<H$9,0,IF(AND(H11=0,H32=0),1,IF(AND(H11=0,H32>0),2,IF(H32<0,0,(H32/H11))))) -> 1.8391839 | I34: =IF($D$2<I$9,0,IF(AND(I11=0,I32=0),1,IF(AND(I11=0,I32>0),2,IF(I32<0,0,(I32/I11))))) -> 1.8423044 | J34: =IF($D$2<J$9,0,IF(AND(J11=0,J32=0),1,IF(AND(J11=0,J32>0),2,IF(J32<0,0,(J32/J11))))) -> 1.7805289 | K34: =IF($D$2<K$9,0,IF(AND(K11=0,K32=0),1,IF(AND(K11=0,K32>0),2,IF(K32<0,0,(K32/K11))))) -> 1.5369531 | ... R34: =IF($D$2<R$9,0,IF(AND(R11=0,R32=0),1,IF(AND(R11=0,R32>0),2,IF(R32<0,0,(R32/R11))))) -> 0 | S34: 0 | T34: 0 | U34: 0 | V34: Last 3Y
B35: Fy Q3 2425 | D35: =D68+D101 -> 1.211 | E35: =E68+E101 -> 0.054 | F35: =F68+F101 -> 2.127 | G35: =G68+G101 -> 5.134 | H35: =H68+H101 -> 5.805 | I35: =I68+I101 -> 1.432 | J35: =J68+J101 -> 8.13 | K35: =K68+K101 -> 10.897 | ... R35: =R68+R101 -> 114.248 | S35: =SUM(D35:H35) -> 14.331 | T35: =SUM(I35:M35) -> 65.061 | U35: =SUM(N35:R35) -> 163.632 | V35: =SUM(S35:U35) -> 243.024
B36: Fy Q4 2324 | D36: =D69+D102 -> 1.107 | E36: =E69+E102 -> 1.732 | F36: =F69+F102 -> 2.749 | G36: =G69+G102 -> 23.506 | H36: =H69+H102 -> 11.081 | I36: =I69+I102 -> 1.793 | J36: =J69+J102 -> 9.969 | K36: =K69+K102 -> 17.399 | ... R36: =R69+R102 -> 123.808 | S36: =SUM(D36:H36) -> 40.175 | T36: =SUM(I36:M36) -> 125.21 | U36: =SUM(N36:R36) -> 191.185 | V36: =SUM(S36:U36) -> 356.57
B38: Consumer SI DT WF Q3FY2425
C39: Month | D39: =D$6 -> 1 | E39: =E$6 -> 1 | F39: =F$6 -> 1 | G39: =G$6 -> 1 | H39: =H$6 -> 1 | I39: =I$6 -> 2 | J39: =J$6 -> 2 | K39: =K$6 -> 2 | L39: =L$6 -> 2 | M39: 2 | N39: 3 | O39: =O$6 -> 3 | P39: =P$6 -> 3 | Q39: =Q$6 -> 3 | R39: =R$6 -> 3 | S39: =S$6 -> 1 | T39: =T$6 -> 2 | U39: =U$6 -> 3 | V39: =V$6 -> QTR
C40: Week | D40: =D7 -> 1 | E40: =E7 -> 2 | F40: =F7 -> 3 | G40: =G7 -> 4 | H40: =H7 -> 5 | I40: =I7 -> 5 | J40: =J7 -> 6 | K40: =K7 -> 7 | ... V40: =V7 -> 0
C41: Begin | D41: =D$8 -> 45931 | E41: =E$8 -> 45936 | F41: =F$8 -> 45943 | G41: =G$8 -> 45950 | H41: =H$8 -> 45957 | I41: =I$8 -> 45962 | J41: =J$8 -> 45964 | K41: =K$8 -> 45971 | ... V41: =V$8 -> 45931
C42: End | D42: =D$9 -> 45935 | E42: =E$9 -> 45942 | F42: =F$9 -> 45949 | G42: =G$9 -> 45956 | H42: =H$9 -> 45961 | I42: =I$9 -> 45963 | J42: =J$9 -> 45970 | K42: =K$9 -> 45977 | ... V42: =V$9 -> 46022
B43: Target | C43: Week | D43: ='SI-Onshore'!D43 -> 0.073285834 | E43: ='SI-Onshore'!E43 -> 0.04752985 | F43: ='SI-Onshore'!F43 -> 1.0219419 | G43: ='SI-Onshore'!G43 -> 1.5999064 | H43: ='SI-Onshore'!H43 -> 0.5332334 | I43: ='SI-Onshore'!I43 -> 0 | J43: ='SI-Onshore'!J43 -> 0.27861877 | K43: ='SI-Onshore'!K43 -> 0.97279623 | ... R43: ='SI-Onshore'!R43 -> 9.5696865 | S43: =SUMIF($D$6:$R$6,S$6,$D43:$R43) -> 3.2758973 | T43: =SUMIF($D$6:$R$6,T$6,$D43:$R43) -> 5.628157 | U43: =SUMIF($D$6:$R$6,U$6,$D43:$R43) -> 14.095946 | V43: =SUM(S43:U43) -> 23
C44: QTD | D44: =D43 -> 0.073285834 | E44: =D44+E43 -> 0.12081568 | F44: =E44+F43 -> 1.1427576 | G44: =F44+G43 -> 2.7426639 | H44: =G44+H43 -> 3.2758973 | I44: =H44+I43 -> 3.2758973 | J44: =I44+J43 -> 3.5545161 | K44: =J44+K43 -> 4.5273124 | L44: =K44+L43 -> 6.2896858 | ... R44: =Q44+R43 -> 23 | S44: =IFERROR(S43/$V43,0) -> 0.14243032 | T44: =IFERROR(T43/$V43,0) -> 0.24470248 | U44: =IFERROR(U43/$V43,0) -> 0.6128672
C45: 0 | D45: =+'SI-Onshore'!D45+'SI-Overseas'!D45 -> 0 | E45: =+'SI-Onshore'!E45+'SI-Overseas'!E45 -> 0.12081568 | F45: =+'SI-Onshore'!F45+'SI-Overseas'!F45 -> 1.0219419 | G45: =+'SI-Onshore'!G45+'SI-Overseas'!G45 -> 1.5999064 | H45: =+'SI-Onshore'!H45+'SI-Overseas'!H45 -> 0.5332334 | I45: =+'SI-Onshore'!I45+'SI-Overseas'!I45 -> 0 | J45: =+'SI-Onshore'!J45+'SI-Overseas'!J45 -> 0.27861877 | K45: =+'SI-Onshore'!K45+'SI-Overseas'!K45 -> 0.97279623 | ... R45: =+'SI-Onshore'!R45+'SI-Overseas'!R45 -> 9.5696865 | S45: =SUMIF($D$6:$R$6,S$6,$D45:$R45) -> 3.2758973 | T45: =SUMIF($D$6:$R$6,T$6,$D45:$R45) -> 5.628157 | U45: =SUMIF($D$6:$R$6,U$6,$D45:$R45) -> 14.095946 | V45: =SUM(S45:U45) -> 23
B46: Week | C46: 1 | D46: =+'SI-Onshore'!D46+'SI-Overseas'!D46 -> 0.044 | E46: =+'SI-Onshore'!E46+'SI-Overseas'!E46 -> 0.12081568 | F46: =+'SI-Onshore'!F46+'SI-Overseas'!F46 -> 1.0219419 | G46: =+'SI-Onshore'!G46+'SI-Overseas'!G46 -> 1.5999064 | H46: =+'SI-Onshore'!H46+'SI-Overseas'!H46 -> 0.5332334 | I46: =+'SI-Onshore'!I46+'SI-Overseas'!I46 -> 0 | J46: =+'SI-Onshore'!J46+'SI-Overseas'!J46 -> 0.27861877 | K46: =+'SI-Onshore'!K46+'SI-Overseas'!K46 -> 0.97279623 | ... R46: =+'SI-Onshore'!R46+'SI-Overseas'!R46 -> 9.5696865 | S46: =SUMIF($D$6:$R$6,S$6,$D46:$R46) -> 3.3198973 | T46: =SUMIF($D$6:$R$6,T$6,$D46:$R46) -> 5.628157 | U46: =SUMIF($D$6:$R$6,U$6,$D46:$R46) -> 14.095946 | V46: =SUM(S46:U46) -> 23.044
C47: 2 | D47: =IF(IF($C47<=$D$1,D46,0)=0,"-",IF($C47<=$D$1,D46,0)) -> 0.044 | E47: =+'SI-Onshore'!E47+'SI-Overseas'!E47 -> 0.547 | F47: =+'SI-Onshore'!F47+'SI-Overseas'!F47 -> 1.0219419 | G47: =+'SI-Onshore'!G47+'SI-Overseas'!G47 -> 1.5999064 | H47: =+'SI-Onshore'!H47+'SI-Overseas'!H47 -> 0.10704909 | I47: =+'SI-Onshore'!I47+'SI-Overseas'!I47 -> 0 | J47: =+'SI-Onshore'!J47+'SI-Overseas'!J47 -> 0.27861877 | K47: =+'SI-Onshore'!K47+'SI-Overseas'!K47 -> 0.97279623 | L47: =+'SI-Onshore'!L47+'SI-Overseas'!L47 -> 1.7623734 | ... R47: =+'SI-Onshore'!R47+'SI-Overseas'!R47 -> 9.5696865 | S47: =SUMIF($D$6:$R$6,S$6,$D47:$R47) -> 3.3198973 | T47: =SUMIF($D$6:$R$6,T$6,$D47:$R47) -> 5.628157 | U47: =SUMIF($D$6:$R$6,U$6,$D47:$R47) -> 14.095946 | V47: =SUM(S47:U47) -> 23.044
C48: 3 | D48: =IF(IF($C48<=$D$1,D47,0)=0,"-",IF($C48<=$D$1,D47,0)) -> 0.044 | E48: =IF(IF($C48<=$D$1,E47,0)=0,"-",IF($C48<=$D$1,E47,0)) -> 0.547 | F48: =+'SI-Onshore'!F48+'SI-Overseas'!F48 -> 1.066 | G48: =+'SI-Onshore'!G48+'SI-Overseas'!G48 -> 1.5558483 | H48: =+'SI-Onshore'!H48+'SI-Overseas'!H48 -> 0.10704909 | I48: =+'SI-Onshore'!I48+'SI-Overseas'!I48 -> 0 | J48: =+'SI-Onshore'!J48+'SI-Overseas'!J48 -> 0.27861877 | K48: =+'SI-Onshore'!K48+'SI-Overseas'!K48 -> 0.97279623 | L48: =+'SI-Onshore'!L48+'SI-Overseas'!L48 -> 1.7623734 | M48: =+'SI-Onshore'!M48+'SI-Overseas'!M48 -> 2.6143685 | ... R48: =+'SI-Onshore'!R48+'SI-Overseas'!R48 -> 9.5696865 | S48: =SUMIF($D$6:$R$6,S$6,$D48:$R48) -> 3.3198973 | T48: =SUMIF($D$6:$R$6,T$6,$D48:$R48) -> 5.628157 | U48: =SUMIF($D$6:$R$6,U$6,$D48:$R48) -> 14.095946 | V48: =SUM(S48:U48) -> 23.044
C49: 4 | D49: =IF(IF($C49<=$D$1,D48,0)=0,"-",IF($C49<=$D$1,D48,0)) -> 0.044 | E49: =IF(IF($C49<=$D$1,E48,0)=0,"-",IF($C49<=$D$1,E48,0)) -> 0.547 | F49: =IF(IF($C49<=$D$1,F48,0)=0,"-",IF($C49<=$D$1,F48,0)) -> 1.066 | G49: =+'SI-Onshore'!G49+'SI-Overseas'!G49 -> 2.22 | H49: =+'SI-Onshore'!H49+'SI-Overseas'!H49 -> 1.123 | I49: =+'SI-Onshore'!I49+'SI-Overseas'!I49 -> 0 | J49: =+'SI-Onshore'!J49+'SI-Overseas'!J49 -> 0.27861877 | K49: =+'SI-Onshore'!K49+'SI-Overseas'!K49 -> 0.97279623 | L49: =+'SI-Onshore'!L49+'SI-Overseas'!L49 -> 1.7623734 | M49: =+'SI-Onshore'!M49+'SI-Overseas'!M49 -> 2.6143685 | N49: =+'SI-Onshore'!N49+'SI-Overseas'!N49 -> 0 | ... R49: =+'SI-Onshore'!R49+'SI-Overseas'!R49 -> 7.8895838 | S49: =SUMIF($D$6:$R$6,S$6,$D49:$R49) -> 5 | T49: =SUMIF($D$6:$R$6,T$6,$D49:$R49) -> 5.628157 | U49: =SUMIF($D$6:$R$6,U$6,$D49:$R49) -> 12.415843 | V49: =SUM(S49:U49) -> 23.044
C50: 5 | D50: =IF(IF($C50<=$D$1,D49,0)=0,"-",IF($C50<=$D$1,D49,0)) -> 0.044 | E50: =IF(IF($C50<=$D$1,E49,0)=0,"-",IF($C50<=$D$1,E49,0)) -> 0.547 | F50: =IF(IF($C50<=$D$1,F49,0)=0,"-",IF($C50<=$D$1,F49,0)) -> 1.066 | G50: =IF(IF($C50<=$D$1,G49,0)=0,"-",IF($C50<=$D$1,G49,0)) -> 2.22 | H50: =+'SI-Onshore'!H50+'SI-Overseas'!H50 -> 1.326 | I50: =+'SI-Onshore'!I50+'SI-Overseas'!I50 -> 0 | J50: =+'SI-Onshore'!J50+'SI-Overseas'!J50 -> 0.27861877 | K50: =+'SI-Onshore'!K50+'SI-Overseas'!K50 -> 0.97279623 | L50: =+'SI-Onshore'!L50+'SI-Overseas'!L50 -> 1.7623734 | M50: =+'SI-Onshore'!M50+'SI-Overseas'!M50 -> 2.4113685 | N50: =+'SI-Onshore'!N50+'SI-Overseas'!N50 -> 0 | O50: =+'SI-Onshore'!O50+'SI-Overseas'!O50 -> 1.1807112 | ... R50: =+'SI-Onshore'!R50+'SI-Overseas'!R50 -> 7.8895838 | S50: =SUMIF($D$6:$R$6,S$6,$D50:$R50) -> 5.203 | T50: =SUMIF($D$6:$R$6,T$6,$D50:$R50) -> 5.425157 | U50: =SUMIF($D$6:$R$6,U$6,$D50:$R50) -> 12.415843 | V50: =SUM(S50:U50) -> 23.044
C51: 6 | D51: =IF(IF($C51<=$D$1,D50,0)=0,"-",IF($C51<=$D$1,D50,0)) -> 0.044 | E51: =IF(IF($C51<=$D$1,E50,0)=0,"-",IF($C51<=$D$1,E50,0)) -> 0.547 | F51: =IF(IF($C51<=$D$1,F50,0)=0,"-",IF($C51<=$D$1,F50,0)) -> 1.066 | G51: =IF(IF($C51<=$D$1,G50,0)=0,"-",IF($C51<=$D$1,G50,0)) -> 2.22 | H51: =IF(IF($C51<=$D$1,H50,0)=0,"-",IF($C51<=$D$1,H50,0)) -> 1.326 | I51: =IF(IF($C51<=$D$1,I50,0)=0,"-",IF($C51<=$D$1,I50,0)) -> - | J51: =+'SI-Onshore'!J51+'SI-Overseas'!J51 -> 0.063 | K51: =+'SI-Onshore'!K51+'SI-Overseas'!K51 -> 0.97279623 | L51: =+'SI-Onshore'!L51+'SI-Overseas'!L51 -> 1.7623734 | M51: =+'SI-Onshore'!M51+'SI-Overseas'!M51 -> 2.6269873 | N51: =+'SI-Onshore'!N51+'SI-Overseas'!N51 -> 0 | O51: =+'SI-Onshore'!O51+'SI-Overseas'!O51 -> 1.1807112 | P51: =+'SI-Onshore'!P51+'SI-Overseas'!P51 -> 1.2411262 | Q51: =+'SI-Onshore'!Q51+'SI-Overseas'!Q51 -> 2.1044218 | R51: =+'SI-Onshore'!R51+'SI-Overseas'!R51 -> 7.8895838 | S51: =SUMIF($D$6:$R$6,S$6,$D51:$R51) -> 5.203 | T51: =SUMIF($D$6:$R$6,T$6,$D51:$R51) -> 5.425157 | U51: =SUMIF($D$6:$R$6,U$6,$D51:$R51) -> 12.415843 | V51: =SUM(S51:U51) -> 23.044
C52: 7 | D52: =IF(IF($C52<=$D$1,D51,0)=0,"-",IF($C52<=$D$1,D51,0)) -> 0.044 | E52: =IF(IF($C52<=$D$1,E51,0)=0,"-",IF($C52<=$D$1,E51,0)) -> 0.547 | F52: =IF(IF($C52<=$D$1,F51,0)=0,"-",IF($C52<=$D$1,F51,0)) -> 1.066 | G52: =IF(IF($C52<=$D$1,G51,0)=0,"-",IF($C52<=$D$1,G51,0)) -> 2.22 | H52: =IF(IF($C52<=$D$1,H51,0)=0,"-",IF($C52<=$D$1,H51,0)) -> 1.326 | I52: =IF(IF($C52<=$D$1,I51,0)=0,"-",IF($C52<=$D$1,I51,0)) -> - | J52: =IF(IF($C52<=$D$1,J51,0)=0,"-",IF($C52<=$D$1,J51,0)) -> 0.063 | K52: =+'SI-Onshore'!K52+'SI-Overseas'!K52 -> 1.349 | L52: =+'SI-Onshore'!L52+'SI-Overseas'!L52 -> 1.7623734 | M52: =+'SI-Onshore'!M52+'SI-Overseas'!M52 -> 2.2507836 | N52: =+'SI-Onshore'!N52+'SI-Overseas'!N52 -> 0 | O52: =+'SI-Onshore'!O52+'SI-Overseas'!O52 -> 1.1807112 | P52: =+'SI-Onshore'!P52+'SI-Overseas'!P52 -> 1.2411262 | Q52: =+'SI-Onshore'!Q52+'SI-Overseas'!Q52 -> 2.1044218 | R52: =+'SI-Onshore'!R52+'SI-Overseas'!R52 -> 7.8895838 | S52: =SUMIF($D$6:$R$6,S$6,$D52:$R52) -> 5.203 | T52: =SUMIF($D$6:$R$6,T$6,$D52:$R52) -> 5.425157 | U52: =SUMIF($D$6:$R$6,U$6,$D52:$R52) -> 12.415843 | V52: =SUM(S52:U52) -> 23.044
C53: 8 | D53: =IF(IF($C53<=$D$1,D52,0)=0,"-",IF($C53<=$D$1,D52,0)) -> 0.044 | E53: =IF(IF($C53<=$D$1,E52,0)=0,"-",IF($C53<=$D$1,E52,0)) -> 0.547 | F53: =IF(IF($C53<=$D$1,F52,0)=0,"-",IF($C53<=$D$1,F52,0)) -> 1.066 | G53: =IF(IF($C53<=$D$1,G52,0)=0,"-",IF($C53<=$D$1,G52,0)) -> 2.22 | H53: =IF(IF($C53<=$D$1,H52,0)=0,"-",IF($C53<=$D$1,H52,0)) -> 1.326 | I53: =IF(IF($C53<=$D$1,I52,0)=0,"-",IF($C53<=$D$1,I52,0)) -> - | J53: =IF(IF($C53<=$D$1,J52,0)=0,"-",IF($C53<=$D$1,J52,0)) -> 0.063 | K53: =IF(IF($C53<=$D$1,K52,0)=0,"-",IF($C53<=$D$1,K52,0)) -> 1.349 | L53: =+'SI-Onshore'!L53+'SI-Overseas'!L53 -> 3.268 | M53: =+'SI-Onshore'!M53+'SI-Overseas'!M53 -> 0.74515696 | N53: =+'SI-Onshore'!N53+'SI-Overseas'!N53 -> 0 | O53: =+'SI-Onshore'!O53+'SI-Overseas'!O53 -> 1.1807112 | P53: =+'SI-Onshore'!P53+'SI-Overseas'!P53 -> 1.2411262 | Q53: =+'SI-Onshore'!Q53+'SI-Overseas'!Q53 -> 2.1044218 | R53: =+'SI-Onshore'!R53+'SI-Overseas'!R53 -> 7.8895838 | S53: =SUMIF($D$6:$R$6,S$6,$D53:$R53) -> 5.203 | T53: =SUMIF($D$6:$R$6,T$6,$D53:$R53) -> 5.425157 | U53: =SUMIF($D$6:$R$6,U$6,$D53:$R53) -> 12.415843 | V53: =SUM(S53:U53) -> 23.044
C54: 9 | D54: =IF(IF($C54<=$D$1,D53,0)=0,"-",IF($C54<=$D$1,D53,0)) -> 0.044 | E54: =IF(IF($C54<=$D$1,E53,0)=0,"-",IF($C54<=$D$1,E53,0)) -> 0.547 | F54: =IF(IF($C54<=$D$1,F53,0)=0,"-",IF($C54<=$D$1,F53,0)) -> 1.066 | G54: =IF(IF($C54<=$D$1,G53,0)=0,"-",IF($C54<=$D$1,G53,0)) -> 2.22 | H54: =IF(IF($C54<=$D$1,H53,0)=0,"-",IF($C54<=$D$1,H53,0)) -> 1.326 | I54: =IF(IF($C54<=$D$1,I53,0)=0,"-",IF($C54<=$D$1,I53,0)) -> - | J54: =IF(IF($C54<=$D$1,J53,0)=0,"-",IF($C54<=$D$1,J53,0)) -> 0.063 | K54: =IF(IF($C54<=$D$1,K53,0)=0,"-",IF($C54<=$D$1,K53,0)) -> 1.349 | L54: =IF(IF($C54<=$D$1,L53,0)=0,"-",IF($C54<=$D$1,L53,0)) -> 3.268 | M54: =+'SI-Onshore'!M54+'SI-Overseas'!M54 -> 2.925 | N54: =+'SI-Onshore'!N54+'SI-Overseas'!N54 -> 0 | O54: =+'SI-Onshore'!O54+'SI-Overseas'!O54 -> 1.1807112 | P54: =+'SI-Onshore'!P54+'SI-Overseas'!P54 -> 1.2411262 | Q54: =+'SI-Onshore'!Q54+'SI-Overseas'!Q54 -> 2.1044218 | R54: =+'SI-Onshore'!R54+'SI-Overseas'!R54 -> 5.7097408 | S54: =SUMIF($D$6:$R$6,S$6,$D54:$R54) -> 5.203 | T54: =SUMIF($D$6:$R$6,T$6,$D54:$R54) -> 7.605 | U54: =SUMIF($D$6:$R$6,U$6,$D54:$R54) -> 10.236 | V54: =SUM(S54:U54) -> 23.044
C55: 10 | D55: =IF(IF($C55<=$D$1,D54,0)=0,"-",IF($C55<=$D$1,D54,0)) -> 0.044 | E55: =IF(IF($C55<=$D$1,E54,0)=0,"-",IF($C55<=$D$1,E54,0)) -> 0.547 | F55: =IF(IF($C55<=$D$1,F54,0)=0,"-",IF($C55<=$D$1,F54,0)) -> 1.066 | G55: =IF(IF($C55<=$D$1,G54,0)=0,"-",IF($C55<=$D$1,G54,0)) -> 2.22 | H55: =IF(IF($C55<=$D$1,H54,0)=0,"-",IF($C55<=$D$1,H54,0)) -> 1.326 | I55: =IF(IF($C55<=$D$1,I54,0)=0,"-",IF($C55<=$D$1,I54,0)) -> - | J55: =IF(IF($C55<=$D$1,J54,0)=0,"-",IF($C55<=$D$1,J54,0)) -> 0.063 | K55: =IF(IF($C55<=$D$1,K54,0)=0,"-",IF($C55<=$D$1,K54,0)) -> 1.349 | ... N55: =IF(IF($C55<=$D$1,N54,0)=0,"-",IF($C55<=$D$1,N54,0)) -> - | O55: =+'SI-Onshore'!O55+'SI-Overseas'!O55 -> 0.961 | P55: =+'SI-Onshore'!P55+'SI-Overseas'!P55 -> 0 | Q55: =+'SI-Onshore'!Q55+'SI-Overseas'!Q55 -> 0 | R55: =+'SI-Onshore'!R55+'SI-Overseas'!R55 -> 0 | S55: =SUMIF($D$6:$R$6,S$6,$D55:$R55) -> 5.203 | T55: =SUMIF($D$6:$R$6,T$6,$D55:$R55) -> 7.605 | U55: =SUMIF($D$6:$R$6,U$6,$D55:$R55) -> 0.961 | V55: =SUM(S55:U55) -> 13.769
C56: 11 | D56: =IF(IF($C56<=$D$1,D55,0)=0,"-",IF($C56<=$D$1,D55,0)) -> - | E56: =IF(IF($C56<=$D$1,E55,0)=0,"-",IF($C56<=$D$1,E55,0)) -> - | F56: =IF(IF($C56<=$D$1,F55,0)=0,"-",IF($C56<=$D$1,F55,0)) -> - | G56: =IF(IF($C56<=$D$1,G55,0)=0,"-",IF($C56<=$D$1,G55,0)) -> - | H56: =IF(IF($C56<=$D$1,H55,0)=0,"-",IF($C56<=$D$1,H55,0)) -> - | I56: =IF(IF($C56<=$D$1,I55,0)=0,"-",IF($C56<=$D$1,I55,0)) -> - | J56: =IF(IF($C56<=$D$1,J55,0)=0,"-",IF($C56<=$D$1,J55,0)) -> - | K56: =IF(IF($C56<=$D$1,K55,0)=0,"-",IF($C56<=$D$1,K55,0)) -> - | ... O56: =IF(IF($C56<=$D$1,O55,0)=0,"-",IF($C56<=$D$1,O55,0)) -> - | P56: =+'SI-Onshore'!P56+'SI-Overseas'!P56 -> 0 | Q56: =+'SI-Onshore'!Q56+'SI-Overseas'!Q56 -> 0 | R56: =+'SI-Onshore'!R56+'SI-Overseas'!R56 -> 0 | S56: =SUMIF($D$6:$R$6,S$6,$D56:$R56) -> 0 | T56: =SUMIF($D$6:$R$6,T$6,$D56:$R56) -> 0 | U56: =SUMIF($D$6:$R$6,U$6,$D56:$R56) -> 0 | V56: =SUM(S56:U56) -> 0
C57: 12 | D57: =IF(IF($C57<=$D$1,D56,0)=0,"-",IF($C57<=$D$1,D56,0)) -> - | E57: =IF(IF($C57<=$D$1,E56,0)=0,"-",IF($C57<=$D$1,E56,0)) -> - | F57: =IF(IF($C57<=$D$1,F56,0)=0,"-",IF($C57<=$D$1,F56,0)) -> - | G57: =IF(IF($C57<=$D$1,G56,0)=0,"-",IF($C57<=$D$1,G56,0)) -> - | H57: =IF(IF($C57<=$D$1,H56,0)=0,"-",IF($C57<=$D$1,H56,0)) -> - | I57: =IF(IF($C57<=$D$1,I56,0)=0,"-",IF($C57<=$D$1,I56,0)) -> - | J57: =IF(IF($C57<=$D$1,J56,0)=0,"-",IF($C57<=$D$1,J56,0)) -> - | K57: =IF(IF($C57<=$D$1,K56,0)=0,"-",IF($C57<=$D$1,K56,0)) -> - | ... P57: =IF(IF($C57<=$D$1,P56,0)=0,"-",IF($C57<=$D$1,P56,0)) -> - | Q57: =+'SI-Onshore'!Q57+'SI-Overseas'!Q57 -> 0 | R57: =+'SI-Onshore'!R57+'SI-Overseas'!R57 -> 0 | S57: =SUMIF($D$6:$R$6,S$6,$D57:$R57) -> 0 | T57: =SUMIF($D$6:$R$6,T$6,$D57:$R57) -> 0 | U57: =SUMIF($D$6:$R$6,U$6,$D57:$R57) -> 0 | V57: =SUM(S57:U57) -> 0
C58: 13 | D58: =IF(IF($C58<=$D$1,D57,0)=0,"-",IF($C58<=$D$1,D57,0)) -> - | E58: =IF(IF($C58<=$D$1,E57,0)=0,"-",IF($C58<=$D$1,E57,0)) -> - | F58: =IF(IF($C58<=$D$1,F57,0)=0,"-",IF($C58<=$D$1,F57,0)) -> - | G58: =IF(IF($C58<=$D$1,G57,0)=0,"-",IF($C58<=$D$1,G57,0)) -> - | H58: =IF(IF($C58<=$D$1,H57,0)=0,"-",IF($C58<=$D$1,H57,0)) -> - | I58: =IF(IF($C58<=$D$1,I57,0)=0,"-",IF($C58<=$D$1,I57,0)) -> - | J58: =IF(IF($C58<=$D$1,J57,0)=0,"-",IF($C58<=$D$1,J57,0)) -> - | K58: =IF(IF($C58<=$D$1,K57,0)=0,"-",IF($C58<=$D$1,K57,0)) -> - | ... Q58: =IF(IF($C58<=$D$1,Q57,0)=0,"-",IF($C58<=$D$1,Q57,0)) -> - | R58: =+'SI-Onshore'!R58+'SI-Overseas'!R58 -> 0 | S58: =SUMIF($D$6:$R$6,S$6,$D58:$R58) -> 0 | T58: =SUMIF($D$6:$R$6,T$6,$D58:$R58) -> 0 | U58: =SUMIF($D$6:$R$6,U$6,$D58:$R58) -> 0 | V58: =SUM(S58:U58) -> 0
B59: Actual | C59: 0 | D59: =INDEX(D46:D58,MATCH($D$1,$C$46:$C$58,0)) -> 0.044 | E59: =INDEX(E46:E58,MATCH($D$1,$C$46:$C$58,0)) -> 0.547 | F59: =INDEX(F46:F58,MATCH($D$1,$C$46:$C$58,0)) -> 1.066 | G59: =INDEX(G46:G58,MATCH($D$1,$C$46:$C$58,0)) -> 2.22 | H59: 0 | I59: 0 | J59: 0 | K59: 0 | L59: 0 | M59: 0 | N59: 0 | O59: 0 | P59: 0 | Q59: 0 | R59: 0 | S59: =INDEX($D$46:$D$58,MATCH($D$1,$C$46:$C$58,0)) -> 0.044 | T59: =INDEX($D$46:$D$58,MATCH($D$1,$C$46:$C$58,0)) -> 0.044 | U59: =INDEX($D$46:$D$58,MATCH($D$1,$C$46:$C$58,0)) -> 0.044 | V59: =INDEX($D$46:$D$58,MATCH($D$1,$C$46:$C$58,0)) -> 0.044
B60: Delta to Target | C60: 0 | D60: =IF(D$9<=$D$2,D59-D43,0) -> -0.029285834 | E60: =IF(E$9<=$D$2,E59-E43,0) -> 0.49947015 | F60: =IF(F$9<=$D$2,F59-F43,0) -> 0.044058089 | G60: =IF(G$9<=$D$2,G59-G43,0) -> 0.62009365 | H60: =IF(H$9<=$D$2,H59-H43,0) -> -0.5332334 | I60: =IF(I$9<=$D$2,I59-I43,0) -> 0 | J60: =IF(J$9<=$D$2,J59-J43,0) -> -0.27861877 | K60: =IF(K$9<=$D$2,K59-K43,0) -> -0.97279623 | ... V60: =IF(V$9<=$D$2,V59-V43,0) -> 0
B61: % to Target | C61: 0 | D61: =IF($D$2<D$9,0,IF(AND(D43=0,D59=0),1,IF(AND(D43=0,D59>0),2,IF(D59<0,0,(D59/D43))))) -> 0.60038888 | E61: =IF($D$2<E$9,0,IF(AND(E43=0,E59=0),1,IF(AND(E43=0,E59>0),2,IF(E59<0,0,(E59/E43))))) -> 11.508557 | F61: =IF($D$2<F$9,0,IF(AND(F43=0,F59=0),1,IF(AND(F43=0,F59>0),2,IF(F59<0,0,(F59/F43))))) -> 1.0431121 | G61: =IF($D$2<G$9,0,IF(AND(G43=0,G59=0),1,IF(AND(G43=0,G59>0),2,IF(G59<0,0,(G59/G43))))) -> 1.3875812 | H61: =IF($D$2<H$9,0,IF(AND(H43=0,H59=0),1,IF(AND(H43=0,H59>0),2,IF(H59<0,0,(H59/H43))))) -> 0 | I61: =IF($D$2<I$9,0,IF(AND(I43=0,I59=0),1,IF(AND(I43=0,I59>0),2,IF(I59<0,0,(I59/I43))))) -> 1 | J61: =IF($D$2<J$9,0,IF(AND(J43=0,J59=0),1,IF(AND(J43=0,J59>0),2,IF(J59<0,0,(J59/J43))))) -> 0 | K61: =IF($D$2<K$9,0,IF(AND(K43=0,K59=0),1,IF(AND(K43=0,K59>0),2,IF(K59<0,0,(K59/K43))))) -> 0 | ... V61: =IF($D$2<V$9,0,IF(AND(V43=0,V59=0),1,IF(AND(V43=0,V59>0),2,IF(V59<0,0,(V59/V43))))) -> 0
B62: ="Week "&$D$1&" View" -> Week 10 View | D62: =INDEX(D46:D58,MATCH($D$1,$C$13:$C$25,0)) -> 0.044 | E62: =INDEX(E46:E58,MATCH($D$1,$C$13:$C$25,0)) -> 0.547 | F62: =INDEX(F46:F58,MATCH($D$1,$C$13:$C$25,0)) -> 1.066 | G62: =INDEX(G46:G58,MATCH($D$1,$C$13:$C$25,0)) -> 2.22 | H62: =INDEX(H46:H58,MATCH($D$1,$C$13:$C$25,0)) -> 1.326 | I62: =INDEX(I46:I58,MATCH($D$1,$C$13:$C$25,0)) -> - | J62: =INDEX(J46:J58,MATCH($D$1,$C$13:$C$25,0)) -> 0.063 | K62: =INDEX(K46:K58,MATCH($D$1,$C$13:$C$25,0)) -> 1.349 | ... V62: =INDEX(V46:V58,MATCH($D$1,$C$13:$C$25,0)) -> 13.769
B63: Linearity | D63: =IFERROR(E62/$S62,0) -> 0.10513165 | E63: =IFERROR(F62/$S62,0) -> 0.2048818 | F63: =IFERROR(H62/$S62,0) -> 0.25485297 | G63: =IFERROR(I62/$S62,0) -> 0 | H63: =IFERROR(J62/$S62,0) -> 0.012108399 | I63: =IFERROR(K62/$S62,0) -> 0.2592735 | J63: =IFERROR(L62/$S62,0) -> 0.62809917 | K63: =IFERROR(M62/$S62,0) -> 0.56217567 | L63: =IFERROR(N62/$S62,0) -> 0 | M63: =IFERROR(O62/$S62,0) -> 0.18470113 | ... O63: =IFERROR(Q62/$S62,0) -> 0 | P63: =IFERROR(Q62/$U62,0) -> 0 | Q63: =IFERROR(R62/$U62,0) -> 0 | R63: =IFERROR(#REF!/$U62,0) -> 0 | S63: =IFERROR(S62/$V62,0) -> 0.37787784 | T63: =IFERROR(T62/$V62,0) -> 0.55232769 | U63: =IFERROR(U62/$V62,0) -> 0.069794466
B64: Last 4Q ROL Linearity
B65: QTD Actual | C65: 0 | D65: =IF(D$9<=$D$2,D59,0) -> 0.044 | E65: =IF(E$9<=$D$2,E59+D65,0) -> 0.591 | F65: =IF(F$9<=$D$2,F59+E65,0) -> 1.657 | G65: =IF(G$9<=$D$2,G59+F65,0) -> 3.877 | H65: =IF(H$9<=$D$2,H59+G65,0) -> 3.877 | I65: =IF(I$9<=$D$2,I59+H65,0) -> 3.877 | J65: =IF(J$9<=$D$2,J59+I65,0) -> 3.877 | K65: =IF(K$9<=$D$2,K59+J65,0) -> 3.877 | L65: =IF(L$9<=$D$2,L59+K65,0) -> 3.877 | ... R65: =IF(R$9<=$D$2,R59+Q65,0) -> 0 | S65: =IFERROR(INDEX(S$13:S$25,$D$1,0)/INDEX($V$13:$V$25,$D$1,0),0) -> 0.39700038 | T65: =IFERROR(INDEX(T$13:T$25,$D$1,0)/INDEX($V$13:$V$25,$D$1,0),0) -> 0.60695121 | U65: =IFERROR(INDEX(U$13:U$25,$D$1,0)/INDEX($V$13:$V$25,$D$1,0),0) -> -0.003951593 | V65: Current
B66: QTD Delta to Tgt | C66: 0 | D66: =IF(D$27=0,0,IF(D$9<=$D$2,E65-D44,E65-D44)) -> 0.51771417 | E66: =IF(E$27=0,0,IF(E$9<=$D$2,F65-E44,F65-E44)) -> 1.5361843 | F66: =IF(F$27=0,0,IF(F$9<=$D$2,H65-F44,H65-F44)) -> 2.7342424 | G66: =IF(G$27=0,0,IF(G$9<=$D$2,I65-G44,I65-G44)) -> 1.1343361 | H66: =IF(H$27=0,0,IF(H$9<=$D$2,J65-H44,J65-H44)) -> 0.60110265 | I66: =IF(I$27=0,0,IF(I$9<=$D$2,K65-I44,K65-I44)) -> 0.60110265 | J66: =IF(J$27=0,0,IF(J$9<=$D$2,L65-J44,L65-J44)) -> 0.32248388 | K66: =IF(K$27=0,0,IF(K$9<=$D$2,M65-K44,M65-K44)) -> -0.65031235 | L66: =IF(L$27=0,0,IF(L$9<=$D$2,N65-L44,N65-L44)) -> -2.4126858 | M66: =IF(M$27=0,0,IF(M$9<=$D$2,O65-M44,O65-M44)) -> -5.0270543 | ... O66: =IF(O$27=0,0,IF(O$9<=$D$2,Q65-O44,Q65-O44)) -> -10.084765 | P66: =IF(P$27=0,0,IF(P$9<=$D$2,Q65-P44,Q65-P44)) -> 0 | Q66: =IF(Q$27=0,0,IF(Q$9<=$D$2,R65-Q44,R65-Q44)) -> 0 | R66: =IF(R$27=0,0,IF(R$9<=$D$2,#REF!-R44,#REF!-R44)) -> 0 | V66: Last 4Q
B67: % to Target | C67: 0 | D67: =IF($D$2<D$9,0,IF(AND(D44=0,D65=0),1,IF(AND(D44=0,D65>0),2,IF(D65<0,0,(D65/D44))))) -> 0.60038888 | E67: =IF($D$2<E$9,0,IF(AND(E44=0,E65=0),1,IF(AND(E44=0,E65>0),2,IF(E65<0,0,(E65/E44))))) -> 4.891749 | F67: =IF($D$2<F$9,0,IF(AND(F44=0,F65=0),1,IF(AND(F44=0,F65>0),2,IF(F65<0,0,(F65/F44))))) -> 1.4500013 | G67: =IF($D$2<G$9,0,IF(AND(G44=0,G65=0),1,IF(AND(G44=0,G65>0),2,IF(G65<0,0,(G65/G44))))) -> 1.4135892 | H67: =IF($D$2<H$9,0,IF(AND(H44=0,H65=0),1,IF(AND(H44=0,H65>0),2,IF(H65<0,0,(H65/H44))))) -> 1.1834925 | I67: =IF($D$2<I$9,0,IF(AND(I44=0,I65=0),1,IF(AND(I44=0,I65>0),2,IF(I65<0,0,(I65/I44))))) -> 1.1834925 | J67: =IF($D$2<J$9,0,IF(AND(J44=0,J65=0),1,IF(AND(J44=0,J65>0),2,IF(J65<0,0,(J65/J44))))) -> 1.0907251 | K67: =IF($D$2<K$9,0,IF(AND(K44=0,K65=0),1,IF(AND(K44=0,K65>0),2,IF(K65<0,0,(K65/K44))))) -> 0.85635797 | ... R67: =IF($D$2<R$9,0,IF(AND(R44=0,R65=0),1,IF(AND(R44=0,R65>0),2,IF(R65<0,0,(R65/R44))))) -> 0 | V67: Last 3Y
B68: Fy Q3 2425 | D68: ='SI-Onshore'!D68 -> -0.013 | E68: ='SI-Onshore'!E68 -> 0.008 | F68: ='SI-Onshore'!F68 -> 0.051 | G68: ='SI-Onshore'!G68 -> -0.01 | H68: ='SI-Onshore'!H68 -> 0.235 | I68: ='SI-Onshore'!I68 -> 0.496 | J68: ='SI-Onshore'!J68 -> 3.08 | K68: ='SI-Onshore'!K68 -> 1.622 | ... R68: ='SI-Onshore'!R68 -> 11.794 | S68: =SUM(D68:H68) -> 0.271 | T68: =SUM(I68:M68) -> 8.571 | U68: =SUM(N68:R68) -> 13.28 | V68: =SUM(S68:U68) -> 22.122
B69: Fy Q4 2324 | D69: ='SI-Onshore'!D69 -> -0.027 | E69: ='SI-Onshore'!E69 -> -0.003 | F69: ='SI-Onshore'!F69 -> 0.591 | G69: ='SI-Onshore'!G69 -> 0.275 | H69: ='SI-Onshore'!H69 -> 0.965 | I69: ='SI-Onshore'!I69 -> 0.358 | J69: ='SI-Onshore'!J69 -> 1.145 | K69: ='SI-Onshore'!K69 -> 0.203 | ... R69: ='SI-Onshore'!R69 -> 9.601 | S69: =SUM(D69:H69) -> 1.801 | T69: =SUM(I69:M69) -> 8.476 | U69: =SUM(N69:R69) -> 13.89 | V69: =SUM(S69:U69) -> 24.167
B71: Consumer SI NB WF Q3FY2425
C72: Month | D72: =D$6 -> 1 | E72: =E$6 -> 1 | F72: =F$6 -> 1 | G72: =G$6 -> 1 | H72: =H$6 -> 1 | I72: =I$6 -> 2 | J72: =J$6 -> 2 | K72: =K$6 -> 2 | L72: =L$6 -> 2 | M72: 2 | N72: 3 | O72: =O$6 -> 3 | P72: =P$6 -> 3 | Q72: =Q$6 -> 3 | R72: =R$6 -> 3 | S72: =S$6 -> 1 | T72: =T$6 -> 2 | U72: =U$6 -> 3 | V72: =V$6 -> QTR
C73: Week | D73: =D$7 -> 1 | E73: =E$7 -> 2 | F73: =F$7 -> 3 | G73: =G$7 -> 4 | H73: =H$7 -> 5 | I73: =I$7 -> 5 | J73: =J$7 -> 6 | K73: =K$7 -> 7 | ... V73: =V$7 -> 0
C74: Begin | D74: =D$8 -> 45931 | E74: =E$8 -> 45936 | F74: =F$8 -> 45943 | G74: =G$8 -> 45950 | H74: =H$8 -> 45957 | I74: =I$8 -> 45962 | J74: =J$8 -> 45964 | K74: =K$8 -> 45971 | ... V74: =V$8 -> 45931
C75: End | D75: =D$9 -> 45935 | E75: =E$9 -> 45942 | F75: =F$9 -> 45949 | G75: =G$9 -> 45956 | H75: =H$9 -> 45961 | I75: =I$9 -> 45963 | J75: =J$9 -> 45970 | K75: =K$9 -> 45977 | ... V75: =V$9 -> 46022
B76: Target | C76: Week | D76: ='SI-Onshore'!D76+'SI-Overseas'!D76 -> 0.78702614 | E76: ='SI-Onshore'!E76+'SI-Overseas'!E76 -> 0.51042926 | F76: ='SI-Onshore'!F76+'SI-Overseas'!F76 -> 10.974767 | G76: ='SI-Onshore'!G76+'SI-Overseas'!G76 -> 17.181603 | H76: ='SI-Onshore'!H76+'SI-Overseas'!H76 -> 5.7264631 | I76: ='SI-Onshore'!I76+'SI-Overseas'!I76 -> 0 | J76: ='SI-Onshore'!J76+'SI-Overseas'!J76 -> 2.9921233 | K76: ='SI-Onshore'!K76+'SI-Overseas'!K76 -> 10.446986 | ... R76: ='SI-Onshore'!R76+'SI-Overseas'!R76 -> 102.77011 | S76: =SUMIF($D$6:$R$6,S$6,$D76:$R76) -> 35.180289 | T76: =SUMIF($D$6:$R$6,T$6,$D76:$R76) -> 60.441512 | U76: =SUMIF($D$6:$R$6,U$6,$D76:$R76) -> 151.3782 | V76: =SUM(S76:U76) -> 247
C77: QTD | D77: =D76 -> 0.78702614 | E77: =D77+E76 -> 1.2974554 | F77: =E77+F76 -> 12.272223 | G77: =F77+G76 -> 29.453826 | H77: =G77+H76 -> 35.180289 | I77: =H77+I76 -> 35.180289 | J77: =I77+J76 -> 38.172412 | K77: =J77+K76 -> 48.619398 | L77: =K77+L76 -> 67.545756 | ... N77: =M77+N76 -> 95.621801 | O77: =M77+O76 -> 108.30161 | P77: =O77+P76 -> 121.63023 | Q77: =P77+Q76 -> 144.22989 | R77: =Q77+R76 -> 247 | S77: =IFERROR(S76/$V76,0) -> 0.14243032 | T77: =IFERROR(T76/$V76,0) -> 0.24470248 | U77: =IFERROR(U76/$V76,0) -> 0.6128672
C78: 0 | D78: ='SI-Onshore'!D78+'SI-Overseas'!D78 -> 0.11185612 | E78: ='SI-Onshore'!E78+'SI-Overseas'!E78 -> 1.1855993 | F78: ='SI-Onshore'!F78+'SI-Overseas'!F78 -> 10.974767 | G78: ='SI-Onshore'!G78+'SI-Overseas'!G78 -> 17.181603 | H78: ='SI-Onshore'!H78+'SI-Overseas'!H78 -> 5.7264631 | I78: ='SI-Onshore'!I78+'SI-Overseas'!I78 -> 0 | J78: ='SI-Onshore'!J78+'SI-Overseas'!J78 -> 2.9921233 | K78: ='SI-Onshore'!K78+'SI-Overseas'!K78 -> 10.446986 | ... R78: ='SI-Onshore'!R78+'SI-Overseas'!R78 -> 102.77011 | S78: =SUMIF($D$6:$R$6,S$6,$D78:$R78) -> 35.180289 | T78: =SUMIF($D$6:$R$6,T$6,$D78:$R78) -> 60.441512 | U78: =SUMIF($D$6:$R$6,U$6,$D78:$R78) -> 151.3782 | V78: =SUM(S78:U78) -> 247
B79: Week | C79: 1 | D79: ='SI-Onshore'!D79+'SI-Overseas'!D79 -> 0 | E79: ='SI-Onshore'!E79+'SI-Overseas'!E79 -> 1.7215706 | F79: ='SI-Onshore'!F79+'SI-Overseas'!F79 -> 14.562225 | G79: ='SI-Onshore'!G79+'SI-Overseas'!G79 -> 22.797965 | H79: ='SI-Onshore'!H79+'SI-Overseas'!H79 -> 7.5983425 | I79: ='SI-Onshore'!I79+'SI-Overseas'!I79 -> 0 | J79: ='SI-Onshore'!J79+'SI-Overseas'!J79 -> 3.0381789 | K79: ='SI-Onshore'!K79+'SI-Overseas'!K79 -> 10.607788 | ... R79: ='SI-Onshore'!R79+'SI-Overseas'!R79 -> 94.622563 | S79: =SUMIF($D$6:$R$6,S$6,$D79:$R79) -> 46.680103 | T79: =SUMIF($D$6:$R$6,T$6,$D79:$R79) -> 61.371843 | U79: =SUMIF($D$6:$R$6,U$6,$D79:$R79) -> 138.90405 | V79: =SUM(S79:U79) -> 246.956
C80: 2 | D80: =IF(IF($C80<=$D$1,D79,0)=0,"-",IF($C80<=$D$1,D79,0)) -> - | E80: ='SI-Onshore'!E80+'SI-Overseas'!E80 -> 10.032 | F80: ='SI-Onshore'!F80+'SI-Overseas'!F80 -> 14.562225 | G80: ='SI-Onshore'!G80+'SI-Overseas'!G80 -> 14.782135 | H80: ='SI-Onshore'!H80+'SI-Overseas'!H80 -> 7.3037434 | I80: ='SI-Onshore'!I80+'SI-Overseas'!I80 -> 0 | J80: ='SI-Onshore'!J80+'SI-Overseas'!J80 -> 3.0381789 | K80: ='SI-Onshore'!K80+'SI-Overseas'!K80 -> 10.607788 | L80: ='SI-Onshore'!L80+'SI-Overseas'!L80 -> 19.217677 | ... R80: ='SI-Onshore'!R80+'SI-Overseas'!R80 -> 94.622563 | S80: =SUMIF($D$6:$R$6,S$6,$D80:$R80) -> 46.680103 | T80: =SUMIF($D$6:$R$6,T$6,$D80:$R80) -> 61.371843 | U80: =SUMIF($D$6:$R$6,U$6,$D80:$R80) -> 138.90405 | V80: =SUM(S80:U80) -> 246.956
C81: 3 | D81: =IF(IF($C81<=$D$1,D80,0)=0,"-",IF($C81<=$D$1,D80,0)) -> - | E81: =IF(IF($C81<=$D$1,E80,0)=0,"-",IF($C81<=$D$1,E80,0)) -> 10.032 | F81: ='SI-Onshore'!F81+'SI-Overseas'!F81 -> 15.376 | G81: ='SI-Onshore'!G81+'SI-Overseas'!G81 -> 14.640199 | H81: ='SI-Onshore'!H81+'SI-Overseas'!H81 -> 7.8809041 | I81: ='SI-Onshore'!I81+'SI-Overseas'!I81 -> 0.65 | J81: ='SI-Onshore'!J81+'SI-Overseas'!J81 -> 5.9603554 | K81: ='SI-Onshore'!K81+'SI-Overseas'!K81 -> 16.527564 | L81: ='SI-Onshore'!L81+'SI-Overseas'!L81 -> 24.6 | M81: ='SI-Onshore'!M81+'SI-Overseas'!M81 -> 36.983924 | ... R81: ='SI-Onshore'!R81+'SI-Overseas'!R81 -> 9.3919518 | S81: =SUMIF($D$6:$R$6,S$6,$D81:$R81) -> 47.929103 | T81: =SUMIF($D$6:$R$6,T$6,$D81:$R81) -> 84.721843 | U81: =SUMIF($D$6:$R$6,U$6,$D81:$R81) -> 124.30405 | V81: =SUM(S81:U81) -> 256.955
C82: 4 | D82: =IF(IF($C82<=$D$1,D81,0)=0,"-",IF($C82<=$D$1,D81,0)) -> - | E82: =IF(IF($C82<=$D$1,E81,0)=0,"-",IF($C82<=$D$1,E81,0)) -> 10.032 | F82: =IF(IF($C82<=$D$1,F81,0)=0,"-",IF($C82<=$D$1,F81,0)) -> 15.376 | G82: ='SI-Onshore'!G82+'SI-Overseas'!G82 -> 8.817 | H82: ='SI-Onshore'!H82+'SI-Overseas'!H82 -> 26.369 | I82: ='SI-Onshore'!I82+'SI-Overseas'!I82 -> 0.65 | J82: ='SI-Onshore'!J82+'SI-Overseas'!J82 -> 5.7266091 | K82: ='SI-Onshore'!K82+'SI-Overseas'!K82 -> 16.257187 | L82: ='SI-Onshore'!L82+'SI-Overseas'!L82 -> 26.085777 | M82: ='SI-Onshore'!M82+'SI-Overseas'!M82 -> 39.302269 | N82: ='SI-Onshore'!N82+'SI-Overseas'!N82 -> 0 | ... R82: ='SI-Onshore'!R82+'SI-Overseas'!R82 -> 8.9688433 | S82: =SUMIF($D$6:$R$6,S$6,$D82:$R82) -> 60.594 | T82: =SUMIF($D$6:$R$6,T$6,$D82:$R82) -> 88.021843 | U82: =SUMIF($D$6:$R$6,U$6,$D82:$R82) -> 108.38416 | V82: =SUM(S82:U82) -> 257
C83: 5 | D83: =IF(IF($C83<=$D$1,D82,0)=0,"-",IF($C83<=$D$1,D82,0)) -> - | E83: =IF(IF($C83<=$D$1,E82,0)=0,"-",IF($C83<=$D$1,E82,0)) -> 10.032 | F83: =IF(IF($C83<=$D$1,F82,0)=0,"-",IF($C83<=$D$1,F82,0)) -> 15.376 | G83: =IF(IF($C83<=$D$1,G82,0)=0,"-",IF($C83<=$D$1,G82,0)) -> 8.817 | H83: ='SI-Onshore'!H83+'SI-Overseas'!H83 -> 31.3 | I83: ='SI-Onshore'!I83+'SI-Overseas'!I83 -> 0.12 | J83: ='SI-Onshore'!J83+'SI-Overseas'!J83 -> 5.7266091 | K83: ='SI-Onshore'!K83+'SI-Overseas'!K83 -> 16.257187 | L83: ='SI-Onshore'!L83+'SI-Overseas'!L83 -> 26.085777 | M83: ='SI-Onshore'!M83+'SI-Overseas'!M83 -> 34.901269 | N83: ='SI-Onshore'!N83+'SI-Overseas'!N83 -> 0 | O83: ='SI-Onshore'!O83+'SI-Overseas'!O83 -> 21.86176 | ... R83: ='SI-Onshore'!R83+'SI-Overseas'!R83 -> 8.9688433 | S83: =SUMIF($D$6:$R$6,S$6,$D83:$R83) -> 65.525 | T83: =SUMIF($D$6:$R$6,T$6,$D83:$R83) -> 83.090843 | U83: =SUMIF($D$6:$R$6,U$6,$D83:$R83) -> 108.38416 | V83: =SUM(S83:U83) -> 257
C84: 6 | D84: =IF(IF($C84<=$D$1,D83,0)=0,"-",IF($C84<=$D$1,D83,0)) -> - | E84: =IF(IF($C84<=$D$1,E83,0)=0,"-",IF($C84<=$D$1,E83,0)) -> 10.032 | F84: =IF(IF($C84<=$D$1,F83,0)=0,"-",IF($C84<=$D$1,F83,0)) -> 15.376 | G84: =IF(IF($C84<=$D$1,G83,0)=0,"-",IF($C84<=$D$1,G83,0)) -> 8.817 | H84: =IF(IF($C84<=$D$1,H83,0)=0,"-",IF($C84<=$D$1,H83,0)) -> 31.3 | I84: =IF(IF($C84<=$D$1,I83,0)=0,"-",IF($C84<=$D$1,I83,0)) -> 0.12 | J84: ='SI-Onshore'!J84+'SI-Overseas'!J84 -> 3.385 | K84: ='SI-Onshore'!K84+'SI-Overseas'!K84 -> 16.957187 | L84: ='SI-Onshore'!L84+'SI-Overseas'!L84 -> 25.085777 | M84: ='SI-Onshore'!M84+'SI-Overseas'!M84 -> 37.542878 | N84: ='SI-Onshore'!N84+'SI-Overseas'!N84 -> 0 | O84: ='SI-Onshore'!O84+'SI-Overseas'!O84 -> 21.86176 | P84: ='SI-Onshore'!P84+'SI-Overseas'!P84 -> 30.842641 | Q84: ='SI-Onshore'!Q84+'SI-Overseas'!Q84 -> 46.710913 | R84: ='SI-Onshore'!R84+'SI-Overseas'!R84 -> 8.9688433 | S84: =SUMIF($D$6:$R$6,S$6,$D84:$R84) -> 65.525 | T84: =SUMIF($D$6:$R$6,T$6,$D84:$R84) -> 83.090843 | U84: =SUMIF($D$6:$R$6,U$6,$D84:$R84) -> 108.38416 | V84: =SUM(S84:U84) -> 257
C85: 7 | D85: =IF(IF($C85<=$D$1,D84,0)=0,"-",IF($C85<=$D$1,D84,0)) -> - | E85: =IF(IF($C85<=$D$1,E84,0)=0,"-",IF($C85<=$D$1,E84,0)) -> 10.032 | F85: =IF(IF($C85<=$D$1,F84,0)=0,"-",IF($C85<=$D$1,F84,0)) -> 15.376 | G85: =IF(IF($C85<=$D$1,G84,0)=0,"-",IF($C85<=$D$1,G84,0)) -> 8.817 | H85: =IF(IF($C85<=$D$1,H84,0)=0,"-",IF($C85<=$D$1,H84,0)) -> 31.3 | I85: =IF(IF($C85<=$D$1,I84,0)=0,"-",IF($C85<=$D$1,I84,0)) -> 0.12 | J85: =IF(IF($C85<=$D$1,J84,0)=0,"-",IF($C85<=$D$1,J84,0)) -> 3.385 | K85: ='SI-Onshore'!K85+'SI-Overseas'!K85 -> 6.039 | L85: ='SI-Onshore'!L85+'SI-Overseas'!L85 -> 23.992431 | M85: ='SI-Onshore'!M85+'SI-Overseas'!M85 -> 45.038412 | N85: ='SI-Onshore'!N85+'SI-Overseas'!N85 -> 0 | O85: ='SI-Onshore'!O85+'SI-Overseas'!O85 -> 26.201314 | P85: ='SI-Onshore'!P85+'SI-Overseas'!P85 -> 34.642815 | Q85: ='SI-Onshore'!Q85+'SI-Overseas'!Q85 -> 50.773788 | R85: ='SI-Onshore'!R85+'SI-Overseas'!R85 -> 11.23824 | S85: =SUMIF($D$6:$R$6,S$6,$D85:$R85) -> 65.525 | T85: =SUMIF($D$6:$R$6,T$6,$D85:$R85) -> 78.574843 | U85: =SUMIF($D$6:$R$6,U$6,$D85:$R85) -> 122.85616 | V85: =SUM(S85:U85) -> 266.956
C86: 8 | D86: =IF(IF($C86<=$D$1,D85,0)=0,"-",IF($C86<=$D$1,D85,0)) -> - | E86: =IF(IF($C86<=$D$1,E85,0)=0,"-",IF($C86<=$D$1,E85,0)) -> 10.032 | F86: =IF(IF($C86<=$D$1,F85,0)=0,"-",IF($C86<=$D$1,F85,0)) -> 15.376 | G86: =IF(IF($C86<=$D$1,G85,0)=0,"-",IF($C86<=$D$1,G85,0)) -> 8.817 | H86: =IF(IF($C86<=$D$1,H85,0)=0,"-",IF($C86<=$D$1,H85,0)) -> 31.3 | I86: =IF(IF($C86<=$D$1,I85,0)=0,"-",IF($C86<=$D$1,I85,0)) -> 0.12 | J86: =IF(IF($C86<=$D$1,J85,0)=0,"-",IF($C86<=$D$1,J85,0)) -> 3.385 | K86: =IF(IF($C86<=$D$1,K85,0)=0,"-",IF($C86<=$D$1,K85,0)) -> 6.039 | L86: ='SI-Onshore'!L86+'SI-Overseas'!L86 -> 29.798 | M86: ='SI-Onshore'!M86+'SI-Overseas'!M86 -> 49.272843 | N86: ='SI-Onshore'!N86+'SI-Overseas'!N86 -> 0 | O86: ='SI-Onshore'!O86+'SI-Overseas'!O86 -> 21.676141 | P86: ='SI-Onshore'!P86+'SI-Overseas'!P86 -> 32.064211 | Q86: ='SI-Onshore'!Q86+'SI-Overseas'!Q86 -> 48.777166 | R86: ='SI-Onshore'!R86+'SI-Overseas'!R86 -> 10.29864 | S86: =SUMIF($D$6:$R$6,S$6,$D86:$R86) -> 65.525 | T86: =SUMIF($D$6:$R$6,T$6,$D86:$R86) -> 88.614843 | U86: =SUMIF($D$6:$R$6,U$6,$D86:$R86) -> 112.81616 | V86: =SUM(S86:U86) -> 266.956
C87: 9 | D87: =IF(IF($C87<=$D$1,D86,0)=0,"-",IF($C87<=$D$1,D86,0)) -> - | E87: =IF(IF($C87<=$D$1,E86,0)=0,"-",IF($C87<=$D$1,E86,0)) -> 10.032 | F87: =IF(IF($C87<=$D$1,F86,0)=0,"-",IF($C87<=$D$1,F86,0)) -> 15.376 | G87: =IF(IF($C87<=$D$1,G86,0)=0,"-",IF($C87<=$D$1,G86,0)) -> 8.817 | H87: =IF(IF($C87<=$D$1,H86,0)=0,"-",IF($C87<=$D$1,H86,0)) -> 31.3 | I87: =IF(IF($C87<=$D$1,I86,0)=0,"-",IF($C87<=$D$1,I86,0)) -> 0.12 | J87: =IF(IF($C87<=$D$1,J86,0)=0,"-",IF($C87<=$D$1,J86,0)) -> 3.385 | K87: =IF(IF($C87<=$D$1,K86,0)=0,"-",IF($C87<=$D$1,K86,0)) -> 6.039 | L87: =IF(IF($C87<=$D$1,L86,0)=0,"-",IF($C87<=$D$1,L86,0)) -> 29.798 | M87: ='SI-Onshore'!M87+'SI-Overseas'!M87 -> 61.185 | N87: ='SI-Onshore'!N87+'SI-Overseas'!N87 -> 0 | O87: ='SI-Onshore'!O87+'SI-Overseas'!O87 -> 24.376141 | P87: ='SI-Onshore'!P87+'SI-Overseas'!P87 -> 30.564211 | Q87: ='SI-Onshore'!Q87+'SI-Overseas'!Q87 -> 36.788009 | R87: ='SI-Onshore'!R87+'SI-Overseas'!R87 -> 9.17564 | S87: =SUMIF($D$6:$R$6,S$6,$D87:$R87) -> 65.525 | T87: =SUMIF($D$6:$R$6,T$6,$D87:$R87) -> 100.527 | U87: =SUMIF($D$6:$R$6,U$6,$D87:$R87) -> 100.904 | V87: =SUM(S87:U87) -> 266.956
C88: 10 | D88: =IF(IF($C88<=$D$1,D87,0)=0,"-",IF($C88<=$D$1,D87,0)) -> - | E88: =IF(IF($C88<=$D$1,E87,0)=0,"-",IF($C88<=$D$1,E87,0)) -> 10.032 | F88: =IF(IF($C88<=$D$1,F87,0)=0,"-",IF($C88<=$D$1,F87,0)) -> 15.376 | G88: =IF(IF($C88<=$D$1,G87,0)=0,"-",IF($C88<=$D$1,G87,0)) -> 8.817 | H88: =IF(IF($C88<=$D$1,H87,0)=0,"-",IF($C88<=$D$1,H87,0)) -> 31.3 | I88: =IF(IF($C88<=$D$1,I87,0)=0,"-",IF($C88<=$D$1,I87,0)) -> 0.12 | J88: =IF(IF($C88<=$D$1,J87,0)=0,"-",IF($C88<=$D$1,J87,0)) -> 3.385 | K88: =IF(IF($C88<=$D$1,K87,0)=0,"-",IF($C88<=$D$1,K87,0)) -> 6.039 | ... N88: =IF(IF($C88<=$D$1,N87,0)=0,"-",IF($C88<=$D$1,N87,0)) -> - | O88: ='SI-Onshore'!O88+'SI-Overseas'!O88 -> -1.665 | P88: ='SI-Onshore'!P88+'SI-Overseas'!P88 -> 0 | Q88: ='SI-Onshore'!Q88+'SI-Overseas'!Q88 -> 0 | R88: ='SI-Onshore'!R88+'SI-Overseas'!R88 -> 0 | S88: =SUMIF($D$6:$R$6,S$6,$D88:$R88) -> 65.525 | T88: =SUMIF($D$6:$R$6,T$6,$D88:$R88) -> 100.527 | U88: =SUMIF($D$6:$R$6,U$6,$D88:$R88) -> -1.665 | V88: =SUM(S88:U88) -> 164.387
C89: 11 | D89: =IF(IF($C89<=$D$1,D88,0)=0,"-",IF($C89<=$D$1,D88,0)) -> - | E89: =IF(IF($C89<=$D$1,E88,0)=0,"-",IF($C89<=$D$1,E88,0)) -> - | F89: =IF(IF($C89<=$D$1,F88,0)=0,"-",IF($C89<=$D$1,F88,0)) -> - | G89: =IF(IF($C89<=$D$1,G88,0)=0,"-",IF($C89<=$D$1,G88,0)) -> - | H89: =IF(IF($C89<=$D$1,H88,0)=0,"-",IF($C89<=$D$1,H88,0)) -> - | I89: =IF(IF($C89<=$D$1,I88,0)=0,"-",IF($C89<=$D$1,I88,0)) -> - | J89: =IF(IF($C89<=$D$1,J88,0)=0,"-",IF($C89<=$D$1,J88,0)) -> - | K89: =IF(IF($C89<=$D$1,K88,0)=0,"-",IF($C89<=$D$1,K88,0)) -> - | ... O89: =IF(IF($C89<=$D$1,O88,0)=0,"-",IF($C89<=$D$1,O88,0)) -> - | P89: ='SI-Onshore'!P89+'SI-Overseas'!P89 -> 0 | Q89: ='SI-Onshore'!Q89+'SI-Overseas'!Q89 -> 0 | R89: ='SI-Onshore'!R89+'SI-Overseas'!R89 -> 0 | S89: =SUMIF($D$6:$R$6,S$6,$D89:$R89) -> 0 | T89: =SUMIF($D$6:$R$6,T$6,$D89:$R89) -> 0 | U89: =SUMIF($D$6:$R$6,U$6,$D89:$R89) -> 0 | V89: =SUM(S89:U89) -> 0
C90: 12 | D90: =IF(IF($C90<=$D$1,D89,0)=0,"-",IF($C90<=$D$1,D89,0)) -> - | E90: =IF(IF($C90<=$D$1,E89,0)=0,"-",IF($C90<=$D$1,E89,0)) -> - | F90: =IF(IF($C90<=$D$1,F89,0)=0,"-",IF($C90<=$D$1,F89,0)) -> - | G90: =IF(IF($C90<=$D$1,G89,0)=0,"-",IF($C90<=$D$1,G89,0)) -> - | H90: =IF(IF($C90<=$D$1,H89,0)=0,"-",IF($C90<=$D$1,H89,0)) -> - | I90: =IF(IF($C90<=$D$1,I89,0)=0,"-",IF($C90<=$D$1,I89,0)) -> - | J90: =IF(IF($C90<=$D$1,J89,0)=0,"-",IF($C90<=$D$1,J89,0)) -> - | K90: =IF(IF($C90<=$D$1,K89,0)=0,"-",IF($C90<=$D$1,K89,0)) -> - | ... P90: =IF(IF($C90<=$D$1,P89,0)=0,"-",IF($C90<=$D$1,P89,0)) -> - | Q90: ='SI-Onshore'!Q90+'SI-Overseas'!Q90 -> 0 | R90: ='SI-Onshore'!R90+'SI-Overseas'!R90 -> 0 | S90: =SUMIF($D$6:$R$6,S$6,$D90:$R90) -> 0 | T90: =SUMIF($D$6:$R$6,T$6,$D90:$R90) -> 0 | U90: =SUMIF($D$6:$R$6,U$6,$D90:$R90) -> 0 | V90: =SUM(S90:U90) -> 0
C91: 13 | D91: =IF(IF($C91<=$D$1,D90,0)=0,"-",IF($C91<=$D$1,D90,0)) -> - | E91: =IF(IF($C91<=$D$1,E90,0)=0,"-",IF($C91<=$D$1,E90,0)) -> - | F91: =IF(IF($C91<=$D$1,F90,0)=0,"-",IF($C91<=$D$1,F90,0)) -> - | G91: =IF(IF($C91<=$D$1,G90,0)=0,"-",IF($C91<=$D$1,G90,0)) -> - | H91: =IF(IF($C91<=$D$1,H90,0)=0,"-",IF($C91<=$D$1,H90,0)) -> - | I91: =IF(IF($C91<=$D$1,I90,0)=0,"-",IF($C91<=$D$1,I90,0)) -> - | J91: =IF(IF($C91<=$D$1,J90,0)=0,"-",IF($C91<=$D$1,J90,0)) -> - | K91: =IF(IF($C91<=$D$1,K90,0)=0,"-",IF($C91<=$D$1,K90,0)) -> - | ... Q91: =IF(IF($C91<=$D$1,Q90,0)=0,"-",IF($C91<=$D$1,Q90,0)) -> - | R91: ='SI-Onshore'!R91+'SI-Overseas'!R91 -> 0 | S91: =SUMIF($D$6:$R$6,S$6,$D91:$R91) -> 0 | T91: =SUMIF($D$6:$R$6,T$6,$D91:$R91) -> 0 | U91: =SUMIF($D$6:$R$6,U$6,$D91:$R91) -> 0 | V91: =SUM(S91:U91) -> 0
B92: Actual | C92: 0 | D92: =INDEX(D78:D91,MATCH($D$1,$C$78:$C$91,0)) -> - | E92: =INDEX(E78:E91,MATCH($D$1,$C$78:$C$91,0)) -> 10.032 | F92: =INDEX(F78:F91,MATCH($D$1,$C$78:$C$91,0)) -> 15.376 | G92: =INDEX(G78:G91,MATCH($D$1,$C$78:$C$91,0)) -> 8.817 | H92: 0 | I92: 0 | J92: 0 | K92: 0 | L92: 0 | M92: 0 | N92: 0 | O92: 0 | P92: 0 | Q92: 0 | R92: 0 | S92: =INDEX($D$46:$D$58,MATCH($D$1,$C$46:$C$58,0)) -> 0.044 | T92: =INDEX($D$46:$D$58,MATCH($D$1,$C$46:$C$58,0)) -> 0.044 | U92: =INDEX($D$46:$D$58,MATCH($D$1,$C$46:$C$58,0)) -> 0.044 | V92: =INDEX($D$46:$D$58,MATCH($D$1,$C$46:$C$58,0)) -> 0.044
B93: Delta to Target | C93: 0 | D93: =IF(D$9<=$D$2,D92-D76,0) -> #VALUE! | E93: =IF(E$9<=$D$2,E92-E76,0) -> 9.5215707 | F93: =IF(F$9<=$D$2,F92-F76,0) -> 4.4012325 | G93: =IF(G$9<=$D$2,G92-G76,0) -> -8.364603 | H93: =IF(H$9<=$D$2,H92-H76,0) -> -5.7264631 | I93: =IF(I$9<=$D$2,I92-I76,0) -> 0 | J93: =IF(J$9<=$D$2,J92-J76,0) -> -2.9921233 | K93: =IF(K$9<=$D$2,K92-K76,0) -> -10.446986 | ... V93: =IF(V$9<=$D$2,V92-V76,0) -> 0
B94: % to Target | C94: 0 | D94: =IF($D$2<D$9,0,IF(AND(D76=0,D92=0),1,IF(AND(D76=0,D92>0),2,IF(D92<0,0,(D92/D76))))) -> #VALUE! | E94: =IF($D$2<E$9,0,IF(AND(E76=0,E92=0),1,IF(AND(E76=0,E92>0),2,IF(E92<0,0,(E92/E76))))) -> 19.654046 | F94: =IF($D$2<F$9,0,IF(AND(F76=0,F92=0),1,IF(AND(F76=0,F92>0),2,IF(F92<0,0,(F92/F76))))) -> 1.401032 | G94: =IF($D$2<G$9,0,IF(AND(G76=0,G92=0),1,IF(AND(G76=0,G92>0),2,IF(G92<0,0,(G92/G76))))) -> 0.51316516 | H94: =IF($D$2<H$9,0,IF(AND(H76=0,H92=0),1,IF(AND(H76=0,H92>0),2,IF(H92<0,0,(H92/H76))))) -> 0 | I94: =IF($D$2<I$9,0,IF(AND(I76=0,I92=0),1,IF(AND(I76=0,I92>0),2,IF(I92<0,0,(I92/I76))))) -> 1 | J94: =IF($D$2<J$9,0,IF(AND(J76=0,J92=0),1,IF(AND(J76=0,J92>0),2,IF(J92<0,0,(J92/J76))))) -> 0 | K94: =IF($D$2<K$9,0,IF(AND(K76=0,K92=0),1,IF(AND(K76=0,K92>0),2,IF(K92<0,0,(K92/K76))))) -> 0 | ... V94: =IF($D$2<V$9,0,IF(AND(V76=0,V92=0),1,IF(AND(V76=0,V92>0),2,IF(V92<0,0,(V92/V76))))) -> 0
B95: ="Week "&$D$1&" View" -> Week 10 View | D95: =INDEX(D79:D91,MATCH($D$1,$C$13:$C$25,0)) -> - | E95: =INDEX(E79:E91,MATCH($D$1,$C$13:$C$25,0)) -> 10.032 | F95: =INDEX(F79:F91,MATCH($D$1,$C$13:$C$25,0)) -> 15.376 | G95: =INDEX(G79:G91,MATCH($D$1,$C$13:$C$25,0)) -> 8.817 | H95: =INDEX(H79:H91,MATCH($D$1,$C$13:$C$25,0)) -> 31.3 | I95: =INDEX(I79:I91,MATCH($D$1,$C$13:$C$25,0)) -> 0.12 | J95: =INDEX(J79:J91,MATCH($D$1,$C$13:$C$25,0)) -> 3.385 | K95: =INDEX(K79:K91,MATCH($D$1,$C$13:$C$25,0)) -> 6.039 | ... V95: =INDEX(V79:V91,MATCH($D$1,$C$13:$C$25,0)) -> 164.387
B96: Linearity | D96: =IFERROR(E95/$S95,0) -> 0.15310187 | E96: =IFERROR(F95/$S95,0) -> 0.23465853 | F96: =IFERROR(H95/$S95,0) -> 0.47768027 | G96: =IFERROR(I95/$S95,0) -> 0.0018313621 | H96: =IFERROR(J95/$S95,0) -> 0.051659672 | I96: =IFERROR(K95/$S95,0) -> 0.092163296 | J96: =IFERROR(L95/$S95,0) -> 0.45475773 | K96: =IFERROR(L95/$T95,0) -> 0.29641788 | L96: =IFERROR(M95/$T95,0) -> 0.60864245 | M96: =IFERROR(#REF!/$T95,0) -> 0 | N96: =IFERROR(#REF!/$T95,0) -> 0 | O96: =IFERROR(#REF!/$T95,0) -> 0 | P96: =IFERROR(#REF!/$T95,0) -> 0 | Q96: =IFERROR(#REF!/$T95,0) -> 0 | R96: =IFERROR(#REF!/$T95,0) -> 0 | S96: =IFERROR(S95/$V95,0) -> 0.39860208 | T96: =IFERROR(T95/$V95,0) -> 0.61152646 | U96: =IFERROR(U95/$V95,0) -> -0.010128538
B97: Last 4Q ROL Linearity
B98: QTD Actual | C98: 0 | D98: =IF(D$9<=$D$2,D92,0) -> - | E98: =IF(E$9<=$D$2,E92+D98,0) -> #VALUE! | F98: =IF(F$9<=$D$2,F92+E98,0) -> #VALUE! | G98: =IF(G$9<=$D$2,G92+F98,0) -> #VALUE! | H98: =IF(H$9<=$D$2,H92+G98,0) -> #VALUE! | I98: =IF(I$9<=$D$2,I92+H98,0) -> #VALUE! | J98: =IF(J$9<=$D$2,J92+I98,0) -> #VALUE! | K98: =IF(K$9<=$D$2,K92+J98,0) -> #VALUE! | L98: =IF(L$9<=$D$2,L92+K98,0) -> #VALUE! | ... R98: =IF(R$9<=$D$2,R92+Q98,0) -> 0 | S98: =IFERROR(INDEX(S$13:S$25,$D$1,0)/INDEX($V$13:$V$25,$D$1,0),0) -> 0.39700038 | T98: =IFERROR(INDEX(T$13:T$25,$D$1,0)/INDEX($V$13:$V$25,$D$1,0),0) -> 0.60695121 | U98: =IFERROR(INDEX(U$13:U$25,$D$1,0)/INDEX($V$13:$V$25,$D$1,0),0) -> -0.003951593 | V98: Current
B99: QTD Delta to Tgt | C99: 0 | D99: =IF(D$27=0,0,IF(D$9<=$D$2,E98-D77,E98-D77)) -> #VALUE! | E99: =IF(E$27=0,0,IF(E$9<=$D$2,F98-E77,F98-E77)) -> #VALUE! | F99: =IF(F$27=0,0,IF(F$9<=$D$2,H98-F77,H98-F77)) -> #VALUE! | G99: =IF(G$27=0,0,IF(G$9<=$D$2,I98-G77,I98-G77)) -> #VALUE! | H99: =IF(H$27=0,0,IF(H$9<=$D$2,J98-H77,J98-H77)) -> #VALUE! | I99: =IF(I$27=0,0,IF(I$9<=$D$2,K98-I77,K98-I77)) -> #VALUE! | J99: =IF(J$27=0,0,IF(J$9<=$D$2,L98-J77,L98-J77)) -> #VALUE! | K99: =IF(K$27=0,0,IF(K$9<=$D$2,L98-K77,L98-K77)) -> #VALUE! | L99: =IF(L$27=0,0,IF(L$9<=$D$2,M98-L77,M98-L77)) -> #VALUE! | M99: =IF(M$27=0,0,IF(M$9<=$D$2,O98-M77,O98-M77)) -> #VALUE! | N99: =IF(N$27=0,0,IF(N$9<=$D$2,P98-N77,P98-N77)) -> 0 | O99: =IF(O$27=0,0,IF(O$9<=$D$2,Q98-O77,Q98-O77)) -> -108.30161 | P99: =IF(P$27=0,0,IF(P$9<=$D$2,R98-P77,R98-P77)) -> 0 | Q99: =IF(Q$27=0,0,IF(Q$9<=$D$2,S98-Q77,S98-Q77)) -> 0 | R99: =IF(R$27=0,0,IF(R$9<=$D$2,T98-R77,T98-R77)) -> 0 | V99: Last 4Q
B100: % to Target | C100: 0 | D100: =IF($D$2<D$9,0,IF(AND(D77=0,D98=0),1,IF(AND(D77=0,D98>0),2,IF(D98<0,0,(D98/D77))))) -> #VALUE! | E100: =IF($D$2<E$9,0,IF(AND(E77=0,E98=0),1,IF(AND(E77=0,E98>0),2,IF(E98<0,0,(E98/E77))))) -> #VALUE! | F100: =IF($D$2<F$9,0,IF(AND(F77=0,F98=0),1,IF(AND(F77=0,F98>0),2,IF(F98<0,0,(F98/F77))))) -> #VALUE! | G100: =IF($D$2<G$9,0,IF(AND(G77=0,G98=0),1,IF(AND(G77=0,G98>0),2,IF(G98<0,0,(G98/G77))))) -> #VALUE! | H100: =IF($D$2<H$9,0,IF(AND(H77=0,H98=0),1,IF(AND(H77=0,H98>0),2,IF(H98<0,0,(H98/H77))))) -> #VALUE! | I100: =IF($D$2<I$9,0,IF(AND(I77=0,I98=0),1,IF(AND(I77=0,I98>0),2,IF(I98<0,0,(I98/I77))))) -> #VALUE! | J100: =IF($D$2<J$9,0,IF(AND(J77=0,J98=0),1,IF(AND(J77=0,J98>0),2,IF(J98<0,0,(J98/J77))))) -> #VALUE! | K100: =IF($D$2<K$9,0,IF(AND(K77=0,K98=0),1,IF(AND(K77=0,K98>0),2,IF(K98<0,0,(K98/K77))))) -> #VALUE! | ... R100: =IF($D$2<R$9,0,IF(AND(R77=0,R98=0),1,IF(AND(R77=0,R98>0),2,IF(R98<0,0,(R98/R77))))) -> 0 | V100: Last 3Y
B101: Fy Q3 2425 | D101: ='SI-Onshore'!D101+'SI-Overseas'!D101 -> 1.224 | E101: ='SI-Onshore'!E101+'SI-Overseas'!E101 -> 0.046 | F101: ='SI-Onshore'!F101+'SI-Overseas'!F101 -> 2.076 | G101: ='SI-Onshore'!G101+'SI-Overseas'!G101 -> 5.144 | H101: ='SI-Onshore'!H101+'SI-Overseas'!H101 -> 5.57 | I101: ='SI-Onshore'!I101+'SI-Overseas'!I101 -> 0.936 | J101: ='SI-Onshore'!J101+'SI-Overseas'!J101 -> 5.05 | K101: ='SI-Onshore'!K101+'SI-Overseas'!K101 -> 9.275 | ... R101: ='SI-Onshore'!R101+'SI-Overseas'!R101 -> 102.454 | S101: =SUM(D101:H101) -> 14.06 | T101: =SUM(I101:M101) -> 56.49 | U101: =SUM(N101:R101) -> 150.352 | V101: =SUM(S101:U101) -> 220.902
B102: Fy Q4 2324 | D102: ='SI-Onshore'!D102+'SI-Overseas'!D102 -> 1.134 | E102: ='SI-Onshore'!E102+'SI-Overseas'!E102 -> 1.735 | F102: ='SI-Onshore'!F102+'SI-Overseas'!F102 -> 2.158 | G102: ='SI-Onshore'!G102+'SI-Overseas'!G102 -> 23.231 | H102: ='SI-Onshore'!H102+'SI-Overseas'!H102 -> 10.116 | I102: ='SI-Onshore'!I102+'SI-Overseas'!I102 -> 1.435 | J102: ='SI-Onshore'!J102+'SI-Overseas'!J102 -> 8.824 | K102: ='SI-Onshore'!K102+'SI-Overseas'!K102 -> 17.196 | ... R102: ='SI-Onshore'!R102+'SI-Overseas'!R102 -> 114.207 | S102: =SUM(D102:H102) -> 38.374 | T102: =SUM(I102:M102) -> 116.734 | U102: =SUM(N102:R102) -> 177.295 | V102: =SUM(S102:U102) -> 332.403

Sheet SI-Onshore
C1: Week# | D1: ='SI -Overall'!D1 -> 10 | R1: DT | S1: 0.18446154 | T1: 0.37184615 | U1: 0.44369231
C2: Weekending dt: | D2: ='SI -Overall'!D2 -> 45998 | R2: NB | S2: 0.21 | T2: 0.32 | U2: 0.47
B5: Consumer SI India WF Q3FY2526
C6: Month | D6: ='SI -Overall'!D6 -> 1 | E6: ='SI -Overall'!E6 -> 1 | F6: ='SI -Overall'!F6 -> 1 | G6: ='SI -Overall'!G6 -> 1 | H6: ='SI -Overall'!H6 -> 1 | I6: ='SI -Overall'!I6 -> 2 | J6: ='SI -Overall'!J6 -> 2 | K6: ='SI -Overall'!K6 -> 2 | L6: ='SI -Overall'!L6 -> 2 | M6: 2 | N6: 3 | O6: ='SI -Overall'!O6 -> 3 | P6: ='SI -Overall'!P6 -> 3 | Q6: ='SI -Overall'!Q6 -> 3 | R6: ='SI -Overall'!R6 -> 3 | S6: ='SI -Overall'!S6 -> 1 | T6: ='SI -Overall'!T6 -> 2 | U6: ='SI -Overall'!U6 -> 3 | V6: ='SI -Overall'!V6 -> QTR
C7: Week | D7: ='SI -Overall'!D7 -> 1 | E7: ='SI -Overall'!E7 -> 2 | F7: ='SI -Overall'!F7 -> 3 | G7: ='SI -Overall'!G7 -> 4 | H7: ='SI -Overall'!H7 -> 5 | I7: ='SI -Overall'!I7 -> 5 | J7: ='SI -Overall'!J7 -> 6 | K7: ='SI -Overall'!K7 -> 7 | ... V7: ='SI -Overall'!V7 -> 0
C8: Begin | D8: ='SI -Overall'!D8 -> 45931 | E8: ='SI -Overall'!E8 -> 45936 | F8: ='SI -Overall'!F8 -> 45943 | G8: ='SI -Overall'!G8 -> 45950 | H8: ='SI -Overall'!H8 -> 45957 | I8: ='SI -Overall'!I8 -> 45962 | J8: ='SI -Overall'!J8 -> 45964 | K8: ='SI -Overall'!K8 -> 45971 | ... S8: ='SI -Overall'!S8 -> 45931 | T8: =I8 -> 45962 | U8: =O8 -> 45992 | V8: =S8 -> 45931
C9: End | D9: ='SI -Overall'!D9 -> 45935 | E9: ='SI -Overall'!E9 -> 45942 | F9: ='SI -Overall'!F9 -> 45949 | G9: ='SI -Overall'!G9 -> 45956 | H9: ='SI -Overall'!H9 -> 45961 | I9: ='SI -Overall'!I9 -> 45963 | J9: ='SI -Overall'!J9 -> 45970 | K9: ='SI -Overall'!K9 -> 45977 | ... S9: ='SI -Overall'!S9 -> 45961 | T9: =M9 -> 45991 | U9: =R9 -> 46022 | V9: =R9 -> 46022
B10: Target | C10: Week | D10: =D43+D76 -> 0.74845585 | E10: =E43+E76 -> 0.48541433 | F10: =F43+F76 -> 10.43692 | G10: =G43+G76 -> 16.339573 | H10: =H43+H76 -> 5.4458227 | I10: =I43+I76 -> 0 | J10: =J43+J76 -> 2.924211 | K10: =K43+K76 -> 10.20987 | ... R10: =R43+R76 -> 106.90863 | S10: =SUMIF($D$6:$R$6,S$6,$D10:$R10) -> 33.456186 | T10: =SUMIF($D$6:$R$6,T$6,$D10:$R10) -> 59.069669 | U10: =SUMIF($D$6:$R$6,U$6,$D10:$R10) -> 157.47415 | V10: =SUM(S10:U10) -> 250
C11: QTD | D11: =D10 -> 0.74845585 | E11: =D11+E10 -> 1.2338702 | F11: =E11+F10 -> 11.67079 | G11: =F11+G10 -> 28.010364 | H11: =G11+H10 -> 33.456186 | I11: =H11+I10 -> 33.456186 | J11: =I11+J10 -> 36.380397 | K11: =J11+K10 -> 46.590267 | L11: =K11+L10 -> 65.087053 | ... R11: =Q11+R10 -> 250 | S11: =IFERROR(S10/$V10,0) -> 0.13382475 | T11: =IFERROR(T10/$V10,0) -> 0.23627867 | U11: =IFERROR(U10/$V10,0) -> 0.62989658
C12: 0 | D12: =D45+D78 -> 0 | E12: =E45+E78 -> 1.2338702 | F12: =F45+F78 -> 10.43692 | G12: =G45+G78 -> 16.339573 | H12: =H45+H78 -> 5.4458227 | I12: =I45+I78 -> 0 | J12: =J45+J78 -> 2.924211 | K12: =K45+K78 -> 10.20987 | ... R12: =R45+R78 -> 106.90863 | S12: =SUMIF($D$6:$R$6,S$6,$D12:$R12) -> 33.456186 | T12: =SUMIF($D$6:$R$6,T$6,$D12:$R12) -> 59.069669 | U12: =SUMIF($D$6:$R$6,U$6,$D12:$R12) -> 157.47415 | V12: =SUM(S12:U12) -> 250
B13: Week | C13: 1 | D13: =D46+D79 -> 0.044 | E13: =E46+E79 -> 1.6579854 | F13: =F46+F79 -> 14.024377 | G13: =G46+G79 -> 21.955935 | H13: =H46+H79 -> 7.3177021 | I13: =I46+I79 -> 0 | J13: =J46+J79 -> 2.9702665 | K13: =K46+K79 -> 10.370673 | ... R13: =R46+R79 -> 98.761078 | S13: =SUMIF($D$6:$R$6,S$6,$D13:$R13) -> 45 | T13: =SUMIF($D$6:$R$6,T$6,$D13:$R13) -> 60 | U13: =SUMIF($D$6:$R$6,U$6,$D13:$R13) -> 145 | V13: =SUM(S13:U13) -> 250
C14: 2 | D14: =IF($C14<=$D$1,D13,0) -> 0.044 | E14: =E47+E80 -> 10.1 | F14: =F47+F80 -> 14.024377 | G14: =G47+G80 -> 13.940105 | H14: =H47+H80 -> 6.8915178 | I14: =I47+I80 -> 0 | J14: =J47+J80 -> 2.9702665 | K14: =K47+K80 -> 10.370673 | L14: =L47+L80 -> 18.788105 | ... R14: =R47+R80 -> 98.761078 | S14: =SUMIF($D$6:$R$6,S$6,$D14:$R14) -> 45 | T14: =SUMIF($D$6:$R$6,T$6,$D14:$R14) -> 60 | U14: =SUMIF($D$6:$R$6,U$6,$D14:$R14) -> 145 | V14: =SUM(S14:U14) -> 250
C15: 3 | D15: =IF($C15<=$D$1,D14,0) -> 0.044 | E15: =IF($C15<=$D$1,E14,0) -> 10.1 | F15: =F48+F81 -> 15.472 | G15: =G48+G81 -> 13.896047 | H15: =H48+H81 -> 5.4879532 | I15: =I48+I81 -> 0 | J15: =J48+J81 -> 4.2389742 | K15: =K48+K81 -> 14.80036 | L15: =L48+L81 -> 23.862373 | M15: =M48+M81 -> 37.098293 | ... R15: =R48+R81 -> 18.961638 | S15: =SUMIF($D$6:$R$6,S$6,$D15:$R15) -> 45 | T15: =SUMIF($D$6:$R$6,T$6,$D15:$R15) -> 80 | U15: =SUMIF($D$6:$R$6,U$6,$D15:$R15) -> 135 | V15: =SUM(S15:U15) -> 260
C16: 4 | D16: =IF($C16<=$D$1,D15,0) -> 0.044 | E16: =IF($C16<=$D$1,E15,0) -> 10.1 | F16: =IF($C16<=$D$1,F15,0) -> 15.472 | G16: =G49+G82 -> 8.682 | H16: =H49+H82 -> 25.702 | I16: =I49+I82 -> 0 | J16: =J49+J82 -> 4.5052278 | K16: =K49+K82 -> 15.729983 | L16: =L49+L82 -> 25.348151 | M16: =M49+M82 -> 39.416638 | N16: =N49+N82 -> 0 | ... R16: =R49+R82 -> 15.858427 | S16: =SUMIF($D$6:$R$6,S$6,$D16:$R16) -> 60 | T16: =SUMIF($D$6:$R$6,T$6,$D16:$R16) -> 85 | U16: =SUMIF($D$6:$R$6,U$6,$D16:$R16) -> 115 | V16: =SUM(S16:U16) -> 260
C17: 5 | D17: =IF($C17<=$D$1,D16,0) -> 0.044 | E17: =IF($C17<=$D$1,E16,0) -> 10.1 | F17: =IF($C17<=$D$1,F16,0) -> 15.472 | G17: =IF($C17<=$D$1,G16,0) -> 8.682 | H17: =H50+H83 -> 30.288 | I17: =I50+I83 -> 0 | J17: =J50+J83 -> 4.5052278 | K17: =K50+K83 -> 15.729983 | L17: =L50+L83 -> 25.348151 | M17: =M50+M83 -> 34.830638 | N17: =N50+N83 -> 0 | O17: =O50+O83 -> 20.742472 | ... R17: =R50+R83 -> 15.858427 | S17: =SUMIF($D$6:$R$6,S$6,$D17:$R17) -> 64.586 | T17: =SUMIF($D$6:$R$6,T$6,$D17:$R17) -> 80.414 | U17: =SUMIF($D$6:$R$6,U$6,$D17:$R17) -> 115 | V17: =SUM(S17:U17) -> 260
C18: 6 | D18: =IF($C18<=$D$1,D17,0) -> 0.044 | E18: =IF($C18<=$D$1,E17,0) -> 10.1 | F18: =IF($C18<=$D$1,F17,0) -> 15.472 | G18: =IF($C18<=$D$1,G17,0) -> 8.682 | H18: =IF($C18<=$D$1,H17,0) -> 30.288 | I18: =IF($C18<=$D$1,I17,0) -> 0 | J18: =J51+J84 -> 0.698 | K18: =K51+K84 -> 15.729983 | L18: =L51+L84 -> 25.348151 | M18: =M51+M84 -> 38.637866 | N18: =N51+N84 -> 0 | O18: =O51+O84 -> 20.742472 | P18: =P51+P84 -> 30.583767 | Q18: =Q51+Q84 -> 47.815334 | R18: =R51+R84 -> 15.858427 | S18: =SUMIF($D$6:$R$6,S$6,$D18:$R18) -> 64.586 | T18: =SUMIF($D$6:$R$6,T$6,$D18:$R18) -> 80.414 | U18: =SUMIF($D$6:$R$6,U$6,$D18:$R18) -> 115 | V18: =SUM(S18:U18) -> 260
C19: 7 | D19: =IF($C19<=$D$1,D18,0) -> 0.044 | E19: =IF($C19<=$D$1,E18,0) -> 10.1 | F19: =IF($C19<=$D$1,F18,0) -> 15.472 | G19: =IF($C19<=$D$1,G18,0) -> 8.682 | H19: =IF($C19<=$D$1,H18,0) -> 30.288 | I19: =IF($C19<=$D$1,I18,0) -> 0 | J19: =IF($C19<=$D$1,J18,0) -> 0.698 | K19: =K52+K85 -> 4.886 | L19: =L52+L85 -> 23.211947 | M19: =M52+M85 -> 45.204053 | N19: =N52+N85 -> 0 | O19: =O52+O85 -> 21.886611 | P19: =P52+P85 -> 32.299976 | Q19: =Q52+Q85 -> 50.4889 | R19: =R52+R85 -> 16.738513 | S19: =SUMIF($D$6:$R$6,S$6,$D19:$R19) -> 64.586 | T19: =SUMIF($D$6:$R$6,T$6,$D19:$R19) -> 74 | U19: =SUMIF($D$6:$R$6,U$6,$D19:$R19) -> 121.414 | V19: =SUM(S19:U19) -> 260
C20: 8 | D20: =IF($C20<=$D$1,D19,0) -> 0.044 | E20: =IF($C20<=$D$1,E19,0) -> 10.1 | F20: =IF($C20<=$D$1,F19,0) -> 15.472 | G20: =IF($C20<=$D$1,G19,0) -> 8.682 | H20: =IF($C20<=$D$1,H19,0) -> 30.288 | I20: =IF($C20<=$D$1,I19,0) -> 0 | J20: =IF($C20<=$D$1,J19,0) -> 0.698 | K20: =IF($C20<=$D$1,K19,0) -> 4.886 | L20: =L53+L86 -> 28.898 | M20: =M53+M86 -> 46.518 | N20: =N53+N86 -> 0 | O20: =O53+O86 -> 20.556852 | P20: =P53+P86 -> 30.305337 | Q20: =Q53+Q86 -> 47.381587 | R20: =R53+R86 -> 16.170224 | S20: =SUMIF($D$6:$R$6,S$6,$D20:$R20) -> 64.586 | T20: =SUMIF($D$6:$R$6,T$6,$D20:$R20) -> 81 | U20: =SUMIF($D$6:$R$6,U$6,$D20:$R20) -> 114.414 | V20: =SUM(S20:U20) -> 260
C21: 9 | D21: =IF($C21<=$D$1,D20,0) -> 0.044 | E21: =IF($C21<=$D$1,E20,0) -> 10.1 | F21: =IF($C21<=$D$1,F20,0) -> 15.472 | G21: =IF($C21<=$D$1,G20,0) -> 8.682 | H21: =IF($C21<=$D$1,H20,0) -> 30.288 | I21: =IF($C21<=$D$1,I20,0) -> 0 | J21: =IF($C21<=$D$1,J20,0) -> 0.698 | K21: =IF($C21<=$D$1,K20,0) -> 4.886 | L21: =IF($C21<=$D$1,L20,0) -> 28.898 | M21: =M54+M87 -> 58.687 | N21: =N54+N87 -> 0 | O21: =O54+O87 -> 20.556852 | P21: =P54+P87 -> 30.305337 | Q21: =Q54+Q87 -> 37.39243 | R21: =R54+R87 -> 13.990381 | S21: =SUMIF($D$6:$R$6,S$6,$D21:$R21) -> 64.586 | T21: =SUMIF($D$6:$R$6,T$6,$D21:$R21) -> 93.169 | U21: =SUMIF($D$6:$R$6,U$6,$D21:$R21) -> 102.245 | V21: =SUM(S21:U21) -> 260
C22: 10 | D22: =IF($C22<=$D$1,D21,0) -> 0.044 | E22: =IF($C22<=$D$1,E21,0) -> 10.1 | F22: =IF($C22<=$D$1,F21,0) -> 15.472 | G22: =IF($C22<=$D$1,G21,0) -> 8.682 | H22: =IF($C22<=$D$1,H21,0) -> 30.288 | I22: =IF($C22<=$D$1,I21,0) -> 0 | J22: =IF($C22<=$D$1,J21,0) -> 0.698 | K22: =IF($C22<=$D$1,K21,0) -> 4.886 | ... N22: =IF($C22<=$D$1,N21,0) -> 0 | O22: =O55+O88 -> 2.513 | P22: =P55+P88 -> 0 | Q22: =Q55+Q88 -> 0 | R22: =R55+R88 -> 0 | S22: =SUMIF($D$6:$R$6,S$6,$D22:$R22) -> 64.586 | T22: =SUMIF($D$6:$R$6,T$6,$D22:$R22) -> 93.169 | U22: =SUMIF($D$6:$R$6,U$6,$D22:$R22) -> 2.513 | V22: =SUM(S22:U22) -> 160.268
C23: 11 | D23: =IF($C23<=$D$1,D22,0) -> 0 | E23: =IF($C23<=$D$1,E22,0) -> 0 | F23: =IF($C23<=$D$1,F22,0) -> 0 | G23: =IF($C23<=$D$1,G22,0) -> 0 | H23: =IF($C23<=$D$1,H22,0) -> 0 | I23: =IF($C23<=$D$1,I22,0) -> 0 | J23: =IF($C23<=$D$1,J22,0) -> 0 | K23: =IF($C23<=$D$1,K22,0) -> 0 | ... O23: =IF($C23<=$D$1,O22,0) -> 0 | P23: =P56+P89 -> 0 | Q23: =Q56+Q89 -> 0 | R23: =R56+R89 -> 0 | S23: =SUMIF($D$6:$R$6,S$6,$D23:$R23) -> 0 | T23: =SUMIF($D$6:$R$6,T$6,$D23:$R23) -> 0 | U23: =SUMIF($D$6:$R$6,U$6,$D23:$R23) -> 0 | V23: =SUM(S23:U23) -> 0
C24: 12 | D24: =IF($C24<=$D$1,D23,0) -> 0 | E24: =IF($C24<=$D$1,E23,0) -> 0 | F24: =IF($C24<=$D$1,F23,0) -> 0 | G24: =IF($C24<=$D$1,G23,0) -> 0 | H24: =IF($C24<=$D$1,H23,0) -> 0 | I24: =IF($C24<=$D$1,I23,0) -> 0 | J24: =IF($C24<=$D$1,J23,0) -> 0 | K24: =IF($C24<=$D$1,K23,0) -> 0 | ... P24: =IF($C24<=$D$1,P23,0) -> 0 | Q24: =Q57+Q90 -> 0 | R24: =R57+R90 -> 0 | S24: =SUMIF($D$6:$R$6,S$6,$D24:$R24) -> 0 | T24: =SUMIF($D$6:$R$6,T$6,$D24:$R24) -> 0 | U24: =SUMIF($D$6:$R$6,U$6,$D24:$R24) -> 0 | V24: =SUM(S24:U24) -> 0
C25: 13 | D25: =IF($C25<=$D$1,D24,0) -> 0 | E25: =IF($C25<=$D$1,E24,0) -> 0 | F25: =IF($C25<=$D$1,F24,0) -> 0 | G25: =IF($C25<=$D$1,G24,0) -> 0 | H25: =IF($C25<=$D$1,H24,0) -> 0 | I25: =IF($C25<=$D$1,I24,0) -> 0 | J25: =IF($C25<=$D$1,J24,0) -> 0 | K25: =IF($C25<=$D$1,K24,0) -> 0 | ... Q25: =IF($C25<=$D$1,Q24,0) -> 0 | R25: =R58+R91 -> 0 | S25: =SUMIF($D$6:$R$6,S$6,$D25:$R25) -> 0 | T25: =SUMIF($D$6:$R$6,T$6,$D25:$R25) -> 0 | U25: =SUMIF($D$6:$R$6,U$6,$D25:$R25) -> 0 | V25: =SUM(S25:U25) -> 0
B26: Actual | C26: 0 | D26: =INDEX(D12:D25,MATCH($D$1,$C$12:$C$25,0)) -> 0.044 | E26: =INDEX(E12:E25,MATCH($D$1,$C$12:$C$25,0)) -> 10.1 | F26: =INDEX(F12:F25,MATCH($D$1,$C$12:$C$25,0)) -> 15.472 | G26: =INDEX(G12:G25,MATCH($D$1,$C$12:$C$25,0)) -> 8.682 | H26: =INDEX(H12:H25,MATCH($D$1,$C$12:$C$25,0)) -> 30.288 | I26: =INDEX(I12:I25,MATCH($D$1,$C$12:$C$25,0)) -> 0 | J26: =INDEX(J12:J25,MATCH($D$1,$C$12:$C$25,0)) -> 0.698 | K26: =INDEX(K12:K25,MATCH($D$1,$C$12:$C$25,0)) -> 4.886 | ... M26: =INDEX(M12:M25,MATCH($D$1,$C$12:$C$25,0)) -> 58.687 | N26: =N24 -> 0 | O26: =O24 -> 0 | P26: =P24 -> 0 | Q26: =Q24 -> 0 | R26: 0 | S26: =INDEX(S12:S25,MATCH($D$1,$C$12:$C$25,0)) -> 64.586 | T26: =INDEX(T12:T25,MATCH($D$1,$C$12:$C$25,0)) -> 93.169 | U26: =INDEX(U12:U25,MATCH($D$1,$C$12:$C$25,0)) -> 2.513 | V26: =INDEX(V12:V25,MATCH($D$1,$C$12:$C$25,0)) -> 160.268
B27: Delta to Target | C27: 0 | D27: =IF(D$9<=$D$2,D26-D10,0) -> -0.70445585 | E27: =IF(E$9<=$D$2,E26-E10,0) -> 9.6145857 | F27: =IF(F$9<=$D$2,F26-F10,0) -> 5.0350799 | G27: =IF(G$9<=$D$2,G26-G10,0) -> -7.6575733 | H27: =IF(H$9<=$D$2,H26-H10,0) -> 24.842177 | I27: =IF(I$9<=$D$2,I26-I10,0) -> 0 | J27: =IF(J$9<=$D$2,J26-J10,0) -> -2.226211 | K27: =IF(K$9<=$D$2,K26-K10,0) -> -5.32387 | ... V27: =IF(V$9<=$D$2,V26-V10,0) -> 0
B28: % to Target | C28: 0 | D28: =IF($D$2<D$9,0,IF(AND(D10=0,D26=0),1,IF(AND(D10=0,D26>0),2,IF(D26<0,0,(D26/D10))))) -> 0.058787703 | E28: =IF($D$2<E$9,0,IF(AND(E10=0,E26=0),1,IF(AND(E10=0,E26>0),2,IF(E26<0,0,(E26/E10))))) -> 20.806967 | F28: =IF($D$2<F$9,0,IF(AND(F10=0,F26=0),1,IF(AND(F10=0,F26>0),2,IF(F26<0,0,(F26/F10))))) -> 1.4824297 | G28: =IF($D$2<G$9,0,IF(AND(G10=0,G26=0),1,IF(AND(G10=0,G26>0),2,IF(G26<0,0,(G26/G10))))) -> 0.53134802 | H28: =IF($D$2<H$9,0,IF(AND(H10=0,H26=0),1,IF(AND(H10=0,H26>0),2,IF(H26<0,0,(H26/H10))))) -> 5.5616941 | I28: =IF($D$2<I$9,0,IF(AND(I10=0,I26=0),1,IF(AND(I10=0,I26>0),2,IF(I26<0,0,(I26/I10))))) -> 1 | J28: =IF($D$2<J$9,0,IF(AND(J10=0,J26=0),1,IF(AND(J10=0,J26>0),2,IF(J26<0,0,(J26/J10))))) -> 0.23869687 | K28: =IF($D$2<K$9,0,IF(AND(K10=0,K26=0),1,IF(AND(K10=0,K26>0),2,IF(K26<0,0,(K26/K10))))) -> 0.47855653 | ... V28: =IF($D$2<V$9,0,IF(AND(V10=0,V26=0),1,IF(AND(V10=0,V26>0),2,IF(V26<0,0,(V26/V10))))) -> 0
B29: ="Week "&$D$1&" View" -> Week 10 View | D29: =INDEX(D13:D25,MATCH($D$1,$C$13:$C$25,0)) -> 0.044 | E29: =INDEX(E13:E25,MATCH($D$1,$C$13:$C$25,0)) -> 10.1 | F29: =INDEX(F13:F25,MATCH($D$1,$C$13:$C$25,0)) -> 15.472 | G29: =INDEX(G13:G25,MATCH($D$1,$C$13:$C$25,0)) -> 8.682 | H29: =INDEX(H13:H25,MATCH($D$1,$C$13:$C$25,0)) -> 30.288 | I29: =INDEX(I13:I25,MATCH($D$1,$C$13:$C$25,0)) -> 0 | J29: =INDEX(J13:J25,MATCH($D$1,$C$13:$C$25,0)) -> 0.698 | K29: =INDEX(K13:K25,MATCH($D$1,$C$13:$C$25,0)) -> 4.886 | ... V29: =INDEX(V13:V25,MATCH($D$1,$C$13:$C$25,0)) -> 160.268
B30: Linearity | D30: =D29/$S$29 -> 0.00068126219 | E30: =E29/$S$29 -> 0.15638064 | F30: =F29/$S$29 -> 0.23955656 | G30: =G29/$S$29 -> 0.13442542 | H30: =H29/$S$29 -> 0.46895612 | I30: =I29/$T$29 -> 0 | J30: =J29/$T$29 -> 0.0074917623 | K30: =K29/$T$29 -> 0.052442336 | L30: =L29/$T$29 -> 0.31016754 | M30: =M29/$T$29 -> 0.62989836 | N30: =N29/$U$29 -> 0 | O30: =O29/$U$29 -> 1 | P30: =P29/$U$29 -> 0 | Q30: =Q29/$U$29 -> 0 | R30: =R29/$U$29 -> 0 | S30: =S29/$V$29 -> 0.4029875 | T30: =T29/$V$29 -> 0.58133252 | U30: =U29/$V$29 -> 0.015679986
B31: Last 4Q ROL Linearity
B32: QTD Actual | C32: 0 | D32: =IF(D$9<=$D$2,D26,0) -> 0.044 | E32: =IF(E$9<=$D$2,E26+D32,0) -> 10.144 | F32: =IF(F$9<=$D$2,F26+E32,0) -> 25.616 | G32: =IF(G$9<=$D$2,G26+F32,0) -> 34.298 | H32: =IF(H$9<=$D$2,H26+G32,0) -> 64.586 | I32: =IF(I$9<=$D$2,I26+H32,0) -> 64.586 | J32: =IF(J$9<=$D$2,J26+I32,0) -> 65.284 | K32: =IF(K$9<=$D$2,K26+J32,0) -> 70.17 | L32: =IF(L$9<=$D$2,L26+K32,0) -> 99.068 | ... R32: =IF(R$9<=$D$2,R26+Q32,0) -> 0 | S32: =IFERROR(INDEX(S$13:S$25,$D$1,0)/INDEX($V$13:$V$25,$D$1,0),0) -> 0.4029875 | T32: =IFERROR(INDEX(T$13:T$25,$D$1,0)/INDEX($V$13:$V$25,$D$1,0),0) -> 0.58133252 | U32: =IFERROR(INDEX(U$13:U$25,$D$1,0)/INDEX($V$13:$V$25,$D$1,0),0) -> 0.015679986 | V32: Current
B33: QTD Delta to Tgt | C33: 0 | D33: =IF(D$27=0,0,IF(D$9<=$D$2,D32-D11,D32-D11)) -> -0.70445585 | E33: =IF(E$27=0,0,IF(E$9<=$D$2,E32-E11,E32-E11)) -> 8.9101298 | F33: =IF(F$27=0,0,IF(F$9<=$D$2,F32-F11,F32-F11)) -> 13.94521 | G33: =IF(G$27=0,0,IF(G$9<=$D$2,G32-G11,G32-G11)) -> 6.2876364 | H33: =IF(H$27=0,0,IF(H$9<=$D$2,H32-H11,H32-H11)) -> 31.129814 | I33: =IF(I$27=0,0,IF(I$9<=$D$2,I32-I11,I32-I11)) -> 0 | J33: =IF(J$27=0,0,IF(J$9<=$D$2,J32-J11,J32-J11)) -> 28.903603 | K33: =IF(K$27=0,0,IF(K$9<=$D$2,K32-K11,K32-K11)) -> 23.579733 | ... R33: =IF(R$27=0,0,IF(R$9<=$D$2,R32-R11,R32-R11)) -> 0 | S33: 0 | T33: 0 | U33: 0 | V33: Last 4Q
B34: % to Target | C34: 0 | D34: =IF($D$2<D$9,0,IF(AND(D11=0,D32=0),1,IF(AND(D11=0,D32>0),2,IF(D32<0,0,(D32/D11))))) -> 0.058787703 | E34: =IF($D$2<E$9,0,IF(AND(E11=0,E32=0),1,IF(AND(E11=0,E32>0),2,IF(E32<0,0,(E32/E11))))) -> 8.2212863 | F34: =IF($D$2<F$9,0,IF(AND(F11=0,F32=0),1,IF(AND(F11=0,F32>0),2,IF(F32<0,0,(F32/F11))))) -> 2.1948814 | G34: =IF($D$2<G$9,0,IF(AND(G11=0,G32=0),1,IF(AND(G11=0,G32>0),2,IF(G32<0,0,(G32/G11))))) -> 1.2244754 | H34: =IF($D$2<H$9,0,IF(AND(H11=0,H32=0),1,IF(AND(H11=0,H32>0),2,IF(H32<0,0,(H32/H11))))) -> 1.9304651 | I34: =IF($D$2<I$9,0,IF(AND(I11=0,I32=0),1,IF(AND(I11=0,I32>0),2,IF(I32<0,0,(I32/I11))))) -> 1.9304651 | J34: =IF($D$2<J$9,0,IF(AND(J11=0,J32=0),1,IF(AND(J11=0,J32>0),2,IF(J32<0,0,(J32/J11))))) -> 1.7944829 | K34: =IF($D$2<K$9,0,IF(AND(K11=0,K32=0),1,IF(AND(K11=0,K32>0),2,IF(K32<0,0,(K32/K11))))) -> 1.5061086 | ... R34: =IF($D$2<R$9,0,IF(AND(R11=0,R32=0),1,IF(AND(R11=0,R32>0),2,IF(R32<0,0,(R32/R11))))) -> 0 | S34: 0 | T34: 0 | U34: 0 | V34: Last 3Y
B35: Fy Q3 2425 | D35: =D68+D101 -> 0.904 | E35: =E68+E101 -> -0.021 | F35: =F68+F101 -> 0.547 | G35: =G68+G101 -> 3 | H35: =H68+H101 -> 5.757 | I35: =I68+I101 -> 1.407 | J35: =J68+J101 -> 6.366 | K35: =K68+K101 -> 10.677 | ... R35: =R68+R101 -> 113.083 | S35: =SUM(D35:H35) -> 10.187 | T35: =SUM(I35:M35) -> 62.642 | U35: =SUM(N35:R35) -> 155.442 | V35: =SUM(S35:U35) -> 228.271
B36: Fy Q4 2324 | D36: =D69+D102 -> -0.03 | E36: =E69+E102 -> 0.504 | F36: =F69+F102 -> 1.85 | G36: =G69+G102 -> 23.293 | H36: =H69+H102 -> 9.881 | I36: =I69+I102 -> 1.783 | J36: =J69+J102 -> 9.949 | K36: =K69+K102 -> 16.164 | ... R36: =R69+R102 -> 122.231 | S36: =SUM(D36:H36) -> 35.498 | T36: =SUM(I36:M36) -> 113.843 | U36: =SUM(N36:R36) -> 183.294 | V36: =SUM(S36:U36) -> 332.635
D37: 0 | E37: 0.074367089 | F37: 0.18037975 | H37: 0.21044304 | I37: 0.53481013 | J37: 0.1504065 | K37: 0.17174797 | L37: 0.20020325 | M37: 0.47764228 | O37: 0.056364788 | P37: 0.10196327 | Q37: 0.13742875 | R37: 0.70424319 | S37: =$V$37*S1 -> 5.995 | T37: =$V$37*T1 -> 12.085 | U37: =$V$37*U1 -> 14.42 | V37: 32.5
B38: Consumer SI India DT WF Q3FY2425
C39: Month | D39: =D$6 -> 1 | E39: =E$6 -> 1 | F39: =F$6 -> 1 | G39: =G$6 -> 1 | H39: =H$6 -> 1 | I39: =I$6 -> 2 | J39: =J$6 -> 2 | K39: =K$6 -> 2 | L39: =L$6 -> 2 | M39: 2 | N39: 3 | O39: =O$6 -> 3 | P39: =P$6 -> 3 | Q39: =Q$6 -> 3 | R39: =R$6 -> 3 | S39: =S$6 -> 1 | T39: =T$6 -> 2 | U39: =U$6 -> 3 | V39: =V$6 -> QTR
C40: Week | D40: =D$7 -> 1 | E40: =E$7 -> 2 | F40: =F$7 -> 3 | G40: =G$7 -> 4 | H40: =H$7 -> 5 | I40: =I$7 -> 5 | J40: =J$7 -> 6 | K40: =K$7 -> 7 | ... V40: =V$7 -> 0
C41: Begin | D41: =D$8 -> 45931 | E41: =E$8 -> 45936 | F41: =F$8 -> 45943 | G41: =G$8 -> 45950 | H41: =H$8 -> 45957 | I41: =I$8 -> 45962 | J41: =J$8 -> 45964 | K41: =K$8 -> 45971 | ... V41: =V$8 -> 45931
C42: End | D42: =D$9 -> 45935 | E42: =E$9 -> 45942 | F42: =F$9 -> 45949 | G42: =G$9 -> 45956 | H42: =H$9 -> 45961 | I42: =I$9 -> 45963 | J42: =J$9 -> 45970 | K42: =K$9 -> 45977 | ... V42: =V$9 -> 46022
B43: Target | C43: Week | D43: 0.073285834 | E43: 0.04752985 | F43: 1.0219419 | G43: 1.5999064 | H43: 0.5332334 | I43: 0 | J43: 0.27861877 | K43: 0.97279623 | L43: 1.7623734 | M43: 2.6143685 | N43: 0 | O43: 1.1807112 | P43: 1.2411262 | Q43: 2.1044218 | R43: 9.5696865 | S43: =SUM(D43:H43) -> 3.2758973 | T43: =SUM(I43:M43) -> 5.628157 | U43: =SUM(N43:R43) -> 14.095946 | V43: =SUM(S43:U43) -> 23
C44: QTD | D44: =D43 -> 0.073285834 | E44: =D44+E43 -> 0.12081568 | F44: =E44+F43 -> 1.1427576 | G44: =F44+G43 -> 2.7426639 | H44: =G44+H43 -> 3.2758973 | I44: =H44+I43 -> 3.2758973 | J44: =I44+J43 -> 3.5545161 | K44: =J44+K43 -> 4.5273124 | L44: =K44+L43 -> 6.2896858 | ... R44: =Q44+R43 -> 23 | S44: =IFERROR(S43/$V43,0) -> 0.14243032 | T44: =IFERROR(T43/$V43,0) -> 0.24470248 | U44: =IFERROR(U43/$V43,0) -> 0.6128672
C45: 0 | D45: 0 | E45: 0.12081568 | F45: 1.0219419 | G45: 1.5999064 | H45: 0.5332334 | I45: 0 | J45: 0.27861877 | K45: 0.97279623 | L45: 1.7623734 | M45: 2.6143685 | N45: 0 | O45: 1.1807112 | P45: 1.2411262 | Q45: 2.1044218 | R45: 9.5696865 | S45: =SUMIF($D$6:$R$6,S$6,$D45:$R45) -> 3.2758973 | T45: =SUMIF($D$6:$R$6,T$6,$D45:$R45) -> 5.628157 | U45: =SUMIF($D$6:$R$6,U$6,$D45:$R45) -> 14.095946 | V45: =SUM(S45:U45) -> 23
B46: Week | C46: 1 | D46: 0.044 | E46: 0.12081568 | F46: 1.0219419 | G46: 1.5999064 | H46: 0.5332334 | I46: 0 | J46: 0.27861877 | K46: 0.97279623 | L46: 1.7623734 | M46: 2.6143685 | N46: 0 | O46: 1.1807112 | P46: 1.2411262 | Q46: 2.1044218 | R46: 9.5696865 | S46: =SUMIF($D$6:$R$6,S$6,$D46:$R46) -> 3.3198973 | T46: =SUMIF($D$6:$R$6,T$6,$D46:$R46) -> 5.628157 | U46: =SUMIF($D$6:$R$6,U$6,$D46:$R46) -> 14.095946 | V46: =SUM(S46:U46) -> 23.044
C47: 2 | D47: =IF($C47<=$D$1,D46,0) -> 0.044 | E47: 0.547 | F47: 1.0219419 | G47: 1.5999064 | H47: 0.10704909 | I47: 0 | J47: 0.27861877 | K47: 0.97279623 | L47: 1.7623734 | M47: 2.6143685 | N47: 0 | O47: 1.1807112 | P47: 1.2411262 | Q47: 2.1044218 | R47: 9.5696865 | S47: =SUMIF($D$6:$R$6,S$6,$D47:$R47) -> 3.3198973 | T47: =SUMIF($D$6:$R$6,T$6,$D47:$R47) -> 5.628157 | U47: =SUMIF($D$6:$R$6,U$6,$D47:$R47) -> 14.095946 | V47: =SUM(S47:U47) -> 23.044
C48: 3 | D48: =IF($C48<=$D$1,D47,0) -> 0.044 | E48: =IF($C48<=$D$1,E47,0) -> 0.547 | F48: 1.066 | G48: 1.5558483 | H48: 0.10704909 | I48: 0 | J48: 0.27861877 | K48: 0.97279623 | L48: 1.7623734 | M48: 2.6143685 | N48: 0 | O48: 1.1807112 | P48: 1.2411262 | Q48: 2.1044218 | R48: 9.5696865 | S48: =SUMIF($D$6:$R$6,S$6,$D48:$R48) -> 3.3198973 | T48: =SUMIF($D$6:$R$6,T$6,$D48:$R48) -> 5.628157 | U48: =SUMIF($D$6:$R$6,U$6,$D48:$R48) -> 14.095946 | V48: =SUM(S48:U48) -> 23.044
C49: 4 | D49: =IF($C49<=$D$1,D48,0) -> 0.044 | E49: =IF($C49<=$D$1,E48,0) -> 0.547 | F49: =IF($C49<=$D$1,F48,0) -> 1.066 | G49: 2.22 | H49: 1.123 | I49: 0 | J49: 0.27861877 | K49: 0.97279623 | L49: 1.7623734 | M49: 2.6143685 | O49: 1.1807112 | P49: 1.2411262 | Q49: 2.1044218 | R49: 7.8895838 | S49: =SUMIF($D$6:$R$6,S$6,$D49:$R49) -> 5 | T49: =SUMIF($D$6:$R$6,T$6,$D49:$R49) -> 5.628157 | U49: =SUMIF($D$6:$R$6,U$6,$D49:$R49) -> 12.415843 | V49: =SUM(S49:U49) -> 23.044
C50: 5 | D50: =IF($C50<=$D$1,D49,0) -> 0.044 | E50: =IF($C50<=$D$1,E49,0) -> 0.547 | F50: =IF($C50<=$D$1,F49,0) -> 1.066 | G50: =IF($C50<=$D$1,G49,0) -> 2.22 | H50: 1.326 | I50: 0 | J50: 0.27861877 | K50: 0.97279623 | L50: 1.7623734 | M50: 2.4113685 | O50: 1.1807112 | P50: 1.2411262 | Q50: 2.1044218 | R50: 7.8895838 | S50: =SUMIF($D$6:$R$6,S$6,$D50:$R50) -> 5.203 | T50: =SUMIF($D$6:$R$6,T$6,$D50:$R50) -> 5.425157 | U50: =SUMIF($D$6:$R$6,U$6,$D50:$R50) -> 12.415843 | V50: =SUM(S50:U50) -> 23.044
C51: 6 | D51: =IF($C51<=$D$1,D50,0) -> 0.044 | E51: =IF($C51<=$D$1,E50,0) -> 0.547 | F51: =IF($C51<=$D$1,F50,0) -> 1.066 | G51: =IF($C51<=$D$1,G50,0) -> 2.22 | H51: =IF($C51<=$D$1,H50,0) -> 1.326 | I51: =IF($C51<=$D$1,I50,0) -> 0 | J51: 0.063 | K51: 0.97279623 | L51: 1.7623734 | M51: 2.6269873 | O51: 1.1807112 | P51: 1.2411262 | Q51: 2.1044218 | R51: 7.8895838 | S51: =SUMIF($D$6:$R$6,S$6,$D51:$R51) -> 5.203 | T51: =SUMIF($D$6:$R$6,T$6,$D51:$R51) -> 5.425157 | U51: =SUMIF($D$6:$R$6,U$6,$D51:$R51) -> 12.415843 | V51: =SUM(S51:U51) -> 23.044
C52: 7 | D52: =IF($C52<=$D$1,D51,0) -> 0.044 | E52: =IF($C52<=$D$1,E51,0) -> 0.547 | F52: =IF($C52<=$D$1,F51,0) -> 1.066 | G52: =IF($C52<=$D$1,G51,0) -> 2.22 | H52: =IF($C52<=$D$1,H51,0) -> 1.326 | I52: =IF($C52<=$D$1,I51,0) -> 0 | J52: =IF($C52<=$D$1,J51,0) -> 0.063 | K52: 1.349 | L52: 1.7623734 | M52: 2.2507836 | O52: 1.1807112 | P52: 1.2411262 | Q52: 2.1044218 | R52: 7.8895838 | S52: =SUMIF($D$6:$R$6,S$6,$D52:$R52) -> 5.203 | T52: =SUMIF($D$6:$R$6,T$6,$D52:$R52) -> 5.425157 | U52: =SUMIF($D$6:$R$6,U$6,$D52:$R52) -> 12.415843 | V52: =SUM(S52:U52) -> 23.044
C53: 8 | D53: =IF($C53<=$D$1,D52,0) -> 0.044 | E53: =IF($C53<=$D$1,E52,0) -> 0.547 | F53: =IF($C53<=$D$1,F52,0) -> 1.066 | G53: =IF($C53<=$D$1,G52,0) -> 2.22 | H53: =IF($C53<=$D$1,H52,0) -> 1.326 | I53: =IF($C53<=$D$1,I52,0) -> 0 | J53: =IF($C53<=$D$1,J52,0) -> 0.063 | K53: =IF($C53<=$D$1,K52,0) -> 1.349 | L53: 3.268 | M53: 0.74515696 | O53: 1.1807112 | P53: 1.2411262 | Q53: 2.1044218 | R53: 7.8895838 | S53: =SUMIF($D$6:$R$6,S$6,$D53:$R53) -> 5.203 | T53: =SUMIF($D$6:$R$6,T$6,$D53:$R53) -> 5.425157 | U53: =SUMIF($D$6:$R$6,U$6,$D53:$R53) -> 12.415843 | V53: =SUM(S53:U53) -> 23.044
C54: 9 | D54: =IF($C54<=$D$1,D53,0) -> 0.044 | E54: =IF($C54<=$D$1,E53,0) -> 0.547 | F54: =IF($C54<=$D$1,F53,0) -> 1.066 | G54: =IF($C54<=$D$1,G53,0) -> 2.22 | H54: =IF($C54<=$D$1,H53,0) -> 1.326 | I54: =IF($C54<=$D$1,I53,0) -> 0 | J54: =IF($C54<=$D$1,J53,0) -> 0.063 | K54: =IF($C54<=$D$1,K53,0) -> 1.349 | L54: =IF($C54<=$D$1,L53,0) -> 3.268 | M54: 2.925 | O54: 1.1807112 | P54: 1.2411262 | Q54: 2.1044218 | R54: 5.7097408 | S54: =SUMIF($D$6:$R$6,S$6,$D54:$R54) -> 5.203 | T54: =SUMIF($D$6:$R$6,T$6,$D54:$R54) -> 7.605 | U54: =SUMIF($D$6:$R$6,U$6,$D54:$R54) -> 10.236 | V54: =SUM(S54:U54) -> 23.044
C55: 10 | D55: =IF($C55<=$D$1,D54,0) -> 0.044 | E55: =IF($C55<=$D$1,E54,0) -> 0.547 | F55: =IF($C55<=$D$1,F54,0) -> 1.066 | G55: =IF($C55<=$D$1,G54,0) -> 2.22 | H55: =IF($C55<=$D$1,H54,0) -> 1.326 | I55: =IF($C55<=$D$1,I54,0) -> 0 | J55: =IF($C55<=$D$1,J54,0) -> 0.063 | K55: =IF($C55<=$D$1,K54,0) -> 1.349 | ... N55: =IF($C55<=$D$1,N54,0) -> 0 | O55: 0.961 | S55: =SUMIF($D$6:$R$6,S$6,$D55:$R55) -> 5.203 | T55: =SUMIF($D$6:$R$6,T$6,$D55:$R55) -> 7.605 | U55: =SUMIF($D$6:$R$6,U$6,$D55:$R55) -> 0.961 | V55: =SUM(S55:U55) -> 13.769
C56: 11 | D56: =IF($C56<=$D$1,D55,0) -> 0 | E56: =IF($C56<=$D$1,E55,0) -> 0 | F56: =IF($C56<=$D$1,F55,0) -> 0 | G56: =IF($C56<=$D$1,G55,0) -> 0 | H56: =IF($C56<=$D$1,H55,0) -> 0 | I56: =IF($C56<=$D$1,I55,0) -> 0 | J56: =IF($C56<=$D$1,J55,0) -> 0 | K56: =IF($C56<=$D$1,K55,0) -> 0 | ... O56: =IF($C56<=$D$1,O55,0) -> 0 | S56: =SUMIF($D$6:$R$6,S$6,$D56:$R56) -> 0 | T56: =SUMIF($D$6:$R$6,T$6,$D56:$R56) -> 0 | U56: =SUMIF($D$6:$R$6,U$6,$D56:$R56) -> 0 | V56: =SUM(S56:U56) -> 0
C57: 12 | D57: =IF($C57<=$D$1,D56,0) -> 0 | E57: =IF($C57<=$D$1,E56,0) -> 0 | F57: =IF($C57<=$D$1,F56,0) -> 0 | G57: =IF($C57<=$D$1,G56,0) -> 0 | H57: =IF($C57<=$D$1,H56,0) -> 0 | I57: =IF($C57<=$D$1,I56,0) -> 0 | J57: =IF($C57<=$D$1,J56,0) -> 0 | K57: =IF($C57<=$D$1,K56,0) -> 0 | ... P57: =IF($C57<=$D$1,P56,0) -> 0 | S57: =SUMIF($D$6:$R$6,S$6,$D57:$R57) -> 0 | T57: =SUMIF($D$6:$R$6,T$6,$D57:$R57) -> 0 | U57: =SUMIF($D$6:$R$6,U$6,$D57:$R57) -> 0 | V57: =SUM(S57:U57) -> 0
C58: 13 | D58: =IF($C58<=$D$1,D57,0) -> 0 | E58: =IF($C58<=$D$1,E57,0) -> 0 | F58: =IF($C58<=$D$1,F57,0) -> 0 | G58: =IF($C58<=$D$1,G57,0) -> 0 | H58: =IF($C58<=$D$1,H57,0) -> 0 | I58: =IF($C58<=$D$1,I57,0) -> 0 | J58: =IF($C58<=$D$1,J57,0) -> 0 | K58: =IF($C58<=$D$1,K57,0) -> 0 | ... Q58: =IF($C58<=$D$1,Q57,0) -> 0 | S58: =SUMIF($D$6:$R$6,S$6,$D58:$R58) -> 0 | T58: =SUMIF($D$6:$R$6,T$6,$D58:$R58) -> 0 | U58: =SUMIF($D$6:$R$6,U$6,$D58:$R58) -> 0 | V58: =SUM(S58:U58) -> 0
B59: Actual | C59: 0 | D59: =INDEX(D46:D58,MATCH($D$1,$C$46:$C$58,0)) -> 0.044 | E59: =INDEX(E46:E58,MATCH($D$1,$C$46:$C$58,0)) -> 0.547 | F59: =INDEX(F46:F58,MATCH($D$1,$C$46:$C$58,0)) -> 1.066 | G59: =INDEX(G46:G58,MATCH($D$1,$C$46:$C$58,0)) -> 2.22 | H59: 0 | I59: 0 | J59: 0 | K59: 0 | L59: 0 | M59: 0 | N59: 0 | O59: 0 | P59: 0 | Q59: 0 | R59: 0 | S59: =INDEX($D$46:$D$58,MATCH($D$1,$C$46:$C$58,0)) -> 0.044 | T59: =INDEX($D$46:$D$58,MATCH($D$1,$C$46:$C$58,0)) -> 0.044 | U59: =INDEX($D$46:$D$58,MATCH($D$1,$C$46:$C$58,0)) -> 0.044 | V59: =INDEX($D$46:$D$58,MATCH($D$1,$C$46:$C$58,0)) -> 0.044
B60: Delta to Target | C60: 0 | D60: =IF(D$9<=$D$2,D59-D43,0) -> -0.029285834 | E60: =IF(E$9<=$D$2,E59-E43,0) -> 0.49947015 | F60: =IF(F$9<=$D$2,F59-F43,0) -> 0.044058089 | G60: =IF(G$9<=$D$2,G59-G43,0) -> 0.62009365 | H60: =IF(H$9<=$D$2,H59-H43,0) -> -0.5332334 | I60: =IF(I$9<=$D$2,I59-I43,0) -> 0 | J60: =IF(J$9<=$D$2,J59-J43,0) -> -0.27861877 | K60: =IF(K$9<=$D$2,K59-K43,0) -> -0.97279623 | ... V60: =IF(V$9<=$D$2,V59-V43,0) -> 0
B61: % to Target | C61: 0 | D61: =IF($D$2<D$9,0,IF(AND(D43=0,D59=0),1,IF(AND(D43=0,D59>0),2,IF(D59<0,0,(D59/D43))))) -> 0.60038888 | E61: =IF($D$2<E$9,0,IF(AND(E43=0,E59=0),1,IF(AND(E43=0,E59>0),2,IF(E59<0,0,(E59/E43))))) -> 11.508557 | F61: =IF($D$2<F$9,0,IF(AND(F43=0,F59=0),1,IF(AND(F43=0,F59>0),2,IF(F59<0,0,(F59/F43))))) -> 1.0431121 | G61: =IF($D$2<G$9,0,IF(AND(G43=0,G59=0),1,IF(AND(G43=0,G59>0),2,IF(G59<0,0,(G59/G43))))) -> 1.3875812 | H61: =IF($D$2<H$9,0,IF(AND(H43=0,H59=0),1,IF(AND(H43=0,H59>0),2,IF(H59<0,0,(H59/H43))))) -> 0 | I61: =IF($D$2<I$9,0,IF(AND(I43=0,I59=0),1,IF(AND(I43=0,I59>0),2,IF(I59<0,0,(I59/I43))))) -> 1 | J61: =IF($D$2<J$9,0,IF(AND(J43=0,J59=0),1,IF(AND(J43=0,J59>0),2,IF(J59<0,0,(J59/J43))))) -> 0 | K61: =IF($D$2<K$9,0,IF(AND(K43=0,K59=0),1,IF(AND(K43=0,K59>0),2,IF(K59<0,0,(K59/K43))))) -> 0 | ... V61: =IF($D$2<V$9,0,IF(AND(V43=0,V59=0),1,IF(AND(V43=0,V59>0),2,IF(V59<0,0,(V59/V43))))) -> 0
B62: ="Week "&$D$1&" View" -> Week 10 View | D62: =INDEX(D46:D58,MATCH($D$1,$C$13:$C$25,0)) -> 0.044 | E62: =INDEX(E46:E58,MATCH($D$1,$C$13:$C$25,0)) -> 0.547 | F62: =INDEX(F46:F58,MATCH($D$1,$C$13:$C$25,0)) -> 1.066 | G62: =INDEX(G46:G58,MATCH($D$1,$C$13:$C$25,0)) -> 2.22 | H62: =INDEX(H46:H58,MATCH($D$1,$C$13:$C$25,0)) -> 1.326 | I62: =INDEX(I46:I58,MATCH($D$1,$C$13:$C$25,0)) -> 0 | J62: =INDEX(J46:J58,MATCH($D$1,$C$13:$C$25,0)) -> 0.063 | K62: =INDEX(K46:K58,MATCH($D$1,$C$13:$C$25,0)) -> 1.349 | ... V62: =INDEX(V46:V58,MATCH($D$1,$C$13:$C$25,0)) -> 13.769
B63: Linearity | D63: =IFERROR(D62/$S62,0) -> 0.0084566596 | E63: =IFERROR(E62/$S62,0) -> 0.10513165 | F63: =IFERROR(F62/$S62,0) -> 0.2048818 | G63: =IFERROR(G62/$S62,0) -> 0.42667692 | H63: =IFERROR(H62/$S62,0) -> 0.25485297 | I63: =IFERROR(I62/$S62,0) -> 0 | J63: =IFERROR(J62/$S62,0) -> 0.012108399 | K63: =IFERROR(K62/$S62,0) -> 0.2592735 | ... O63: =IFERROR(O62/$S62,0) -> 0.18470113 | P63: =IFERROR(P62/$T62,0) -> 0 | Q63: =IFERROR(Q62/$T62,0) -> 0 | R63: =IFERROR(R62/$T62,0) -> 0 | S63: =IFERROR(S62/$V62,0) -> 0.37787784 | T63: =IFERROR(T62/$V62,0) -> 0.55232769 | U63: =IFERROR(U62/$V62,0) -> 0.069794466
B64: Last 4Q ROL Linearity | P64: 0 | Q64: 0 | R64: 0
B65: QTD Actual | C65: 0 | D65: =IF(D$9<=$D$2,D59,0) -> 0.044 | E65: =IF(E$9<=$D$2,E59+D65,0) -> 0.591 | F65: =IF(F$9<=$D$2,F59+E65,0) -> 1.657 | G65: =IF(G$9<=$D$2,G59+F65,0) -> 3.877 | H65: =IF(H$9<=$D$2,H59+G65,0) -> 3.877 | I65: =IF(I$9<=$D$2,I59+H65,0) -> 3.877 | J65: =IF(J$9<=$D$2,J59+I65,0) -> 3.877 | K65: =IF(K$9<=$D$2,K59+J65,0) -> 3.877 | L65: =IF(L$9<=$D$2,L59+K65,0) -> 3.877 | ... R65: =IF(R$9<=$D$2,R59+Q65,0) -> 0 | S65: =IFERROR(INDEX(S$13:S$25,$D$1,0)/INDEX($V$13:$V$25,$D$1,0),0) -> 0.4029875 | T65: =IFERROR(INDEX(T$13:T$25,$D$1,0)/INDEX($V$13:$V$25,$D$1,0),0) -> 0.58133252 | U65: =IFERROR(INDEX(U$13:U$25,$D$1,0)/INDEX($V$13:$V$25,$D$1,0),0) -> 0.015679986 | V65: Current
B66: QTD Delta to Tgt | C66: 0 | D66: =IF(D$27=0,0,IF(D$9<=$D$2,E65-D44,E65-D44)) -> 0.51771417 | E66: =IF(E$27=0,0,IF(E$9<=$D$2,F65-E44,F65-E44)) -> 1.5361843 | F66: =IF(F$27=0,0,IF(F$9<=$D$2,H65-F44,H65-F44)) -> 2.7342424 | G66: =IF(G$27=0,0,IF(G$9<=$D$2,I65-G44,I65-G44)) -> 1.1343361 | H66: =IF(H$27=0,0,IF(H$9<=$D$2,J65-H44,J65-H44)) -> 0.60110265 | I66: =IF(I$27=0,0,IF(I$9<=$D$2,K65-I44,K65-I44)) -> 0 | J66: =IF(J$27=0,0,IF(J$9<=$D$2,L65-J44,L65-J44)) -> 0.32248388 | K66: =IF(K$27=0,0,IF(K$9<=$D$2,M65-K44,M65-K44)) -> -0.65031235 | L66: =IF(L$27=0,0,IF(L$9<=$D$2,N65-L44,N65-L44)) -> -2.4126858 | M66: =IF(M$27=0,0,IF(M$9<=$D$2,O65-M44,O65-M44)) -> -5.0270543 | ... R66: =IF(R$27=0,0,IF(R$9<=$D$2,T65-R44,T65-R44)) -> 0 | S66: =S33 -> 0 | T66: =T33 -> 0 | U66: =U33 -> 0 | V66: Last 4Q
B67: % to Target | C67: 0 | D67: =IF($D$2<D$9,0,IF(AND(D44=0,D65=0),1,IF(AND(D44=0,D65>0),2,IF(D65<0,0,(D65/D44))))) -> 0.60038888 | E67: =IF($D$2<E$9,0,IF(AND(E44=0,E65=0),1,IF(AND(E44=0,E65>0),2,IF(E65<0,0,(E65/E44))))) -> 4.891749 | F67: =IF($D$2<F$9,0,IF(AND(F44=0,F65=0),1,IF(AND(F44=0,F65>0),2,IF(F65<0,0,(F65/F44))))) -> 1.4500013 | G67: =IF($D$2<G$9,0,IF(AND(G44=0,G65=0),1,IF(AND(G44=0,G65>0),2,IF(G65<0,0,(G65/G44))))) -> 1.4135892 | H67: =IF($D$2<H$9,0,IF(AND(H44=0,H65=0),1,IF(AND(H44=0,H65>0),2,IF(H65<0,0,(H65/H44))))) -> 1.1834925 | I67: =IF($D$2<I$9,0,IF(AND(I44=0,I65=0),1,IF(AND(I44=0,I65>0),2,IF(I65<0,0,(I65/I44))))) -> 1.1834925 | J67: =IF($D$2<J$9,0,IF(AND(J44=0,J65=0),1,IF(AND(J44=0,J65>0),2,IF(J65<0,0,(J65/J44))))) -> 1.0907251 | K67: =IF($D$2<K$9,0,IF(AND(K44=0,K65=0),1,IF(AND(K44=0,K65>0),2,IF(K65<0,0,(K65/K44))))) -> 0.85635797 | ... R67: =IF($D$2<R$9,0,IF(AND(R44=0,R65=0),1,IF(AND(R44=0,R65>0),2,IF(R65<0,0,(R65/R44))))) -> 0 | S67: =S34 -> 0 | T67: =T34 -> 0 | U67: =U34 -> 0 | V67: Last 3Y
B68: Fy Q3 2425 | D68: -0.013 | E68: 0.008 | F68: 0.051 | G68: -0.01 | H68: 0.235 | I68: 0.496 | J68: 3.08 | K68: 1.622 | L68: 0.94 | M68: 2.433 | N68: 0 | O68: 0.266 | P68: 0.175 | Q68: 1.045 | R68: 11.794 | S68: =SUM(D68:H68) -> 0.271 | T68: =SUM(I68:M68) -> 8.571 | U68: =SUM(N68:R68) -> 13.28 | V68: =SUM(S68:U68) -> 22.122
B69: Fy Q4 2324 | D69: -0.027 | E69: -0.003 | F69: 0.591 | G69: 0.275 | H69: 0.965 | I69: 0.358 | J69: 1.145 | K69: 0.203 | L69: 2.685 | M69: 4.085 | N69: -0.002 | O69: 2.025 | P69: 1.768 | Q69: 0.498 | R69: 9.601 | S69: =SUM(D69:H69) -> 1.801 | T69: =SUM(I69:M69) -> 8.476 | U69: =SUM(N69:R69) -> 13.89 | V69: =SUM(S69:U69) -> 24.167
D70: 0 | E70: 0.074367089 | F70: 0.18037975 | H70: 0.21044304 | I70: 0.53481013 | J70: 0.1504065 | K70: 0.17174797 | L70: 0.20020325 | M70: 0.47764228 | O70: 0.056364788 | P70: 0.10196327 | Q70: 0.13742875 | R70: 0.70424319 | S70: =$V$70*S2 -> 63.525 | T70: =$V$70*T2 -> 96.8 | U70: =$V$70*U2 -> 142.175 | V70: 302.5
B71: Consumer SI India NB WF Q3FY2425
C72: Month | D72: =D$6 -> 1 | E72: =E$6 -> 1 | F72: =F$6 -> 1 | G72: =G$6 -> 1 | H72: =H$6 -> 1 | I72: =I$6 -> 2 | J72: =J$6 -> 2 | K72: =K$6 -> 2 | L72: =L$6 -> 2 | M72: 2 | N72: 3 | O72: =O$6 -> 3 | P72: =P$6 -> 3 | Q72: =Q$6 -> 3 | R72: =R$6 -> 3 | S72: =S$6 -> 1 | T72: =T$6 -> 2 | U72: =U$6 -> 3 | V72: =V$6 -> QTR
C73: Week | D73: =D$7 -> 1 | E73: =E$7 -> 2 | F73: =F$7 -> 3 | G73: =G$7 -> 4 | H73: =H$7 -> 5 | I73: =I$7 -> 5 | J73: =J$7 -> 6 | K73: =K$7 -> 7 | ... V73: =V$7 -> 0
C74: Begin | D74: =D$8 -> 45931 | E74: =E$8 -> 45936 | F74: =F$8 -> 45943 | G74: =G$8 -> 45950 | H74: =H$8 -> 45957 | I74: =I$8 -> 45962 | J74: =J$8 -> 45964 | K74: =K$8 -> 45971 | ... V74: =V$8 -> 45931
C75: End | D75: =D$9 -> 45935 | E75: =E$9 -> 45942 | F75: =F$9 -> 45949 | G75: =G$9 -> 45956 | H75: =H$9 -> 45961 | I75: =I$9 -> 45963 | J75: =J$9 -> 45970 | K75: =K$9 -> 45977 | ... V75: =V$9 -> 46022
B76: Target | C76: Week | D76: 0.67517001 | E76: 0.43788448 | F76: 9.4149782 | G76: 14.739667 | H76: 4.9125893 | I76: 0 | J76: 2.6455922 | K76: 9.2370738 | L76: 16.734412 | M76: 24.824433 | N76: 0 | O76: 12.009712 | P76: 12.624229 | Q76: 21.405319 | R76: 97.33894 | S76: =SUM(D76:H76) -> 30.180289 | T76: =SUM(I76:M76) -> 53.441512 | U76: =SUM(N76:R76) -> 143.3782 | V76: =SUM(S76:U76) -> 227
C77: QTD | D77: =D76 -> 0.67517001 | E77: =D77+E76 -> 1.1130545 | F77: =E77+F76 -> 10.528033 | G77: =F77+G76 -> 25.2677 | H77: =G77+H76 -> 30.180289 | I77: =H77+I76 -> 30.180289 | J77: =I77+J76 -> 32.825881 | K77: =J77+K76 -> 42.062955 | L77: =K77+L76 -> 58.797367 | ... R77: =Q77+R76 -> 227 | S77: =IFERROR(S76/$V76,0) -> 0.13295281 | T77: =IFERROR(T76/$V76,0) -> 0.23542516 | U77: =IFERROR(U76/$V76,0) -> 0.63162202
C78: 0 | D78: 0 | E78: 1.1130545 | F78: 9.4149782 | G78: 14.739667 | H78: 4.9125893 | I78: 0 | J78: 2.6455922 | K78: 9.2370738 | L78: 16.734412 | M78: 24.824433 | N78: 0 | O78: 12.009712 | P78: 12.624229 | Q78: 21.405319 | R78: 97.33894 | S78: =SUMIF($D$6:$R$6,S$6,$D78:$R78) -> 30.180289 | T78: =SUMIF($D$6:$R$6,T$6,$D78:$R78) -> 53.441512 | U78: =SUMIF($D$6:$R$6,U$6,$D78:$R78) -> 143.3782 | V78: =SUM(S78:U78) -> 227
B79: Week | C79: 1 | D79: 0 | E79: 1.5371697 | F79: 13.002435 | G79: 20.356029 | H79: 6.7844687 | I79: 0 | J79: 2.6916478 | K79: 9.3978765 | L79: 17.025732 | M79: 25.256587 | N79: 0 | O79: 10.881084 | P79: 11.437851 | Q79: 19.393728 | R79: 89.191392 | S79: =SUMIF($D$6:$R$6,S$6,$D79:$R79) -> 41.680103 | T79: =SUMIF($D$6:$R$6,T$6,$D79:$R79) -> 54.371843 | U79: =SUMIF($D$6:$R$6,U$6,$D79:$R79) -> 130.90405 | V79: =SUM(S79:U79) -> 226.956
C80: 2 | D80: =IF($C80<=$D$1,D79,0) -> 0 | E80: 9.553 | F80: 13.002435 | G80: 12.340199 | H80: 6.7844687 | I80: 0 | J80: 2.6916478 | K80: 9.3978765 | L80: 17.025732 | M80: 25.256587 | N80: 0 | O80: 10.881084 | P80: 11.437851 | Q80: 19.393728 | R80: 89.191392 | S80: =SUMIF($D$6:$R$6,S$6,$D80:$R80) -> 41.680103 | T80: =SUMIF($D$6:$R$6,T$6,$D80:$R80) -> 54.371843 | U80: =SUMIF($D$6:$R$6,U$6,$D80:$R80) -> 130.90405 | V80: =SUM(S80:U80) -> 226.956
C81: 3 | D81: =IF($C81<=$D$1,D80,0) -> 0 | E81: =IF($C81<=$D$1,E80,0) -> 9.553 | F81: 14.406 | G81: 12.340199 | H81: 5.3809041 | I81: 0 | J81: 3.9603554 | K81: 13.827564 | L81: 22.1 | M81: 34.483924 | N81: 0 | O81: 23.055179 | P81: 34.582769 | Q81: 53.874154 | R81: 9.3919518 | S81: =SUMIF($D$6:$R$6,S$6,$D81:$R81) -> 41.680103 | T81: =SUMIF($D$6:$R$6,T$6,$D81:$R81) -> 74.371843 | U81: =SUMIF($D$6:$R$6,U$6,$D81:$R81) -> 120.90405 | V81: =SUM(S81:U81) -> 236.956
C82: 4 | D82: =IF($C82<=$D$1,D81,0) -> 0 | E82: =IF($C82<=$D$1,E81,0) -> 9.553 | F82: =IF($C82<=$D$1,F81,0) -> 14.406 | G82: 6.462 | H82: 24.579 | I82: 0 | J82: 4.2266091 | K82: 14.757187 | L82: 23.585777 | M82: 36.802269 | N82: 0 | O82: 19.56176 | P82: 29.342641 | Q82: 45.710913 | R82: 7.9688433 | S82: =SUMIF($D$6:$R$6,S$6,$D82:$R82) -> 55 | T82: =SUMIF($D$6:$R$6,T$6,$D82:$R82) -> 79.371843 | U82: =SUMIF($D$6:$R$6,U$6,$D82:$R82) -> 102.58416 | V82: =SUM(S82:U82) -> 236.956
C83: 5 | D83: =IF($C83<=$D$1,D82,0) -> 0 | E83: =IF($C83<=$D$1,E82,0) -> 9.553 | F83: =IF($C83<=$D$1,F82,0) -> 14.406 | G83: =IF($C83<=$D$1,G82,0) -> 6.462 | H83: 28.962 | I83: 0 | J83: 4.2266091 | K83: 14.757187 | L83: 23.585777 | M83: 32.419269 | N83: 0 | O83: 19.56176 | P83: 29.342641 | Q83: 45.710913 | R83: 7.9688433 | S83: =SUMIF($D$6:$R$6,S$6,$D83:$R83) -> 59.383 | T83: =SUMIF($D$6:$R$6,T$6,$D83:$R83) -> 74.988843 | U83: =SUMIF($D$6:$R$6,U$6,$D83:$R83) -> 102.58416 | V83: =SUM(S83:U83) -> 236.956
C84: 6 | D84: =IF($C84<=$D$1,D83,0) -> 0 | E84: =IF($C84<=$D$1,E83,0) -> 9.553 | F84: =IF($C84<=$D$1,F83,0) -> 14.406 | G84: =IF($C84<=$D$1,G83,0) -> 6.462 | H84: =IF($C84<=$D$1,H83,0) -> 28.962 | I84: =IF($C84<=$D$1,I83,0) -> 0 | J84: 0.635 | K84: 14.757187 | L84: 23.585777 | M84: 36.010878 | N84: 0 | O84: 19.56176 | P84: 29.342641 | Q84: 45.710913 | R84: 7.9688433 | S84: =SUMIF($D$6:$R$6,S$6,$D84:$R84) -> 59.383 | T84: =SUMIF($D$6:$R$6,T$6,$D84:$R84) -> 74.988843 | U84: =SUMIF($D$6:$R$6,U$6,$D84:$R84) -> 102.58416 | V84: =SUM(S84:U84) -> 236.956
C85: 7 | D85: =IF($C85<=$D$1,D84,0) -> 0 | E85: =IF($C85<=$D$1,E84,0) -> 9.553 | F85: =IF($C85<=$D$1,F84,0) -> 14.406 | G85: =IF($C85<=$D$1,G84,0) -> 6.462 | H85: =IF($C85<=$D$1,H84,0) -> 28.962 | I85: =IF($C85<=$D$1,I84,0) -> 0 | J85: =IF($C85<=$D$1,J84,0) -> 0.635 | K85: 3.537 | L85: 21.449574 | M85: 42.953269 | O85: 20.7059 | P85: 31.05885 | Q85: 48.384478 | R85: 8.8489295 | S85: =SUMIF($D$6:$R$6,S$6,$D85:$R85) -> 59.383 | T85: =SUMIF($D$6:$R$6,T$6,$D85:$R85) -> 68.574843 | U85: =SUMIF($D$6:$R$6,U$6,$D85:$R85) -> 108.99816 | V85: =SUM(S85:U85) -> 236.956
C86: 8 | D86: =IF($C86<=$D$1,D85,0) -> 0 | E86: =IF($C86<=$D$1,E85,0) -> 9.553 | F86: =IF($C86<=$D$1,F85,0) -> 14.406 | G86: =IF($C86<=$D$1,G85,0) -> 6.462 | H86: =IF($C86<=$D$1,H85,0) -> 28.962 | I86: =IF($C86<=$D$1,I85,0) -> 0 | J86: =IF($C86<=$D$1,J85,0) -> 0.635 | K86: =IF($C86<=$D$1,K85,0) -> 3.537 | L86: 25.63 | M86: 45.772843 | O86: 19.376141 | P86: 29.064211 | Q86: 45.277166 | R86: 8.28064 | S86: =SUMIF($D$6:$R$6,S$6,$D86:$R86) -> 59.383 | T86: =SUMIF($D$6:$R$6,T$6,$D86:$R86) -> 75.574843 | U86: =SUMIF($D$6:$R$6,U$6,$D86:$R86) -> 101.99816 | V86: =SUM(S86:U86) -> 236.956
C87: 9 | D87: =IF($C87<=$D$1,D86,0) -> 0 | E87: =IF($C87<=$D$1,E86,0) -> 9.553 | F87: =IF($C87<=$D$1,F86,0) -> 14.406 | G87: =IF($C87<=$D$1,G86,0) -> 6.462 | H87: =IF($C87<=$D$1,H86,0) -> 28.962 | I87: =IF($C87<=$D$1,I86,0) -> 0 | J87: =IF($C87<=$D$1,J86,0) -> 0.635 | K87: =IF($C87<=$D$1,K86,0) -> 3.537 | L87: =IF($C87<=$D$1,L86,0) -> 25.63 | M87: 55.762 | O87: 19.376141 | P87: 29.064211 | Q87: 35.288009 | R87: 8.28064 | S87: =SUMIF($D$6:$R$6,S$6,$D87:$R87) -> 59.383 | T87: =SUMIF($D$6:$R$6,T$6,$D87:$R87) -> 85.564 | U87: =SUMIF($D$6:$R$6,U$6,$D87:$R87) -> 92.009 | V87: =SUM(S87:U87) -> 236.956
C88: 10 | D88: =IF($C88<=$D$1,D87,0) -> 0 | E88: =IF($C88<=$D$1,E87,0) -> 9.553 | F88: =IF($C88<=$D$1,F87,0) -> 14.406 | G88: =IF($C88<=$D$1,G87,0) -> 6.462 | H88: =IF($C88<=$D$1,H87,0) -> 28.962 | I88: =IF($C88<=$D$1,I87,0) -> 0 | J88: =IF($C88<=$D$1,J87,0) -> 0.635 | K88: =IF($C88<=$D$1,K87,0) -> 3.537 | ... N88: =IF($C88<=$D$1,N87,0) -> 0 | O88: 1.552 | S88: =SUMIF($D$6:$R$6,S$6,$D88:$R88) -> 59.383 | T88: =SUMIF($D$6:$R$6,T$6,$D88:$R88) -> 85.564 | U88: =SUMIF($D$6:$R$6,U$6,$D88:$R88) -> 1.552 | V88: =SUM(S88:U88) -> 146.499
C89: 11 | D89: =IF($C89<=$D$1,D88,0) -> 0 | E89: =IF($C89<=$D$1,E88,0) -> 0 | F89: =IF($C89<=$D$1,F88,0) -> 0 | G89: =IF($C89<=$D$1,G88,0) -> 0 | H89: =IF($C89<=$D$1,H88,0) -> 0 | I89: =IF($C89<=$D$1,I88,0) -> 0 | J89: =IF($C89<=$D$1,J88,0) -> 0 | K89: =IF($C89<=$D$1,K88,0) -> 0 | ... O89: =IF($C89<=$D$1,O88,0) -> 0 | S89: =SUMIF($D$6:$R$6,S$6,$D89:$R89) -> 0 | T89: =SUMIF($D$6:$R$6,T$6,$D89:$R89) -> 0 | U89: =SUMIF($D$6:$R$6,U$6,$D89:$R89) -> 0 | V89: =SUM(S89:U89) -> 0
C90: 12 | D90: =IF($C90<=$D$1,D89,0) -> 0 | E90: =IF($C90<=$D$1,E89,0) -> 0 | F90: =IF($C90<=$D$1,F89,0) -> 0 | G90: =IF($C90<=$D$1,G89,0) -> 0 | H90: =IF($C90<=$D$1,H89,0) -> 0 | I90: =IF($C90<=$D$1,I89,0) -> 0 | J90: =IF($C90<=$D$1,J89,0) -> 0 | K90: =IF($C90<=$D$1,K89,0) -> 0 | ... P90: =IF($C90<=$D$1,P89,0) -> 0 | S90: =SUMIF($D$6:$R$6,S$6,$D90:$R90) -> 0 | T90: =SUMIF($D$6:$R$6,T$6,$D90:$R90) -> 0 | U90: =SUMIF($D$6:$R$6,U$6,$D90:$R90) -> 0 | V90: =SUM(S90:U90) -> 0
C91: 13 | D91: =IF($C91<=$D$1,D90,0) -> 0 | E91: =IF($C91<=$D$1,E90,0) -> 0 | F91: =IF($C91<=$D$1,F90,0) -> 0 | G91: =IF($C91<=$D$1,G90,0) -> 0 | H91: =IF($C91<=$D$1,H90,0) -> 0 | I91: =IF($C91<=$D$1,I90,0) -> 0 | J91: =IF($C91<=$D$1,J90,0) -> 0 | K91: =IF($C91<=$D$1,K90,0) -> 0 | ... Q91: =IF($C91<=$D$1,Q90,0) -> 0 | S91: =SUMIF($D$6:$R$6,S$6,$D91:$R91) -> 0 | T91: =SUMIF($D$6:$R$6,T$6,$D91:$R91) -> 0 | U91: =SUMIF($D$6:$R$6,U$6,$D91:$R91) -> 0 | V91: =SUM(S91:U91) -> 0
B92: Actual | C92: 0 | D92: =INDEX(D79:D91,MATCH($D$1,$C$79:$C$91,0)) -> 0 | E92: =INDEX(E79:E91,MATCH($D$1,$C$79:$C$91,0)) -> 9.553 | F92: =INDEX(F79:F91,MATCH($D$1,$C$79:$C$91,0)) -> 14.406 | G92: =INDEX(G79:G91,MATCH($D$1,$C$79:$C$91,0)) -> 6.462 | H92: 0 | I92: 0 | J92: 0 | K92: 0 | L92: 0 | M92: 0 | N92: 0 | O92: 0 | P92: 0 | Q92: 0 | R92: 0 | S92: =INDEX($D$46:$D$58,MATCH($D$1,$C$46:$C$58,0)) -> 0.044 | T92: =INDEX($D$46:$D$58,MATCH($D$1,$C$46:$C$58,0)) -> 0.044 | U92: =INDEX($D$46:$D$58,MATCH($D$1,$C$46:$C$58,0)) -> 0.044 | V92: =INDEX($D$46:$D$58,MATCH($D$1,$C$46:$C$58,0)) -> 0.044
B93: Delta to Target | C93: 0 | D93: =IF(D$9<=$D$2,D92-D76,0) -> -0.67517001 | E93: =IF(E$9<=$D$2,E92-E76,0) -> 9.1151155 | F93: =IF(F$9<=$D$2,F92-F76,0) -> 4.9910218 | G93: =IF(G$9<=$D$2,G92-G76,0) -> -8.277667 | H93: =IF(H$9<=$D$2,H92-H76,0) -> -4.9125893 | I93: =IF(I$9<=$D$2,I92-I76,0) -> 0 | J93: =IF(J$9<=$D$2,J92-J76,0) -> -2.6455922 | K93: =IF(K$9<=$D$2,K92-K76,0) -> -9.2370738 | ... V93: =IF(V$9<=$D$2,V92-V76,0) -> 0
B94: % to Target | C94: 0 | D94: =IF($D$2<D$9,0,IF(AND(D76=0,D92=0),1,IF(AND(D76=0,D92>0),2,IF(D92<0,0,(D92/D76))))) -> 0 | E94: =IF($D$2<E$9,0,IF(AND(E76=0,E92=0),1,IF(AND(E76=0,E92>0),2,IF(E92<0,0,(E92/E76))))) -> 21.816256 | F94: =IF($D$2<F$9,0,IF(AND(F76=0,F92=0),1,IF(AND(F76=0,F92>0),2,IF(F92<0,0,(F92/F76))))) -> 1.5301151 | G94: =IF($D$2<G$9,0,IF(AND(G76=0,G92=0),1,IF(AND(G76=0,G92>0),2,IF(G92<0,0,(G92/G76))))) -> 0.43840882 | H94: =IF($D$2<H$9,0,IF(AND(H76=0,H92=0),1,IF(AND(H76=0,H92>0),2,IF(H92<0,0,(H92/H76))))) -> 0 | I94: =IF($D$2<I$9,0,IF(AND(I76=0,I92=0),1,IF(AND(I76=0,I92>0),2,IF(I92<0,0,(I92/I76))))) -> 1 | J94: =IF($D$2<J$9,0,IF(AND(J76=0,J92=0),1,IF(AND(J76=0,J92>0),2,IF(J92<0,0,(J92/J76))))) -> 0 | K94: =IF($D$2<K$9,0,IF(AND(K76=0,K92=0),1,IF(AND(K76=0,K92>0),2,IF(K92<0,0,(K92/K76))))) -> 0 | ... V94: =IF($D$2<V$9,0,IF(AND(V76=0,V92=0),1,IF(AND(V76=0,V92>0),2,IF(V92<0,0,(V92/V76))))) -> 0
B95: ="Week "&$D$1&" View" -> Week 10 View | D95: =INDEX(D79:D91,MATCH($D$1,$C$13:$C$25,0)) -> 0 | E95: =INDEX(E79:E91,MATCH($D$1,$C$13:$C$25,0)) -> 9.553 | F95: =INDEX(F79:F91,MATCH($D$1,$C$13:$C$25,0)) -> 14.406 | G95: =INDEX(G79:G91,MATCH($D$1,$C$13:$C$25,0)) -> 6.462 | H95: =INDEX(H79:H91,MATCH($D$1,$C$13:$C$25,0)) -> 28.962 | I95: =INDEX(I79:I91,MATCH($D$1,$C$13:$C$25,0)) -> 0 | J95: =INDEX(J79:J91,MATCH($D$1,$C$13:$C$25,0)) -> 0.635 | K95: =INDEX(K79:K91,MATCH($D$1,$C$13:$C$25,0)) -> 3.537 | ... V95: =INDEX(V79:V91,MATCH($D$1,$C$13:$C$25,0)) -> 146.499
B96: Linearity | D96: =IFERROR(D95/$S95,0) -> 0 | E96: =IFERROR(E95/$S95,0) -> 0.16087096 | F96: =IFERROR(F95/$S95,0) -> 0.24259468 | G96: =IFERROR(G95/$S95,0) -> 0.10881902 | H96: =IFERROR(H95/$S95,0) -> 0.48771534 | I96: =IFERROR(I95/$S95,0) -> 0 | J96: =IFERROR(J95/$S95,0) -> 0.010693296 | K96: =IFERROR(K95/$S95,0) -> 0.059562501 | ... O96: =IFERROR(O95/$S95,0) -> 0.026135426 | P96: =IFERROR(P95/$T95,0) -> 0 | Q96: =IFERROR(Q95/$T95,0) -> 0 | R96: =IFERROR(R95/$T95,0) -> 0 | S96: =IFERROR(S95/$V95,0) -> 0.40534748 | T96: =IFERROR(T95/$V95,0) -> 0.58405859 | U96: =IFERROR(U95/$V95,0) -> 0.010593929
B97: Last 4Q ROL Linearity
B98: QTD Actual | C98: 0 | D98: =IF(D$9<=$D$2,D92,0) -> 0 | E98: =IF(E$9<=$D$2,E92+D98,0) -> 9.553 | F98: =IF(F$9<=$D$2,F92+E98,0) -> 23.959 | G98: =IF(G$9<=$D$2,G92+F98,0) -> 30.421 | H98: =IF(H$9<=$D$2,H92+G98,0) -> 30.421 | I98: =IF(I$9<=$D$2,I92+H98,0) -> 30.421 | J98: =IF(J$9<=$D$2,J92+I98,0) -> 30.421 | K98: =IF(K$9<=$D$2,K92+J98,0) -> 30.421 | L98: =IF(L$9<=$D$2,L92+K98,0) -> 30.421 | ... R98: =IF(R$9<=$D$2,R92+Q98,0) -> 0 | S98: =IFERROR(INDEX(S$13:S$25,$D$1,0)/INDEX($V$13:$V$25,$D$1,0),0) -> 0.4029875 | T98: =IFERROR(INDEX(T$13:T$25,$D$1,0)/INDEX($V$13:$V$25,$D$1,0),0) -> 0.58133252 | U98: =IFERROR(INDEX(U$13:U$25,$D$1,0)/INDEX($V$13:$V$25,$D$1,0),0) -> 0.015679986 | V98: Current
B99: QTD Delta to Tgt | C99: 0 | D99: =IF(D$27=0,0,IF(D$9<=$D$2,E98-D77,E98-D77)) -> 8.87783 | E99: =IF(E$27=0,0,IF(E$9<=$D$2,F98-E77,F98-E77)) -> 22.845946 | F99: =IF(F$27=0,0,IF(F$9<=$D$2,H98-F77,H98-F77)) -> 19.892967 | G99: =IF(G$27=0,0,IF(G$9<=$D$2,I98-G77,I98-G77)) -> 5.1533003 | H99: =IF(H$27=0,0,IF(H$9<=$D$2,J98-H77,J98-H77)) -> 0.24071107 | I99: =IF(I$27=0,0,IF(I$9<=$D$2,K98-I77,K98-I77)) -> 0 | J99: =IF(J$27=0,0,IF(J$9<=$D$2,L98-J77,L98-J77)) -> -2.4048812 | K99: =IF(K$27=0,0,IF(K$9<=$D$2,M98-K77,M98-K77)) -> -11.641955 | L99: =IF(L$27=0,0,IF(L$9<=$D$2,N98-L77,N98-L77)) -> -28.376367 | M99: =IF(M$27=0,0,IF(M$9<=$D$2,O98-M77,O98-M77)) -> -53.200801 | ... R99: =IF(R$27=0,0,IF(R$9<=$D$2,T98-R77,T98-R77)) -> 0 | S99: =S66 -> 0 | T99: =T66 -> 0 | U99: =U66 -> 0 | V99: Last 4Q
B100: % to Target | C100: 0 | D100: =IF($D$2<D$9,0,IF(AND(D77=0,D98=0),1,IF(AND(D77=0,D98>0),2,IF(D98<0,0,(D98/D77))))) -> 0 | E100: =IF($D$2<E$9,0,IF(AND(E77=0,E98=0),1,IF(AND(E77=0,E98>0),2,IF(E98<0,0,(E98/E77))))) -> 8.5826885 | F100: =IF($D$2<F$9,0,IF(AND(F77=0,F98=0),1,IF(AND(F77=0,F98>0),2,IF(F98<0,0,(F98/F77))))) -> 2.2757338 | G100: =IF($D$2<G$9,0,IF(AND(G77=0,G98=0),1,IF(AND(G77=0,G98>0),2,IF(G98<0,0,(G98/G77))))) -> 1.2039481 | H100: =IF($D$2<H$9,0,IF(AND(H77=0,H98=0),1,IF(AND(H77=0,H98>0),2,IF(H98<0,0,(H98/H77))))) -> 1.0079758 | I100: =IF($D$2<I$9,0,IF(AND(I77=0,I98=0),1,IF(AND(I77=0,I98>0),2,IF(I98<0,0,(I98/I77))))) -> 1.0079758 | J100: =IF($D$2<J$9,0,IF(AND(J77=0,J98=0),1,IF(AND(J77=0,J98>0),2,IF(J98<0,0,(J98/J77))))) -> 0.92673826 | K100: =IF($D$2<K$9,0,IF(AND(K77=0,K98=0),1,IF(AND(K77=0,K98>0),2,IF(K98<0,0,(K98/K77))))) -> 0.72322546 | ... R100: =IF($D$2<R$9,0,IF(AND(R77=0,R98=0),1,IF(AND(R77=0,R98>0),2,IF(R98<0,0,(R98/R77))))) -> 0 | S100: =S67 -> 0 | T100: =T67 -> 0 | U100: =U67 -> 0 | V100: Last 3Y
B101: Fy Q3 2425 | D101: 0.917 | E101: -0.029 | F101: 0.496 | G101: 3.01 | H101: 5.522 | I101: 0.911 | J101: 3.286 | K101: 9.055 | L101: 13.87 | M101: 26.949 | N101: 0 | O101: 3.314 | P101: 9.86 | Q101: 27.699 | R101: 101.289 | S101: =SUM(D101:H101) -> 9.916 | T101: =SUM(I101:M101) -> 54.071 | U101: =SUM(N101:R101) -> 142.162 | V101: =SUM(S101:U101) -> 206.149
B102: Fy Q4 2324 | D102: -0.003 | E102: 0.507 | F102: 1.259 | G102: 23.018 | H102: 8.916 | I102: 1.425 | J102: 8.804 | K102: 15.961 | L102: 12.955 | M102: 66.222 | N102: 2.484 | O102: 11.999 | P102: 22.496 | Q102: 19.795 | R102: 112.63 | S102: =SUM(D102:H102) -> 33.697 | T102: =SUM(I102:M102) -> 105.367 | U102: =SUM(N102:R102) -> 169.404 | V102: =SUM(S102:U102) -> 308.468

Sheet SI-Overseas
C1: Week# | D1: ='SI -Overall'!D1 -> 10
C2: Weekending dt: | D2: ='SI -Overall'!D2 -> 45998
B5: Consumer SI Overseas WF Q3FY2526
C6: Month | D6: 1 | E6: 1 | F6: 1 | G6: 1 | H6: 1 | I6: 2 | J6: 2 | K6: 2 | L6: 2 | M6: 2 | N6: 3 | O6: 3 | P6: 3 | Q6: 3 | R6: 3 | S6: 1 | T6: 2 | U6: 3 | V6: QTR
C7: Week | D7: ='SI -Overall'!D7 -> 1 | E7: ='SI -Overall'!E7 -> 2 | F7: ='SI -Overall'!F7 -> 3 | G7: ='SI -Overall'!G7 -> 4 | H7: 5 | I7: 5 | J7: ='SI -Overall'!J7 -> 6 | K7: ='SI -Overall'!K7 -> 7 | L7: ='SI -Overall'!L7 -> 8 | M7: ='SI -Overall'!M7 -> 9 | N7: ='SI -Overall'!N7 -> 9b | O7: ='SI -Overall'!O7 -> 10 | P7: ='SI -Overall'!P7 -> 11 | Q7: ='SI -Overall'!Q7 -> 12 | R7: ='SI -Overall'!R7 -> 13
C8: Begin | D8: ='SI -Overall'!D8 -> 45931 | E8: ='SI -Overall'!E8 -> 45936 | F8: ='SI -Overall'!F8 -> 45943 | G8: ='SI -Overall'!G8 -> 45950 | H8: ='SI -Overall'!H8 -> 45957 | I8: ='SI -Overall'!I8 -> 45962 | J8: ='SI -Overall'!J8 -> 45964 | K8: ='SI -Overall'!K8 -> 45971 | ... R8: ='SI -Overall'!R8 -> 46013 | S8: =D8 -> 45931 | T8: =I8 -> 45962 | U8: =O8 -> 45992 | V8: =D8 -> 45931
C9: End | D9: ='SI -Overall'!D9 -> 45935 | E9: ='SI -Overall'!E9 -> 45942 | F9: ='SI -Overall'!F9 -> 45949 | G9: ='SI -Overall'!G9 -> 45956 | H9: ='SI -Overall'!H9 -> 45961 | I9: ='SI -Overall'!I9 -> 45963 | J9: ='SI -Overall'!J9 -> 45970 | K9: ='SI -Overall'!K9 -> 45977 | ... R9: ='SI -Overall'!R9 -> 46022 | S9: =I9 -> 45963 | T9: =M9 -> 45991 | U9: =R9 -> 46022 | V9: =R9 -> 46022
B10: Target | C10: Week | D10: =D76 -> 0.11185612 | E10: =E76 -> 0.072544779 | F10: =F76 -> 1.5597893 | G10: =G76 -> 2.441936 | H10: =H76 -> 0.8138738 | I10: =I76 -> 0 | J10: =J76 -> 0.3465311 | K10: =K76 -> 1.2099118 | ... R10: =R76 -> 5.431171 | S10: =SUMIF($D$6:$R$6,S$6,$D10:$R10) -> 5 | T10: =SUMIF($D$6:$R$6,T$6,$D10:$R10) -> 7 | U10: =SUMIF($D$6:$R$6,U$6,$D10:$R10) -> 8 | V10: =SUM(S10:U10) -> 20
C11: QTD | D11: =D10 -> 0.11185612 | E11: =D11+E10 -> 0.1844009 | F11: =E11+F10 -> 1.7441902 | G11: =F11+G10 -> 4.1861262 | H11: =G11+H10 -> 5 | I11: =H11+I10 -> 5 | J11: =I11+J10 -> 5.3465311 | K11: =J11+K10 -> 6.5564429 | L11: =K11+L10 -> 8.7483885 | ... N11: =M11+N10 -> 12 | O11: =M11+O10 -> 12.6701 | P11: =O11+P10 -> 13.374487 | Q11: =P11+Q10 -> 14.568829 | R11: =Q11+R10 -> 20 | S11: =IFERROR(S10/$V10,0) -> 0.25 | T11: =IFERROR(T10/$V10,0) -> 0.35 | U11: =IFERROR(U10/$V10,0) -> 0.4
C12: 0 | D12: =D45+D78 -> 0.11185612 | E12: =E45+E78 -> 0.072544779 | F12: =F45+F78 -> 1.5597893 | G12: =G45+G78 -> 2.441936 | H12: =H45+H78 -> 0.8138738 | I12: =I45+I78 -> 0 | J12: =J45+J78 -> 0.3465311 | K12: =K45+K78 -> 1.2099118 | ... R12: =R45+R78 -> 5.431171 | S12: =SUMIF($D$6:$R$6,S$6,$D12:$R12) -> 5 | T12: =SUMIF($D$6:$R$6,T$6,$D12:$R12) -> 7 | U12: =SUMIF($D$6:$R$6,U$6,$D12:$R12) -> 8 | V12: =SUM(S12:U12) -> 20
B13: Week | C13: 1 | D13: =D46+D79 -> 0 | E13: =E46+E79 -> 0.1844009 | F13: =F46+F79 -> 1.5597893 | G13: =G46+G79 -> 2.441936 | H13: =H46+H79 -> 0.8138738 | I13: =I46+I79 -> 0 | J13: =J46+J79 -> 0.3465311 | K13: =K46+K79 -> 1.2099118 | ... R13: =R46+R79 -> 5.431171 | S13: =SUMIF($D$6:$R$6,S$6,$D13:$R13) -> 5 | T13: =SUMIF($D$6:$R$6,T$6,$D13:$R13) -> 7 | U13: =SUMIF($D$6:$R$6,U$6,$D13:$R13) -> 8 | V13: =SUM(S13:U13) -> 20
C14: 2 | D14: =IF($C14<=$D$1,D13,0) -> 0 | E14: =E47+E80 -> 0.479 | F14: =F47+F80 -> 1.5597893 | G14: =G47+G80 -> 2.441936 | H14: =H47+H80 -> 0.5192747 | I14: =I47+I80 -> 0 | J14: =J47+J80 -> 0.3465311 | K14: =K47+K80 -> 1.2099118 | L14: =L47+L80 -> 2.1919456 | ... R14: =R47+R80 -> 5.431171 | S14: =SUMIF($D$6:$R$6,S$6,$D14:$R14) -> 5 | T14: =SUMIF($D$6:$R$6,T$6,$D14:$R14) -> 7 | U14: =SUMIF($D$6:$R$6,U$6,$D14:$R14) -> 8 | V14: =SUM(S14:U14) -> 20
C15: 3 | D15: =IF($C15<=$D$1,D14,0) -> 0 | E15: =IF($C15<=$D$1,E14,0) -> 0.479 | F15: =F48+F81 -> 0.97 | G15: =G48+G81 -> 2.3 | H15: =H48+H81 -> 2.5 | I15: =I48+I81 -> 0.65 | J15: =J48+J81 -> 2 | K15: =K48+K81 -> 2.7 | L15: =L48+L81 -> 2.5 | M15: =M48+M81 -> 2.5 | ... R15: =R48+R81 -> 0 | S15: =SUMIF($D$6:$R$6,S$6,$D15:$R15) -> 6.249 | T15: =SUMIF($D$6:$R$6,T$6,$D15:$R15) -> 10.35 | U15: =SUMIF($D$6:$R$6,U$6,$D15:$R15) -> 3.4 | V15: =SUM(S15:U15) -> 19.999
C16: 4 | D16: =IF($C16<=$D$1,D15,0) -> 0 | E16: =IF($C16<=$D$1,E15,0) -> 0.479 | F16: =IF($C16<=$D$1,F15,0) -> 0.97 | G16: =G49+G82 -> 2.355 | H16: =H49+H82 -> 1.79 | I16: =I49+I82 -> 0.65 | J16: =J49+J82 -> 1.5 | K16: =K49+K82 -> 1.5 | L16: =L49+L82 -> 2.5 | M16: =M49+M82 -> 2.5 | N16: =N49+N82 -> 0 | ... R16: =R49+R82 -> 1 | S16: =SUMIF($D$6:$R$6,S$6,$D16:$R16) -> 5.594 | T16: =SUMIF($D$6:$R$6,T$6,$D16:$R16) -> 8.65 | U16: =SUMIF($D$6:$R$6,U$6,$D16:$R16) -> 5.8 | V16: =SUM(S16:U16) -> 20.044
C17: 5 | D17: =IF($C17<=$D$1,D16,0) -> 0 | E17: =IF($C17<=$D$1,E16,0) -> 0.479 | F17: =IF($C17<=$D$1,F16,0) -> 0.97 | G17: =IF($C17<=$D$1,G16,0) -> 2.355 | H17: =H50+H83 -> 2.338 | I17: =I50+I83 -> 0.12 | J17: =J50+J83 -> 1.5 | K17: =K50+K83 -> 1.5 | L17: =L50+L83 -> 2.5 | M17: =M50+M83 -> 2.482 | N17: =N50+N83 -> 0 | O17: =O50+O83 -> 2.3 | ... R17: =R50+R83 -> 1 | S17: =SUMIF($D$6:$R$6,S$6,$D17:$R17) -> 6.142 | T17: =SUMIF($D$6:$R$6,T$6,$D17:$R17) -> 8.102 | U17: =SUMIF($D$6:$R$6,U$6,$D17:$R17) -> 5.8 | V17: =SUM(S17:U17) -> 20.044
C18: 6 | D18: =IF($C18<=$D$1,D17,0) -> 0 | E18: =IF($C18<=$D$1,E17,0) -> 0.479 | F18: =IF($C18<=$D$1,F17,0) -> 0.97 | G18: =IF($C18<=$D$1,G17,0) -> 2.355 | H18: =IF($C18<=$D$1,H17,0) -> 2.338 | I18: =IF($C18<=$D$1,I17,0) -> 0.12 | J18: =J51+J84 -> 2.75 | K18: =K51+K84 -> 2.2 | L18: =L51+L84 -> 1.5 | M18: =M51+M84 -> 1.532 | N18: =N51+N84 -> 0 | O18: =O51+O84 -> 2.3 | P18: =P51+P84 -> 1.5 | Q18: =Q51+Q84 -> 1 | R18: =R51+R84 -> 1 | S18: =SUMIF($D$6:$R$6,S$6,$D18:$R18) -> 6.142 | T18: =SUMIF($D$6:$R$6,T$6,$D18:$R18) -> 8.102 | U18: =SUMIF($D$6:$R$6,U$6,$D18:$R18) -> 5.8 | V18: =SUM(S18:U18) -> 20.044
C19: 7 | D19: =IF($C19<=$D$1,D18,0) -> 0 | E19: =IF($C19<=$D$1,E18,0) -> 0.479 | F19: =IF($C19<=$D$1,F18,0) -> 0.97 | G19: =IF($C19<=$D$1,G18,0) -> 2.355 | H19: =IF($C19<=$D$1,H18,0) -> 2.338 | I19: =IF($C19<=$D$1,I18,0) -> 0.12 | J19: =IF($C19<=$D$1,J18,0) -> 2.75 | K19: =K52+K85 -> 2.502 | L19: =L52+L85 -> 2.5428571 | M19: =M52+M85 -> 2.0851429 | N19: =N52+N85 -> 0 | O19: =O52+O85 -> 5.4954138 | P19: =P52+P85 -> 3.5839655 | Q19: =Q52+Q85 -> 2.3893103 | R19: =R52+R85 -> 2.3893103 | S19: =SUMIF($D$6:$R$6,S$6,$D19:$R19) -> 6.142 | T19: =SUMIF($D$6:$R$6,T$6,$D19:$R19) -> 10 | U19: =SUMIF($D$6:$R$6,U$6,$D19:$R19) -> 13.858 | V19: =SUM(S19:U19) -> 30
C20: 8 | D20: =IF($C20<=$D$1,D19,0) -> 0 | E20: =IF($C20<=$D$1,E19,0) -> 0.479 | F20: =IF($C20<=$D$1,F19,0) -> 0.97 | G20: =IF($C20<=$D$1,G19,0) -> 2.355 | H20: =IF($C20<=$D$1,H19,0) -> 2.338 | I20: =IF($C20<=$D$1,I19,0) -> 0.12 | J20: =IF($C20<=$D$1,J19,0) -> 2.75 | K20: =IF($C20<=$D$1,K19,0) -> 2.502 | L20: =L53+L86 -> 4.168 | M20: =M53+M86 -> 3.5 | N20: =N53+N86 -> 0 | O20: =O53+O86 -> 2.3 | P20: =P53+P86 -> 3 | Q20: =Q53+Q86 -> 3.5 | R20: =R53+R86 -> 2.018 | S20: =S53+S86 -> 6.142 | ... V20: =V53+V86 -> 30
C21: 9 | D21: =IF($C21<=$D$1,D20,0) -> 0 | E21: =IF($C21<=$D$1,E20,0) -> 0.479 | F21: =IF($C21<=$D$1,F20,0) -> 0.97 | G21: =IF($C21<=$D$1,G20,0) -> 2.355 | H21: =IF($C21<=$D$1,H20,0) -> 2.338 | I21: =IF($C21<=$D$1,I20,0) -> 0.12 | J21: =IF($C21<=$D$1,J20,0) -> 2.75 | K21: =IF($C21<=$D$1,K20,0) -> 2.502 | L21: =L54+L87 -> 4.168 | M21: =M54+M87 -> 5.423 | N21: =N54+N87 -> 0 | O21: =O54+O87 -> 5 | P21: =P54+P87 -> 1.5 | Q21: =Q54+Q87 -> 1.5 | R21: =R54+R87 -> 0.895 | S21: =S54+S87 -> 6.142 | ... V21: =V54+V87 -> 30
C22: 10 | D22: =IF($C22<=$D$1,D21,0) -> 0 | E22: =IF($C22<=$D$1,E21,0) -> 0.479 | F22: =IF($C22<=$D$1,F21,0) -> 0.97 | G22: =IF($C22<=$D$1,G21,0) -> 2.355 | H22: =IF($C22<=$D$1,H21,0) -> 2.338 | I22: =IF($C22<=$D$1,I21,0) -> 0.12 | J22: =IF($C22<=$D$1,J21,0) -> 2.75 | K22: =IF($C22<=$D$1,K21,0) -> 2.502 | ... N22: =IF($C22<=$D$1,N21,0) -> 0 | O22: =O55+O88 -> -3.217 | P22: =P55+P88 -> 0 | Q22: =Q55+Q88 -> 0 | R22: =R55+R88 -> 0 | S22: =SUMIF($D$6:$R$6,S$6,$D22:$R22) -> 6.142 | T22: =SUMIF($D$6:$R$6,T$6,$D22:$R22) -> 14.963 | U22: =SUMIF($D$6:$R$6,U$6,$D22:$R22) -> -3.217 | V22: =SUM(S22:U22) -> 17.888
C23: 11 | D23: =IF($C23<=$D$1,D22,0) -> 0 | E23: =IF($C23<=$D$1,E22,0) -> 0 | F23: =IF($C23<=$D$1,F22,0) -> 0 | G23: =IF($C23<=$D$1,G22,0) -> 0 | H23: =IF($C23<=$D$1,H22,0) -> 0 | I23: =IF($C23<=$D$1,I22,0) -> 0 | J23: =IF($C23<=$D$1,J22,0) -> 0 | K23: =IF($C23<=$D$1,K22,0) -> 0 | ... O23: =IF($C23<=$D$1,O22,0) -> 0 | P23: =P56+P89 -> 0 | Q23: =Q56+Q89 -> 0 | R23: =R56+R89 -> 0 | S23: =SUMIF($D$6:$R$6,S$6,$D23:$R23) -> 0 | T23: =SUMIF($D$6:$R$6,T$6,$D23:$R23) -> 0 | U23: =SUMIF($D$6:$R$6,U$6,$D23:$R23) -> 0 | V23: =SUM(S23:U23) -> 0
C24: 12 | D24: =IF($C24<=$D$1,D23,0) -> 0 | E24: =IF($C24<=$D$1,E23,0) -> 0 | F24: =IF($C24<=$D$1,F23,0) -> 0 | G24: =IF($C24<=$D$1,G23,0) -> 0 | H24: =IF($C24<=$D$1,H23,0) -> 0 | I24: =IF($C24<=$D$1,I23,0) -> 0 | J24: =IF($C24<=$D$1,J23,0) -> 0 | K24: =IF($C24<=$D$1,K23,0) -> 0 | ... P24: =IF($C24<=$D$1,P23,0) -> 0 | Q24: =Q57+Q90 -> 0 | R24: =R57+R90 -> 0 | S24: =SUMIF($D$6:$R$6,S$6,$D24:$R24) -> 0 | T24: =SUMIF($D$6:$R$6,T$6,$D24:$R24) -> 0 | U24: =SUMIF($D$6:$R$6,U$6,$D24:$R24) -> 0 | V24: =SUM(S24:U24) -> 0
C25: 13 | D25: =IF($C25<=$D$1,D24,0) -> 0 | E25: =IF($C25<=$D$1,E24,0) -> 0 | F25: =IF($C25<=$D$1,F24,0) -> 0 | G25: =IF($C25<=$D$1,G24,0) -> 0 | H25: =IF($C25<=$D$1,H24,0) -> 0 | I25: =IF($C25<=$D$1,I24,0) -> 0 | J25: =IF($C25<=$D$1,J24,0) -> 0 | K25: =IF($C25<=$D$1,K24,0) -> 0 | ... Q25: =IF($C25<=$D$1,Q24,0) -> 0 | R25: =R58+R91 -> 0 | S25: =SUMIF($D$6:$R$6,S$6,$D25:$R25) -> 0 | T25: =SUMIF($D$6:$R$6,T$6,$D25:$R25) -> 0 | U25: =SUMIF($D$6:$R$6,U$6,$D25:$R25) -> 0 | V25: =SUM(S25:U25) -> 0
B26: Actual | C26: 0 | D26: 0 | E26: 0 | F26: 0 | G26: 0 | H26: 0 | I26: 0 | J26: 0 | K26: 0 | L26: 0 | M26: 0 | N26: 0 | O26: 0 | P26: 0 | Q26: 0 | R26: 0 | S26: 5.5 | T26: 4 | U26: 5.5 | V26: 15
B27: Delta to Target | C27: 0 | D27: -0.48 | E27: 0 | F27: 0 | G27: 0 | H27: 0 | I27: 0 | J27: 0 | K27: 0 | L27: 0 | M27: 0 | N27: 0 | O27: 0 | P27: 0 | Q27: 0 | R27: 0 | S27: 0 | T27: 0 | U27: 0 | V27: 0
B28: % to Target | C28: 0 | D28: 0 | E28: 0 | F28: 0 | G28: 0 | H28: 0 | I28: 0 | J28: 0 | K28: 0 | L28: 0 | M28: 0 | N28: 0 | O28: 0 | P28: 0 | Q28: 0 | R28: 0 | S28: 0 | T28: 0 | U28: 0 | V28: 0
B29: ="Week "&$D$1&" View" -> Week 10 View | D29: 0 | E29: 1 | F29: 1.5 | G29: 1.5 | H29: 1.5 | I29: 0 | J29: 1 | K29: 1 | L29: 1 | M29: 1 | N29: 0.5 | O29: 2 | P29: 1.5 | Q29: 1.5 | R29: 0 | S29: 5.5 | T29: 4 | U29: 5.5 | V29: 15
B30: Linearity | D30: 0 | E30: 0.18181818 | F30: 0.27272727 | G30: 0.27272727 | H30: 0.27272727 | I30: 0 | J30: 0.25 | K30: 0.25 | L30: 0.25 | M30: 0.25 | N30: 0.090909091 | O30: 0.36363636 | P30: 0.27272727 | Q30: 0.27272727 | R30: 0 | S30: 0.36666667 | T30: 0.26666667 | U30: 0.36666667
B31: Last 4Q ROL Linearity | R31: 0
B32: QTD Actual | C32: 0 | D32: 0 | E32: 0 | F32: 0 | G32: 0 | H32: 0 | I32: 0 | J32: 0 | K32: 0 | L32: 0 | M32: 0 | N32: 0 | O32: 0 | P32: 0 | Q32: 0 | R32: 0 | S32: 0.36666667 | T32: 0.26666667 | U32: 0.36666667 | V32: Current
B33: QTD Delta to Tgt | C33: 0 | D33: -0.48 | E33: 0 | F33: 0 | G33: 0 | H33: 0 | I33: 0 | J33: 0 | K33: 0 | L33: 0 | M33: 0 | N33: 0 | O33: 0 | P33: 0 | Q33: 0 | R33: 0 | S33: 0 | T33: 0 | U33: 0 | V33: Last 4Q
B34: % to Target | C34: 0 | D34: 0 | E34: 0 | F34: 0 | G34: 0 | H34: 0 | I34: 0 | J34: 0 | K34: 0 | L34: 0 | M34: 0 | N34: 0 | O34: 0 | P34: 0 | Q34: 0 | R34: 0 | S34: 0 | T34: 0 | U34: 0 | V34: Last 3Y
B35: Fy Q3 2425
B36: Fy Q4 2324
B38: Consumer SI Overseas DT WF Q3FY2425
C39: Month | D39: =D$6 -> 1 | E39: =E$6 -> 1 | F39: =F$6 -> 1 | G39: =G$6 -> 1 | H39: =H$6 -> 1 | I39: =I$6 -> 2 | J39: =J$6 -> 2 | K39: =K$6 -> 2 | ... R39: =R$6 -> 3 | S39: 1 | T39: 2 | U39: 3 | V39: QTR
C40: Week | D40: =D$7 -> 1 | E40: =E$7 -> 2 | F40: =F$7 -> 3 | G40: =G$7 -> 4 | H40: =H$7 -> 5 | I40: =I$7 -> 5 | J40: =J$7 -> 6 | K40: =K$7 -> 7 | ... R40: =R$7 -> 13
C41: Begin | D41: =D$8 -> 45931 | E41: =E$8 -> 45936 | F41: =F$8 -> 45943 | G41: =G$8 -> 45950 | H41: =H$8 -> 45957 | I41: =I$8 -> 45962 | J41: =J$8 -> 45964 | K41: =K$8 -> 45971 | ... R41: =R$8 -> 46013 | S41: =D41 -> 45931 | T41: =J41 -> 45964 | U41: =O41 -> 45992 | V41: =D41 -> 45931
C42: End | D42: =D$9 -> 45935 | E42: =E$9 -> 45942 | F42: =F$9 -> 45949 | G42: =G$9 -> 45956 | H42: =H$9 -> 45961 | I42: =I$9 -> 45963 | J42: =J$9 -> 45970 | K42: =K$9 -> 45977 | ... R42: =R$9 -> 46022 | S42: =I42 -> 45963 | T42: =M42 -> 45991 | U42: =R42 -> 46022 | V42: =U42 -> 46022
B43: Target | C43: Week | D43: 0 | E43: 0 | F43: 0 | G43: 0 | H43: 0 | I43: 0 | J43: 0 | K43: 0 | L43: 0 | M43: 0 | N43: 0 | O43: 0 | P43: 0 | Q43: 0 | R43: 0 | S43: =SUMIF($D$6:$R$6,S$6,$D43:$R43) -> 0 | T43: =SUMIF($D$6:$R$6,T$6,$D43:$R43) -> 0 | U43: =SUMIF($D$6:$R$6,U$6,$D43:$R43) -> 0 | V43: =SUM(S43:U43) -> 0
C44: QTD | D44: =D43 -> 0 | E44: =E43 -> 0 | F44: =F43 -> 0 | G44: =G43 -> 0 | H44: =H43 -> 0 | I44: =I43 -> 0 | J44: =J43 -> 0 | K44: =K43 -> 0 | ... R44: =R43 -> 0 | S44: =IFERROR(S43/$V43,0) -> 0 | T44: =IFERROR(T43/$V43,0) -> 0 | U44: =IFERROR(U43/$V43,0) -> 0
C45: 0 | S45: =SUMIF($D$6:$R$6,S$6,$D45:$R45) -> 0 | T45: =SUMIF($D$6:$R$6,T$6,$D45:$R45) -> 0 | U45: =SUMIF($D$6:$R$6,U$6,$D45:$R45) -> 0 | V45: =SUM(S45:U45) -> 0
B46: Week | C46: 1 | D46: =BD!D46+NP!D46+SL!D46 -> 0 | S46: =SUMIF($D$6:$R$6,S$6,$D46:$R46) -> 0 | T46: =SUMIF($D$6:$R$6,T$6,$D46:$R46) -> 0 | U46: =SUMIF($D$6:$R$6,U$6,$D46:$R46) -> 0 | V46: =SUM(S46:U46) -> 0
C47: 2 | D47: =IF($C47<=$C$32,D46,0) -> 0 | S47: =SUMIF($D$6:$R$6,S$6,$D47:$R47) -> 0 | T47: =SUMIF($D$6:$R$6,T$6,$D47:$R47) -> 0 | U47: =SUMIF($D$6:$R$6,U$6,$D47:$R47) -> 0 | V47: =SUM(S47:U47) -> 0
C48: 3 | D48: =IF($C48<=$C$32,D47,0) -> 0 | E48: =IF($C48<=$C$32,E47,0) -> 0 | S48: =SUMIF($D$6:$R$6,S$6,$D48:$R48) -> 0 | T48: =SUMIF($D$6:$R$6,T$6,$D48:$R48) -> 0 | U48: =SUMIF($D$6:$R$6,U$6,$D48:$R48) -> 0 | V48: =SUM(S48:U48) -> 0
C49: 4 | D49: =IF($C49<=$C$32,D48,0) -> 0 | E49: =IF($C49<=$C$32,E48,0) -> 0 | F49: =IF($C49<=$C$32,F48,0) -> 0 | S49: =SUMIF($D$6:$R$6,S$6,$D49:$R49) -> 0 | T49: =SUMIF($D$6:$R$6,T$6,$D49:$R49) -> 0 | U49: =SUMIF($D$6:$R$6,U$6,$D49:$R49) -> 0 | V49: =SUM(S49:U49) -> 0
C50: 5 | D50: =IF($C50<=$C$32,D49,0) -> 0 | E50: =IF($C50<=$C$32,E49,0) -> 0 | F50: =IF($C50<=$C$32,F49,0) -> 0 | H50: =IF($C50<=$C$32,H49,0) -> 0 | S50: =SUMIF($D$6:$R$6,S$6,$D50:$R50) -> 0 | T50: =SUMIF($D$6:$R$6,T$6,$D50:$R50) -> 0 | U50: =SUMIF($D$6:$R$6,U$6,$D50:$R50) -> 0 | V50: =SUM(S50:U50) -> 0
C51: 6 | D51: =IF($C51<=$C$32,D50,0) -> 0 | E51: =IF($C51<=$C$32,E50,0) -> 0 | F51: =IF($C51<=$C$32,F50,0) -> 0 | H51: =IF($C51<=$C$32,H50,0) -> 0 | I51: =IF($C51<=$C$32,I50,0) -> 0 | S51: =SUMIF($D$6:$R$6,S$6,$D51:$R51) -> 0 | T51: =SUMIF($D$6:$R$6,T$6,$D51:$R51) -> 0 | U51: =SUMIF($D$6:$R$6,U$6,$D51:$R51) -> 0 | V51: =SUM(S51:U51) -> 0
C52: 7 | D52: =IF($C52<=$C$32,D51,0) -> 0 | E52: =IF($C52<=$C$32,E51,0) -> 0 | F52: =IF($C52<=$C$32,F51,0) -> 0 | H52: =IF($C52<=$C$32,H51,0) -> 0 | I52: =IF($C52<=$C$32,I51,0) -> 0 | J52: =IF($C52<=$C$32,J51,0) -> 0 | S52: =SUMIF($D$6:$R$6,S$6,$D52:$R52) -> 0 | T52: =SUMIF($D$6:$R$6,T$6,$D52:$R52) -> 0 | U52: =SUMIF($D$6:$R$6,U$6,$D52:$R52) -> 0 | V52: =SUM(S52:U52) -> 0
C53: 8 | D53: =IF($C53<=$C$32,D52,0) -> 0 | E53: =IF($C53<=$C$32,E52,0) -> 0 | F53: =IF($C53<=$C$32,F52,0) -> 0 | H53: =IF($C53<=$C$32,H52,0) -> 0 | I53: =IF($C53<=$C$32,I52,0) -> 0 | J53: =IF($C53<=$C$32,J52,0) -> 0 | K53: =IF($C53<=$C$32,K52,0) -> 0 | S53: =SUMIF($D$6:$R$6,S$6,$D53:$R53) -> 0 | T53: =SUMIF($D$6:$R$6,T$6,$D53:$R53) -> 0 | U53: =SUMIF($D$6:$R$6,U$6,$D53:$R53) -> 0 | V53: =SUM(S53:U53) -> 0
C54: 9 | D54: =IF($C54<=$C$32,D53,0) -> 0 | E54: =IF($C54<=$C$32,E53,0) -> 0 | F54: =IF($C54<=$C$32,F53,0) -> 0 | H54: =IF($C54<=$C$32,H53,0) -> 0 | I54: =IF($C54<=$C$32,I53,0) -> 0 | J54: =IF($C54<=$C$32,J53,0) -> 0 | K54: =IF($C54<=$C$32,K53,0) -> 0 | L54: =IF($C54<=$C$32,L53,0) -> 0 | S54: =SUMIF($D$6:$R$6,S$6,$D54:$R54) -> 0 | T54: =SUMIF($D$6:$R$6,T$6,$D54:$R54) -> 0 | U54: =SUMIF($D$6:$R$6,U$6,$D54:$R54) -> 0 | V54: =SUM(S54:U54) -> 0
C55: 10 | D55: =IF($C55<=$C$32,D54,0) -> 0 | E55: =IF($C55<=$C$32,E54,0) -> 0 | F55: =IF($C55<=$C$32,F54,0) -> 0 | H55: =IF($C55<=$C$32,H54,0) -> 0 | I55: =IF($C55<=$C$32,I54,0) -> 0 | J55: =IF($C55<=$C$32,J54,0) -> 0 | K55: =IF($C55<=$C$32,K54,0) -> 0 | L55: =IF($C55<=$C$32,L54,0) -> 0 | M55: =IF($C55<=$C$32,M54,0) -> 0 | S55: =SUMIF($D$6:$R$6,S$6,$D55:$R55) -> 0 | T55: =SUMIF($D$6:$R$6,T$6,$D55:$R55) -> 0 | U55: =SUMIF($D$6:$R$6,U$6,$D55:$R55) -> 0 | V55: =SUM(S55:U55) -> 0
C56: 11 | D56: =IF($C56<=$C$32,D55,0) -> 0 | E56: =IF($C56<=$C$32,E55,0) -> 0 | F56: =IF($C56<=$C$32,F55,0) -> 0 | H56: =IF($C56<=$C$32,H55,0) -> 0 | I56: =IF($C56<=$C$32,I55,0) -> 0 | J56: =IF($C56<=$C$32,J55,0) -> 0 | K56: =IF($C56<=$C$32,K55,0) -> 0 | L56: =IF($C56<=$C$32,L55,0) -> 0 | M56: =IF($C56<=$C$32,M55,0) -> 0 | O56: =IF($C56<=$C$32,O55,0) -> 0 | S56: =SUMIF($D$6:$R$6,S$6,$D56:$R56) -> 0 | T56: =SUMIF($D$6:$R$6,T$6,$D56:$R56) -> 0 | U56: =SUMIF($D$6:$R$6,U$6,$D56:$R56) -> 0 | V56: =SUM(S56:U56) -> 0
C57: 12 | D57: =IF($C57<=$C$32,D56,0) -> 0 | E57: =IF($C57<=$C$32,E56,0) -> 0 | F57: =IF($C57<=$C$32,F56,0) -> 0 | H57: =IF($C57<=$C$32,H56,0) -> 0 | I57: =IF($C57<=$C$32,I56,0) -> 0 | J57: =IF($C57<=$C$32,J56,0) -> 0 | K57: =IF($C57<=$C$32,K56,0) -> 0 | L57: =IF($C57<=$C$32,L56,0) -> 0 | M57: =IF($C57<=$C$32,M56,0) -> 0 | O57: =IF($C57<=$C$32,O56,0) -> 0 | P57: =IF($C57<=$C$32,P56,0) -> 0 | S57: =SUMIF($D$6:$R$6,S$6,$D57:$R57) -> 0 | T57: =SUMIF($D$6:$R$6,T$6,$D57:$R57) -> 0 | U57: =SUMIF($D$6:$R$6,U$6,$D57:$R57) -> 0 | V57: =SUM(S57:U57) -> 0
C58: 13 | D58: =IF($C58<=$C$32,D57,0) -> 0 | E58: =IF($C58<=$C$32,E57,0) -> 0 | F58: =IF($C58<=$C$32,F57,0) -> 0 | H58: =IF($C58<=$C$32,H57,0) -> 0 | I58: =IF($C58<=$C$32,I57,0) -> 0 | J58: =IF($C58<=$C$32,J57,0) -> 0 | K58: =IF($C58<=$C$32,K57,0) -> 0 | L58: =IF($C58<=$C$32,L57,0) -> 0 | M58: =IF($C58<=$C$32,M57,0) -> 0 | O58: =IF($C58<=$C$32,O57,0) -> 0 | P58: =IF($C58<=$C$32,P57,0) -> 0 | Q58: =IF($C58<=$C$32,Q57,0) -> 0 | S58: =SUMIF($D$6:$R$6,S$6,$D58:$R58) -> 0 | T58: =SUMIF($D$6:$R$6,T$6,$D58:$R58) -> 0 | U58: =SUMIF($D$6:$R$6,U$6,$D58:$R58) -> 0 | V58: =SUM(S58:U58) -> 0
B59: Actual | C59: 0 | D59: =INDEX($D$46:$D$58,MATCH($D$1,$C$46:$C$58,0)) -> 0 | E59: =INDEX($D$46:$D$58,MATCH($D$1,$C$46:$C$58,0)) -> 0 | F59: =INDEX($D$46:$D$58,MATCH($D$1,$C$46:$C$58,0)) -> 0 | H59: =INDEX($D$46:$D$58,MATCH($D$1,$C$46:$C$58,0)) -> 0 | I59: =INDEX($D$46:$D$58,MATCH($D$1,$C$46:$C$58,0)) -> 0 | J59: =INDEX($D$46:$D$58,MATCH($D$1,$C$46:$C$58,0)) -> 0 | K59: =INDEX($D$46:$D$58,MATCH($D$1,$C$46:$C$58,0)) -> 0 | L59: =INDEX($D$46:$D$58,MATCH($D$1,$C$46:$C$58,0)) -> 0 | M59: =INDEX($D$46:$D$58,MATCH($D$1,$C$46:$C$58,0)) -> 0 | O59: =INDEX($D$46:$D$58,MATCH($D$1,$C$46:$C$58,0)) -> 0 | P59: =INDEX($D$46:$D$58,MATCH($D$1,$C$46:$C$58,0)) -> 0 | Q59: =INDEX($D$46:$D$58,MATCH($D$1,$C$46:$C$58,0)) -> 0 | R59: =INDEX($D$46:$D$58,MATCH($D$1,$C$46:$C$58,0)) -> 0 | S59: =INDEX($D$46:$D$58,MATCH($D$1,$C$46:$C$58,0)) -> 0 | T59: =INDEX($D$46:$D$58,MATCH($D$1,$C$46:$C$58,0)) -> 0 | U59: =INDEX($D$46:$D$58,MATCH($D$1,$C$46:$C$58,0)) -> 0 | V59: =INDEX($D$46:$D$58,MATCH($D$1,$C$46:$C$58,0)) -> 0
B60: Delta to Target | C60: 0 | D60: =IF(D$9<=$D$2,D59-D43,0) -> 0 | E60: =IF(E$9<=$D$2,E59-E43,0) -> 0 | F60: =IF(F$9<=$D$2,F59-F43,0) -> 0 | H60: =IF(H$9<=$D$2,H59-H43,0) -> 0 | I60: =IF(I$9<=$D$2,I59-I43,0) -> 0 | J60: =IF(J$9<=$D$2,J59-J43,0) -> 0 | K60: =IF(K$9<=$D$2,K59-K43,0) -> 0 | L60: =IF(L$9<=$D$2,L59-L43,0) -> 0 | M60: =IF(M$9<=$D$2,M59-M43,0) -> 0 | O60: =IF(O$9<=$D$2,O59-O43,0) -> 0 | P60: =IF(P$9<=$D$2,P59-P43,0) -> 0 | Q60: =IF(Q$9<=$D$2,Q59-Q43,0) -> 0 | R60: =IF(R$9<=$D$2,R59-R43,0) -> 0 | S60: =IF(S$9<=$D$2,S59-S43,0) -> 0 | T60: =IF(T$9<=$D$2,T59-T43,0) -> 0 | U60: =IF(U$9<=$D$2,U59-U43,0) -> 0 | V60: =IF(V$9<=$D$2,V59-V43,0) -> 0
B61: % to Target | C61: 0 | D61: =IF($D$2<D$9,0,IF(AND(D43=0,D59=0),1,IF(AND(D43=0,D59>0),2,IF(D59<0,0,(D59/D43))))) -> 1 | E61: =IF($D$2<E$9,0,IF(AND(E43=0,E59=0),1,IF(AND(E43=0,E59>0),2,IF(E59<0,0,(E59/E43))))) -> 1 | F61: =IF($D$2<F$9,0,IF(AND(F43=0,F59=0),1,IF(AND(F43=0,F59>0),2,IF(F59<0,0,(F59/F43))))) -> 1 | H61: =IF($D$2<H$9,0,IF(AND(H43=0,H59=0),1,IF(AND(H43=0,H59>0),2,IF(H59<0,0,(H59/H43))))) -> 1 | I61: =IF($D$2<I$9,0,IF(AND(I43=0,I59=0),1,IF(AND(I43=0,I59>0),2,IF(I59<0,0,(I59/I43))))) -> 1 | J61: =IF($D$2<J$9,0,IF(AND(J43=0,J59=0),1,IF(AND(J43=0,J59>0),2,IF(J59<0,0,(J59/J43))))) -> 1 | K61: =IF($D$2<K$9,0,IF(AND(K43=0,K59=0),1,IF(AND(K43=0,K59>0),2,IF(K59<0,0,(K59/K43))))) -> 1 | L61: =IF($D$2<L$9,0,IF(AND(L43=0,L59=0),1,IF(AND(L43=0,L59>0),2,IF(L59<0,0,(L59/L43))))) -> 1 | M61: =IF($D$2<M$9,0,IF(AND(M43=0,M59=0),1,IF(AND(M43=0,M59>0),2,IF(M59<0,0,(M59/M43))))) -> 1 | O61: =IF($D$2<O$9,0,IF(AND(O43=0,O59=0),1,IF(AND(O43=0,O59>0),2,IF(O59<0,0,(O59/O43))))) -> 1 | P61: =IF($D$2<P$9,0,IF(AND(P43=0,P59=0),1,IF(AND(P43=0,P59>0),2,IF(P59<0,0,(P59/P43))))) -> 0 | Q61: =IF($D$2<Q$9,0,IF(AND(Q43=0,Q59=0),1,IF(AND(Q43=0,Q59>0),2,IF(Q59<0,0,(Q59/Q43))))) -> 0 | R61: =IF($D$2<R$9,0,IF(AND(R43=0,R59=0),1,IF(AND(R43=0,R59>0),2,IF(R59<0,0,(R59/R43))))) -> 0 | S61: =IF($D$2<S$9,0,IF(AND(S43=0,S59=0),1,IF(AND(S43=0,S59>0),2,IF(S59<0,0,(S59/S43))))) -> 1 | T61: =IF($D$2<T$9,0,IF(AND(T43=0,T59=0),1,IF(AND(T43=0,T59>0),2,IF(T59<0,0,(T59/T43))))) -> 1 | U61: =IF($D$2<U$9,0,IF(AND(U43=0,U59=0),1,IF(AND(U43=0,U59>0),2,IF(U59<0,0,(U59/U43))))) -> 0 | V61: =IF($D$2<V$9,0,IF(AND(V43=0,V59=0),1,IF(AND(V43=0,V59>0),2,IF(V59<0,0,(V59/V43))))) -> 0
B62: ="Week "&$D$1&" View" -> Week 10 View | D62: =INDEX(D46:D58,MATCH($D$1,$C$13:$C$25,0)) -> 0 | E62: =INDEX(E46:E58,MATCH($D$1,$C$13:$C$25,0)) -> 0 | F62: =INDEX(F46:F58,MATCH($D$1,$C$13:$C$25,0)) -> 0 | H62: =INDEX(H46:H58,MATCH($D$1,$C$13:$C$25,0)) -> 0 | I62: =INDEX(I46:I58,MATCH($D$1,$C$13:$C$25,0)) -> 0 | J62: =INDEX(J46:J58,MATCH($D$1,$C$13:$C$25,0)) -> 0 | K62: =INDEX(K46:K58,MATCH($D$1,$C$13:$C$25,0)) -> 0 | L62: =INDEX(L46:L58,MATCH($D$1,$C$13:$C$25,0)) -> 0 | M62: =INDEX(M46:M58,MATCH($D$1,$C$13:$C$25,0)) -> 0 | O62: =INDEX(O46:O58,MATCH($D$1,$C$13:$C$25,0)) -> 0 | P62: =INDEX(P46:P58,MATCH($D$1,$C$13:$C$25,0)) -> 0 | Q62: =INDEX(Q46:Q58,MATCH($D$1,$C$13:$C$25,0)) -> 0 | R62: =INDEX(R46:R58,MATCH($D$1,$C$13:$C$25,0)) -> 0 | S62: =INDEX(S46:S58,MATCH($D$1,$C$13:$C$25,0)) -> 0 | T62: =INDEX(T46:T58,MATCH($D$1,$C$13:$C$25,0)) -> 0 | U62: =INDEX(U46:U58,MATCH($D$1,$C$13:$C$25,0)) -> 0 | V62: =INDEX(V46:V58,MATCH($D$1,$C$13:$C$25,0)) -> 0
B63: Linearity | D63: =IFERROR(D62/$S62,0) -> 0 | E63: =IFERROR(E62/$S62,0) -> 0 | F63: =IFERROR(F62/$S62,0) -> 0 | H63: =IFERROR(H62/$S62,0) -> 0 | I63: =IFERROR(I62/$S62,0) -> 0 | J63: =IFERROR(J62/$T62,0) -> 0 | K63: =IFERROR(K62/$T62,0) -> 0 | L63: =IFERROR(L62/$T62,0) -> 0 | M63: =IFERROR(M62/$T62,0) -> 0 | O63: =IFERROR(O62/$U62,0) -> 0 | P63: =IFERROR(P62/$U62,0) -> 0 | Q63: =IFERROR(Q62/$U62,0) -> 0 | R63: =IFERROR(R62/$U62,0) -> 0 | S63: =IFERROR(S62/$V62,0) -> 0 | T63: =IFERROR(T62/$V62,0) -> 0 | U63: =IFERROR(U62/$V62,0) -> 0
B64: Last 4Q ROL Linearity
B65: QTD Actual | C65: 0 | D65: =IF(D$9<=$D$2,D59,0) -> 0 | E65: =IF(E$9<=$D$2,E59+D65,0) -> 0 | F65: =IF(F$9<=$D$2,F59+E65,0) -> 0 | H65: =IF(H$9<=$D$2,H59+F65,0) -> 0 | I65: =IF(I$9<=$D$2,I59+H65,0) -> 0 | J65: =IF(J$9<=$D$2,J59+I65,0) -> 0 | K65: =IF(K$9<=$D$2,K59+J65,0) -> 0 | L65: =IF(L$9<=$D$2,L59+K65,0) -> 0 | M65: =IF(M$9<=$D$2,M59+L65,0) -> 0 | O65: =IF(O$9<=$D$2,O59+#REF!,0) -> #REF! | P65: =IF(P$9<=$D$2,P59+O65,0) -> 0 | Q65: =IF(Q$9<=$D$2,Q59+P65,0) -> 0 | R65: =IF(R$9<=$D$2,R59+Q65,0) -> 0 | S65: =IFERROR(INDEX(S$13:S$25,$D$1,0)/INDEX($V$13:$V$25,$D$1,0),0) -> 0.34335868 | T65: =IFERROR(INDEX(T$13:T$25,$D$1,0)/INDEX($V$13:$V$25,$D$1,0),0) -> 0.83648256 | U65: =IFERROR(INDEX(U$13:U$25,$D$1,0)/INDEX($V$13:$V$25,$D$1,0),0) -> -0.17984123 | V65: Current
B66: QTD Delta to Tgt | C66: 0 | D66: =IF(D60=0,0,IF(D$9<=$D$2,D65-D44,D65-D44)) -> 0 | E66: =IF(E60=0,0,IF(E$9<=$D$2,E65-E44,E65-E44)) -> 0 | F66: =IF(F60=0,0,IF(F$9<=$D$2,F65-F44,F65-F44)) -> 0 | H66: =IF(H60=0,0,IF(H$9<=$D$2,H65-H44,H65-H44)) -> 0 | I66: =IF(I60=0,0,IF(I$9<=$D$2,I65-I44,I65-I44)) -> 0 | J66: =IF(J60=0,0,IF(J$9<=$D$2,J65-J44,J65-J44)) -> 0 | K66: =IF(K60=0,0,IF(K$9<=$D$2,K65-K44,K65-K44)) -> 0 | L66: =IF(L60=0,0,IF(L$9<=$D$2,L65-L44,L65-L44)) -> 0 | M66: =IF(M60=0,0,IF(M$9<=$D$2,M65-M44,M65-M44)) -> 0 | O66: =IF(O60=0,0,IF(O$9<=$D$2,O65-O44,O65-O44)) -> 0 | P66: =IF(P60=0,0,IF(P$9<=$D$2,P65-P44,P65-P44)) -> 0 | Q66: =IF(Q60=0,0,IF(Q$9<=$D$2,Q65-Q44,Q65-Q44)) -> 0 | R66: =IF(R60=0,0,IF(R$9<=$D$2,R65-R44,R65-R44)) -> 0 | V66: Last 4Q
B67: % to Target | C67: 0 | D67: =IF($D$2<D$9,0,IF(AND(D44=0,D65=0),1,IF(AND(D44=0,D65>0),2,IF(D65<0,0,(D65/D44))))) -> 1 | E67: =IF($D$2<E$9,0,IF(AND(E44=0,E65=0),1,IF(AND(E44=0,E65>0),2,IF(E65<0,0,(E65/E44))))) -> 1 | F67: =IF($D$2<F$9,0,IF(AND(F44=0,F65=0),1,IF(AND(F44=0,F65>0),2,IF(F65<0,0,(F65/F44))))) -> 1 | H67: =IF($D$2<H$9,0,IF(AND(H44=0,H65=0),1,IF(AND(H44=0,H65>0),2,IF(H65<0,0,(H65/H44))))) -> 1 | I67: =IF($D$2<I$9,0,IF(AND(I44=0,I65=0),1,IF(AND(I44=0,I65>0),2,IF(I65<0,0,(I65/I44))))) -> 1 | J67: =IF($D$2<J$9,0,IF(AND(J44=0,J65=0),1,IF(AND(J44=0,J65>0),2,IF(J65<0,0,(J65/J44))))) -> 1 | K67: =IF($D$2<K$9,0,IF(AND(K44=0,K65=0),1,IF(AND(K44=0,K65>0),2,IF(K65<0,0,(K65/K44))))) -> 1 | L67: =IF($D$2<L$9,0,IF(AND(L44=0,L65=0),1,IF(AND(L44=0,L65>0),2,IF(L65<0,0,(L65/L44))))) -> 1 | M67: =IF($D$2<M$9,0,IF(AND(M44=0,M65=0),1,IF(AND(M44=0,M65>0),2,IF(M65<0,0,(M65/M44))))) -> 1 | O67: =IF($D$2<O$9,0,IF(AND(O44=0,O65=0),1,IF(AND(O44=0,O65>0),2,IF(O65<0,0,(O65/O44))))) -> #REF! | P67: =IF($D$2<P$9,0,IF(AND(P44=0,P65=0),1,IF(AND(P44=0,P65>0),2,IF(P65<0,0,(P65/P44))))) -> 0 | Q67: =IF($D$2<Q$9,0,IF(AND(Q44=0,Q65=0),1,IF(AND(Q44=0,Q65>0),2,IF(Q65<0,0,(Q65/Q44))))) -> 0 | R67: =IF($D$2<R$9,0,IF(AND(R44=0,R65=0),1,IF(AND(R44=0,R65>0),2,IF(R65<0,0,(R65/R44))))) -> 0 | V67: Last 3Y
B68: =B35 -> Fy Q3 2425
B69: =B36 -> Fy Q4 2324
B71: Consumer SI Overseas WF NB Q3FY2425
C72: Month | D72: =D$6 -> 1 | E72: =E$6 -> 1 | F72: =F$6 -> 1 | G72: =G$6 -> 1 | H72: =H$6 -> 1 | I72: =I$6 -> 2 | J72: =J$6 -> 2 | K72: =K$6 -> 2 | L72: =L$6 -> 2 | M72: 2 | N72: 3 | O72: 3 | P72: =P$6 -> 3 | Q72: =Q$6 -> 3 | R72: =R$6 -> 3 | S72: 1 | T72: 2 | U72: 3 | V72: QTR
C73: Week | D73: =D$7 -> 1 | E73: =E$7 -> 2 | F73: =F$7 -> 3 | G73: =G$7 -> 4 | H73: =H$7 -> 5 | I73: =I$7 -> 5 | J73: =J$7 -> 6 | K73: =K$7 -> 7 | ... N73: =N$7 -> 9b | O73: 10 | P73: =P$7 -> 11 | Q73: =Q$7 -> 12 | R73: =R$7 -> 13
C74: Begin | D74: =D$8 -> 45931 | E74: =E$8 -> 45936 | F74: =F$8 -> 45943 | G74: =G$8 -> 45950 | H74: =H$8 -> 45957 | I74: =I$8 -> 45962 | J74: =J$8 -> 45964 | K74: =K$8 -> 45971 | ... R74: =R$8 -> 46013 | S74: =D74 -> 45931 | T74: =J74 -> 45964 | U74: =O74 -> 45992 | V74: =D74 -> 45931
C75: End | D75: =D$9 -> 45935 | E75: =E$9 -> 45942 | F75: =F$9 -> 45949 | G75: =G$9 -> 45956 | H75: =H$9 -> 45961 | I75: =I$9 -> 45963 | J75: =J$9 -> 45970 | K75: =K$9 -> 45977 | ... R75: =R$9 -> 46022 | S75: =I75 -> 45963 | T75: =M75 -> 45991 | U75: =R75 -> 46022 | V75: =U75 -> 46022
B76: Target | C76: Week | D76: 0.11185612 | E76: 0.072544779 | F76: 1.5597893 | G76: 2.441936 | H76: 0.8138738 | I76: 0 | J76: 0.3465311 | K76: 1.2099118 | L76: 2.1919456 | M76: 3.2516115 | N76: 0 | O76: 0.67009973 | P76: 0.70438762 | Q76: 1.1943416 | R76: 5.431171 | S76: =SUMIF($D$6:$R$6,S$6,$D76:$R76) -> 5 | T76: =SUMIF($D$6:$R$6,T$6,$D76:$R76) -> 7 | U76: =SUMIF($D$6:$R$6,U$6,$D76:$R76) -> 8 | V76: =SUM(S76:U76) -> 20
C77: QTD | D77: =D76 -> 0.11185612 | E77: =D77+E76 -> 0.1844009 | F77: =E77+F76 -> 1.7441902 | G77: =F77+G76 -> 4.1861262 | H77: =G77+H76 -> 5 | I77: =H77+I76 -> 5 | J77: =I77+J76 -> 5.3465311 | K77: =J77+K76 -> 6.5564429 | L77: =K77+L76 -> 8.7483885 | ... N77: =M77+N76 -> 12 | O77: =M77+O76 -> 12.6701 | P77: =O77+P76 -> 13.374487 | Q77: =P77+Q76 -> 14.568829 | R77: =Q77+R76 -> 20 | S77: =IFERROR(S76/$V76,0) -> 0.25 | T77: =IFERROR(T76/$V76,0) -> 0.35 | U77: =IFERROR(U76/$V76,0) -> 0.4
C78: 0 | D78: 0.11185612 | E78: 0.072544779 | F78: 1.5597893 | G78: 2.441936 | H78: 0.8138738 | I78: 0 | J78: 0.3465311 | K78: 1.2099118 | L78: 2.1919456 | M78: 3.2516115 | N78: 0 | O78: 0.67009973 | P78: 0.70438762 | Q78: 1.1943416 | R78: 5.431171 | S78: =SUMIF($D$6:$R$6,S$6,$D78:$R78) -> 5 | T78: =SUMIF($D$6:$R$6,T$6,$D78:$R78) -> 7 | U78: =SUMIF($D$6:$R$6,U$6,$D78:$R78) -> 8 | V78: =SUM(S78:U78) -> 20
B79: Week | C79: 1 | D79: 0 | E79: 0.1844009 | F79: 1.5597893 | G79: 2.441936 | H79: 0.8138738 | I79: 0 | J79: 0.3465311 | K79: 1.2099118 | L79: 2.1919456 | M79: 3.2516115 | N79: 0 | O79: 0.67009973 | P79: 0.70438762 | Q79: 1.1943416 | R79: 5.431171 | S79: =SUMIF($D$6:$R$6,S$6,$D79:$R79) -> 5 | T79: =SUMIF($D$6:$R$6,T$6,$D79:$R79) -> 7 | U79: =SUMIF($D$6:$R$6,U$6,$D79:$R79) -> 8 | V79: =SUM(S79:U79) -> 20
C80: 2 | D80: =IF($C80<=$D$1,D79,0) -> 0 | E80: 0.479 | F80: 1.5597893 | G80: 2.441936 | H80: 0.5192747 | I80: 0 | J80: 0.3465311 | K80: 1.2099118 | L80: 2.1919456 | M80: 3.2516115 | N80: 0 | O80: 0.67009973 | P80: 0.70438762 | Q80: 1.1943416 | R80: 5.431171 | S80: =SUMIF($D$6:$R$6,S$6,$D80:$R80) -> 5 | T80: =SUMIF($D$6:$R$6,T$6,$D80:$R80) -> 7 | U80: =SUMIF($D$6:$R$6,U$6,$D80:$R80) -> 8 | V80: =SUM(S80:U80) -> 20
C81: 3 | D81: =IF($C81<=$D$1,D80,0) -> 0 | E81: =IF($C81<=$D$1,E80,0) -> 0.479 | F81: 0.97 | G81: 2.3 | H81: 2.5 | I81: 0.65 | J81: 2 | K81: 2.7 | L81: 2.5 | M81: 2.5 | N81: 0 | O81: 1 | P81: 1.5 | Q81: 0.9 | R81: 0 | S81: =SUMIF($D$6:$R$6,S$6,$D81:$R81) -> 6.249 | T81: =SUMIF($D$6:$R$6,T$6,$D81:$R81) -> 10.35 | U81: =SUMIF($D$6:$R$6,U$6,$D81:$R81) -> 3.4 | V81: =SUM(S81:U81) -> 19.999
C82: 4 | D82: =IF($C82<=$D$1,D81,0) -> 0 | E82: =IF($C82<=$D$1,E81,0) -> 0.479 | F82: =IF($C82<=$D$1,F81,0) -> 0.97 | G82: 2.355 | H82: 1.79 | I82: 0.65 | J82: 1.5 | K82: 1.5 | L82: 2.5 | M82: 2.5 | O82: 2.3 | P82: 1.5 | Q82: 1 | R82: 1 | S82: =SUMIF($D$6:$R$6,S$6,$D82:$R82) -> 5.594 | T82: =SUMIF($D$6:$R$6,T$6,$D82:$R82) -> 8.65 | U82: =SUMIF($D$6:$R$6,U$6,$D82:$R82) -> 5.8 | V82: =SUM(S82:U82) -> 20.044
C83: 5 | D83: =IF($C83<=$D$1,D82,0) -> 0 | E83: =IF($C83<=$D$1,E82,0) -> 0.479 | F83: =IF($C83<=$D$1,F82,0) -> 0.97 | G83: =IF($C83<=$D$1,G82,0) -> 2.355 | H83: 2.338 | I83: 0.12 | J83: 1.5 | K83: 1.5 | L83: 2.5 | M83: 2.482 | O83: 2.3 | P83: 1.5 | Q83: 1 | R83: 1 | S83: =SUMIF($D$6:$R$6,S$6,$D83:$R83) -> 6.142 | T83: =SUMIF($D$6:$R$6,T$6,$D83:$R83) -> 8.102 | U83: =SUMIF($D$6:$R$6,U$6,$D83:$R83) -> 5.8 | V83: =SUM(S83:U83) -> 20.044
C84: 6 | D84: =IF($C84<=$D$1,D83,0) -> 0 | E84: =IF($C84<=$D$1,E83,0) -> 0.479 | F84: =IF($C84<=$D$1,F83,0) -> 0.97 | G84: =IF($C84<=$D$1,G83,0) -> 2.355 | H84: =IF($C84<=$D$1,H83,0) -> 2.338 | I84: =IF($C84<=$D$1,I83,0) -> 0.12 | J84: 2.75 | K84: 2.2 | L84: 1.5 | M84: 1.532 | O84: 2.3 | P84: 1.5 | Q84: 1 | R84: 1 | S84: =SUMIF($D$6:$R$6,S$6,$D84:$R84) -> 6.142 | T84: =SUMIF($D$6:$R$6,T$6,$D84:$R84) -> 8.102 | U84: =SUMIF($D$6:$R$6,U$6,$D84:$R84) -> 5.8 | V84: =SUM(S84:U84) -> 20.044
C85: 7 | D85: =IF($C85<=$D$1,D84,0) -> 0 | E85: =IF($C85<=$D$1,E84,0) -> 0.479 | F85: =IF($C85<=$D$1,F84,0) -> 0.97 | G85: =IF($C85<=$D$1,G84,0) -> 2.355 | H85: =IF($C85<=$D$1,H84,0) -> 2.338 | I85: =IF($C85<=$D$1,I84,0) -> 0.12 | J85: =IF($C85<=$D$1,J84,0) -> 2.75 | K85: 2.502 | L85: 2.5428571 | M85: 2.0851429 | O85: 5.4954138 | P85: 3.5839655 | Q85: 2.3893103 | R85: 2.3893103 | S85: =SUMIF($D$6:$R$6,S$6,$D85:$R85) -> 6.142 | T85: =SUMIF($D$6:$R$6,T$6,$D85:$R85) -> 10 | U85: =SUMIF($D$6:$R$6,U$6,$D85:$R85) -> 13.858 | V85: =SUM(S85:U85) -> 30 | W85: =30-V85 -> 0 | X85: =10-T85 -> 0
C86: 8 | D86: =IF($C86<=$D$1,D85,0) -> 0 | E86: =IF($C86<=$D$1,E85,0) -> 0.479 | F86: =IF($C86<=$D$1,F85,0) -> 0.97 | G86: =IF($C86<=$D$1,G85,0) -> 2.355 | H86: =IF($C86<=$D$1,H85,0) -> 2.338 | I86: =IF($C86<=$D$1,I85,0) -> 0.12 | J86: =IF($C86<=$D$1,J85,0) -> 2.75 | K86: =IF($C86<=$D$1,K85,0) -> 2.502 | L86: 4.168 | M86: 3.5 | O86: 2.3 | P86: 3 | Q86: 3.5 | R86: 2.018 | S86: =SUMIF($D$6:$R$6,S$6,$D86:$R86) -> 6.142 | T86: =SUMIF($D$6:$R$6,T$6,$D86:$R86) -> 13.04 | U86: =SUMIF($D$6:$R$6,U$6,$D86:$R86) -> 10.818 | V86: =SUM(S86:U86) -> 30
C87: 9 | D87: =IF($C87<=$D$1,D86,0) -> 0 | E87: =IF($C87<=$D$1,E86,0) -> 0.479 | F87: =IF($C87<=$D$1,F86,0) -> 0.97 | G87: =IF($C87<=$D$1,G86,0) -> 2.355 | H87: =IF($C87<=$D$1,H86,0) -> 2.338 | I87: =IF($C87<=$D$1,I86,0) -> 0.12 | J87: =IF($C87<=$D$1,J86,0) -> 2.75 | K87: =IF($C87<=$D$1,K86,0) -> 2.502 | L87: =IF($C87<=$D$1,L86,0) -> 4.168 | M87: 5.423 | O87: 5 | P87: 1.5 | Q87: 1.5 | R87: 0.895 | S87: =SUMIF($D$6:$R$6,S$6,$D87:$R87) -> 6.142 | T87: =SUMIF($D$6:$R$6,T$6,$D87:$R87) -> 14.963 | U87: =SUMIF($D$6:$R$6,U$6,$D87:$R87) -> 8.895 | V87: =SUM(S87:U87) -> 30
C88: 10 | D88: =IF($C88<=$D$1,D87,0) -> 0 | E88: =IF($C88<=$D$1,E87,0) -> 0.479 | F88: =IF($C88<=$D$1,F87,0) -> 0.97 | G88: =IF($C88<=$D$1,G87,0) -> 2.355 | H88: =IF($C88<=$D$1,H87,0) -> 2.338 | I88: =IF($C88<=$D$1,I87,0) -> 0.12 | J88: =IF($C88<=$D$1,J87,0) -> 2.75 | K88: =IF($C88<=$D$1,K87,0) -> 2.502 | ... N88: =IF($C88<=$D$1,N87,0) -> 0 | O88: -3.217 | S88: =SUMIF($D$6:$R$6,S$6,$D88:$R88) -> 6.142 | T88: =SUMIF($D$6:$R$6,T$6,$D88:$R88) -> 14.963 | U88: =SUMIF($D$6:$R$6,U$6,$D88:$R88) -> -3.217 | V88: =SUM(S88:U88) -> 17.888
C89: 11 | D89: =IF($C89<=$D$1,D88,0) -> 0 | E89: =IF($C89<=$D$1,E88,0) -> 0 | F89: =IF($C89<=$D$1,F88,0) -> 0 | G89: =IF($C89<=$D$1,G88,0) -> 0 | H89: =IF($C89<=$D$1,H88,0) -> 0 | I89: =IF($C89<=$D$1,I88,0) -> 0 | J89: =IF($C89<=$D$1,J88,0) -> 0 | K89: =IF($C89<=$D$1,K88,0) -> 0 | ... O89: =IF($C89<=$D$1,O88,0) -> 0 | S89: =SUMIF($D$6:$R$6,S$6,$D89:$R89) -> 0 | T89: =SUMIF($D$6:$R$6,T$6,$D89:$R89) -> 0 | U89: =SUMIF($D$6:$R$6,U$6,$D89:$R89) -> 0 | V89: =SUM(S89:U89) -> 0
C90: 12 | D90: =IF($C90<=$D$1,D89,0) -> 0 | E90: =IF($C90<=$D$1,E89,0) -> 0 | F90: =IF($C90<=$D$1,F89,0) -> 0 | G90: =IF($C90<=$D$1,G89,0) -> 0 | H90: =IF($C90<=$D$1,H89,0) -> 0 | I90: =IF($C90<=$D$1,I89,0) -> 0 | J90: =IF($C90<=$D$1,J89,0) -> 0 | K90: =IF($C90<=$D$1,K89,0) -> 0 | ... P90: =IF($C90<=$D$1,P89,0) -> 0 | S90: =SUMIF($D$6:$R$6,S$6,$D90:$R90) -> 0 | T90: =SUMIF($D$6:$R$6,T$6,$D90:$R90) -> 0 | U90: =SUMIF($D$6:$R$6,U$6,$D90:$R90) -> 0 | V90: =SUM(S90:U90) -> 0
C91: 13 | D91: =IF($C91<=$D$1,D90,0) -> 0 | E91: =IF($C91<=$D$1,E90,0) -> 0 | F91: =IF($C91<=$D$1,F90,0) -> 0 | G91: =IF($C91<=$D$1,G90,0) -> 0 | H91: =IF($C91<=$D$1,H90,0) -> 0 | I91: =IF($C91<=$D$1,I90,0) -> 0 | J91: =IF($C91<=$D$1,J90,0) -> 0 | K91: =IF($C91<=$D$1,K90,0) -> 0 | ... Q91: =IF($C91<=$D$1,Q90,0) -> 0 | S91: =SUMIF($D$6:$R$6,S$6,$D91:$R91) -> 0 | T91: =SUMIF($D$6:$R$6,T$6,$D91:$R91) -> 0 | U91: =SUMIF($D$6:$R$6,U$6,$D91:$R91) -> 0 | V91: =SUM(S91:U91) -> 0
B92: Actual | C92: 0 | D92: =INDEX(D79:D91,MATCH($D$1,$C$79:$C$91,0)) -> 0 | E92: =INDEX(E79:E91,MATCH($D$1,$C$79:$C$91,0)) -> 0.479 | F92: =INDEX(F79:F91,MATCH($D$1,$C$79:$C$91,0)) -> 0.97 | G92: =INDEX(G79:G91,MATCH($D$1,$C$79:$C$91,0)) -> 2.355 | H92: 0 | I92: 0 | J92: 0 | K92: 0 | L92: 0 | M92: 0 | N92: 0 | O92: 0 | P92: 0 | Q92: 0 | R92: 0 | S92: =INDEX($D$46:$D$58,MATCH($D$1,$C$46:$C$58,0)) -> 0 | T92: =INDEX($D$46:$D$58,MATCH($D$1,$C$46:$C$58,0)) -> 0 | U92: =INDEX($D$46:$D$58,MATCH($D$1,$C$46:$C$58,0)) -> 0 | V92: =INDEX($D$46:$D$58,MATCH($D$1,$C$46:$C$58,0)) -> 0
B93: Delta to Target | C93: 0 | D93: =IF(D$9<=$D$2,D92-D76,0) -> -0.11185612 | E93: =IF(E$9<=$D$2,E92-E76,0) -> 0.40645522 | F93: =IF(F$9<=$D$2,F92-F76,0) -> -0.58978928 | G93: =IF(G$9<=$D$2,G92-G76,0) -> -0.086936027 | H93: =IF(H$9<=$D$2,H92-H76,0) -> -0.8138738 | I93: =IF(I$9<=$D$2,I92-I76,0) -> 0 | J93: =IF(J$9<=$D$2,J92-J76,0) -> -0.3465311 | K93: =IF(K$9<=$D$2,K92-K76,0) -> -1.2099118 | ... V93: =IF(V$9<=$D$2,V92-V76,0) -> 0
B94: % to Target | C94: 0 | D94: =IF($D$2<D$9,0,IF(AND(D76=0,D92=0),1,IF(AND(D76=0,D92>0),2,IF(D92<0,0,(D92/D76))))) -> 0 | E94: =IF($D$2<E$9,0,IF(AND(E76=0,E92=0),1,IF(AND(E76=0,E92>0),2,IF(E92<0,0,(E92/E76))))) -> 6.6028184 | F94: =IF($D$2<F$9,0,IF(AND(F76=0,F92=0),1,IF(AND(F76=0,F92>0),2,IF(F92<0,0,(F92/F76))))) -> 0.62187888 | G94: =IF($D$2<G$9,0,IF(AND(G76=0,G92=0),1,IF(AND(G76=0,G92>0),2,IF(G92<0,0,(G92/G76))))) -> 0.96439873 | H94: =IF($D$2<H$9,0,IF(AND(H76=0,H92=0),1,IF(AND(H76=0,H92>0),2,IF(H92<0,0,(H92/H76))))) -> 0 | I94: =IF($D$2<I$9,0,IF(AND(I76=0,I92=0),1,IF(AND(I76=0,I92>0),2,IF(I92<0,0,(I92/I76))))) -> 1 | J94: =IF($D$2<J$9,0,IF(AND(J76=0,J92=0),1,IF(AND(J76=0,J92>0),2,IF(J92<0,0,(J92/J76))))) -> 0 | K94: =IF($D$2<K$9,0,IF(AND(K76=0,K92=0),1,IF(AND(K76=0,K92>0),2,IF(K92<0,0,(K92/K76))))) -> 0 | ... V94: =IF($D$2<V$9,0,IF(AND(V76=0,V92=0),1,IF(AND(V76=0,V92>0),2,IF(V92<0,0,(V92/V76))))) -> 0
B95: ="Week "&$D$1&" View" -> Week 10 View | D95: =INDEX(D79:D91,MATCH($D$1,$C$13:$C$25,0)) -> 0 | E95: =INDEX(E79:E91,MATCH($D$1,$C$13:$C$25,0)) -> 0.479 | F95: =INDEX(F79:F91,MATCH($D$1,$C$13:$C$25,0)) -> 0.97 | G95: =INDEX(G79:G91,MATCH($D$1,$C$13:$C$25,0)) -> 2.355 | H95: =INDEX(H79:H91,MATCH($D$1,$C$13:$C$25,0)) -> 2.338 | I95: =INDEX(I79:I91,MATCH($D$1,$C$13:$C$25,0)) -> 0.12 | J95: =INDEX(J79:J91,MATCH($D$1,$C$13:$C$25,0)) -> 2.75 | K95: =INDEX(K79:K91,MATCH($D$1,$C$13:$C$25,0)) -> 2.502 | ... V95: =INDEX(V79:V91,MATCH($D$1,$C$13:$C$25,0)) -> 17.888
B96: Linearity | D96: =IFERROR(D95/$S95,0) -> 0 | E96: =IFERROR(E95/$S95,0) -> 0.077987626 | F96: =IFERROR(F95/$S95,0) -> 0.15792901 | G96: =IFERROR(G95/$S95,0) -> 0.38342559 | H96: =IFERROR(H95/$S95,0) -> 0.38065777 | I96: =IFERROR(I95/$S95,0) -> 0.01953761 | J96: =IFERROR(J95/$S95,0) -> 0.44773689 | K96: =IFERROR(K95/$S95,0) -> 0.40735917 | ... O96: =IFERROR(O95/$S95,0) -> -0.52377076 | P96: =IFERROR(P95/$U95,0) -> 0 | Q96: =IFERROR(Q95/$U95,0) -> 0 | R96: =IFERROR(R95/$U95,0) -> 0 | S96: =IFERROR(S95/$V95,0) -> 0.34335868 | T96: =IFERROR(T95/$V95,0) -> 0.83648256 | U96: =IFERROR(U95/$V95,0) -> -0.17984123
B97: Last 4Q ROL Linearity
B98: QTD Actual | C98: 0 | D98: =IF(D$9<=$D$2,D92,0) -> 0 | E98: =IF(E$9<=$D$2,E92+D98,0) -> 0.479 | F98: =IF(F$9<=$D$2,F92+E98,0) -> 1.449 | G98: =IF(G$9<=$D$2,G92+F98,0) -> 3.804 | H98: =IF(H$9<=$D$2,H92+G98,0) -> 3.804 | I98: =IF(I$9<=$D$2,I92+H98,0) -> 3.804 | J98: =IF(J$9<=$D$2,J92+I98,0) -> 3.804 | K98: =IF(K$9<=$D$2,K92+J98,0) -> 3.804 | L98: =IF(L$9<=$D$2,L92+K98,0) -> 3.804 | ... R98: =IF(R$9<=$D$2,R92+Q98,0) -> 0 | S98: =IFERROR(INDEX(S$13:S$25,$D$1,0)/INDEX($V$13:$V$25,$D$1,0),0) -> 0.34335868 | T98: =IFERROR(INDEX(T$13:T$25,$D$1,0)/INDEX($V$13:$V$25,$D$1,0),0) -> 0.83648256 | U98: =IFERROR(INDEX(U$13:U$25,$D$1,0)/INDEX($V$13:$V$25,$D$1,0),0) -> -0.17984123 | V98: Current
B99: QTD Delta to Tgt | C99: 0 | D99: =IF(D$93=0,0,IF(D$9<=$D$2,D98-D77,D98-D77)) -> -0.11185612 | E99: =IF(E$93=0,0,IF(E$9<=$D$2,E98-E77,E98-E77)) -> 0.2945991 | F99: =IF(F$93=0,0,IF(F$9<=$D$2,F98-F77,F98-F77)) -> -0.29519018 | G99: =IF(G$93=0,0,IF(G$9<=$D$2,G98-G77,G98-G77)) -> -0.3821262 | H99: =IF(H$93=0,0,IF(H$9<=$D$2,H98-H77,H98-H77)) -> -1.196 | I99: =IF(I$93=0,0,IF(I$9<=$D$2,I98-I77,I98-I77)) -> 0 | J99: =IF(J$93=0,0,IF(J$9<=$D$2,J98-J77,J98-J77)) -> -1.5425311 | K99: =IF(K$93=0,0,IF(K$9<=$D$2,K98-K77,K98-K77)) -> -2.7524429 | ... R99: =IF(R$93=0,0,IF(R$9<=$D$2,R98-R77,R98-R77)) -> 0 | V99: Last 4Q
B100: % to Target | C100: 0 | D100: =IF($D$2<D$9,0,IF(AND(D77=0,D98=0),1,IF(AND(D77=0,D98>0),2,IF(D98<0,0,(D98/D77))))) -> 0 | E100: =IF($D$2<E$9,0,IF(AND(E77=0,E98=0),1,IF(AND(E77=0,E98>0),2,IF(E98<0,0,(E98/E77))))) -> 2.5976012 | F100: =IF($D$2<F$9,0,IF(AND(F77=0,F98=0),1,IF(AND(F77=0,F98>0),2,IF(F98<0,0,(F98/F77))))) -> 0.83075803 | G100: =IF($D$2<G$9,0,IF(AND(G77=0,G98=0),1,IF(AND(G77=0,G98>0),2,IF(G98<0,0,(G98/G77))))) -> 0.90871603 | H100: =IF($D$2<H$9,0,IF(AND(H77=0,H98=0),1,IF(AND(H77=0,H98>0),2,IF(H98<0,0,(H98/H77))))) -> 0.7608 | I100: =IF($D$2<I$9,0,IF(AND(I77=0,I98=0),1,IF(AND(I77=0,I98>0),2,IF(I98<0,0,(I98/I77))))) -> 0.7608 | J100: =IF($D$2<J$9,0,IF(AND(J77=0,J98=0),1,IF(AND(J77=0,J98>0),2,IF(J98<0,0,(J98/J77))))) -> 0.71148936 | K100: =IF($D$2<K$9,0,IF(AND(K77=0,K98=0),1,IF(AND(K77=0,K98>0),2,IF(K98<0,0,(K98/K77))))) -> 0.58019265 | ... R100: =IF($D$2<R$9,0,IF(AND(R77=0,R98=0),1,IF(AND(R77=0,R98>0),2,IF(R98<0,0,(R98/R77))))) -> 0 | V100: Last 3Y
B101: Fy Q3 2425 | D101: 0.307 | E101: 0.075 | F101: 1.58 | G101: 2.134 | H101: 0.048 | I101: 0.025 | J101: 1.764 | K101: 0.22 | L101: 0.41 | M101: 0 | N101: 0 | O101: 1.909 | P101: 1.365 | Q101: 3.751 | R101: 1.165 | S101: =SUM(D101:H101) -> 4.144 | T101: =SUM(I101:M101) -> 2.419 | U101: =SUM(N101:R101) -> 8.19 | V101: =SUM(S101:U101) -> 14.753
B102: Fy Q4 2324 | D102: 1.137 | E102: 1.228 | F102: 0.899 | G102: 0.213 | H102: 1.2 | I102: 0.01 | J102: 0.02 | K102: 1.235 | L102: 7.563 | M102: 2.539 | N102: 0 | O102: 0.123 | P102: 1.52 | Q102: 4.671 | R102: 1.577 | S102: =SUM(D102:H102) -> 4.677 | T102: =SUM(I102:M102) -> 11.367 | U102: =SUM(N102:R102) -> 7.891 | V102: =SUM(S102:U102) -> 23.935

Sheet BD
C1: Week# | D1: ='SI -Overall'!D1 -> 10 | R1: 0.21 | S1: 0.32 | T1: 0.47
C2: Weekending dt: | D2: ='SI -Overall'!D2 -> 45998
B5: Consumer SI BD WF Q1FY2223
B6: Month | D6: 1 | E6: 1 | F6: 1 | G6: 1 | H6: 2 | I6: 2 | J6: 2 | K6: 2 | L6: 2 | M6: 3 | N6: 3 | O6: 3 | P6: 3 | Q6: 3 | R6: 1 | S6: 2 | T6: 3 | U6: QTR
B7: Week | D7: ='SI -Overall'!D7 -> 1 | E7: ='SI -Overall'!E7 -> 2 | F7: ='SI -Overall'!F7 -> 3 | G7: ='SI -Overall'!H7 -> 5 | H7: ='SI -Overall'!I7 -> 5 | I7: ='SI -Overall'!J7 -> 6 | J7: ='SI -Overall'!K7 -> 7 | K7: ='SI -Overall'!L7 -> 8 | L7: ='SI -Overall'!M7 -> 9 | M7: ='SI -Overall'!N7 -> 9b | N7: ='SI -Overall'!O7 -> 10 | ... Q7: ='SI -Overall'!R7 -> 13
B8: Begin | D8: ='SI -Overall'!D8 -> 45931 | E8: ='SI -Overall'!E8 -> 45936 | F8: ='SI -Overall'!F8 -> 45943 | G8: ='SI -Overall'!H8 -> 45957 | H8: ='SI -Overall'!I8 -> 45962 | I8: ='SI -Overall'!J8 -> 45964 | J8: ='SI -Overall'!K8 -> 45971 | K8: ='SI -Overall'!L8 -> 45978 | L8: ='SI -Overall'!M8 -> 45985 | M8: ='SI -Overall'!N8 -> 45985 | N8: ='SI -Overall'!O8 -> 45992 | ... Q8: ='SI -Overall'!R8 -> 46013 | R8: =D8 -> 45931 | S8: =D8 -> 45931 | T8: =I8 -> 45964 | U8: =N8 -> 45992
B9: End | D9: ='SI -Overall'!D9 -> 45935 | E9: ='SI -Overall'!E9 -> 45942 | F9: ='SI -Overall'!F9 -> 45949 | G9: ='SI -Overall'!H9 -> 45961 | H9: ='SI -Overall'!I9 -> 45963 | I9: ='SI -Overall'!J9 -> 45970 | J9: ='SI -Overall'!K9 -> 45977 | K9: ='SI -Overall'!L9 -> 45984 | L9: ='SI -Overall'!M9 -> 45991 | M9: ='SI -Overall'!N9 -> 45991 | N9: ='SI -Overall'!O9 -> 45998 | ... Q9: ='SI -Overall'!R9 -> 46022 | R9: =H9 -> 45963 | S9: =H9 -> 45963 | T9: =L9 -> 45991 | U9: =Q9 -> 46022
B10: Target | C10: Week | R10: =SUMIF($D$6:$Q$6,R$6,$D10:$Q10) -> 0 | S10: =SUMIF($D$6:$Q$6,S$6,$D10:$Q10) -> 0 | T10: =SUMIF($D$6:$Q$6,T$6,$D10:$Q10) -> 0 | U10: =SUM(R10:T10) -> 0
B11: QTD | D11: =D10 -> 0 | E11: =D11+E10 -> 0 | F11: =E11+F10 -> 0 | G11: =F11+G10 -> 0 | H11: =G11+H10 -> 0 | I11: =H11+I10 -> 0 | J11: =I11+J10 -> 0 | K11: =J11+K10 -> 0 | L11: =K11+L10 -> 0 | M11: =L11+M10 -> 0 | N11: =L11+N10 -> 0 | O11: =N11+O10 -> 0 | P11: =O11+P10 -> 0 | Q11: =P11+Q10 -> 0 | R11: =IFERROR(R10/$U10,0) -> 0 | S11: =IFERROR(S10/$U10,0) -> 0 | T11: =IFERROR(T10/$U10,0) -> 0
C12: 0 | D12: =D45+D78 -> 0 | E12: =E45+E78 -> 0 | F12: =F45+F78 -> 0 | G12: =G45+G78 -> 0 | H12: =H45+H78 -> 0 | I12: =I45+I78 -> 0 | J12: =J45+J78 -> 0 | K12: =K45+K78 -> 0 | ... Q12: =Q45+Q78 -> 0 | R12: =SUMIF($D$6:$Q$6,R$6,$D12:$Q12) -> 0 | S12: =SUMIF($D$6:$Q$6,S$6,$D12:$Q12) -> 0 | T12: =SUMIF($D$6:$Q$6,T$6,$D12:$Q12) -> 0 | U12: =SUM(R12:T12) -> 0
B13: Week | C13: 1 | D13: =D46+D79 -> 0 | E13: =E46+E79 -> 0 | F13: =F46+F79 -> 0 | G13: =G46+G79 -> 0 | H13: =H46+H79 -> 0 | I13: =I46+I79 -> 0 | J13: =J46+J79 -> 0 | K13: =K46+K79 -> 0 | ... Q13: =Q46+Q79 -> 0 | R13: =SUMIF($D$6:$Q$6,R$6,$D13:$Q13) -> 0 | S13: =SUMIF($D$6:$Q$6,S$6,$D13:$Q13) -> 0 | T13: =SUMIF($D$6:$Q$6,T$6,$D13:$Q13) -> 0 | U13: =SUM(R13:T13) -> 0
C14: 2 | D14: =IF($C14<=$D$1,D13,0) -> 0 | E14: =E47+E80 -> 0 | F14: =F47+F80 -> 0 | G14: =G47+G80 -> 0 | H14: =H47+H80 -> 0 | I14: =I47+I80 -> 0 | J14: =J47+J80 -> 0 | K14: =K47+K80 -> 0 | L14: =L47+L80 -> 0 | ... Q14: =Q47+Q80 -> 0 | R14: =SUMIF($D$6:$Q$6,R$6,$D14:$Q14) -> 0 | S14: =SUMIF($D$6:$Q$6,S$6,$D14:$Q14) -> 0 | T14: =SUMIF($D$6:$Q$6,T$6,$D14:$Q14) -> 0 | U14: =SUM(R14:T14) -> 0
C15: 3 | D15: =IF($C15<=$D$1,D14,0) -> 0 | E15: =IF($C15<=$D$1,E14,0) -> 0 | F15: =F48+F81 -> 0 | G15: =G48+G81 -> 0 | H15: =H48+H81 -> 0 | I15: =I48+I81 -> 0 | J15: =J48+J81 -> 0 | K15: =K48+K81 -> 0 | L15: =L48+L81 -> 0 | M15: =M48+M81 -> 0 | ... Q15: =Q48+Q81 -> 0 | R15: =SUMIF($D$6:$Q$6,R$6,$D15:$Q15) -> 0 | S15: =SUMIF($D$6:$Q$6,S$6,$D15:$Q15) -> 0 | T15: =SUMIF($D$6:$Q$6,T$6,$D15:$Q15) -> 0 | U15: =SUM(R15:T15) -> 0
C16: 4 | D16: =IF($C16<=$D$1,D15,0) -> 0 | E16: =IF($C16<=$D$1,E15,0) -> 0 | F16: =IF($C16<=$D$1,F15,0) -> 0 | G16: =G49+G82 -> 0 | H16: =H49+H82 -> 0 | I16: =I49+I82 -> 0 | J16: =J49+J82 -> 0 | K16: =K49+K82 -> 0 | L16: =L49+L82 -> 0 | M16: =M49+M82 -> 0 | N16: =N49+N82 -> 0 | ... Q16: =Q49+Q82 -> 0 | R16: =SUMIF($D$6:$Q$6,R$6,$D16:$Q16) -> 0 | S16: =SUMIF($D$6:$Q$6,S$6,$D16:$Q16) -> 0 | T16: =SUMIF($D$6:$Q$6,T$6,$D16:$Q16) -> 0 | U16: =SUM(R16:T16) -> 0
C17: 5 | D17: =IF($C17<=$D$1,D16,0) -> 0 | E17: =IF($C17<=$D$1,E16,0) -> 0 | F17: =IF($C17<=$D$1,F16,0) -> 0 | G17: =IF($C17<=$D$1,G16,0) -> 0 | H17: =H50+H83 -> 0 | I17: =I50+I83 -> 0 | J17: =J50+J83 -> 0 | K17: =K50+K83 -> 0 | L17: =L50+L83 -> 0 | M17: =M50+M83 -> 0 | N17: =N50+N83 -> 0 | O17: =O50+O83 -> 0 | ... Q17: =Q50+Q83 -> 0 | R17: =SUMIF($D$6:$Q$6,R$6,$D17:$Q17) -> 0 | S17: =SUMIF($D$6:$Q$6,S$6,$D17:$Q17) -> 0 | T17: =SUMIF($D$6:$Q$6,T$6,$D17:$Q17) -> 0 | U17: =SUM(R17:T17) -> 0
C18: 6 | D18: =IF($C18<=$D$1,D17,0) -> 0 | E18: =IF($C18<=$D$1,E17,0) -> 0 | F18: =IF($C18<=$D$1,F17,0) -> 0 | G18: =IF($C18<=$D$1,G17,0) -> 0 | H18: =IF($C18<=$D$1,H17,0) -> 0 | I18: =I51+I84 -> 0 | J18: =J51+J84 -> 0 | K18: =K51+K84 -> 0 | L18: =L51+L84 -> 0 | M18: =M51+M84 -> 0 | N18: =N51+N84 -> 0 | O18: =O51+O84 -> 0 | P18: =P51+P84 -> 0 | Q18: =Q51+Q84 -> 0 | R18: =SUMIF($D$6:$Q$6,R$6,$D18:$Q18) -> 0 | S18: =SUMIF($D$6:$Q$6,S$6,$D18:$Q18) -> 0 | T18: =SUMIF($D$6:$Q$6,T$6,$D18:$Q18) -> 0 | U18: =SUM(R18:T18) -> 0
C19: 7 | D19: =IF($C19<=$D$1,D18,0) -> 0 | E19: =IF($C19<=$D$1,E18,0) -> 0 | F19: =IF($C19<=$D$1,F18,0) -> 0 | G19: =IF($C19<=$D$1,G18,0) -> 0 | H19: =IF($C19<=$D$1,H18,0) -> 0 | I19: =IF($C19<=$D$1,I18,0) -> 0 | J19: =J52+J85 -> 0 | K19: =K52+K85 -> 0 | L19: =L52+L85 -> 0 | M19: =M52+M85 -> 0 | N19: =N52+N85 -> 0 | O19: =O52+O85 -> 0 | P19: =P52+P85 -> 0 | Q19: =Q52+Q85 -> 0 | R19: =SUMIF($D$6:$Q$6,R$6,$D19:$Q19) -> 0 | S19: =SUMIF($D$6:$Q$6,S$6,$D19:$Q19) -> 0 | T19: =SUMIF($D$6:$Q$6,T$6,$D19:$Q19) -> 0 | U19: =SUM(R19:T19) -> 0
C20: 8 | D20: =IF($C20<=$D$1,D19,0) -> 0 | E20: =IF($C20<=$D$1,E19,0) -> 0 | F20: =IF($C20<=$D$1,F19,0) -> 0 | G20: =IF($C20<=$D$1,G19,0) -> 0 | H20: =IF($C20<=$D$1,H19,0) -> 0 | I20: =IF($C20<=$D$1,I19,0) -> 0 | J20: =IF($C20<=$D$1,J19,0) -> 0 | K20: =K53+K86 -> 0 | L20: =L53+L86 -> 0 | M20: =M53+M86 -> 0 | N20: =N53+N86 -> 0 | O20: =O53+O86 -> 0 | P20: =P53+P86 -> 0 | Q20: =Q53+Q86 -> 0 | R20: =SUMIF($D$6:$Q$6,R$6,$D20:$Q20) -> 0 | S20: =SUMIF($D$6:$Q$6,S$6,$D20:$Q20) -> 0 | T20: =SUMIF($D$6:$Q$6,T$6,$D20:$Q20) -> 0 | U20: =SUM(R20:T20) -> 0
C21: 9 | D21: =IF($C21<=$D$1,D20,0) -> 0 | E21: =IF($C21<=$D$1,E20,0) -> 0 | F21: =IF($C21<=$D$1,F20,0) -> 0 | G21: =IF($C21<=$D$1,G20,0) -> 0 | H21: =IF($C21<=$D$1,H20,0) -> 0 | I21: =IF($C21<=$D$1,I20,0) -> 0 | J21: =IF($C21<=$D$1,J20,0) -> 0 | K21: =IF($C21<=$D$1,K20,0) -> 0 | L21: =L54+L87 -> 0 | M21: =M54+M87 -> 0 | N21: =N54+N87 -> 0 | O21: =O54+O87 -> 0 | P21: =P54+P87 -> 0 | Q21: =Q54+Q87 -> 0 | R21: =SUMIF($D$6:$Q$6,R$6,$D21:$Q21) -> 0 | S21: =SUMIF($D$6:$Q$6,S$6,$D21:$Q21) -> 0 | T21: =SUMIF($D$6:$Q$6,T$6,$D21:$Q21) -> 0 | U21: =SUM(R21:T21) -> 0
C22: 10 | D22: =IF($C22<=$D$1,D21,0) -> 0 | E22: =IF($C22<=$D$1,E21,0) -> 0 | F22: =IF($C22<=$D$1,F21,0) -> 0 | G22: =IF($C22<=$D$1,G21,0) -> 0 | H22: =IF($C22<=$D$1,H21,0) -> 0 | I22: =IF($C22<=$D$1,I21,0) -> 0 | J22: =IF($C22<=$D$1,J21,0) -> 0 | K22: =IF($C22<=$D$1,K21,0) -> 0 | ... M22: =IF($C22<=$D$1,M21,0) -> 0 | N22: =N55+N88 -> 0 | O22: =O55+O88 -> 0 | P22: =P55+P88 -> 0 | Q22: =Q55+Q88 -> 0 | R22: =SUMIF($D$6:$Q$6,R$6,$D22:$Q22) -> 0 | S22: =SUMIF($D$6:$Q$6,S$6,$D22:$Q22) -> 0 | T22: =SUMIF($D$6:$Q$6,T$6,$D22:$Q22) -> 0 | U22: =SUM(R22:T22) -> 0
C23: 11 | D23: =IF($C23<=$D$1,D22,0) -> 0 | E23: =IF($C23<=$D$1,E22,0) -> 0 | F23: =IF($C23<=$D$1,F22,0) -> 0 | G23: =IF($C23<=$D$1,G22,0) -> 0 | H23: =IF($C23<=$D$1,H22,0) -> 0 | I23: =IF($C23<=$D$1,I22,0) -> 0 | J23: =IF($C23<=$D$1,J22,0) -> 0 | K23: =IF($C23<=$D$1,K22,0) -> 0 | ... N23: =IF($C23<=$D$1,N22,0) -> 0 | O23: =O56+O89 -> 0 | P23: =P56+P89 -> 0 | Q23: =Q56+Q89 -> 0 | R23: =SUMIF($D$6:$Q$6,R$6,$D23:$Q23) -> 0 | S23: =SUMIF($D$6:$Q$6,S$6,$D23:$Q23) -> 0 | T23: =SUMIF($D$6:$Q$6,T$6,$D23:$Q23) -> 0 | U23: =SUM(R23:T23) -> 0
C24: 12 | D24: =IF($C24<=$D$1,D23,0) -> 0 | E24: =IF($C24<=$D$1,E23,0) -> 0 | F24: =IF($C24<=$D$1,F23,0) -> 0 | G24: =IF($C24<=$D$1,G23,0) -> 0 | H24: =IF($C24<=$D$1,H23,0) -> 0 | I24: =IF($C24<=$D$1,I23,0) -> 0 | J24: =IF($C24<=$D$1,J23,0) -> 0 | K24: =IF($C24<=$D$1,K23,0) -> 0 | ... O24: =IF($C24<=$D$1,O23,0) -> 0 | P24: =P57+P90 -> 0 | Q24: =Q57+Q90 -> 0 | R24: =SUMIF($D$6:$Q$6,R$6,$D24:$Q24) -> 0 | S24: =SUMIF($D$6:$Q$6,S$6,$D24:$Q24) -> 0 | T24: =SUMIF($D$6:$Q$6,T$6,$D24:$Q24) -> 0 | U24: =SUM(R24:T24) -> 0
C25: 13 | D25: =IF($C25<=$D$1,D24,0) -> 0 | E25: =IF($C25<=$D$1,E24,0) -> 0 | F25: =IF($C25<=$D$1,F24,0) -> 0 | G25: =IF($C25<=$D$1,G24,0) -> 0 | H25: =IF($C25<=$D$1,H24,0) -> 0 | I25: =IF($C25<=$D$1,I24,0) -> 0 | J25: =IF($C25<=$D$1,J24,0) -> 0 | K25: =IF($C25<=$D$1,K24,0) -> 0 | ... P25: =IF($C25<=$D$1,P24,0) -> 0 | Q25: =Q58+Q91 -> 0 | R25: =SUMIF($D$6:$Q$6,R$6,$D25:$Q25) -> 0 | S25: =SUMIF($D$6:$Q$6,S$6,$D25:$Q25) -> 0 | T25: =SUMIF($D$6:$Q$6,T$6,$D25:$Q25) -> 0 | U25: =SUM(R25:T25) -> 0
B26: Actual | C26: 0 | D26: =INDEX($D$13:$D$25,MATCH($D$1,$C$13:$C$25,0)) -> 0 | E26: =INDEX($D$13:$D$25,MATCH($D$1,$C$13:$C$25,0)) -> 0 | F26: =INDEX($D$13:$D$25,MATCH($D$1,$C$13:$C$25,0)) -> 0 | G26: =INDEX($D$13:$D$25,MATCH($D$1,$C$13:$C$25,0)) -> 0 | H26: =INDEX($D$13:$D$25,MATCH($D$1,$C$13:$C$25,0)) -> 0 | I26: =INDEX($D$13:$D$25,MATCH($D$1,$C$13:$C$25,0)) -> 0 | J26: =INDEX($D$13:$D$25,MATCH($D$1,$C$13:$C$25,0)) -> 0 | K26: =INDEX($D$13:$D$25,MATCH($D$1,$C$13:$C$25,0)) -> 0 | ... U26: =INDEX($D$13:$D$25,MATCH($D$1,$C$13:$C$25,0)) -> 0
B27: Delta to Target | C27: 0 | D27: =IF(D$9<=$D$2,D26-D10,0) -> 0 | E27: =IF(E$9<=$D$2,E26-E10,0) -> 0 | F27: =IF(F$9<=$D$2,F26-F10,0) -> 0 | G27: =IF(G$9<=$D$2,G26-G10,0) -> 0 | H27: =IF(H$9<=$D$2,H26-H10,0) -> 0 | I27: =IF(I$9<=$D$2,I26-I10,0) -> 0 | J27: =IF(J$9<=$D$2,J26-J10,0) -> 0 | K27: =IF(K$9<=$D$2,K26-K10,0) -> 0 | ... U27: =IF(U$9<=$D$2,U26-U10,0) -> 0
B28: % to Target | C28: 0 | D28: =IF($D$2<D$9,0,IF(AND(D10=0,D26=0),1,IF(AND(D10=0,D26>0),2,IF(D26<0,0,(D26/D10))))) -> 1 | E28: =IF($D$2<E$9,0,IF(AND(E10=0,E26=0),1,IF(AND(E10=0,E26>0),2,IF(E26<0,0,(E26/E10))))) -> 1 | F28: =IF($D$2<F$9,0,IF(AND(F10=0,F26=0),1,IF(AND(F10=0,F26>0),2,IF(F26<0,0,(F26/F10))))) -> 1 | G28: =IF($D$2<G$9,0,IF(AND(G10=0,G26=0),1,IF(AND(G10=0,G26>0),2,IF(G26<0,0,(G26/G10))))) -> 1 | H28: =IF($D$2<H$9,0,IF(AND(H10=0,H26=0),1,IF(AND(H10=0,H26>0),2,IF(H26<0,0,(H26/H10))))) -> 1 | I28: =IF($D$2<I$9,0,IF(AND(I10=0,I26=0),1,IF(AND(I10=0,I26>0),2,IF(I26<0,0,(I26/I10))))) -> 1 | J28: =IF($D$2<J$9,0,IF(AND(J10=0,J26=0),1,IF(AND(J10=0,J26>0),2,IF(J26<0,0,(J26/J10))))) -> 1 | K28: =IF($D$2<K$9,0,IF(AND(K10=0,K26=0),1,IF(AND(K10=0,K26>0),2,IF(K26<0,0,(K26/K10))))) -> 1 | ... U28: =IF($D$2<U$9,0,IF(AND(U10=0,U26=0),1,IF(AND(U10=0,U26>0),2,IF(U26<0,0,(U26/U10))))) -> 0
B29: ="Week "&$D$1&" View" -> Week 10 View | D29: =INDEX(D13:D25,MATCH($D$1,$C$13:$C$25,0)) -> 0 | E29: =INDEX(E13:E25,MATCH($D$1,$C$13:$C$25,0)) -> 0 | F29: =INDEX(F13:F25,MATCH($D$1,$C$13:$C$25,0)) -> 0 | G29: =INDEX(G13:G25,MATCH($D$1,$C$13:$C$25,0)) -> 0 | H29: =INDEX(H13:H25,MATCH($D$1,$C$13:$C$25,0)) -> 0 | I29: =INDEX(I13:I25,MATCH($D$1,$C$13:$C$25,0)) -> 0 | J29: =INDEX(J13:J25,MATCH($D$1,$C$13:$C$25,0)) -> 0 | K29: =INDEX(K13:K25,MATCH($D$1,$C$13:$C$25,0)) -> 0 | ... U29: =INDEX(U13:U25,MATCH($D$1,$C$13:$C$25,0)) -> 0
B30: Linearity | D30: =IFERROR(E29/$R29,0) -> 0 | E30: =IFERROR(F29/$R29,0) -> 0 | F30: =IFERROR(G29/$R29,0) -> 0 | G30: =IFERROR(H29/$R29,0) -> 0 | H30: =IFERROR(I29/$R29,0) -> 0 | I30: =IFERROR(J29/$S29,0) -> 0 | J30: =IFERROR(K29/$S29,0) -> 0 | K30: =IFERROR(L29/$S29,0) -> 0 | L30: =IFERROR(#REF!/$S29,0) -> 0 | M30: =IFERROR(#REF!/$S29,0) -> 0 | N30: =IFERROR(#REF!/$S29,0) -> 0 | O30: =IFERROR(#REF!/$S29,0) -> 0 | P30: =IFERROR(#REF!/$S29,0) -> 0 | Q30: =IFERROR(#REF!/$S29,0) -> 0 | R30: =IFERROR(R29/$U29,0) -> 0 | S30: =IFERROR(S29/$U29,0) -> 0 | T30: =IFERROR(T29/$U29,0) -> 0
B31: Last 4Q ROL Linearity | H31: =SL!H31 -> 0 | L31: =SL!L31 -> 0 | M31: =SL!M31 -> 0 | N31: =SL!N31 -> 0 | O31: =SL!O31 -> 0 | P31: =SL!P31 -> 0 | Q31: =SL!Q31 -> 0
B32: QTD Actual | C32: 0 | D32: =IF(D$9<=$D$2,D26,0) -> 0 | E32: =IF(E$9<=$D$2,E26+D32,0) -> 0 | F32: =IF(F$9<=$D$2,F26+E32,0) -> 0 | G32: =IF(G$9<=$D$2,G26+F32,0) -> 0 | H32: =IF(H$9<=$D$2,H26+G32,0) -> 0 | I32: =IF(I$9<=$D$2,I26+H32,0) -> 0 | J32: =IF(J$9<=$D$2,J26+I32,0) -> 0 | K32: =IF(K$9<=$D$2,K26+J32,0) -> 0 | L32: =IF(L$9<=$D$2,L26+K32,0) -> 0 | ... Q32: =IF(Q$9<=$D$2,Q26+P32,0) -> 0 | R32: =IFERROR(INDEX(R$13:R$25,$D$1,0)/INDEX($U$13:$U$25,$D$1,0),0) -> 0 | S32: =IFERROR(INDEX(S$13:S$25,$D$1,0)/INDEX($U$13:$U$25,$D$1,0),0) -> 0 | T32: =IFERROR(INDEX(T$13:T$25,$D$1,0)/INDEX($U$13:$U$25,$D$1,0),0) -> 0 | U32: Current
B33: QTD Delta to Tgt | C33: 0 | D33: =IF(D$27=0,0,IF(D$9<=$D$2,D32-D11,D32-D11)) -> 0 | E33: =IF(E$27=0,0,IF(E$9<=$D$2,E32-E11,E32-E11)) -> 0 | F33: =IF(F$27=0,0,IF(F$9<=$D$2,F32-F11,F32-F11)) -> 0 | G33: =IF(G$27=0,0,IF(G$9<=$D$2,G32-G11,G32-G11)) -> 0 | H33: =IF(H$27=0,0,IF(H$9<=$D$2,H32-H11,H32-H11)) -> 0 | I33: =IF(I$27=0,0,IF(I$9<=$D$2,I32-I11,I32-I11)) -> 0 | J33: =IF(J$27=0,0,IF(J$9<=$D$2,J32-J11,J32-J11)) -> 0 | K33: =IF(K$27=0,0,IF(K$9<=$D$2,K32-K11,K32-K11)) -> 0 | ... Q33: =IF(Q$27=0,0,IF(Q$9<=$D$2,Q32-Q11,Q32-Q11)) -> 0 | R33: =SL!R33 -> 0 | S33: =SL!S33 -> 0 | T33: =SL!T33 -> 0 | U33: Last 4Q
B34: % to Target | C34: 0 | D34: =IF($D$2<D$9,0,IF(AND(D11=0,D32=0),1,IF(AND(D11=0,D32>0),2,IF(D32<0,0,(D32/D11))))) -> 1 | E34: =IF($D$2<E$9,0,IF(AND(E11=0,E32=0),1,IF(AND(E11=0,E32>0),2,IF(E32<0,0,(E32/E11))))) -> 1 | F34: =IF($D$2<F$9,0,IF(AND(F11=0,F32=0),1,IF(AND(F11=0,F32>0),2,IF(F32<0,0,(F32/F11))))) -> 1 | G34: =IF($D$2<G$9,0,IF(AND(G11=0,G32=0),1,IF(AND(G11=0,G32>0),2,IF(G32<0,0,(G32/G11))))) -> 1 | H34: =IF($D$2<H$9,0,IF(AND(H11=0,H32=0),1,IF(AND(H11=0,H32>0),2,IF(H32<0,0,(H32/H11))))) -> 1 | I34: =IF($D$2<I$9,0,IF(AND(I11=0,I32=0),1,IF(AND(I11=0,I32>0),2,IF(I32<0,0,(I32/I11))))) -> 1 | J34: =IF($D$2<J$9,0,IF(AND(J11=0,J32=0),1,IF(AND(J11=0,J32>0),2,IF(J32<0,0,(J32/J11))))) -> 1 | K34: =IF($D$2<K$9,0,IF(AND(K11=0,K32=0),1,IF(AND(K11=0,K32>0),2,IF(K32<0,0,(K32/K11))))) -> 1 | ... Q34: =IF($D$2<Q$9,0,IF(AND(Q11=0,Q32=0),1,IF(AND(Q11=0,Q32>0),2,IF(Q32<0,0,(Q32/Q11))))) -> 0 | R34: =SL!R34 -> 0 | S34: =SL!S34 -> 0 | T34: =SL!T34 -> 0 | U34: Last 3Y
B35: ='SI -Overall'!$B$35 -> Fy Q3 2425 | D35: 0 | E35: 0.006 | F35: 0.08 | G35: 0.479 | H35: 0.051 | I35: 0.175 | J35: 0.23 | K35: 0.2 | L35: 1.17 | M35: 1.17 | N35: 1.17 | O35: 1.17 | P35: 1.17 | Q35: 1.17 | R35: =SUM(D35:H35) -> 0.616 | S35: =SUM(I35:L35) -> 1.775 | T35: =SUM(N35:Q35) -> 4.68 | U35: =SUM(R35:T35) -> 7.071
B36: ='SI -Overall'!$B$36 -> Fy Q4 2324 | R36: =SUM(D36:H36) -> 0 | S36: =SUM(I36:L36) -> 0 | T36: =SUM(N36:Q36) -> 0 | U36: =SUM(R36:T36) -> 0
B38: Consumer SI BD DT WF Q4FY2122
C39: Month | D39: =D$6 -> 1 | E39: =E$6 -> 1 | F39: =F$6 -> 1 | G39: =G$6 -> 1 | H39: =H$6 -> 2 | I39: =I$6 -> 2 | J39: =J$6 -> 2 | K39: =K$6 -> 2 | L39: =L$6 -> 2 | N39: 3 | O39: =O$6 -> 3 | P39: =P$6 -> 3 | Q39: =Q$6 -> 3 | R39: 1 | S39: 2 | T39: 3 | U39: QTR
C40: Week | D40: =D$7 -> 1 | E40: =E$7 -> 2 | F40: =F$7 -> 3 | G40: =G$7 -> 5 | H40: =H$7 -> 5 | I40: =I$7 -> 6 | J40: =J$7 -> 7 | K40: =K$7 -> 8 | L40: =L$7 -> 9 | N40: 9 | O40: =O$7 -> 11 | P40: =P$7 -> 12 | Q40: =Q$7 -> 13
C41: Begin | D41: =D$8 -> 45931 | E41: =E$8 -> 45936 | F41: =F$8 -> 45943 | G41: =G$8 -> 45957 | H41: =H$8 -> 45962 | I41: =I$8 -> 45964 | J41: =J$8 -> 45971 | K41: =K$8 -> 45978 | L41: =L$8 -> 45985 | N41: =N$8 -> 45992 | O41: =O$8 -> 45999 | P41: =P$8 -> 46006 | Q41: =Q$8 -> 46013 | R41: =D41 -> 45931 | S41: =I41 -> 45964 | T41: =N41 -> 45992 | U41: =D41 -> 45931
C42: End | D42: =D$9 -> 45935 | E42: =E$9 -> 45942 | F42: =F$9 -> 45949 | G42: =G$9 -> 45961 | H42: =H$9 -> 45963 | I42: =I$9 -> 45970 | J42: =J$9 -> 45977 | K42: =K$9 -> 45984 | L42: =L$9 -> 45991 | N42: =N$9 -> 45998 | O42: =O$9 -> 46005 | P42: =P$9 -> 46012 | Q42: =Q$9 -> 46022 | R42: =H42 -> 45963 | S42: =L42 -> 45991 | T42: =Q42 -> 46022 | U42: =T42 -> 46022
B43: Target | C43: Week | D43: =D38*$R$38 -> 0 | E43: =E38*$R$38 -> 0 | F43: =F38*$R$38 -> 0 | G43: =G38*$R$38 -> 0 | H43: =H38*$R$38 -> 0 | I43: =I38*$S$38 -> 0 | J43: =J38*$S$38 -> 0 | K43: =K38*$S$38 -> 0 | L43: =L38*$S$38 -> 0 | N43: =N38*$S$38 -> 0 | O43: =O38*$T$38 -> 0 | P43: =P38*$T$38 -> 0 | Q43: =Q38*$T$38 -> 0 | R43: =SUMIF($D$6:$Q$6,R$6,$D43:$Q43) -> 0 | S43: =SUMIF($D$6:$Q$6,S$6,$D43:$Q43) -> 0 | T43: =SUMIF($D$6:$Q$6,T$6,$D43:$Q43) -> 0 | U43: =SUM(R43:T43) -> 0
C44: QTD | D44: =D43 -> 0 | E44: =D44+E43 -> 0 | F44: =E44+F43 -> 0 | G44: =F44+G43 -> 0 | H44: =G44+H43 -> 0 | I44: =H44+I43 -> 0 | J44: =I44+J43 -> 0 | K44: =J44+K43 -> 0 | L44: =K44+L43 -> 0 | N44: =L44+N43 -> 0 | O44: =N44+O43 -> 0 | P44: =O44+P43 -> 0 | Q44: =P44+Q43 -> 0 | R44: =IFERROR(R43/$U43,0) -> 0 | S44: =IFERROR(S43/$U43,0) -> 0 | T44: =IFERROR(T43/$U43,0) -> 0
C45: 0 | R45: =SUMIF($D$6:$Q$6,R$6,$D45:$Q45) -> 0 | S45: =SUMIF($D$6:$Q$6,S$6,$D45:$Q45) -> 0 | T45: =SUMIF($D$6:$Q$6,T$6,$D45:$Q45) -> 0 | U45: =SUM(R45:T45) -> 0
B46: Week | C46: 1 | R46: =SUMIF($D$6:$Q$6,R$6,$D46:$Q46) -> 0 | S46: =SUMIF($D$6:$Q$6,S$6,$D46:$Q46) -> 0 | T46: =SUMIF($D$6:$Q$6,T$6,$D46:$Q46) -> 0 | U46: =SUM(R46:T46) -> 0
C47: 2 | D47: =IF($C47<=$C$32,D46,0) -> 0 | R47: =SUMIF($D$6:$Q$6,R$6,$D47:$Q47) -> 0 | S47: =SUMIF($D$6:$Q$6,S$6,$D47:$Q47) -> 0 | T47: =SUMIF($D$6:$Q$6,T$6,$D47:$Q47) -> 0 | U47: =SUM(R47:T47) -> 0
C48: 3 | D48: =IF($C48<=$C$32,D47,0) -> 0 | E48: =IF($C48<=$C$32,E47,0) -> 0 | R48: =SUMIF($D$6:$Q$6,R$6,$D48:$Q48) -> 0 | S48: =SUMIF($D$6:$Q$6,S$6,$D48:$Q48) -> 0 | T48: =SUMIF($D$6:$Q$6,T$6,$D48:$Q48) -> 0 | U48: =SUM(R48:T48) -> 0
C49: 4 | D49: =IF($C49<=$C$32,D48,0) -> 0 | E49: =IF($C49<=$C$32,E48,0) -> 0 | F49: =IF($C49<=$C$32,F48,0) -> 0 | R49: =SUMIF($D$6:$Q$6,R$6,$D49:$Q49) -> 0 | S49: =SUMIF($D$6:$Q$6,S$6,$D49:$Q49) -> 0 | T49: =SUMIF($D$6:$Q$6,T$6,$D49:$Q49) -> 0 | U49: =SUM(R49:T49) -> 0
C50: 5 | D50: =IF($C50<=$C$32,D49,0) -> 0 | E50: =IF($C50<=$C$32,E49,0) -> 0 | F50: =IF($C50<=$C$32,F49,0) -> 0 | G50: =IF($C50<=$C$32,G49,0) -> 0 | R50: =SUMIF($D$6:$Q$6,R$6,$D50:$Q50) -> 0 | S50: =SUMIF($D$6:$Q$6,S$6,$D50:$Q50) -> 0 | T50: =SUMIF($D$6:$Q$6,T$6,$D50:$Q50) -> 0 | U50: =SUM(R50:T50) -> 0
C51: 6 | D51: =IF($C51<=$C$32,D50,0) -> 0 | E51: =IF($C51<=$C$32,E50,0) -> 0 | F51: =IF($C51<=$C$32,F50,0) -> 0 | G51: =IF($C51<=$C$32,G50,0) -> 0 | H51: =IF($C51<=$C$32,H50,0) -> 0 | I51: =IF($C51<=$C$32,I50,0) -> 0 | R51: =SUMIF($D$6:$Q$6,R$6,$D51:$Q51) -> 0 | S51: =SUMIF($D$6:$Q$6,S$6,$D51:$Q51) -> 0 | T51: =SUMIF($D$6:$Q$6,T$6,$D51:$Q51) -> 0 | U51: =SUM(R51:T51) -> 0
C52: 7 | D52: =IF($C52<=$C$32,D51,0) -> 0 | E52: =IF($C52<=$C$32,E51,0) -> 0 | F52: =IF($C52<=$C$32,F51,0) -> 0 | G52: =IF($C52<=$C$32,G51,0) -> 0 | H52: =IF($C52<=$C$32,H51,0) -> 0 | I52: =IF($C52<=$C$32,I51,0) -> 0 | J52: =IF($C52<=$C$32,J51,0) -> 0 | R52: =SUMIF($D$6:$Q$6,R$6,$D52:$Q52) -> 0 | S52: =SUMIF($D$6:$Q$6,S$6,$D52:$Q52) -> 0 | T52: =SUMIF($D$6:$Q$6,T$6,$D52:$Q52) -> 0 | U52: =SUM(R52:T52) -> 0
C53: 8 | D53: =IF($C53<=$C$32,D52,0) -> 0 | E53: =IF($C53<=$C$32,E52,0) -> 0 | F53: =IF($C53<=$C$32,F52,0) -> 0 | G53: =IF($C53<=$C$32,G52,0) -> 0 | H53: =IF($C53<=$C$32,H52,0) -> 0 | I53: =IF($C53<=$C$32,I52,0) -> 0 | J53: =IF($C53<=$C$32,J52,0) -> 0 | K53: =IF($C53<=$C$32,K52,0) -> 0 | R53: =SUMIF($D$6:$Q$6,R$6,$D53:$Q53) -> 0 | S53: =SUMIF($D$6:$Q$6,S$6,$D53:$Q53) -> 0 | T53: =SUMIF($D$6:$Q$6,T$6,$D53:$Q53) -> 0 | U53: =SUM(R53:T53) -> 0
C54: 9 | D54: =IF($C54<=$C$32,D53,0) -> 0 | E54: =IF($C54<=$C$32,E53,0) -> 0 | F54: =IF($C54<=$C$32,F53,0) -> 0 | G54: =IF($C54<=$C$32,G53,0) -> 0 | H54: =IF($C54<=$C$32,H53,0) -> 0 | I54: =IF($C54<=$C$32,I53,0) -> 0 | J54: =IF($C54<=$C$32,J53,0) -> 0 | K54: =IF($C54<=$C$32,K53,0) -> 0 | L54: =IF($C54<=$C$32,L53,0) -> 0 | R54: =SUMIF($D$6:$Q$6,R$6,$D54:$Q54) -> 0 | S54: =SUMIF($D$6:$Q$6,S$6,$D54:$Q54) -> 0 | T54: =SUMIF($D$6:$Q$6,T$6,$D54:$Q54) -> 0 | U54: =SUM(R54:T54) -> 0
C55: 10 | D55: =IF($C55<=$C$32,D54,0) -> 0 | E55: =IF($C55<=$C$32,E54,0) -> 0 | F55: =IF($C55<=$C$32,F54,0) -> 0 | G55: =IF($C55<=$C$32,G54,0) -> 0 | H55: =IF($C55<=$C$32,H54,0) -> 0 | I55: =IF($C55<=$C$32,I54,0) -> 0 | J55: =IF($C55<=$C$32,J54,0) -> 0 | K55: =IF($C55<=$C$32,K54,0) -> 0 | L55: =IF($C55<=$C$32,L54,0) -> 0 | N55: =IF($C55<=$C$32,N54,0) -> 0 | R55: =SUMIF($D$6:$Q$6,R$6,$D55:$Q55) -> 0 | S55: =SUMIF($D$6:$Q$6,S$6,$D55:$Q55) -> 0 | T55: =SUMIF($D$6:$Q$6,T$6,$D55:$Q55) -> 0 | U55: =SUM(R55:T55) -> 0
C56: 11 | D56: =IF($C56<=$C$32,D55,0) -> 0 | E56: =IF($C56<=$C$32,E55,0) -> 0 | F56: =IF($C56<=$C$32,F55,0) -> 0 | G56: =IF($C56<=$C$32,G55,0) -> 0 | H56: =IF($C56<=$C$32,H55,0) -> 0 | I56: =IF($C56<=$C$32,I55,0) -> 0 | J56: =IF($C56<=$C$32,J55,0) -> 0 | K56: =IF($C56<=$C$32,K55,0) -> 0 | L56: =IF($C56<=$C$32,L55,0) -> 0 | N56: =IF($C56<=$C$32,N55,0) -> 0 | O56: =IF($C56<=$C$32,O55,0) -> 0 | R56: =SUMIF($D$6:$Q$6,R$6,$D56:$Q56) -> 0 | S56: =SUMIF($D$6:$Q$6,S$6,$D56:$Q56) -> 0 | T56: =SUMIF($D$6:$Q$6,T$6,$D56:$Q56) -> 0 | U56: =SUM(R56:T56) -> 0
C57: 12 | D57: =IF($C57<=$C$32,D56,0) -> 0 | E57: =IF($C57<=$C$32,E56,0) -> 0 | F57: =IF($C57<=$C$32,F56,0) -> 0 | G57: =IF($C57<=$C$32,G56,0) -> 0 | H57: =IF($C57<=$C$32,H56,0) -> 0 | I57: =IF($C57<=$C$32,I56,0) -> 0 | J57: =IF($C57<=$C$32,J56,0) -> 0 | K57: =IF($C57<=$C$32,K56,0) -> 0 | L57: =IF($C57<=$C$32,L56,0) -> 0 | N57: =IF($C57<=$C$32,N56,0) -> 0 | O57: =IF($C57<=$C$32,O56,0) -> 0 | P57: =IF($C57<=$C$32,P56,0) -> 0 | Q57: 0 | R57: =SUMIF($D$6:$Q$6,R$6,$D57:$Q57) -> 0 | S57: =SUMIF($D$6:$Q$6,S$6,$D57:$Q57) -> 0 | T57: =SUMIF($D$6:$Q$6,T$6,$D57:$Q57) -> 0 | U57: =SUM(R57:T57) -> 0
C58: 13 | D58: =IF($C58<=$C$32,D57,0) -> 0 | E58: =IF($C58<=$C$32,E57,0) -> 0 | F58: =IF($C58<=$C$32,F57,0) -> 0 | G58: =IF($C58<=$C$32,G57,0) -> 0 | H58: =IF($C58<=$C$32,H57,0) -> 0 | I58: =IF($C58<=$C$32,I57,0) -> 0 | J58: =IF($C58<=$C$32,J57,0) -> 0 | K58: =IF($C58<=$C$32,K57,0) -> 0 | L58: =IF($C58<=$C$32,L57,0) -> 0 | N58: =IF($C58<=$C$32,N57,0) -> 0 | O58: =IF($C58<=$C$32,O57,0) -> 0 | P58: =IF($C58<=$C$32,P57,0) -> 0 | Q58: =IF($C58<=$C$32,Q57,0) -> 0 | R58: =SUMIF($D$6:$Q$6,R$6,$D58:$Q58) -> 0 | S58: =SUMIF($D$6:$Q$6,S$6,$D58:$Q58) -> 0 | T58: =SUMIF($D$6:$Q$6,T$6,$D58:$Q58) -> 0 | U58: =SUM(R58:T58) -> 0
B59: Actual | C59: 0 | D59: =INDEX($D$46:$D$58,MATCH($D$1,$C$46:$C$58,0)) -> 0 | E59: =INDEX($D$46:$D$58,MATCH($D$1,$C$46:$C$58,0)) -> 0 | F59: =INDEX($D$46:$D$58,MATCH($D$1,$C$46:$C$58,0)) -> 0 | G59: =INDEX($D$46:$D$58,MATCH($D$1,$C$46:$C$58,0)) -> 0 | H59: =INDEX($D$46:$D$58,MATCH($D$1,$C$46:$C$58,0)) -> 0 | I59: =INDEX($D$46:$D$58,MATCH($D$1,$C$46:$C$58,0)) -> 0 | J59: =INDEX($D$46:$D$58,MATCH($D$1,$C$46:$C$58,0)) -> 0 | K59: =INDEX($D$46:$D$58,MATCH($D$1,$C$46:$C$58,0)) -> 0 | L59: =INDEX($D$46:$D$58,MATCH($D$1,$C$46:$C$58,0)) -> 0 | N59: =INDEX($D$46:$D$58,MATCH($D$1,$C$46:$C$58,0)) -> 0 | O59: =INDEX($D$46:$D$58,MATCH($D$1,$C$46:$C$58,0)) -> 0 | P59: =INDEX($D$46:$D$58,MATCH($D$1,$C$46:$C$58,0)) -> 0 | Q59: =INDEX($D$46:$D$58,MATCH($D$1,$C$46:$C$58,0)) -> 0 | R59: =INDEX($D$46:$D$58,MATCH($D$1,$C$46:$C$58,0)) -> 0 | S59: =INDEX($D$46:$D$58,MATCH($D$1,$C$46:$C$58,0)) -> 0 | T59: =INDEX($D$46:$D$58,MATCH($D$1,$C$46:$C$58,0)) -> 0 | U59: =INDEX($D$46:$D$58,MATCH($D$1,$C$46:$C$58,0)) -> 0
B60: Delta to Target | C60: 0 | D60: =IF(D$9<=$D$2,D59-D43,0) -> 0 | E60: =IF(E$9<=$D$2,E59-E43,0) -> 0 | F60: =IF(F$9<=$D$2,F59-F43,0) -> 0 | G60: =IF(G$9<=$D$2,G59-G43,0) -> 0 | H60: =IF(H$9<=$D$2,H59-H43,0) -> 0 | I60: =IF(I$9<=$D$2,I59-I43,0) -> 0 | J60: =IF(J$9<=$D$2,J59-J43,0) -> 0 | K60: =IF(K$9<=$D$2,K59-K43,0) -> 0 | L60: =IF(L$9<=$D$2,L59-L43,0) -> 0 | N60: =IF(N$9<=$D$2,N59-N43,0) -> 0 | O60: =IF(O$9<=$D$2,O59-O43,0) -> 0 | P60: =IF(P$9<=$D$2,P59-P43,0) -> 0 | Q60: =IF(Q$9<=$D$2,Q59-Q43,0) -> 0 | R60: =IF(R$9<=$D$2,R59-R43,0) -> 0 | S60: =IF(S$9<=$D$2,S59-S43,0) -> 0 | T60: =IF(T$9<=$D$2,T59-T43,0) -> 0 | U60: =IF(U$9<=$D$2,U59-U43,0) -> 0
B61: % to Target | C61: 0 | D61: =IF($D$2<D$9,0,IF(AND(D43=0,D59=0),1,IF(AND(D43=0,D59>0),2,IF(D59<0,0,(D59/D43))))) -> 1 | E61: =IF($D$2<E$9,0,IF(AND(E43=0,E59=0),1,IF(AND(E43=0,E59>0),2,IF(E59<0,0,(E59/E43))))) -> 1 | F61: =IF($D$2<F$9,0,IF(AND(F43=0,F59=0),1,IF(AND(F43=0,F59>0),2,IF(F59<0,0,(F59/F43))))) -> 1 | G61: =IF($D$2<G$9,0,IF(AND(G43=0,G59=0),1,IF(AND(G43=0,G59>0),2,IF(G59<0,0,(G59/G43))))) -> 1 | H61: =IF($D$2<H$9,0,IF(AND(H43=0,H59=0),1,IF(AND(H43=0,H59>0),2,IF(H59<0,0,(H59/H43))))) -> 1 | I61: =IF($D$2<I$9,0,IF(AND(I43=0,I59=0),1,IF(AND(I43=0,I59>0),2,IF(I59<0,0,(I59/I43))))) -> 1 | J61: =IF($D$2<J$9,0,IF(AND(J43=0,J59=0),1,IF(AND(J43=0,J59>0),2,IF(J59<0,0,(J59/J43))))) -> 1 | K61: =IF($D$2<K$9,0,IF(AND(K43=0,K59=0),1,IF(AND(K43=0,K59>0),2,IF(K59<0,0,(K59/K43))))) -> 1 | L61: =IF($D$2<L$9,0,IF(AND(L43=0,L59=0),1,IF(AND(L43=0,L59>0),2,IF(L59<0,0,(L59/L43))))) -> 1 | N61: =IF($D$2<N$9,0,IF(AND(N43=0,N59=0),1,IF(AND(N43=0,N59>0),2,IF(N59<0,0,(N59/N43))))) -> 1 | O61: =IF($D$2<O$9,0,IF(AND(O43=0,O59=0),1,IF(AND(O43=0,O59>0),2,IF(O59<0,0,(O59/O43))))) -> 0 | P61: =IF($D$2<P$9,0,IF(AND(P43=0,P59=0),1,IF(AND(P43=0,P59>0),2,IF(P59<0,0,(P59/P43))))) -> 0 | Q61: =IF($D$2<Q$9,0,IF(AND(Q43=0,Q59=0),1,IF(AND(Q43=0,Q59>0),2,IF(Q59<0,0,(Q59/Q43))))) -> 0 | R61: =IF($D$2<R$9,0,IF(AND(R43=0,R59=0),1,IF(AND(R43=0,R59>0),2,IF(R59<0,0,(R59/R43))))) -> 1 | S61: =IF($D$2<S$9,0,IF(AND(S43=0,S59=0),1,IF(AND(S43=0,S59>0),2,IF(S59<0,0,(S59/S43))))) -> 1 | T61: =IF($D$2<T$9,0,IF(AND(T43=0,T59=0),1,IF(AND(T43=0,T59>0),2,IF(T59<0,0,(T59/T43))))) -> 1 | U61: =IF($D$2<U$9,0,IF(AND(U43=0,U59=0),1,IF(AND(U43=0,U59>0),2,IF(U59<0,0,(U59/U43))))) -> 0
B62: ="Week "&$D$1&" View" -> Week 10 View | D62: =INDEX(D46:D58,MATCH($D$1,$C$13:$C$25,0)) -> 0 | E62: =INDEX(E46:E58,MATCH($D$1,$C$13:$C$25,0)) -> 0 | F62: =INDEX(F46:F58,MATCH($D$1,$C$13:$C$25,0)) -> 0 | G62: =INDEX(G46:G58,MATCH($D$1,$C$13:$C$25,0)) -> 0 | H62: =INDEX(H46:H58,MATCH($D$1,$C$13:$C$25,0)) -> 0 | I62: =INDEX(I46:I58,MATCH($D$1,$C$13:$C$25,0)) -> 0 | J62: =INDEX(J46:J58,MATCH($D$1,$C$13:$C$25,0)) -> 0 | K62: =INDEX(K46:K58,MATCH($D$1,$C$13:$C$25,0)) -> 0 | L62: =INDEX(L46:L58,MATCH($D$1,$C$13:$C$25,0)) -> 0 | N62: =INDEX(N46:N58,MATCH($D$1,$C$13:$C$25,0)) -> 0 | O62: =INDEX(O46:O58,MATCH($D$1,$C$13:$C$25,0)) -> 0 | P62: =INDEX(P46:P58,MATCH($D$1,$C$13:$C$25,0)) -> 0 | Q62: =INDEX(Q46:Q58,MATCH($D$1,$C$13:$C$25,0)) -> 0 | R62: =INDEX(R46:R58,MATCH($D$1,$C$13:$C$25,0)) -> 0 | S62: =INDEX(S46:S58,MATCH($D$1,$C$13:$C$25,0)) -> 0 | T62: =INDEX(T46:T58,MATCH($D$1,$C$13:$C$25,0)) -> 0 | U62: =INDEX(U46:U58,MATCH($D$1,$C$13:$C$25,0)) -> 0
B63: Linearity | D63: =IFERROR(D62/$R62,0) -> 0 | E63: =IFERROR(E62/$R62,0) -> 0 | F63: =IFERROR(F62/$R62,0) -> 0 | G63: =IFERROR(G62/$R62,0) -> 0 | H63: =IFERROR(H62/$R62,0) -> 0 | I63: =IFERROR(I62/$S62,0) -> 0 | J63: =IFERROR(J62/$S62,0) -> 0 | K63: =IFERROR(K62/$S62,0) -> 0 | L63: =IFERROR(L62/$S62,0) -> 0 | N63: =IFERROR(N62/$T62,0) -> 0 | O63: =IFERROR(O62/$T62,0) -> 0 | P63: =IFERROR(P62/$T62,0) -> 0 | Q63: =IFERROR(Q62/$T62,0) -> 0 | R63: =IFERROR(R62/$U62,0) -> 0 | S63: =IFERROR(S62/$U62,0) -> 0 | T63: =IFERROR(T62/$U62,0) -> 0
B64: Last 4Q ROL Linearity
B65: QTD Actual | C65: 0 | D65: =IF(D$9<=$D$2,D59,0) -> 0 | E65: =IF(E$9<=$D$2,E59+D65,0) -> 0 | F65: =IF(F$9<=$D$2,F59+E65,0) -> 0 | G65: =IF(G$9<=$D$2,G59+F65,0) -> 0 | H65: =IF(H$9<=$D$2,H59+G65,0) -> 0 | I65: =IF(I$9<=$D$2,I59+H65,0) -> 0 | J65: =IF(J$9<=$D$2,J59+I65,0) -> 0 | K65: =IF(K$9<=$D$2,K59+J65,0) -> 0 | L65: =IF(L$9<=$D$2,L59+K65,0) -> 0 | N65: =IF(N$9<=$D$2,N59+#REF!,0) -> #REF! | O65: =IF(O$9<=$D$2,O59+N65,0) -> 0 | P65: =IF(P$9<=$D$2,P59+O65,0) -> 0 | Q65: =IF(Q$9<=$D$2,Q59+P65,0) -> 0 | R65: =IFERROR(INDEX(R$13:R$25,$D$1,0)/INDEX($U$13:$U$25,$D$1,0),0) -> 0 | S65: =IFERROR(INDEX(S$13:S$25,$D$1,0)/INDEX($U$13:$U$25,$D$1,0),0) -> 0 | T65: =IFERROR(INDEX(T$13:T$25,$D$1,0)/INDEX($U$13:$U$25,$D$1,0),0) -> 0 | U65: Current
B66: QTD Delta to Tgt | C66: 0 | D66: =IF(D$27=0,0,IF(D$9<=$D$2,E65-D44,E65-D44)) -> 0 | E66: =IF(E$27=0,0,IF(E$9<=$D$2,F65-E44,F65-E44)) -> 0 | F66: =IF(F$27=0,0,IF(F$9<=$D$2,G65-F44,G65-F44)) -> 0 | G66: =IF(G$27=0,0,IF(G$9<=$D$2,H65-G44,H65-G44)) -> 0 | H66: =IF(H$27=0,0,IF(H$9<=$D$2,I65-H44,I65-H44)) -> 0 | I66: =IF(I$27=0,0,IF(I$9<=$D$2,J65-I44,J65-I44)) -> 0 | J66: =IF(J$27=0,0,IF(J$9<=$D$2,K65-J44,K65-J44)) -> 0 | K66: =IF(K$27=0,0,IF(K$9<=$D$2,L65-K44,L65-K44)) -> 0 | L66: =IF(L$27=0,0,IF(L$9<=$D$2,#REF!-L44,#REF!-L44)) -> 0 | N66: =IF(N$27=0,0,IF(N$9<=$D$2,O65-N44,O65-N44)) -> 0 | O66: =IF(O$27=0,0,IF(O$9<=$D$2,P65-O44,P65-O44)) -> 0 | P66: =IF(P$27=0,0,IF(P$9<=$D$2,Q65-P44,Q65-P44)) -> 0 | Q66: =IF(Q$27=0,0,IF(Q$9<=$D$2,#REF!-Q44,#REF!-Q44)) -> 0 | R66: =NP!R66 -> 0 | S66: =NP!S66 -> 0 | T66: =NP!T66 -> 0 | U66: Last 4Q
B67: % to Target | C67: 0 | D67: =IF($D$2<D$9,0,IF(AND(D44=0,D65=0),1,IF(AND(D44=0,D65>0),2,IF(D65<0,0,(D65/D44))))) -> 1 | E67: =IF($D$2<E$9,0,IF(AND(E44=0,E65=0),1,IF(AND(E44=0,E65>0),2,IF(E65<0,0,(E65/E44))))) -> 1 | F67: =IF($D$2<F$9,0,IF(AND(F44=0,F65=0),1,IF(AND(F44=0,F65>0),2,IF(F65<0,0,(F65/F44))))) -> 1 | G67: =IF($D$2<G$9,0,IF(AND(G44=0,G65=0),1,IF(AND(G44=0,G65>0),2,IF(G65<0,0,(G65/G44))))) -> 1 | H67: =IF($D$2<H$9,0,IF(AND(H44=0,H65=0),1,IF(AND(H44=0,H65>0),2,IF(H65<0,0,(H65/H44))))) -> 1 | I67: =IF($D$2<I$9,0,IF(AND(I44=0,I65=0),1,IF(AND(I44=0,I65>0),2,IF(I65<0,0,(I65/I44))))) -> 1 | J67: =IF($D$2<J$9,0,IF(AND(J44=0,J65=0),1,IF(AND(J44=0,J65>0),2,IF(J65<0,0,(J65/J44))))) -> 1 | K67: =IF($D$2<K$9,0,IF(AND(K44=0,K65=0),1,IF(AND(K44=0,K65>0),2,IF(K65<0,0,(K65/K44))))) -> 1 | L67: =IF($D$2<L$9,0,IF(AND(L44=0,L65=0),1,IF(AND(L44=0,L65>0),2,IF(L65<0,0,(L65/L44))))) -> 1 | N67: =IF($D$2<N$9,0,IF(AND(N44=0,N65=0),1,IF(AND(N44=0,N65>0),2,IF(N65<0,0,(N65/N44))))) -> #REF! | O67: =IF($D$2<O$9,0,IF(AND(O44=0,O65=0),1,IF(AND(O44=0,O65>0),2,IF(O65<0,0,(O65/O44))))) -> 0 | P67: =IF($D$2<P$9,0,IF(AND(P44=0,P65=0),1,IF(AND(P44=0,P65>0),2,IF(P65<0,0,(P65/P44))))) -> 0 | Q67: =IF($D$2<Q$9,0,IF(AND(Q44=0,Q65=0),1,IF(AND(Q44=0,Q65>0),2,IF(Q65<0,0,(Q65/Q44))))) -> 0 | R67: =NP!R67 -> 0 | S67: =NP!S67 -> 0 | T67: =NP!T67 -> 0 | U67: Last 3Y
B68: =B35 -> Fy Q3 2425
B69: =B36 -> Fy Q4 2324
D70: 0 | E70: 0.074367089 | F70: 0.18037975 | G70: 0.21044304 | H70: 0.53481013 | I70: 0.1504065 | J70: 0.17174797 | K70: 0.20020325 | L70: 0.47764228 | N70: 0.056364788 | O70: 0.10196327 | P70: 0.13742875 | Q70: 0.70424319 | R70: =$U$70*R$1 -> 1.68 | S70: =$U$70*S$1 -> 2.56 | T70: =$U$70*T$1 -> 3.76 | U70: 8
B71: Consumer SI Overseas-BD NB WF Q4FY2122
C72: Month | D72: =D$6 -> 1 | E72: =E$6 -> 1 | F72: =F$6 -> 1 | G72: =G$6 -> 1 | H72: =H$6 -> 2 | I72: =I$6 -> 2 | J72: =J$6 -> 2 | K72: =K$6 -> 2 | L72: =L$6 -> 2 | M72: 3 | N72: 3 | O72: =O$6 -> 3 | P72: =P$6 -> 3 | Q72: =Q$6 -> 3 | R72: 1 | S72: 2 | T72: 3 | U72: QTR
C73: Week | D73: =D$7 -> 1 | E73: =E$7 -> 2 | F73: =F$7 -> 3 | G73: =G$7 -> 5 | H73: =H$7 -> 5 | I73: =I$7 -> 6 | J73: =J$7 -> 7 | K73: =K$7 -> 8 | L73: =L$7 -> 9 | N73: 9 | O73: =O$7 -> 11 | P73: =P$7 -> 12 | Q73: =Q$7 -> 13
C74: Begin | D74: =D8 -> 45931 | E74: =E8 -> 45936 | F74: =F8 -> 45943 | G74: =G8 -> 45957 | H74: =H8 -> 45962 | I74: =I8 -> 45964 | J74: =J8 -> 45971 | K74: =K8 -> 45978 | ... Q74: =Q8 -> 46013 | R74: =D74 -> 45931 | S74: =I74 -> 45964 | T74: =N74 -> 45992 | U74: =D74 -> 45931
C75: End | D75: =D9 -> 45935 | E75: =E9 -> 45942 | F75: =F9 -> 45949 | G75: =G9 -> 45961 | H75: =H9 -> 45963 | I75: =I9 -> 45970 | J75: =J9 -> 45977 | K75: =K9 -> 45984 | ... Q75: =Q9 -> 46022 | R75: =H75 -> 45963 | S75: =L75 -> 45991 | T75: =Q75 -> 46022 | U75: =T75 -> 46022
B76: Target | C76: Week | R76: =SUMIF($D$6:$Q$6,R$6,$D76:$Q76) -> 0 | S76: =SUMIF($D$6:$Q$6,S$6,$D76:$Q76) -> 0 | T76: =SUMIF($D$6:$Q$6,T$6,$D76:$Q76) -> 0 | U76: =SUM(R76:T76) -> 0
C77: QTD | D77: =D76 -> 0 | E77: =D77+E76 -> 0 | F77: =E77+F76 -> 0 | G77: =F77+G76 -> 0 | H77: =G77+H76 -> 0 | I77: =H77+I76 -> 0 | J77: =I77+J76 -> 0 | K77: =J77+K76 -> 0 | L77: =K77+L76 -> 0 | M77: =L77+M76 -> 0 | N77: =L77+N76 -> 0 | O77: =N77+O76 -> 0 | P77: =O77+P76 -> 0 | Q77: =P77+Q76 -> 0 | R77: =IFERROR(R76/$U76,0) -> 0 | S77: =IFERROR(S76/$U76,0) -> 0 | T77: =IFERROR(T76/$U76,0) -> 0
C78: 0 | R78: =SUMIF($D$6:$Q$6,R$6,$D78:$Q78) -> 0 | S78: =SUMIF($D$6:$Q$6,S$6,$D78:$Q78) -> 0 | T78: =SUMIF($D$6:$Q$6,T$6,$D78:$Q78) -> 0 | U78: =SUM(R78:T78) -> 0
B79: Week | C79: 1 | R79: =SUMIF($D$6:$Q$6,R$6,$D79:$Q79) -> 0 | S79: =SUMIF($D$6:$Q$6,S$6,$D79:$Q79) -> 0 | T79: =SUMIF($D$6:$Q$6,T$6,$D79:$Q79) -> 0 | U79: =SUM(R79:T79) -> 0
C80: 2 | D80: =IF($C80<=$D$1,D79,0) -> 0 | R80: =SUMIF($D$6:$Q$6,R$6,$D80:$Q80) -> 0 | S80: =SUMIF($D$6:$Q$6,S$6,$D80:$Q80) -> 0 | T80: =SUMIF($D$6:$Q$6,T$6,$D80:$Q80) -> 0 | U80: =SUM(R80:T80) -> 0
C81: 3 | D81: =IF($C81<=$D$1,D80,0) -> 0 | E81: =IF($C81<=$D$1,E80,0) -> 0 | R81: =SUMIF($D$6:$Q$6,R$6,$D81:$Q81) -> 0 | S81: =SUMIF($D$6:$Q$6,S$6,$D81:$Q81) -> 0 | T81: =SUMIF($D$6:$Q$6,T$6,$D81:$Q81) -> 0 | U81: =SUM(R81:T81) -> 0
C82: 4 | D82: =IF($C82<=$D$1,D81,0) -> 0 | E82: =IF($C82<=$D$1,E81,0) -> 0 | F82: =IF($C82<=$D$1,F81,0) -> 0 | R82: =SUMIF($D$6:$Q$6,R$6,$D82:$Q82) -> 0 | S82: =SUMIF($D$6:$Q$6,S$6,$D82:$Q82) -> 0 | T82: =SUMIF($D$6:$Q$6,T$6,$D82:$Q82) -> 0 | U82: =SUM(R82:T82) -> 0
C83: 5 | D83: =IF($C83<=$D$1,D82,0) -> 0 | E83: =IF($C83<=$D$1,E82,0) -> 0 | F83: =IF($C83<=$D$1,F82,0) -> 0 | G83: =IF($C83<=$D$1,G82,0) -> 0 | R83: =SUMIF($D$6:$Q$6,R$6,$D83:$Q83) -> 0 | S83: =SUMIF($D$6:$Q$6,S$6,$D83:$Q83) -> 0 | T83: =SUMIF($D$6:$Q$6,T$6,$D83:$Q83) -> 0 | U83: =SUM(R83:T83) -> 0
C84: 6 | D84: =IF($C84<=$D$1,D83,0) -> 0 | E84: =IF($C84<=$D$1,E83,0) -> 0 | F84: =IF($C84<=$D$1,F83,0) -> 0 | G84: =IF($C84<=$D$1,G83,0) -> 0 | H84: =IF($C84<=$D$1,H83,0) -> 0 | R84: =SUMIF($D$6:$Q$6,R$6,$D84:$Q84) -> 0 | S84: =SUMIF($D$6:$Q$6,S$6,$D84:$Q84) -> 0 | T84: =SUMIF($D$6:$Q$6,T$6,$D84:$Q84) -> 0 | U84: =SUM(R84:T84) -> 0
C85: 7 | D85: =IF($C85<=$D$1,D84,0) -> 0 | E85: =IF($C85<=$D$1,E84,0) -> 0 | F85: =IF($C85<=$D$1,F84,0) -> 0 | G85: =IF($C85<=$D$1,G84,0) -> 0 | H85: =IF($C85<=$D$1,H84,0) -> 0 | I85: =IF($C85<=$D$1,I84,0) -> 0 | R85: =SUMIF($D$6:$Q$6,R$6,$D85:$Q85) -> 0 | S85: =SUMIF($D$6:$Q$6,S$6,$D85:$Q85) -> 0 | T85: =SUMIF($D$6:$Q$6,T$6,$D85:$Q85) -> 0 | U85: =SUM(R85:T85) -> 0
C86: 8 | D86: =IF($C86<=$D$1,D85,0) -> 0 | E86: =IF($C86<=$D$1,E85,0) -> 0 | F86: =IF($C86<=$D$1,F85,0) -> 0 | G86: =IF($C86<=$D$1,G85,0) -> 0 | H86: =IF($C86<=$D$1,H85,0) -> 0 | I86: =IF($C86<=$D$1,I85,0) -> 0 | J86: =IF($C86<=$D$1,J85,0) -> 0 | R86: =SUMIF($D$6:$Q$6,R$6,$D86:$Q86) -> 0 | S86: =SUMIF($D$6:$Q$6,S$6,$D86:$Q86) -> 0 | T86: =SUMIF($D$6:$Q$6,T$6,$D86:$Q86) -> 0 | U86: =SUM(R86:T86) -> 0
C87: 9 | D87: =IF($C87<=$D$1,D86,0) -> 0 | E87: =IF($C87<=$D$1,E86,0) -> 0 | F87: =IF($C87<=$D$1,F86,0) -> 0 | G87: =IF($C87<=$D$1,G86,0) -> 0 | H87: =IF($C87<=$D$1,H86,0) -> 0 | I87: =IF($C87<=$D$1,I86,0) -> 0 | J87: =IF($C87<=$D$1,J86,0) -> 0 | K87: =IF($C87<=$D$1,K86,0) -> 0 | R87: =SUMIF($D$6:$Q$6,R$6,$D87:$Q87) -> 0 | S87: =SUMIF($D$6:$Q$6,S$6,$D87:$Q87) -> 0 | T87: =SUMIF($D$6:$Q$6,T$6,$D87:$Q87) -> 0 | U87: =SUM(R87:T87) -> 0
C88: 10 | D88: =IF($C88<=$D$1,D87,0) -> 0 | E88: =IF($C88<=$D$1,E87,0) -> 0 | F88: =IF($C88<=$D$1,F87,0) -> 0 | G88: =IF($C88<=$D$1,G87,0) -> 0 | H88: =IF($C88<=$D$1,H87,0) -> 0 | I88: =IF($C88<=$D$1,I87,0) -> 0 | J88: =IF($C88<=$D$1,J87,0) -> 0 | K88: =IF($C88<=$D$1,K87,0) -> 0 | ... M88: =IF($C88<=$D$1,M87,0) -> 0 | R88: =SUMIF($D$6:$Q$6,R$6,$D88:$Q88) -> 0 | S88: =SUMIF($D$6:$Q$6,S$6,$D88:$Q88) -> 0 | T88: =SUMIF($D$6:$Q$6,T$6,$D88:$Q88) -> 0 | U88: =SUM(R88:T88) -> 0
C89: 11 | D89: =IF($C89<=$D$1,D88,0) -> 0 | E89: =IF($C89<=$D$1,E88,0) -> 0 | F89: =IF($C89<=$D$1,F88,0) -> 0 | G89: =IF($C89<=$D$1,G88,0) -> 0 | H89: =IF($C89<=$D$1,H88,0) -> 0 | I89: =IF($C89<=$D$1,I88,0) -> 0 | J89: =IF($C89<=$D$1,J88,0) -> 0 | K89: =IF($C89<=$D$1,K88,0) -> 0 | ... N89: =IF($C89<=$D$1,N88,0) -> 0 | R89: =SUMIF($D$6:$Q$6,R$6,$D89:$Q89) -> 0 | S89: =SUMIF($D$6:$Q$6,S$6,$D89:$Q89) -> 0 | T89: =SUMIF($D$6:$Q$6,T$6,$D89:$Q89) -> 0 | U89: =SUM(R89:T89) -> 0
C90: 12 | D90: =IF($C90<=$D$1,D89,0) -> 0 | E90: =IF($C90<=$D$1,E89,0) -> 0 | F90: =IF($C90<=$D$1,F89,0) -> 0 | G90: =IF($C90<=$D$1,G89,0) -> 0 | H90: =IF($C90<=$D$1,H89,0) -> 0 | I90: =IF($C90<=$D$1,I89,0) -> 0 | J90: =IF($C90<=$D$1,J89,0) -> 0 | K90: =IF($C90<=$D$1,K89,0) -> 0 | ... O90: =IF($C90<=$D$1,O89,0) -> 0 | R90: =SUMIF($D$6:$Q$6,R$6,$D90:$Q90) -> 0 | S90: =SUMIF($D$6:$Q$6,S$6,$D90:$Q90) -> 0 | T90: =SUMIF($D$6:$Q$6,T$6,$D90:$Q90) -> 0 | U90: =SUM(R90:T90) -> 0 | V90: =U89-U90 -> 0
C91: 13 | D91: =IF($C91<=$D$1,D90,0) -> 0 | E91: =IF($C91<=$D$1,E90,0) -> 0 | F91: =IF($C91<=$D$1,F90,0) -> 0 | G91: =IF($C91<=$D$1,G90,0) -> 0 | H91: =IF($C91<=$D$1,H90,0) -> 0 | I91: =IF($C91<=$D$1,I90,0) -> 0 | J91: =IF($C91<=$D$1,J90,0) -> 0 | K91: =IF($C91<=$D$1,K90,0) -> 0 | ... P91: =IF($C91<=$D$1,P90,0) -> 0 | R91: =SUMIF($D$6:$Q$6,R$6,$D91:$Q91) -> 0 | S91: =SUMIF($D$6:$Q$6,S$6,$D91:$Q91) -> 0 | T91: =SUMIF($D$6:$Q$6,T$6,$D91:$Q91) -> 0 | U91: =SUM(R91:T91) -> 0
B92: Actual | C92: 0 | D92: =INDEX($D$46:$D$58,MATCH($D$1,$C$46:$C$58,0)) -> 0 | E92: =INDEX($D$46:$D$58,MATCH($D$1,$C$46:$C$58,0)) -> 0 | F92: =INDEX($D$46:$D$58,MATCH($D$1,$C$46:$C$58,0)) -> 0 | G92: =INDEX($D$46:$D$58,MATCH($D$1,$C$46:$C$58,0)) -> 0 | H92: =INDEX($D$46:$D$58,MATCH($D$1,$C$46:$C$58,0)) -> 0 | I92: =INDEX($D$46:$D$58,MATCH($D$1,$C$46:$C$58,0)) -> 0 | J92: =INDEX($D$46:$D$58,MATCH($D$1,$C$46:$C$58,0)) -> 0 | K92: =INDEX($D$46:$D$58,MATCH($D$1,$C$46:$C$58,0)) -> 0 | ... U92: =INDEX($D$46:$D$58,MATCH($D$1,$C$46:$C$58,0)) -> 0
B93: Delta to Target | C93: 0 | D93: =IF(D$9<=$D$2,D92-D76,0) -> 0 | E93: =IF(E$9<=$D$2,E92-E76,0) -> 0 | F93: =IF(F$9<=$D$2,F92-F76,0) -> 0 | G93: =IF(G$9<=$D$2,G92-G76,0) -> 0 | H93: =IF(H$9<=$D$2,H92-H76,0) -> 0 | I93: =IF(I$9<=$D$2,I92-I76,0) -> 0 | J93: =IF(J$9<=$D$2,J92-J76,0) -> 0 | K93: =IF(K$9<=$D$2,K92-K76,0) -> 0 | ... U93: =IF(U$9<=$D$2,U92-U76,0) -> 0
B94: % to Target | C94: 0 | D94: =IF($D$2<D$9,0,IF(AND(D76=0,D92=0),1,IF(AND(D76=0,D92>0),2,IF(D92<0,0,(D92/D76))))) -> 1 | E94: =IF($D$2<E$9,0,IF(AND(E76=0,E92=0),1,IF(AND(E76=0,E92>0),2,IF(E92<0,0,(E92/E76))))) -> 1 | F94: =IF($D$2<F$9,0,IF(AND(F76=0,F92=0),1,IF(AND(F76=0,F92>0),2,IF(F92<0,0,(F92/F76))))) -> 1 | G94: =IF($D$2<G$9,0,IF(AND(G76=0,G92=0),1,IF(AND(G76=0,G92>0),2,IF(G92<0,0,(G92/G76))))) -> 1 | H94: =IF($D$2<H$9,0,IF(AND(H76=0,H92=0),1,IF(AND(H76=0,H92>0),2,IF(H92<0,0,(H92/H76))))) -> 1 | I94: =IF($D$2<I$9,0,IF(AND(I76=0,I92=0),1,IF(AND(I76=0,I92>0),2,IF(I92<0,0,(I92/I76))))) -> 1 | J94: =IF($D$2<J$9,0,IF(AND(J76=0,J92=0),1,IF(AND(J76=0,J92>0),2,IF(J92<0,0,(J92/J76))))) -> 1 | K94: =IF($D$2<K$9,0,IF(AND(K76=0,K92=0),1,IF(AND(K76=0,K92>0),2,IF(K92<0,0,(K92/K76))))) -> 1 | ... U94: =IF($D$2<U$9,0,IF(AND(U76=0,U92=0),1,IF(AND(U76=0,U92>0),2,IF(U92<0,0,(U92/U76))))) -> 0
B95: ="Week "&$D$1&" View" -> Week 10 View | D95: =INDEX(D79:D91,MATCH($D$1,$C$13:$C$25,0)) -> 0 | E95: =INDEX(E79:E91,MATCH($D$1,$C$13:$C$25,0)) -> 0 | F95: =INDEX(F79:F91,MATCH($D$1,$C$13:$C$25,0)) -> 0 | G95: =INDEX(G79:G91,MATCH($D$1,$C$13:$C$25,0)) -> 0 | H95: =INDEX(H79:H91,MATCH($D$1,$C$13:$C$25,0)) -> 0 | I95: =INDEX(I79:I91,MATCH($D$1,$C$13:$C$25,0)) -> 0 | J95: =INDEX(J79:J91,MATCH($D$1,$C$13:$C$25,0)) -> 0 | K95: =INDEX(K79:K91,MATCH($D$1,$C$13:$C$25,0)) -> 0 | ... U95: =INDEX(U79:U91,MATCH($D$1,$C$13:$C$25,0)) -> 0
B96: Linearity | D96: =IFERROR(D95/$R95,0) -> 0 | E96: =IFERROR(E95/$R95,0) -> 0 | F96: =IFERROR(F95/$R95,0) -> 0 | G96: =IFERROR(G95/$R95,0) -> 0 | H96: =IFERROR(H95/$R95,0) -> 0 | I96: =IFERROR(I95/$S95,0) -> 0 | J96: =IFERROR(J95/$S95,0) -> 0 | K96: =IFERROR(K95/$S95,0) -> 0 | L96: =IFERROR(L95/$S95,0) -> 0 | M96: =IFERROR(M95/$S95,0) -> 0 | N96: =IFERROR(N95/$T95,0) -> 0 | O96: =IFERROR(O95/$T95,0) -> 0 | P96: =IFERROR(P95/$T95,0) -> 0 | Q96: =IFERROR(Q95/$T95,0) -> 0 | R96: =IFERROR(R95/$U95,0) -> 0 | S96: =IFERROR(S95/$U95,0) -> 0 | T96: =IFERROR(T95/$U95,0) -> 0
B97: Last 4Q ROL Linearity
B98: QTD Actual | C98: 0 | D98: =IF(D$9<=$D$2,D92,0) -> 0 | E98: =IF(E$9<=$D$2,E92+D98,0) -> 0 | F98: =IF(F$9<=$D$2,F92+E98,0) -> 0 | G98: =IF(G$9<=$D$2,G92+F98,0) -> 0 | H98: =IF(H$9<=$D$2,H92+G98,0) -> 0 | I98: =IF(I$9<=$D$2,I92+H98,0) -> 0 | J98: =IF(J$9<=$D$2,J92+I98,0) -> 0 | K98: =IF(K$9<=$D$2,K92+J98,0) -> 0 | L98: =IF(L$9<=$D$2,L92+K98,0) -> 0 | M98: =IF(M$9<=$D$2,M92+L98,0) -> 0 | N98: =IF(N$9<=$D$2,N92+L98,0) -> 0 | O98: =IF(O$9<=$D$2,O92+N98,0) -> 0 | P98: =IF(P$9<=$D$2,P92+O98,0) -> 0 | Q98: =IF(Q$9<=$D$2,Q92+P98,0) -> 0 | R98: =IFERROR(INDEX(R$13:R$25,$D$1,0)/INDEX($U$13:$U$25,$D$1,0),0) -> 0 | S98: =IFERROR(INDEX(S$13:S$25,$D$1,0)/INDEX($U$13:$U$25,$D$1,0),0) -> 0 | T98: =IFERROR(INDEX(T$13:T$25,$D$1,0)/INDEX($U$13:$U$25,$D$1,0),0) -> 0 | U98: Current
B99: QTD Delta to Tgt | C99: 0 | D99: =IF(D$27=0,0,IF(D$9<=$D$2,E98-D77,E98-D77)) -> 0 | E99: =IF(E$27=0,0,IF(E$9<=$D$2,F98-E77,F98-E77)) -> 0 | F99: =IF(F$27=0,0,IF(F$9<=$D$2,G98-F77,G98-F77)) -> 0 | G99: =IF(G$27=0,0,IF(G$9<=$D$2,H98-G77,H98-G77)) -> 0 | H99: =IF(H$27=0,0,IF(H$9<=$D$2,I98-H77,I98-H77)) -> 0 | I99: =IF(I$27=0,0,IF(I$9<=$D$2,J98-I77,J98-I77)) -> 0 | J99: =IF(J$27=0,0,IF(J$9<=$D$2,K98-J77,K98-J77)) -> 0 | K99: =IF(K$27=0,0,IF(K$9<=$D$2,L98-K77,L98-K77)) -> 0 | L99: =IF(L$27=0,0,IF(L$9<=$D$2,N98-L77,N98-L77)) -> 0 | M99: =IF(M$27=0,0,IF(M$9<=$D$2,O98-M77,O98-M77)) -> 0 | N99: =IF(N$27=0,0,IF(N$9<=$D$2,O98-N77,O98-N77)) -> 0 | O99: =IF(O$27=0,0,IF(O$9<=$D$2,P98-O77,P98-O77)) -> 0 | P99: =IF(P$27=0,0,IF(P$9<=$D$2,Q98-P77,Q98-P77)) -> 0 | Q99: =IF(Q$27=0,0,IF(Q$9<=$D$2,R98-Q77,R98-Q77)) -> 0 | R99: =NP!R99 -> 0 | S99: =NP!S99 -> 0 | T99: =NP!T99 -> 0 | U99: Last 4Q
B100: % to Target | C100: 0 | D100: =IF($D$2<D$9,0,IF(AND(D77=0,D98=0),1,IF(AND(D77=0,D98>0),2,IF(D98<0,0,(D98/D77))))) -> 1 | E100: =IF($D$2<E$9,0,IF(AND(E77=0,E98=0),1,IF(AND(E77=0,E98>0),2,IF(E98<0,0,(E98/E77))))) -> 1 | F100: =IF($D$2<F$9,0,IF(AND(F77=0,F98=0),1,IF(AND(F77=0,F98>0),2,IF(F98<0,0,(F98/F77))))) -> 1 | G100: =IF($D$2<G$9,0,IF(AND(G77=0,G98=0),1,IF(AND(G77=0,G98>0),2,IF(G98<0,0,(G98/G77))))) -> 1 | H100: =IF($D$2<H$9,0,IF(AND(H77=0,H98=0),1,IF(AND(H77=0,H98>0),2,IF(H98<0,0,(H98/H77))))) -> 1 | I100: =IF($D$2<I$9,0,IF(AND(I77=0,I98=0),1,IF(AND(I77=0,I98>0),2,IF(I98<0,0,(I98/I77))))) -> 1 | J100: =IF($D$2<J$9,0,IF(AND(J77=0,J98=0),1,IF(AND(J77=0,J98>0),2,IF(J98<0,0,(J98/J77))))) -> 1 | K100: =IF($D$2<K$9,0,IF(AND(K77=0,K98=0),1,IF(AND(K77=0,K98>0),2,IF(K98<0,0,(K98/K77))))) -> 1 | ... Q100: =IF($D$2<Q$9,0,IF(AND(Q77=0,Q98=0),1,IF(AND(Q77=0,Q98>0),2,IF(Q98<0,0,(Q98/Q77))))) -> 0 | R100: =NP!R100 -> 0 | S100: =NP!S100 -> 0 | T100: =NP!T100 -> 0 | U100: Last 3Y
B101: ='SI -Overall'!$B$35 -> Fy Q3 2425
B102: ='SI -Overall'!$B$36 -> Fy Q4 2324

Sheet NP
C1: Week# | D1: ='SI -Overall'!D1 -> 10 | R1: 0.21 | S1: 0.32 | T1: 0.47
C2: Weekending dt: | D2: ='SI -Overall'!D2 -> 45998
B5: Consumer SI NP WF Q1FY2223
B6: Month | D6: 1 | E6: 1 | F6: 1 | G6: 1 | H6: 2 | I6: 2 | J6: 2 | K6: 2 | L6: 2 | M6: 3 | N6: 3 | O6: 3 | P6: 3 | Q6: 3 | R6: 1 | S6: 2 | T6: 3 | U6: QTR
B7: Week | D7: ='SI -Overall'!D7 -> 1 | E7: ='SI -Overall'!E7 -> 2 | F7: ='SI -Overall'!F7 -> 3 | G7: ='SI -Overall'!H7 -> 5 | H7: ='SI -Overall'!I7 -> 5 | I7: ='SI -Overall'!J7 -> 6 | J7: ='SI -Overall'!K7 -> 7 | K7: ='SI -Overall'!L7 -> 8 | L7: ='SI -Overall'!M7 -> 9 | M7: ='SI -Overall'!N7 -> 9b | N7: ='SI -Overall'!O7 -> 10 | ... Q7: ='SI -Overall'!R7 -> 13
B8: Begin | D8: ='SI -Overall'!D8 -> 45931 | E8: ='SI -Overall'!E8 -> 45936 | F8: ='SI -Overall'!F8 -> 45943 | G8: ='SI -Overall'!H8 -> 45957 | H8: ='SI -Overall'!I8 -> 45962 | I8: ='SI -Overall'!J8 -> 45964 | J8: ='SI -Overall'!K8 -> 45971 | K8: ='SI -Overall'!L8 -> 45978 | L8: ='SI -Overall'!M8 -> 45985 | M8: ='SI -Overall'!N8 -> 45985 | N8: ='SI -Overall'!O8 -> 45992 | ... Q8: ='SI -Overall'!R8 -> 46013 | R8: =D8 -> 45931 | S8: =D8 -> 45931 | T8: =I8 -> 45964 | U8: =N8 -> 45992
B9: End | D9: ='SI -Overall'!D9 -> 45935 | E9: ='SI -Overall'!E9 -> 45942 | F9: ='SI -Overall'!F9 -> 45949 | G9: ='SI -Overall'!H9 -> 45961 | H9: ='SI -Overall'!I9 -> 45963 | I9: ='SI -Overall'!J9 -> 45970 | J9: ='SI -Overall'!K9 -> 45977 | K9: ='SI -Overall'!L9 -> 45984 | L9: ='SI -Overall'!M9 -> 45991 | M9: ='SI -Overall'!N9 -> 45991 | N9: ='SI -Overall'!O9 -> 45998 | ... Q9: ='SI -Overall'!R9 -> 46022 | R9: =H9 -> 45963 | S9: =H9 -> 45963 | T9: =L9 -> 45991 | U9: =Q9 -> 46022
B10: Target | C10: Week | R10: =SUMIF($D$6:$Q$6,R$6,$D10:$Q10) -> 0 | S10: =SUMIF($D$6:$Q$6,S$6,$D10:$Q10) -> 0 | T10: =SUMIF($D$6:$Q$6,T$6,$D10:$Q10) -> 0 | U10: =SUM(R10:T10) -> 0
B11: QTD | D11: =D10 -> 0 | E11: =D11+E10 -> 0 | F11: =E11+F10 -> 0 | G11: =F11+G10 -> 0 | H11: =G11+H10 -> 0 | I11: =H11+I10 -> 0 | J11: =I11+J10 -> 0 | K11: =J11+K10 -> 0 | L11: =K11+L10 -> 0 | M11: =L11+M10 -> 0 | N11: =L11+N10 -> 0 | O11: =N11+O10 -> 0 | P11: =O11+P10 -> 0 | Q11: =P11+Q10 -> 0 | R11: =IFERROR(R10/$U10,0) -> 0 | S11: =IFERROR(S10/$U10,0) -> 0 | T11: =IFERROR(T10/$U10,0) -> 0
C12: 0 | D12: =D45+D78 -> 0 | E12: =E45+E78 -> 0 | F12: =F45+F78 -> 0 | G12: =G45+G78 -> 0 | H12: =H45+H78 -> 0 | I12: =I45+I78 -> 0 | J12: =J45+J78 -> 0 | K12: =K45+K78 -> 0 | ... Q12: =Q45+Q78 -> 0 | R12: =SUMIF($D$6:$Q$6,R$6,$D12:$Q12) -> 0 | S12: =SUMIF($D$6:$Q$6,S$6,$D12:$Q12) -> 0 | T12: =SUMIF($D$6:$Q$6,T$6,$D12:$Q12) -> 0 | U12: =SUM(R12:T12) -> 0
B13: Week | C13: 1 | D13: =0+(D46+D79) -> 0 | E13: =0+(E46+E79) -> 0 | F13: =0+(F46+F79) -> 0 | G13: =0+(G46+G79) -> 0 | H13: =0+(H46+H79) -> 0 | I13: =0+(I46+I79) -> 0 | J13: =0+(J46+J79) -> 0 | K13: =0+(K46+K79) -> 0 | ... Q13: =0+(Q46+Q79) -> 0 | R13: =0+(SUMIF($D$6:$Q$6,R$6,$D13:$Q13)) -> 0 | S13: =0+(SUMIF($D$6:$Q$6,S$6,$D13:$Q13)) -> 0 | T13: =0+(SUMIF($D$6:$Q$6,T$6,$D13:$Q13)) -> 0 | U13: =0+(SUM(R13:T13)) -> 0
C14: 2 | D14: =IF($C14<=$D$1,D13,0) -> 0 | E14: =0+(E47+E80) -> 0 | F14: =0+(F47+F80) -> 0 | G14: =0+(G47+G80) -> 0 | H14: =0+(H47+H80) -> 0 | I14: =0+(I47+I80) -> 0 | J14: =0+(J47+J80) -> 0 | K14: =0+(K47+K80) -> 0 | L14: =0+(L47+L80) -> 0 | ... Q14: =0+(Q47+Q80) -> 0 | R14: =SUMIF($D$6:$Q$6,R$6,$D14:$Q14) -> 0 | S14: =SUMIF($D$6:$Q$6,S$6,$D14:$Q14) -> 0 | T14: =SUMIF($D$6:$Q$6,T$6,$D14:$Q14) -> 0 | U14: =SUM(R14:T14) -> 0
