Workbook
Name PERF_GREEN: 1

Sheet Linearity
B1: Month | C1: 1 | D1: 1 | E1: 1 | F1: 1 | G1: 1 | H1: 2 | I1: 2 | J1: 2 | K1: 2 | L1: 2 | M1: 3 | N1: 3 | O1: 3 | P1: 3 | Q1: 3 | R1: 1 | S1: 2 | T1: 3 | U1: QTR
B2: Week | C2: 1 | D2: 2 | E2: 3 | F2: 4 | G2: 5 | H2: 5 | I2: 6 | J2: 7 | K2: 8 | L2: 9 | M2: 9 | N2: 10 | O2: 11 | P2: 12 | Q2: 13
B3: Begin | C3: 43831 | D3: 43836 | E3: 43843 | F3: 43850 | G3: 43857 | H3: 43862 | I3: 43864 | J3: 43871 | K3: 43878 | L3: 43885 | M3: 43891 | N3: 43892 | O3: 43899 | P3: 43906 | Q3: 43913 | R3: 43831 | S3: 43862 | T3: 43891 | U3: 43831
B4: End | C4: 43835 | D4: 43842 | E4: 43849 | F4: 43856 | G4: 43861 | H4: 43863 | I4: 43870 | J4: 43877 | K4: 43884 | L4: 43890 | M4: 43891 | N4: 43898 | O4: 43905 | P4: 43912 | Q4: 43921 | R4: 43861 | S4: 43890 | T4: 43921 | U4: 43921
B6: India | C6: ='SI-Onshore'!D10 -> 0.74845585 | D6: ='SI-Onshore'!E10 -> 0.48541433 | E6: ='SI-Onshore'!F10 -> 10.43692 | F6: ='SI-Onshore'!H10 -> 5.4458227 | G6: ='SI-Onshore'!I10 -> 0 | H6: ='SI-Onshore'!J10 -> 2.924211 | I6: ='SI-Onshore'!K10 -> 10.20987 | J6: ='SI-Onshore'!L10 -> 18.496786 | K6: ='SI-Onshore'!M10 -> 27.438802 | L6: ='SI-Onshore'!#REF! -> #REF! | M6: ='SI-Onshore'!O10 -> 13.190423 | N6: ='SI-Onshore'!P10 -> 13.865355 | O6: ='SI-Onshore'!Q10 -> 23.509741 | P6: ='SI-Onshore'!R10 -> 106.90863 | Q6: ='SI-Onshore'!#REF! -> #REF! | R6: ='SI-Onshore'!S10 -> 33.456186 | S6: ='SI-Onshore'!T10 -> 59.069669 | T6: ='SI-Onshore'!U10 -> 157.47415 | U6: ='SI-Onshore'!V10 -> 250
B7: SLBD | C7: ='SI-Overseas'!D10 -> 0.11185612 | D7: ='SI-Overseas'!E10 -> 0.072544779 | E7: ='SI-Overseas'!F10 -> 1.5597893 | F7: ='SI-Overseas'!H10 -> 0.8138738 | G7: ='SI-Overseas'!I10 -> 0 | H7: ='SI-Overseas'!J10 -> 0.3465311 | I7: ='SI-Overseas'!K10 -> 1.2099118 | J7: ='SI-Overseas'!L10 -> 2.1919456 | K7: ='SI-Overseas'!M10 -> 3.2516115 | L7: ='SI-Overseas'!#REF! -> #REF! | M7: ='SI-Overseas'!O10 -> 0.67009973 | N7: ='SI-Overseas'!P10 -> 0.70438762 | O7: ='SI-Overseas'!Q10 -> 1.1943416 | P7: ='SI-Overseas'!R10 -> 5.431171 | Q7: ='SI-Overseas'!#REF! -> #REF! | R7: ='SI-Overseas'!S10 -> 5 | S7: ='SI-Overseas'!T10 -> 7 | T7: ='SI-Overseas'!U10 -> 8 | U7: ='SI-Overseas'!V10 -> 20
B8: Total | C8: =SUM(C6:C7) -> 0.86031197 | D8: =SUM(D6:D7) -> 0.55795911 | E8: =SUM(E6:E7) -> 11.996709 | F8: =SUM(F6:F7) -> 6.2596965 | G8: =SUM(G6:G7) -> 0 | H8: =SUM(H6:H7) -> 3.2707421 | I8: =SUM(I6:I7) -> 11.419782 | J8: =SUM(J6:J7) -> 20.688731 | ... U8: =SUM(U6:U7) -> 270
A10: Cumma. | B10: India | C10: =C6 -> 0.74845585 | D10: =C10+D6 -> 1.2338702 | E10: =D10+E6 -> 11.67079 | F10: =E10+F6 -> 17.116613 | G10: =F10+G6 -> 17.116613 | H10: =G10+H6 -> 20.040824 | I10: =H10+I6 -> 30.250694 | J10: =I10+J6 -> 48.74748 | K10: =J10+K6 -> 76.186282 | ... Q10: =P10+Q6 -> #REF!
B11: SLBD | C11: =C7 -> 0.11185612 | D11: =C11+D7 -> 0.1844009 | E11: =D11+E7 -> 1.7441902 | F11: =E11+F7 -> 2.558064 | G11: =F11+G7 -> 2.558064 | H11: =G11+H7 -> 2.9045951 | I11: =H11+I7 -> 4.1145069 | J11: =I11+J7 -> 6.3064525 | K11: =J11+K7 -> 9.558064 | ... Q11: =P11+Q7 -> #REF!
B12: Total | C12: =C8 -> 0.86031197 | D12: =C12+D8 -> 1.4182711 | E12: =D12+E8 -> 13.41498 | F12: =E12+F8 -> 19.674677 | G12: =F12+G8 -> 19.674677 | H12: =G12+H8 -> 22.945419 | I12: =H12+I8 -> 34.365201 | J12: =I12+J8 -> 55.053932 | K12: =J12+K8 -> 85.744346 | ... Q12: =P12+Q8 -> #REF!
A15: mtd
B16: India | C16: =C6/$R6 -> 0.022371224 | D16: =D6/$R6 -> 0.014508956 | E16: =E6/$R6 -> 0.31195786 | F16: =F6/$R6 -> 0.16277476 | G16: =G6/$R6 -> 0 | H16: =H6/$S6 -> 0.049504442 | I16: =I6/$S6 -> 0.17284455 | J16: =J6/$S6 -> 0.31313509 | K16: =K6/$S6 -> 0.46451593 | L16: =L6/$S6 -> #REF! | M16: =M6/$T6 -> 0.083762466 | N16: =N6/$T6 -> 0.088048453 | O16: =O6/$T6 -> 0.1492927 | P16: =P6/$T6 -> 0.67889638 | Q16: =Q6/$T6 -> #REF!
B17: SLBD | C17: =C7/$R7 -> 0.022371224 | D17: =D7/$R7 -> 0.014508956 | E17: =E7/$R7 -> 0.31195786 | F17: =F7/$R7 -> 0.16277476 | G17: =G7/$R7 -> 0 | H17: =H7/$S7 -> 0.049504442 | I17: =I7/$S7 -> 0.17284455 | J17: =J7/$S7 -> 0.31313509 | K17: =K7/$S7 -> 0.46451593 | L17: =L7/$S7 -> #REF! | M17: =M7/$T7 -> 0.083762466 | N17: =N7/$T7 -> 0.088048453 | O17: =O7/$T7 -> 0.1492927 | P17: =P7/$T7 -> 0.67889638 | Q17: =Q7/$T7 -> #REF!
B18: Total | C18: =C8/$R8 -> 0.022371224 | D18: =D8/$R8 -> 0.014508956 | E18: =E8/$R8 -> 0.31195786 | F18: =F8/$R8 -> 0.16277476 | G18: =G8/$R8 -> 0 | H18: =H8/$S8 -> 0.049504442 | I18: =I8/$S8 -> 0.17284455 | J18: =J8/$S8 -> 0.31313509 | K18: =K8/$S8 -> 0.46451593 | L18: =L8/$S8 -> #REF! | M18: =M8/$T8 -> 0.083762466 | N18: =N8/$T8 -> 0.088048453 | O18: =O8/$T8 -> 0.1492927 | P18: =P8/$T8 -> 0.67889638 | Q18: =Q8/$T8 -> #REF!
A19: qtd
B20: India | C20: =C10/$Q$10 -> #REF! | D20: =D10/$Q$10 -> #REF! | E20: =E10/$Q$10 -> #REF! | F20: =F10/$Q$10 -> #REF! | G20: =G10/$Q$10 -> #REF! | H20: =H10/$Q$10 -> #REF! | I20: =I10/$Q$10 -> #REF! | J20: =J10/$Q$10 -> #REF! | ... Q20: =Q10/$Q$10 -> #REF!
B21: SLBD | C21: =C11/$Q11 -> #REF! | D21: =D11/$Q11 -> #REF! | E21: =E11/$Q11 -> #REF! | F21: =F11/$Q11 -> #REF! | G21: =G11/$Q11 -> #REF! | H21: =H11/$Q11 -> #REF! | I21: =I11/$Q11 -> #REF! | J21: =J11/$Q11 -> #REF! | ... Q21: =Q11/$Q11 -> #REF!
B22: Total | C22: =C12/$Q12 -> #REF! | D22: =D12/$Q12 -> #REF! | E22: =E12/$Q12 -> #REF! | F22: =F12/$Q12 -> #REF! | G22: =G12/$Q12 -> #REF! | H22: =H12/$Q12 -> #REF! | I22: =I12/$Q12 -> #REF! | J22: =J12/$Q12 -> #REF! | ... Q22: =Q12/$Q12 -> #REF!

Sheet SI -Overall
C1: Week# | D1: 10
C2: Weekending dt: | D2: =HLOOKUP(D1,D7:R9,3,0) -> 45998
B5: Consumer SI WF Q3FY2526
C6: Month | D6: 1 | E6: 1 | F6: 1 | G6: 1 | H6: 1 | I6: 2 | J6: 2 | K6: 2 | L6: 2 | M6: 2 | N6: 3 | O6: 3 | P6: 3 | Q6: 3 | R6: 3 | S6: 1 | T6: 2 | U6: 3 | V6: QTR
C7: Week | D7: 1 | E7: 2 | F7: 3 | G7: 4 | H7: 5 | I7: 5 | J7: 6 | K7: 7 | L7: 8 | M7: 9 | N7: 9b | O7: 10 | P7: 11 | Q7: 12 | R7: 13
C8: Begin | D8: 45931 | E8: 45936 | F8: 45943 | G8: 45950 | H8: 45957 | I8: 45962 | J8: 45964 | K8: 45971 | L8: 45978 | M8: 45985 | N8: 45985 | O8: 45992 | P8: 45999 | Q8: 46006 | R8: 46013 | S8: =D8 -> 45931 | T8: =S9+1 -> 45962 | U8: =T9+1 -> 45992 | V8: =D8 -> 45931
C9: End | D9: 45935 | E9: 45942 | F9: 45949 | G9: 45956 | H9: 45961 | I9: 45963 | J9: 45970 | K9: 45977 | L9: 45984 | M9: 45991 | N9: 45991 | O9: 45998 | P9: 46005 | Q9: 46012 | R9: 46022 | S9: =H9 -> 45961 | T9: =M9 -> 45991 | U9: =R9 -> 46022 | V9: =R9 -> 46022
B10: Target | C10: Week | D10: =D43+D76 -> 0.86031197 | E10: =E43+E76 -> 0.55795911 | F10: =F43+F76 -> 11.996709 | G10: =G43+G76 -> 18.781509 | H10: =H43+H76 -> 6.2596965 | I10: =I43+I76 -> 0 | J10: =J43+J76 -> 3.2707421 | K10: =K43+K76 -> 11.419782 | ... R10: =R43+R76 -> 112.3398 | S10: =SUM(D10:H10) -> 38.456186 | T10: =SUM(I10:M10) -> 66.069669 | U10: =SUM(N10:R10) -> 165.47415 | V10: =SUM(S10:U10) -> 270
C11: QTD | D11: =D10 -> 0.86031197 | E11: =D11+E10 -> 1.4182711 | F11: =E11+F10 -> 13.41498 | G11: =F11+G10 -> 32.19649 | H11: =G11+H10 -> 38.456186 | I11: =H11+I10 -> 38.456186 | J11: =I11+J10 -> 41.726928 | K11: =J11+K10 -> 53.14671 | L11: =K11+L10 -> 73.835442 | ... R11: =Q11+R10 -> 270 | S11: =IFERROR(S10/$V10,0) -> 0.14243032 | T11: =IFERROR(T10/$V10,0) -> 0.24470248 | U11: =IFERROR(U10/$V10,0) -> 0.6128672
C12: 0 | D12: =D45+D78 -> 0.11185612 | E12: =E45+E78 -> 1.306415 | F12: =F45+F78 -> 11.996709 | G12: =G45+G78 -> 18.781509 | H12: =H45+H78 -> 6.2596965 | I12: =I45+I78 -> 0 | J12: =J45+J78 -> 3.2707421 | K12: =K45+K78 -> 11.419782 | ... R12: =R45+R78 -> 112.3398 | S12: =SUMIF($D$6:$R$6,S$6,$D12:$R12) -> 38.456186 | T12: =SUMIF($D$6:$R$6,T$6,$D12:$R12) -> 66.069669 | U12: =SUMIF($D$6:$R$6,U$6,$D12:$R12) -> 165.47415 | V12: =SUM(S12:U12) -> 270
B13: Week | C13: 1 | D13: =D46+D79 -> 0.044 | E13: =E46+E79 -> 1.8423863 | F13: =F46+F79 -> 15.584167 | G13: =G46+G79 -> 24.397871 | H13: =H46+H79 -> 8.1315759 | I13: =I46+I79 -> 0 | J13: =J46+J79 -> 3.3167976 | K13: =K46+K79 -> 11.580585 | ... R13: =R46+R79 -> 104.19225 | S13: =SUMIF($D$6:$R$6,S$6,$D13:$R13) -> 50 | T13: =SUMIF($D$6:$R$6,T$6,$D13:$R13) -> 67 | U13: =SUMIF($D$6:$R$6,U$6,$D13:$R13) -> 153 | V13: =SUM(S13:U13) -> 270
C14: 2 | D14: =IF($C14<=$D$1,D13,0) -> 0.044 | E14: =E47+E80 -> 10.579 | F14: =F47+F80 -> 15.584167 | G14: =G47+G80 -> 16.382041 | H14: =H47+H80 -> 7.4107925 | I14: =I47+I80 -> 0 | J14: =J47+J80 -> 3.3167976 | K14: =K47+K80 -> 11.580585 | L14: =L47+L80 -> 20.980051 | ... R14: =R47+R80 -> 104.19225 | S14: =SUMIF($D$6:$R$6,S$6,$D14:$R14) -> 50 | T14: =SUMIF($D$6:$R$6,T$6,$D14:$R14) -> 67 | U14: =SUMIF($D$6:$R$6,U$6,$D14:$R14) -> 153 | V14: =SUM(S14:U14) -> 270
C15: 3 | D15: =IF($C15<=$D$1,D14,0) -> 0.044 | E15: =IF($C15<=$D$1,E14,0) -> 10.579 | F15: =F48+F81 -> 16.442 | G15: =G48+G81 -> 16.196047 | H15: =H48+H81 -> 7.9879532 | I15: =I48+I81 -> 0.65 | J15: =J48+J81 -> 6.2389742 | K15: =K48+K81 -> 17.50036 | L15: =L48+L81 -> 26.362373 | M15: =M48+M81 -> 39.598293 | ... R15: =R48+R81 -> 18.961638 | S15: =SUMIF($D$6:$R$6,S$6,$D15:$R15) -> 51.249 | T15: =SUMIF($D$6:$R$6,T$6,$D15:$R15) -> 90.35 | U15: =SUMIF($D$6:$R$6,U$6,$D15:$R15) -> 138.4 | V15: =SUM(S15:U15) -> 279.999
C16: 4 | D16: =IF($C16<=$D$1,D15,0) -> 0.044 | E16: =IF($C16<=$D$1,E15,0) -> 10.579 | F16: =IF($C16<=$D$1,F15,0) -> 16.442 | G16: =G49+G82 -> 11.037 | H16: =H49+H82 -> 27.492 | I16: =I49+I82 -> 0.65 | J16: =J49+J82 -> 6.0052278 | K16: =K49+K82 -> 17.229983 | L16: =L49+L82 -> 27.848151 | M16: =M49+M82 -> 41.916638 | N16: =N49+N82 -> 0 | ... R16: =R49+R82 -> 16.858427 | S16: =SUMIF($D$6:$R$6,S$6,$D16:$R16) -> 65.594 | T16: =SUMIF($D$6:$R$6,T$6,$D16:$R16) -> 93.65 | U16: =SUMIF($D$6:$R$6,U$6,$D16:$R16) -> 120.8 | V16: =SUM(S16:U16) -> 280.044
C17: 5 | D17: =IF($C17<=$D$1,D16,0) -> 0.044 | E17: =IF($C17<=$D$1,E16,0) -> 10.579 | F17: =IF($C17<=$D$1,F16,0) -> 16.442 | G17: =IF($C17<=$D$1,G16,0) -> 11.037 | H17: =H50+H83 -> 32.626 | I17: =I50+I83 -> 0.12 | J17: =J50+J83 -> 6.0052278 | K17: =K50+K83 -> 17.229983 | L17: =L50+L83 -> 27.848151 | M17: =M50+M83 -> 37.312638 | N17: =N50+N83 -> 0 | O17: =O50+O83 -> 23.042472 | ... R17: =R50+R83 -> 16.858427 | S17: =SUMIF($D$6:$R$6,S$6,$D17:$R17) -> 70.728 | T17: =SUMIF($D$6:$R$6,T$6,$D17:$R17) -> 88.516 | U17: =SUMIF($D$6:$R$6,U$6,$D17:$R17) -> 120.8 | V17: =SUM(S17:U17) -> 280.044
C18: 6 | D18: =IF($C18<=$D$1,D17,0) -> 0.044 | E18: =IF($C18<=$D$1,E17,0) -> 10.579 | F18: =IF($C18<=$D$1,F17,0) -> 16.442 | G18: =IF($C18<=$D$1,G17,0) -> 11.037 | H18: =IF($C18<=$D$1,H17,0) -> 32.626 | I18: =IF($C18<=$D$1,I17,0) -> 0.12 | J18: =J51+J84 -> 3.448 | K18: =K51+K84 -> 17.929983 | L18: =L51+L84 -> 26.848151 | M18: =M51+M84 -> 40.169866 | N18: =N51+N84 -> 0 | O18: =O51+O84 -> 23.042472 | P18: =P51+P84 -> 32.083767 | Q18: =Q51+Q84 -> 48.815334 | R18: =R51+R84 -> 16.858427 | S18: =SUMIF($D$6:$R$6,S$6,$D18:$R18) -> 70.728 | T18: =SUMIF($D$6:$R$6,T$6,$D18:$R18) -> 88.516 | U18: =SUMIF($D$6:$R$6,U$6,$D18:$R18) -> 120.8 | V18: =SUM(S18:U18) -> 280.044
C19: 7 | D19: =IF($C19<=$D$1,D18,0) -> 0.044 | E19: =IF($C19<=$D$1,E18,0) -> 10.579 | F19: =IF($C19<=$D$1,F18,0) -> 16.442 | G19: =IF($C19<=$D$1,G18,0) -> 11.037 | H19: =IF($C19<=$D$1,H18,0) -> 32.626 | I19: =IF($C19<=$D$1,I18,0) -> 0.12 | J19: =IF($C19<=$D$1,J18,0) -> 3.448 | K19: =K52+K85 -> 7.388 | L19: =L52+L85 -> 25.754805 | M19: =M52+M85 -> 47.289195 | N19: =N52+N85 -> 0 | O19: =O52+O85 -> 27.382025 | P19: =P52+P85 -> 35.883941 | Q19: =Q52+Q85 -> 52.87821 | R19: =R52+R85 -> 19.127824 | S19: =SUMIF($D$6:$R$6,S$6,$D19:$R19) -> 70.728 | T19: =SUMIF($D$6:$R$6,T$6,$D19:$R19) -> 84 | U19: =SUMIF($D$6:$R$6,U$6,$D19:$R19) -> 135.272 | V19: =SUM(S19:U19) -> 290
C20: 8 | D20: =IF($C20<=$D$1,D19,0) -> 0.044 | E20: =IF($C20<=$D$1,E19,0) -> 10.579 | F20: =IF($C20<=$D$1,F19,0) -> 16.442 | G20: =IF($C20<=$D$1,G19,0) -> 11.037 | H20: =IF($C20<=$D$1,H19,0) -> 32.626 | I20: =IF($C20<=$D$1,I19,0) -> 0.12 | J20: =IF($C20<=$D$1,J19,0) -> 3.448 | K20: =IF($C20<=$D$1,K19,0) -> 7.388 | L20: =L53+L86 -> 33.066 | M20: =M53+M86 -> 50.018 | N20: =N53+N86 -> 0 | O20: =O53+O86 -> 22.856852 | P20: =P53+P86 -> 33.305337 | Q20: =Q53+Q86 -> 50.881587 | R20: =R53+R86 -> 18.188224 | S20: =SUMIF($D$6:$R$6,S$6,$D20:$R20) -> 70.728 | T20: =SUMIF($D$6:$R$6,T$6,$D20:$R20) -> 94.04 | U20: =SUMIF($D$6:$R$6,U$6,$D20:$R20) -> 125.232 | V20: =SUM(S20:U20) -> 290
C21: 9 | D21: =IF($C21<=$D$1,D20,0) -> 0.044 | E21: =IF($C21<=$D$1,E20,0) -> 10.579 | F21: =IF($C21<=$D$1,F20,0) -> 16.442 | G21: =IF($C21<=$D$1,G20,0) -> 11.037 | H21: =IF($C21<=$D$1,H20,0) -> 32.626 | I21: =IF($C21<=$D$1,I20,0) -> 0.12 | J21: =IF($C21<=$D$1,J20,0) -> 3.448 | K21: =IF($C21<=$D$1,K20,0) -> 7.388 | L21: =IF($C21<=$D$1,L20,0) -> 33.066 | M21: =M54+M87 -> 64.11 | N21: =N54+N87 -> 0 | O21: =O54+O87 -> 25.556852 | P21: =P54+P87 -> 31.805337 | Q21: =Q54+Q87 -> 38.89243 | R21: =R54+R87 -> 14.885381 | S21: =SUMIF($D$6:$R$6,S$6,$D21:$R21) -> 70.728 | T21: =SUMIF($D$6:$R$6,T$6,$D21:$R21) -> 108.132 | U21: =SUMIF($D$6:$R$6,U$6,$D21:$R21) -> 111.14 | V21: =SUM(S21:U21) -> 290
C22: 10 | D22: =IF($C22<=$D$1,D21,0) -> 0.044 | E22: =IF($C22<=$D$1,E21,0) -> 10.579 | F22: =IF($C22<=$D$1,F21,0) -> 16.442 | G22: =IF($C22<=$D$1,G21,0) -> 11.037 | H22: =IF($C22<=$D$1,H21,0) -> 32.626 | I22: =IF($C22<=$D$1,I21,0) -> 0.12 | J22: =IF($C22<=$D$1,J21,0) -> 3.448 | K22: =IF($C22<=$D$1,K21,0) -> 7.388 | ... N22: =IF($C22<=$D$1,N21,0) -> 0 | O22: =O55+O88 -> -0.704 | P22: =P55+P88 -> 0 | Q22: =Q55+Q88 -> 0 | R22: =R55+R88 -> 0 | S22: =SUMIF($D$6:$R$6,S$6,$D22:$R22) -> 70.728 | T22: =SUMIF($D$6:$R$6,T$6,$D22:$R22) -> 108.132 | U22: =SUMIF($D$6:$R$6,U$6,$D22:$R22) -> -0.704 | V22: =SUM(S22:U22) -> 178.156
C23: 11 | D23: =IF($C23<=$D$1,D22,0) -> 0 | E23: =IF($C23<=$D$1,E22,0) -> 0 | F23: =IF($C23<=$D$1,F22,0) -> 0 | G23: =IF($C23<=$D$1,G22,0) -> 0 | H23: =IF($C23<=$D$1,H22,0) -> 0 | I23: =IF($C23<=$D$1,I22,0) -> 0 | J23: =IF($C23<=$D$1,J22,0) -> 0 | K23: =IF($C23<=$D$1,K22,0) -> 0 | ... O23: =IF($C23<=$D$1,O22,0) -> 0 | P23: =P56+P89 -> 0 | Q23: =Q56+Q89 -> 0 | R23: =R56+R89 -> 0 | S23: =SUMIF($D$6:$R$6,S$6,$D23:$R23) -> 0 | T23: =SUMIF($D$6:$R$6,T$6,$D23:$R23) -> 0 | U23: =SUMIF($D$6:$R$6,U$6,$D23:$R23) -> 0 | V23: =SUM(S23:U23) -> 0
C24: 12 | D24: =IF($C24<=$D$1,D23,0) -> 0 | E24: =IF($C24<=$D$1,E23,0) -> 0 | F24: =IF($C24<=$D$1,F23,0) -> 0 | G24: =IF($C24<=$D$1,G23,0) -> 0 | H24: =IF($C24<=$D$1,H23,0) -> 0 | I24: =IF($C24<=$D$1,I23,0) -> 0 | J24: =IF($C24<=$D$1,J23,0) -> 0 | K24: =IF($C24<=$D$1,K23,0) -> 0 | ... P24: =IF($C24<=$D$1,P23,0) -> 0 | Q24: =Q57+Q90 -> 0 | R24: =R57+R90 -> 0 | S24: =SUMIF($D$6:$R$6,S$6,$D24:$R24) -> 0 | T24: =SUMIF($D$6:$R$6,T$6,$D24:$R24) -> 0 | U24: =SUMIF($D$6:$R$6,U$6,$D24:$R24) -> 0 | V24: =SUM(S24:U24) -> 0
C25: 13 | D25: =IF($C25<=$D$1,D24,0) -> 0 | E25: =IF($C25<=$D$1,E24,0) -> 0 | F25: =IF($C25<=$D$1,F24,0) -> 0 | G25: =IF($C25<=$D$1,G24,0) -> 0 | H25: =IF($C25<=$D$1,H24,0) -> 0 | I25: =IF($C25<=$D$1,I24,0) -> 0 | J25: =IF($C25<=$D$1,J24,0) -> 0 | K25: =IF($C25<=$D$1,K24,0) -> 0 | ... Q25: =IF($C25<=$D$1,Q24,0) -> 0 | R25: =R58+R91 -> 0 | S25: =SUMIF($D$6:$R$6,S$6,$D25:$R25) -> 0 | T25: =SUMIF($D$6:$R$6,T$6,$D25:$R25) -> 0 | U25: =SUMIF($D$6:$R$6,U$6,$D25:$R25) -> 0 | V25: =SUM(S25:U25) -> 0
B26: Actual | C26: 0 | D26: =INDEX($D$13:$R$25,1,1) -> 0.044 | E26: =INDEX($D$13:$R$25,2,2) -> 10.579 | F26: =INDEX($D$13:$R$25,3,3) -> 16.442 | G26: =INDEX($D$13:$R$25,4,4) -> 11.037 | H26: =INDEX($D$13:$R$25,5,5) -> 32.626 | I26: =INDEX($D$13:$R$25,5,6) -> 0.12 | J26: =INDEX($D$13:$R$25,6,7) -> 3.448 | K26: =INDEX($D$13:$R$25,7,8) -> 7.388 | L26: =INDEX($D$13:$R$25,8,9) -> 33.066 | M26: =INDEX($D$13:$R$25,9,10) -> 64.11 | N26: =INDEX($D$13:$R$25,9,11) -> 0 | O26: =INDEX($D$13:$R$25,10,12) -> -0.704 | P26: =INDEX($D$13:$R$25,11,13) -> 0 | Q26: =INDEX($D$13:$R$25,12,14) -> 0 | R26: 0 | S26: =INDEX(S12:S25,MATCH($D$1,C12:C25,0)) -> 70.728 | T26: =INDEX(T12:T25,MATCH($D$1,C12:C25,0)) -> 108.132 | U26: =INDEX(U12:U25,MATCH($D$1,C12:C25,0)) -> -0.704 | V26: =INDEX(V12:V25,MATCH($D$1,C12:C25,0)) -> 178.156
B27: Delta to Target | C27: 0 | D27: =IF(D$9<=$D$2,D26-D10,0) -> -0.81631197 | E27: =IF(E$9<=$D$2,E26-E10,0) -> 10.021041 | F27: =IF(F$9<=$D$2,F26-F10,0) -> 4.4452906 | G27: =IF(G$9<=$D$2,G26-G10,0) -> -7.7445093 | H27: =IF(H$9<=$D$2,H26-H10,0) -> 26.366304 | I27: =IF(I$9<=$D$2,I26-I10,0) -> 0.12 | J27: =IF(J$9<=$D$2,J26-J10,0) -> 0.1772579 | K27: =IF(K$9<=$D$2,K26-K10,0) -> -4.0317818 | ... R27: =IF(R$9<=$D$2,R26-R10,0) -> 0 | S27: =IF(S$9>=$D$2,S26-S10,0) -> 0 | T27: =IF(T$9>=$D$2,T26-T10,0) -> 0 | U27: =IF(U$9>=$D$2,U26-U10,0) -> -166.17815 | V27: =IF(V$9>=$D$2,V26-V10,0) -> -91.844
B28: % to Target | C28: 0 | D28: =IF($D$2<D$9,0,IF(AND(D10=0,D26=0),1,IF(AND(D10=0,D26>0),2,IF(D26<0,0,(D26/D10))))) -> 0.051144238 | E28: =IF($D$2<E$9,0,IF(AND(E10=0,E26=0),1,IF(AND(E10=0,E26>0),2,IF(E26<0,0,(E26/E10))))) -> 18.960171 | F28: =IF($D$2<F$9,0,IF(AND(F10=0,F26=0),1,IF(AND(F10=0,F26>0),2,IF(F26<0,0,(F26/F10))))) -> 1.3705425 | G28: =IF($D$2<G$9,0,IF(AND(G10=0,G26=0),1,IF(AND(G10=0,G26>0),2,IF(G26<0,0,(G26/G10))))) -> 0.58765245 | H28: =IF($D$2<H$9,0,IF(AND(H10=0,H26=0),1,IF(AND(H10=0,H26>0),2,IF(H26<0,0,(H26/H10))))) -> 5.2120738 | I28: =IF($D$2<I$9,0,IF(AND(I10=0,I26=0),1,IF(AND(I10=0,I26>0),2,IF(I26<0,0,(I26/I10))))) -> 2 | J28: =IF($D$2<J$9,0,IF(AND(J10=0,J26=0),1,IF(AND(J10=0,J26>0),2,IF(J26<0,0,(J26/J10))))) -> 1.054195 | K28: =IF($D$2<K$9,0,IF(AND(K10=0,K26=0),1,IF(AND(K10=0,K26>0),2,IF(K26<0,0,(K26/K10))))) -> 0.64694756 | ... V28: =IF($D$2<V$9,0,IF(AND(V10=0,V26=0),1,IF(AND(V10=0,V26>0),2,IF(V26<0,0,(V26/V10))))) -> 0
B29: ="Week "&$D$1&" View" -> Week 10 View | D29: =INDEX(D13:D25,MATCH($D$1,$C$13:$C$25,0)) -> 0.044 | E29: =INDEX(E13:E25,MATCH($D$1,$C$13:$C$25,0)) -> 10.579 | F29: =INDEX(F13:F25,MATCH($D$1,$C$13:$C$25,0)) -> 16.442 | G29: =INDEX(G13:G25,MATCH($D$1,$C$13:$C$25,0)) -> 11.037 | H29: =INDEX(H13:H25,MATCH($D$1,$C$13:$C$25,0)) -> 32.626 | I29: =INDEX(I13:I25,MATCH($D$1,$C$13:$C$25,0)) -> 0.12 | J29: =INDEX(J13:J25,MATCH($D$1,$C$13:$C$25,0)) -> 3.448 | K29: =INDEX(K13:K25,MATCH($D$1,$C$13:$C$25,0)) -> 7.388 | ... V29: =INDEX(V13:V25,MATCH($D$1,$C$13:$C$25,0)) -> 178.156
B30: Linearity | D30: =D29/$S$29 -> 0.00062210157 | E30: =E29/$S$29 -> 0.14957301 | F30: =F29/$S$29 -> 0.23246805 | G30: =G29/$S$29 -> 0.15604852 | H30: =H29/$S$29 -> 0.46128832 | I30: =I29/$T$29 -> 0.0011097547 | J30: =J29/$T$29 -> 0.031886953 | K30: =K29/$T$29 -> 0.0683239 | L30: =L29/$T$29 -> 0.30579292 | M30: =M29/$T$29 -> 0.59288647 | N30: =N29/$U$29 -> 0 | O30: =O29/$U$29 -> 1 | P30: =P29/$U$29 -> 0 | Q30: =Q29/$U$29 -> 0 | R30: =R29/$U$29 -> 0 | S30: =S29/$V$29 -> 0.39700038 | T30: =T29/$V$29 -> 0.60695121 | U30: =U29/$V$29 -> -0.003951593
B31: Last 4Q ROL Linearity | H31: 0 | M31: 0 | R31: 0
B32: QTD Actual | C32: 0 | D32: =IF(D$9<=$D$2,D26,0) -> 0.044 | E32: =IF(E$9<=$D$2,E26+D32,0) -> 10.623 | F32: =IF(F$9<=$D$2,F26+E32,0) -> 27.065 | G32: =IF(G$9<=$D$2,G26+F32,0) -> 38.102 | H32: =IF(H$9<=$D$2,H26+G32,0) -> 70.728 | I32: =IF(I$9<=$D$2,I26+H32,0) -> 70.848 | J32: =IF(J$9<=$D$2,J26+I32,0) -> 74.296 | K32: =IF(K$9<=$D$2,K26+J32,0) -> 81.684 | L32: =IF(L$9<=$D$2,L26+K32,0) -> 114.75 | ... R32: =IF(R$9<=$D$2,R26+Q32,0) -> 0 | S32: =IFERROR(INDEX(S$13:S$25,$D$1,0)/INDEX($V$13:$V$25,$D$1,0),0) -> 0.39700038 | T32: =IFERROR(INDEX(T$13:T$25,$D$1,0)/INDEX($V$13:$V$25,$D$1,0),0) -> 0.60695121 | U32: =IFERROR(INDEX(U$13:U$25,$D$1,0)/INDEX($V$13:$V$25,$D$1,0),0) -> -0.003951593 | V32: Current
B33: QTD Delta to Tgt | C33: 0 | D33: =IF(D$27=0,0,IF(D$9<=$D$2,D32-D11,D32-D11)) -> -0.81631197 | E33: =IF(E$27=0,0,IF(E$9<=$D$2,E32-E11,E32-E11)) -> 9.2047289 | F33: =IF(F$27=0,0,IF(F$9<=$D$2,F32-F11,F32-F11)) -> 13.65002 | G33: =IF(G$27=0,0,IF(G$9<=$D$2,G32-G11,G32-G11)) -> 5.9055102 | H33: =IF(H$27=0,0,IF(H$9<=$D$2,H32-H11,H32-H11)) -> 32.271814 | I33: =IF(I$27=0,0,IF(I$9<=$D$2,I32-I11,I32-I11)) -> 32.391814 | J33: =IF(J$27=0,0,IF(J$9<=$D$2,J32-J11,J32-J11)) -> 32.569072 | K33: =IF(K$27=0,0,IF(K$9<=$D$2,K32-K11,K32-K11)) -> 28.53729 | ... R33: =IF(R$27=0,0,IF(R$9<=$D$2,R32-R11,R32-R11)) -> 0 | S33: 0 | T33: 0 | U33: 0 | V33: Last 4Q
B34: % to Target | C34: 0 | D34: =IF($D$2<D$9,0,IF(AND(D11=0,D32=0),1,IF(AND(D11=0,D32>0),2,IF(D32<0,0,(D32/D11))))) -> 0.051144238 | E34: =IF($D$2<E$9,0,IF(AND(E11=0,E32=0),1,IF(AND(E11=0,E32>0),2,IF(E32<0,0,(E32/E11))))) -> 7.4901055 | F34: =IF($D$2<F$9,0,IF(AND(F11=0,F32=0),1,IF(AND(F11=0,F32>0),2,IF(F32<0,0,(F32/F11))))) -> 2.0175206 | G34: =IF($D$2<G$9,0,IF(AND(G11=0,G32=0),1,IF(AND(G11=0,G32>0),2,IF(G32<0,0,(G32/G11))))) -> 1.1834209 | H34: =IF($D$2<H$9,0,IF(AND(H11=0,H32=0),1,IF(AND(H11=0,H32>0),2,IF(H32<0,0,(H32/H11))))) -> 1.8391839 | I34: =IF($D$2<I$9,0,IF(AND(I11=0,I32=0),1,IF(AND(I11=0,I32>0),2,IF(I32<0,0,(I32/I11))))) -> 1.8423044 | J34: =IF($D$2<J$9,0,IF(AND(J11=0,J32=0),1,IF(AND(J11=0,J32>0),2,IF(J32<0,0,(J32/J11))))) -> 1.7805289 | K34: =IF($D$2<K$9,0,IF(AND(K11=0,K32=0),1,IF(AND(K11=0,K32>0),2,IF(K32<0,0,(K32/K11))))) -> 1.5369531 | ... R34: =IF($D$2<R$9,0,IF(AND(R11=0,R32=0),1,IF(AND(R11=0,R32>0),2,IF(R32<0,0,(R32/R11))))) -> 0 | S34: 0 | T34: 0 | U34: 0 | V34: Last 3Y
B35: Fy Q3 2425 | D35: =D68+D101 -> 1.211 | E35: =E68+E101 -> 0.054 | F35: =F68+F101 -> 2.127 | G35: =G68+G101 -> 5.134 | H35: =H68+H101 -> 5.805 | I35: =I68+I101 -> 1.432 | J35: =J68+J101 -> 8.13 | K35: =K68+K101 -> 10.897 | ... R35: =R68+R101 -> 114.248 | S35: =SUM(D35:H35) -> 14.331 | T35: =SUM(I35:M35) -> 65.061 | U35: =SUM(N35:R35) -> 163.632 | V35: =SUM(S35:U35) -> 243.024
B36: Fy Q4 2324 | D36: =D69+D102 -> 1.107 | E36: =E69+E102 -> 1.732 | F36: =F69+F102 -> 2.749 | G36: =G69+G102 -> 23.506 | H36: =H69+H102 -> 11.081 | I36: =I69+I102 -> 1.793 | J36: =J69+J102 -> 9.969 | K36: =K69+K102 -> 17.399 | ... R36: =R69+R102 -> 123.808 | S36: =SUM(D36:H36) -> 40.175 | T36: =SUM(I36:M36) -> 125.21 | U36: =SUM(N36:R36) -> 191.185 | V36: =SUM(S36:U36) -> 356.57
B38: Consumer SI DT WF Q3FY2425
C39: Month | D39: =D$6 -> 1 | E39: =E$6 -> 1 | F39: =F$6 -> 1 | G39: =G$6 -> 1 | H39: =H$6 -> 1 | I39: =I$6 -> 2 | J39: =J$6 -> 2 | K39: =K$6 -> 2 | L39: =L$6 -> 2 | M39: 2 | N39: 3 | O39: =O$6 -> 3 | P39: =P$6 -> 3 | Q39: =Q$6 -> 3 | R39: =R$6 -> 3 | S39: =S$6 -> 1 | T39: =T$6 -> 2 | U39: =U$6 -> 3 | V39: =V$6 -> QTR
C40: Week | D40: =D7 -> 1 | E40: =E7 -> 2 | F40: =F7 -> 3 | G40: =G7 -> 4 | H40: =H7 -> 5 | I40: =I7 -> 5 | J40: =J7 -> 6 | K40: =K7 -> 7 | ... V40: =V7 -> 0
C41: Begin | D41: =D$8 -> 45931 | E41: =E$8 -> 45936 | F41: =F$8 -> 45943 | G41: =G$8 -> 45950 | H41: =H$8 -> 45957 | I41: =I$8 -> 45962 | J41: =J$8 -> 45964 | K41: =K$8 -> 45971 | ... V41: =V$8 -> 45931
C42: End | D42: =D$9 -> 45935 | E42: =E$9 -> 45942 | F42: =F$9 -> 45949 | G42: =G$9 -> 45956 | H42: =H$9 -> 45961 | I42: =I$9 -> 45963 | J42: =J$9 -> 45970 | K42: =K$9 -> 45977 | ... V42: =V$9 -> 46022
B43: Target | C43: Week | D43: ='SI-Onshore'!D43 -> 0.073285834 | E43: ='SI-Onshore'!E43 -> 0.04752985 | F43: ='SI-Onshore'!F43 -> 1.0219419 | G43: ='SI-Onshore'!G43 -> 1.5999064 | H43: ='SI-Onshore'!H43 -> 0.5332334 | I43: ='SI-Onshore'!I43 -> 0 | J43: ='SI-Onshore'!J43 -> 0.27861877 | K43: ='SI-Onshore'!K43 -> 0.97279623 | ... R43: ='SI-Onshore'!R43 -> 9.5696865 | S43: =SUMIF($D$6:$R$6,S$6,$D43:$R43) -> 3.2758973 | T43: =SUMIF($D$6:$R$6,T$6,$D43:$R43) -> 5.628157 | U43: =SUMIF($D$6:$R$6,U$6,$D43:$R43) -> 14.095946 | V43: =SUM(S43:U43) -> 23
...

Sheet SI-Onshore
C1: Week# | D1: ='SI -Overall'!D1 -> 10 | R1: DT | S1: 0.18446154 | T1: 0.37184615 | U1: 0.44369231
C2: Weekending dt: | D2: ='SI -Overall'!D2 -> 45998 | R2: NB | S2: 0.21 | T2: 0.32 | U2: 0.47
B5: Consumer SI India WF Q3FY2526
C6: Month | D6: ='SI -Overall'!D6 -> 1 | E6: ='SI -Overall'!E6 -> 1 | F6: ='SI -Overall'!F6 -> 1 | G6: ='SI -Overall'!G6 -> 1 | H6: ='SI -Overall'!H6 -> 1 | I6: ='SI -Overall'!I6 -> 2 | J6: ='SI -Overall'!J6 -> 2 | K6: ='SI -Overall'!K6 -> 2 | L6: ='SI -Overall'!L6 -> 2 | M6: 2 | N6: 3 | O6: ='SI -Overall'!O6 -> 3 | P6: ='SI -Overall'!P6 -> 3 | Q6: ='SI -Overall'!Q6 -> 3 | R6: ='SI -Overall'!R6 -> 3 | S6: ='SI -Overall'!S6 -> 1 | T6: ='SI -Overall'!T6 -> 2 | U6: ='SI -Overall'!U6 -> 3 | V6: ='SI -Overall'!V6 -> QTR
C7: Week | D7: ='SI -Overall'!D7 -> 1 | E7: ='SI -Overall'!E7 -> 2 | F7: ='SI -Overall'!F7 -> 3 | G7: ='SI -Overall'!G7 -> 4 | H7: ='SI -Overall'!H7 -> 5 | I7: ='SI -Overall'!I7 -> 5 | J7: ='SI -Overall'!J7 -> 6 | K7: ='SI -Overall'!K7 -> 7 | ... V7: ='SI -Overall'!V7 -> 0
C8: Begin | D8: ='SI -Overall'!D8 -> 45931 | E8: ='SI -Overall'!E8 -> 45936 | F8: ='SI -Overall'!F8 -> 45943 | G8: ='SI -Overall'!G8 -> 45950 | H8: ='SI -Overall'!H8 -> 45957 | I8: ='SI -Overall'!I8 -> 45962 | J8: ='SI -Overall'!J8 -> 45964 | K8: ='SI -Overall'!K8 -> 45971 | ... S8: ='SI -Overall'!S8 -> 45931 | T8: =I8 -> 45962 | U8: =O8 -> 45992 | V8: =S8 -> 45931
C9: End | D9: ='SI -Overall'!D9 -> 45935 | E9: ='SI -Overall'!E9 -> 45942 | F9: ='SI -Overall'!F9 -> 45949 | G9: ='SI -Overall'!G9 -> 45956 | H9: ='SI -Overall'!H9 -> 45961 | I9: ='SI -Overall'!I9 -> 45963 | J9: ='SI -Overall'!J9 -> 45970 | K9: ='SI -Overall'!K9 -> 45977 | ... S9: ='SI -Overall'!S9 -> 45961 | T9: =M9 -> 45991 | U9: =R9 -> 46022 | V9: =R9 -> 46022
B10: Target | C10: Week | D10: =D43+D76 -> 0.74845585 | E10: =E43+E76 -> 0.48541433 | F10: =F43+F76 -> 10.43692 | G10: =G43+G76 -> 16.339573 | H10: =H43+H76 -> 5.4458227 | I10: =I43+I76 -> 0 | J10: =J43+J76 -> 2.924211 | K10: =K43+K76 -> 10.20987 | ... R10: =R43+R76 -> 106.90863 | S10: =SUMIF($D$6:$R$6,S$6,$D10:$R10) -> 33.456186 | T10: =SUMIF($D$6:$R$6,T$6,$D10:$R10) -> 59.069669 | U10: =SUMIF($D$6:$R$6,U$6,$D10:$R10) -> 157.47415 | V10: =SUM(S10:U10) -> 250
C11: QTD | D11: =D10 -> 0.74845585 | E11: =D11+E10 -> 1.2338702 | F11: =E11+F10 -> 11.67079 | G11: =F11+G10 -> 28.010364 | H11: =G11+H10 -> 33.456186 | I11: =H11+I10 -> 33.456186 | J11: =I11+J10 -> 36.380397 | K11: =J11+K10 -> 46.590267 | L11: =K11+L10 -> 65.087053 | ... R11: =Q11+R10 -> 250 | S11: =IFERROR(S10/$V10,0) -> 0.13382475 | T11: =IFERROR(T10/$V10,0) -> 0.23627867 | U11: =IFERROR(U10/$V10,0) -> 0.62989658
C12: 0 | D12: =D45+D78 -> 0 | E12: =E45+E78 -> 1.2338702 | F12: =F45+F78 -> 10.43692 | G12: =G45+G78 -> 16.339573 | H12: =H45+H78 -> 5.4458227 | I12: =I45+I78 -> 0 | J12: =J45+J78 -> 2.924211 | K12: =K45+K78 -> 10.20987 | ... R12: =R45+R78 -> 106.90863 | S12: =SUMIF($D$6:$R$6,S$6,$D12:$R12) -> 33.456186 | T12: =SUMIF($D$6:$R$6,T$6,$D12:$R12) -> 59.069669 | U12: =SUMIF($D$6:$R$6,U$6,$D12:$R12) -> 157.47415 | V12: =SUM(S12:U12) -> 250
B13: Week | C13: 1 | D13: =D46+D79 -> 0.044 | E13: =E46+E79 -> 1.6579854 | F13: =F46+F79 -> 14.024377 | G13: =G46+G79 -> 21.955935 | H13: =H46+H79 -> 7.3177021 | I13: =I46+I79 -> 0 | J13: =J46+J79 -> 2.9702665 | K13: =K46+K79 -> 10.370673 | ... R13: =R46+R79 -> 98.761078 | S13: =SUMIF($D$6:$R$6,S$6,$D13:$R13) -> 45 | T13: =SUMIF($D$6:$R$6,T$6,$D13:$R13) -> 60 | U13: =SUMIF($D$6:$R$6,U$6,$D13:$R13) -> 145 | V13: =SUM(S13:U13) -> 250
C14: 2 | D14: =IF($C14<=$D$1,D13,0) -> 0.044 | E14: =E47+E80 -> 10.1 | F14: =F47+F80 -> 14.024377 | G14: =G47+G80 -> 13.940105 | H14: =H47+H80 -> 6.8915178 | I14: =I47+I80 -> 0 | J14: =J47+J80 -> 2.9702665 | K14: =K47+K80 -> 10.370673 | L14: =L47+L80 -> 18.788105 | ... R14: =R47+R80 -> 98.761078 | S14: =SUMIF($D$6:$R$6,S$6,$D14:$R14) -> 45 | T14: =SUMIF($D$6:$R$6,T$6,$D14:$R14) -> 60 | U14: =SUMIF($D$6:$R$6,U$6,$D14:$R14) -> 145 | V14: =SUM(S14:U14) -> 250
C15: 3 | D15: =IF($C15<=$D$1,D14,0) -> 0.044 | E15: =IF($C15<=$D$1,E14,0) -> 10.1 | F15: =F48+F81 -> 15.472 | G15: =G48+G81 -> 13.896047 | H15: =H48+H81 -> 5.4879532 | I15: =I48+I81 -> 0 | J15: =J48+J81 -> 4.2389742 | K15: =K48+K81 -> 14.80036 | L15: =L48+L81 -> 23.862373 | M15: =M48+M81 -> 37.098293 | ... R15: =R48+R81 -> 18.961638 | S15: =SUMIF($D$6:$R$6,S$6,$D15:$R15) -> 45 | T15: =SUMIF($D$6:$R$6,T$6,$D15:$R15) -> 80 | U15: =SUMIF($D$6:$R$6,U$6,$D15:$R15) -> 135 | V15: =SUM(S15:U15) -> 260
C16: 4 | D16: =IF($C16<=$D$1,D15,0) -> 0.044 | E16: =IF($C16<=$D$1,E15,0) -> 10.1 | F16: =IF($C16<=$D$1,F15,0) -> 15.472 | G16: =G49+G82 -> 8.682 | H16: =H49+H82 -> 25.702 | I16: =I49+I82 -> 0 | J16: =J49+J82 -> 4.5052278 | K16: =K49+K82 -> 15.729983 | L16: =L49+L82 -> 25.348151 | M16: =M49+M82 -> 39.416638 | N16: =N49+N82 -> 0 | ... R16: =R49+R82 -> 15.858427 | S16: =SUMIF($D$6:$R$6,S$6,$D16:$R16) -> 60 | T16: =SUMIF($D$6:$R$6,T$6,$D16:$R16) -> 85 | U16: =SUMIF($D$6:$R$6,U$6,$D16:$R16) -> 115 | V16: =SUM(S16:U16) -> 260
C17: 5 | D17: =IF($C17<=$D$1,D16,0) -> 0.044 | E17: =IF($C17<=$D$1,E16,0) -> 10.1 | F17: =IF($C17<=$D$1,F16,0) -> 15.472 | G17: =IF($C17<=$D$1,G16,0) -> 8.682 | H17: =H50+H83 -> 30.288 | I17: =I50+I83 -> 0 | J17: =J50+J83 -> 4.5052278 | K17: =K50+K83 -> 15.729983 | L17: =L50+L83 -> 25.348151 | M17: =M50+M83 -> 34.830638 | N17: =N50+N83 -> 0 | O17: =O50+O83 -> 20.742472 | ... R17: =R50+R83 -> 15.858427 | S17: =SUMIF($D$6:$R$6,S$6,$D17:$R17) -> 64.586 | T17: =SUMIF($D$6:$R$6,T$6,$D17:$R17) -> 80.414 | U17: =SUMIF($D$6:$R$6,U$6,$D17:$R17) -> 115 | V17: =SUM(S17:U17) -> 260
C18: 6 | D18: =IF($C18<=$D$1,D17,0) -> 0.044 | E18: =IF($C18<=$D$1,E17,0) -> 10.1 | F18: =IF($C18<=$D$1,F17,0) -> 15.472 | G18: =IF($C18<=$D$1,G17,0) -> 8.682 | H18: =IF($C18<=$D$1,H17,0) -> 30.288 | I18: =IF($C18<=$D$1,I17,0) -> 0 | J18: =J51+J84 -> 0.698 | K18: =K51+K84 -> 15.729983 | L18: =L51+L84 -> 25.348151 | M18: =M51+M84 -> 38.637866 | N18: =N51+N84 -> 0 | O18: =O51+O84 -> 20.742472 | P18: =P51+P84 -> 30.583767 | Q18: =Q51+Q84 -> 47.815334 | R18: =R51+R84 -> 15.858427 | S18: =SUMIF($D$6:$R$6,S$6,$D18:$R18) -> 64.586 | T18: =SUMIF($D$6:$R$6,T$6,$D18:$R18) -> 80.414 | U18: =SUMIF($D$6:$R$6,U$6,$D18:$R18) -> 115 | V18: =SUM(S18:U18) -> 260
C19: 7 | D19: =IF($C19<=$D$1,D18,0) -> 0.044 | E19: =IF($C19<=$D$1,E18,0) -> 10.1 | F19: =IF($C19<=$D$1,F18,0) -> 15.472 | G19: =IF($C19<=$D$1,G18,0) -> 8.682 | H19: =IF($C19<=$D$1,H18,0) -> 30.288 | I19: =IF($C19<=$D$1,I18,0) -> 0 | J19: =IF($C19<=$D$1,J18,0) -> 0.698 | K19: =K52+K85 -> 4.886 | L19: =L52+L85 -> 23.211947 | M19: =M52+M85 -> 45.204053 | N19: =N52+N85 -> 0 | O19: =O52+O85 -> 21.886611 | P19: =P52+P85 -> 32.299976 | Q19: =Q52+Q85 -> 50.4889 | R19: =R52+R85 -> 16.738513 | S19: =SUMIF($D$6:$R$6,S$6,$D19:$R19) -> 64.586 | T19: =SUMIF($D$6:$R$6,T$6,$D19:$R19) -> 74 | U19: =SUMIF($D$6:$R$6,U$6,$D19:$R19) -> 121.414 | V19: =SUM(S19:U19) -> 260
C20: 8 | D20: =IF($C20<=$D$1,D19,0) -> 0.044 | E20: =IF($C20<=$D$1,E19,0) -> 10.1 | F20: =IF($C20<=$D$1,F19,0) -> 15.472 | G20: =IF($C20<=$D$1,G19,0) -> 8.682 | H20: =IF($C20<=$D$1,H19,0) -> 30.288 | I20: =IF($C20<=$D$1,I19,0) -> 0 | J20: =IF($C20<=$D$1,J19,0) -> 0.698 | K20: =IF($C20<=$D$1,K19,0) -> 4.886 | L20: =L53+L86 -> 28.898 | M20: =M53+M86 -> 46.518 | N20: =N53+N86 -> 0 | O20: =O53+O86 -> 20.556852 | P20: =P53+P86 -> 30.305337 | Q20: =Q53+Q86 -> 47.381587 | R20: =R53+R86 -> 16.170224 | S20: =SUMIF($D$6:$R$6,S$6,$D20:$R20) -> 64.586 | T20: =SUMIF($D$6:$R$6,T$6,$D20:$R20) -> 81 | U20: =SUMIF($D$6:$R$6,U$6,$D20:$R20) -> 114.414 | V20: =SUM(S20:U20) -> 260
C21: 9 | D21: =IF($C21<=$D$1,D20,0) -> 0.044 | E21: =IF($C21<=$D$1,E20,0) -> 10.1 | F21: =IF($C21<=$D$1,F20,0) -> 15.472 | G21: =IF($C21<=$D$1,G20,0) -> 8.682 | H21: =IF($C21<=$D$1,H20,0) -> 30.288 | I21: =IF($C21<=$D$1,I20,0) -> 0 | J21: =IF($C21<=$D$1,J20,0) -> 0.698 | K21: =IF($C21<=$D$1,K20,0) -> 4.886 | L21: =IF($C21<=$D$1,L20,0) -> 28.898 | M21: =M54+M87 -> 58.687 | N21: =N54+N87 -> 0 | O21: =O54+O87 -> 20.556852 | P21: =P54+P87 -> 30.305337 | Q21: =Q54+Q87 -> 37.39243 | R21: =R54+R87 -> 13.990381 | S21: =SUMIF($D$6:$R$6,S$6,$D21:$R21) -> 64.586 | T21: =SUMIF($D$6:$R$6,T$6,$D21:$R21) -> 93.169 | U21: =SUMIF($D$6:$R$6,U$6,$D21:$R21) -> 102.245 | V21: =SUM(S21:U21) -> 260
C22: 10 | D22: =IF($C22<=$D$1,D21,0) -> 0.044 | E22: =IF($C22<=$D$1,E21,0) -> 10.1 | F22: =IF($C22<=$D$1,F21,0) -> 15.472 | G22: =IF($C22<=$D$1,G21,0) -> 8.682 | H22: =IF($C22<=$D$1,H21,0) -> 30.288 | I22: =IF($C22<=$D$1,I21,0) -> 0 | J22: =IF($C22<=$D$1,J21,0) -> 0.698 | K22: =IF($C22<=$D$1,K21,0) -> 4.886 | ... N22: =IF($C22<=$D$1,N21,0) -> 0 | O22: =O55+O88 -> 2.513 | P22: =P55+P88 -> 0 | Q22: =Q55+Q88 -> 0 | R22: =R55+R88 -> 0 | S22: =SUMIF($D$6:$R$6,S$6,$D22:$R22) -> 64.586 | T22: =SUMIF($D$6:$R$6,T$6,$D22:$R22) -> 93.169 | U22: =SUMIF($D$6:$R$6,U$6,$D22:$R22) -> 2.513 | V22: =SUM(S22:U22) -> 160.268
C23: 11 | D23: =IF($C23<=$D$1,D22,0) -> 0 | E23: =IF($C23<=$D$1,E22,0) -> 0 | F23: =IF($C23<=$D$1,F22,0) -> 0 | G23: =IF($C23<=$D$1,G22,0) -> 0 | H23: =IF($C23<=$D$1,H22,0) -> 0 | I23: =IF($C23<=$D$1,I22,0) -> 0 | J23: =IF($C23<=$D$1,J22,0) -> 0 | K23: =IF($C23<=$D$1,K22,0) -> 0 | ... O23: =IF($C23<=$D$1,O22,0) -> 0 | P23: =P56+P89 -> 0 | Q23: =Q56+Q89 -> 0 | R23: =R56+R89 -> 0 | S23: =SUMIF($D$6:$R$6,S$6,$D23:$R23) -> 0 | T23: =SUMIF($D$6:$R$6,T$6,$D23:$R23) -> 0 | U23: =SUMIF($D$6:$R$6,U$6,$D23:$R23) -> 0 | V23: =SUM(S23:U23) -> 0
C24: 12 | D24: =IF($C24<=$D$1,D23,0) -> 0 | E24: =IF($C24<=$D$1,E23,0) -> 0 | F24: =IF($C24<=$D$1,F23,0) -> 0 | G24: =IF($C24<=$D$1,G23,0) -> 0 | H24: =IF($C24<=$D$1,H23,0) -> 0 | I24: =IF($C24<=$D$1,I23,0) -> 0 | J24: =IF($C24<=$D$1,J23,0) -> 0 | K24: =IF($C24<=$D$1,K23,0) -> 0 | ... P24: =IF($C24<=$D$1,P23,0) -> 0 | Q24: =Q57+Q90 -> 0 | R24: =R57+R90 -> 0 | S24: =SUMIF($D$6:$R$6,S$6,$D24:$R24) -> 0 | T24: =SUMIF($D$6:$R$6,T$6,$D24:$R24) -> 0 | U24: =SUMIF($D$6:$R$6,U$6,$D24:$R24) -> 0 | V24: =SUM(S24:U24) -> 0
C25: 13 | D25: =IF($C25<=$D$1,D24,0) -> 0 | E25: =IF($C25<=$D$1,E24,0) -> 0 | F25: =IF($C25<=$D$1,F24,0) -> 0 | G25: =IF($C25<=$D$1,G24,0) -> 0 | H25: =IF($C25<=$D$1,H24,0) -> 0 | I25: =IF($C25<=$D$1,I24,0) -> 0 | J25: =IF($C25<=$D$1,J24,0) -> 0 | K25: =IF($C25<=$D$1,K24,0) -> 0 | ... Q25: =IF($C25<=$D$1,Q24,0) -> 0 | R25: =R58+R91 -> 0 | S25: =SUMIF($D$6:$R$6,S$6,$D25:$R25) -> 0 | T25: =SUMIF($D$6:$R$6,T$6,$D25:$R25) -> 0 | U25: =SUMIF($D$6:$R$6,U$6,$D25:$R25) -> 0 | V25: =SUM(S25:U25) -> 0
B26: Actual | C26: 0 | D26: =INDEX(D12:D25,MATCH($D$1,$C$12:$C$25,0)) -> 0.044 | E26: =INDEX(E12:E25,MATCH($D$1,$C$12:$C$25,0)) -> 10.1 | F26: =INDEX(F12:F25,MATCH($D$1,$C$12:$C$25,0)) -> 15.472 | G26: =INDEX(G12:G25,MATCH($D$1,$C$12:$C$25,0)) -> 8.682 | H26: =INDEX(H12:H25,MATCH($D$1,$C$12:$C$25,0)) -> 30.288 | I26: =INDEX(I12:I25,MATCH($D$1,$C$12:$C$25,0)) -> 0 | J26: =INDEX(J12:J25,MATCH($D$1,$C$12:$C$25,0)) -> 0.698 | K26: =INDEX(K12:K25,MATCH($D$1,$C$12:$C$25,0)) -> 4.886 | ... M26: =INDEX(M12:M25,MATCH($D$1,$C$12:$C$25,0)) -> 58.687 | N26: =N24 -> 0 | O26: =O24 -> 0 | P26: =P24 -> 0 | Q26: =Q24 -> 0 | R26: 0 | S26: =INDEX(S12:S25,MATCH($D$1,$C$12:$C$25,0)) -> 64.586 | T26: =INDEX(T12:T25,MATCH($D$1,$C$12:$C$25,0)) -> 93.169 | U26: =INDEX(U12:U25,MATCH($D$1,$C$12:$C$25,0)) -> 2.513 | V26: =INDEX(V12:V25,MATCH($D$1,$C$12:$C$25,0)) -> 160.268
B27: Delta to Target | C27: 0 | D27: =IF(D$9<=$D$2,D26-D10,0) -> -0.70445585 | E27: =IF(E$9<=$D$2,E26-E10,0) -> 9.6145857 | F27: =IF(F$9<=$D$2,F26-F10,0) -> 5.0350799 | G27: =IF(G$9<=$D$2,G26-G10,0) -> -7.6575733 | H27: =IF(H$9<=$D$2,H26-H10,0) -> 24.842177 | I27: =IF(I$9<=$D$2,I26-I10,0) -> 0 | J27: =IF(J$9<=$D$2,J26-J10,0) -> -2.226211 | K27: =IF(K$9<=$D$2,K26-K10,0) -> -5.32387 | ... V27: =IF(V$9<=$D$2,V26-V10,0) -> 0
B28: % to Target | C28: 0 | D28: =IF($D$2<D$9,0,IF(AND(D10=0,D26=0),1,IF(AND(D10=0,D26>0),2,IF(D26<0,0,(D26/D10))))) -> 0.058787703 | E28: =IF($D$2<E$9,0,IF(AND(E10=0,E26=0),1,IF(AND(E10=0,E26>0),2,IF(E26<0,0,(E26/E10))))) -> 20.806967 | F28: =IF($D$2<F$9,0,IF(AND(F10=0,F26=0),1,IF(AND(F10=0,F26>0),2,IF(F26<0,0,(F26/F10))))) -> 1.4824297 | G28: =IF($D$2<G$9,0,IF(AND(G10=0,G26=0),1,IF(AND(G10=0,G26>0),2,IF(G26<0,0,(G26/G10))))) -> 0.53134802 | H28: =IF($D$2<H$9,0,IF(AND(H10=0,H26=0),1,IF(AND(H10=0,H26>0),2,IF(H26<0,0,(H26/H10))))) -> 5.5616941 | I28: =IF($D$2<I$9,0,IF(AND(I10=0,I26=0),1,IF(AND(I10=0,I26>0),2,IF(I26<0,0,(I26/I10))))) -> 1 | J28: =IF($D$2<J$9,0,IF(AND(J10=0,J26=0),1,IF(AND(J10=0,J26>0),2,IF(J26<0,0,(J26/J10))))) -> 0.23869687 | K28: =IF($D$2<K$9,0,IF(AND(K10=0,K26=0),1,IF(AND(K10=0,K26>0),2,IF(K26<0,0,(K26/K10))))) -> 0.47855653 | ... V28: =IF($D$2<V$9,0,IF(AND(V10=0,V26=0),1,IF(AND(V10=0,V26>0),2,IF(V26<0,0,(V26/V10))))) -> 0
B29: ="Week "&$D$1&" View" -> Week 10 View | D29: =INDEX(D13:D25,MATCH($D$1,$C$13:$C$25,0)) -> 0.044 | E29: =INDEX(E13:E25,MATCH($D$1,$C$13:$C$25,0)) -> 10.1 | F29: =INDEX(F13:F25,MATCH($D$1,$C$13:$C$25,0)) -> 15.472 | G29: =INDEX(G13:G25,MATCH($D$1,$C$13:$C$25,0)) -> 8.682 | H29: =INDEX(H13:H25,MATCH($D$1,$C$13:$C$25,0)) -> 30.288 | I29: =INDEX(I13:I25,MATCH($D$1,$C$13:$C$25,0)) -> 0 | J29: =INDEX(J13:J25,MATCH($D$1,$C$13:$C$25,0)) -> 0.698 | K29: =INDEX(K13:K25,MATCH($D$1,$C$13:$C$25,0)) -> 4.886 | ... V29: =INDEX(V13:V25,MATCH($D$1,$C$13:$C$25,0)) -> 160.268
B30: Linearity | D30: =D29/$S$29 -> 0.00068126219 | E30: =E29/$S$29 -> 0.15638064 | F30: =F29/$S$29 -> 0.23955656 | G30: =G29/$S$29 -> 0.13442542 | H30: =H29/$S$29 -> 0.46895612 | I30: =I29/$T$29 -> 0 | J30: =J29/$T$29 -> 0.0074917623 | K30: =K29/$T$29 -> 0.052442336 | L30: =L29/$T$29 -> 0.31016754 | M30: =M29/$T$29 -> 0.62989836 | N30: =N29/$U$29 -> 0 | O30: =O29/$U$29 -> 1 | P30: =P29/$U$29 -> 0 | Q30: =Q29/$U$29 -> 0 | R30: =R29/$U$29 -> 0 | S30: =S29/$V$29 -> 0.4029875 | T30: =T29/$V$29 -> 0.58133252 | U30: =U29/$V$29 -> 0.015679986
B31: Last 4Q ROL Linearity
B32: QTD Actual | C32: 0 | D32: =IF(D$9<=$D$2,D26,0) -> 0.044 | E32: =IF(E$9<=$D$2,E26+D32,0) -> 10.144 | F32: =IF(F$9<=$D$2,F26+E32,0) -> 25.616 | G32: =IF(G$9<=$D$2,G26+F32,0) -> 34.298 | H32: =IF(H$9<=$D$2,H26+G32,0) -> 64.586 | I32: =IF(I$9<=$D$2,I26+H32,0) -> 64.586 | J32: =IF(J$9<=$D$2,J26+I32,0) -> 65.284 | K32: =IF(K$9<=$D$2,K26+J32,0) -> 70.17 | L32: =IF(L$9<=$D$2,L26+K32,0) -> 99.068 | ... R32: =IF(R$9<=$D$2,R26+Q32,0) -> 0 | S32: =IFERROR(INDEX(S$13:S$25,$D$1,0)/INDEX($V$13:$V$25,$D$1,0),0) -> 0.4029875 | T32: =IFERROR(INDEX(T$13:T$25,$D$1,0)/INDEX($V$13:$V$25,$D$1,0),0) -> 0.58133252 | U32: =IFERROR(INDEX(U$13:U$25,$D$1,0)/INDEX($V$13:$V$25,$D$1,0),0) -> 0.015679986 | V32: Current
B33: QTD Delta to Tgt | C33: 0 | D33: =IF(D$27=0,0,IF(D$9<=$D$2,D32-D11,D32-D11)) -> -0.70445585 | E33: =IF(E$27=0,0,IF(E$9<=$D$2,E32-E11,E32-E11)) -> 8.9101298 | F33: =IF(F$27=0,0,IF(F$9<=$D$2,F32-F11,F32-F11)) -> 13.94521 | G33: =IF(G$27=0,0,IF(G$9<=$D$2,G32-G11,G32-G11)) -> 6.2876364 | H33: =IF(H$27=0,0,IF(H$9<=$D$2,H32-H11,H32-H11)) -> 31.129814 | I33: =IF(I$27=0,0,IF(I$9<=$D$2,I32-I11,I32-I11)) -> 0 | J33: =IF(J$27=0,0,IF(J$9<=$D$2,J32-J11,J32-J11)) -> 28.903603 | K33: =IF(K$27=0,0,IF(K$9<=$D$2,K32-K11,K32-K11)) -> 23.579733 | ... R33: =IF(R$27=0,0,IF(R$9<=$D$2,R32-R11,R32-R11)) -> 0 | S33: 0 | T33: 0 | U33: 0 | V33: Last 4Q
B34: % to Target | C34: 0 | D34: =IF($D$2<D$9,0,IF(AND(D11=0,D32=0),1,IF(AND(D11=0,D32>0),2,IF(D32<0,0,(D32/D11))))) -> 0.058787703 | E34: =IF($D$2<E$9,0,IF(AND(E11=0,E32=0),1,IF(AND(E11=0,E32>0),2,IF(E32<0,0,(E32/E11))))) -> 8.2212863 | F34: =IF($D$2<F$9,0,IF(AND(F11=0,F32=0),1,IF(AND(F11=0,F32>0),2,IF(F32<0,0,(F32/F11))))) -> 2.1948814 | G34: =IF($D$2<G$9,0,IF(AND(G11=0,G32=0),1,IF(AND(G11=0,G32>0),2,IF(G32<0,0,(G32/G11))))) -> 1.2244754 | H34: =IF($D$2<H$9,0,IF(AND(H11=0,H32=0),1,IF(AND(H11=0,H32>0),2,IF(H32<0,0,(H32/H11))))) -> 1.9304651 | I34: =IF($D$2<I$9,0,IF(AND(I11=0,I32=0),1,IF(AND(I11=0,I32>0),2,IF(I32<0,0,(I32/I11))))) -> 1.9304651 | J34: =IF($D$2<J$9,0,IF(AND(J11=0,J32=0),1,IF(AND(J11=0,J32>0),2,IF(J32<0,0,(J32/J11))))) -> 1.7944829 | K34: =IF($D$2<K$9,0,IF(AND(K11=0,K32=0),1,IF(AND(K11=0,K32>0),2,IF(K32<0,0,(K32/K11))))) -> 1.5061086 | ... R34: =IF($D$2<R$9,0,IF(AND(R11=0,R32=0),1,IF(AND(R11=0,R32>0),2,IF(R32<0,0,(R32/R11))))) -> 0 | S34: 0 | T34: 0 | U34: 0 | V34: Last 3Y
B35: Fy Q3 2425 | D35: =D68+D101 -> 0.904 | E35: =E68+E101 -> -0.021 | F35: =F68+F101 -> 0.547 | G35: =G68+G101 -> 3 | H35: =H68+H101 -> 5.757 | I35: =I68+I101 -> 1.407 | J35: =J68+J101 -> 6.366 | K35: =K68+K101 -> 10.677 | ... R35: =R68+R101 -> 113.083 | S35: =SUM(D35:H35) -> 10.187 | T35: =SUM(I35:M35) -> 62.642 | U35: =SUM(N35:R35) -> 155.442 | V35: =SUM(S35:U35) -> 228.271
B36: Fy Q4 2324 | D36: =D69+D102 -> -0.03 | E36: =E69+E102 -> 0.504 | F36: =F69+F102 -> 1.85 | G36: =G69+G102 -> 23.293 | H36: =H69+H102 -> 9.881 | I36: =I69+I102 -> 1.783 | J36: =J69+J102 -> 9.949 | K36: =K69+K102 -> 16.164 | ... R36: =R69+R102 -> 122.231 | S36: =SUM(D36:H36) -> 35.498 | T36: =SUM(I36:M36) -> 113.843 | U36: =SUM(N36:R36) -> 183.294 | V36: =SUM(S36:U36) -> 332.635
D37: 0 | E37: 0.074367089 | F37: 0.18037975 | H37: 0.21044304 | I37: 0.53481013 | J37: 0.1504065 | K37: 0.17174797 | L37: 0.20020325 | M37: 0.47764228 | O37: 0.056364788 | P37: 0.10196327 | Q37: 0.13742875 | R37: 0.70424319 | S37: =$V$37*S1 -> 5.995 | T37: =$V$37*T1 -> 12.085 | U37: =$V$37*U1 -> 14.42 | V37: 32.5
B38: Consumer SI India DT WF Q3FY2425
C39: Month | D39: =D$6 -> 1 | E39: =E$6 -> 1 | F39: =F$6 -> 1 | G39: =G$6 -> 1 | H39: =H$6 -> 1 | I39: =I$6 -> 2 | J39: =J$6 -> 2 | K39: =K$6 -> 2 | L39: =L$6 -> 2 | M39: 2 | N39: 3 | O39: =O$6 -> 3 | P39: =P$6 -> 3 | Q39: =Q$6 -> 3 | R39: =R$6 -> 3 | S39: =S$6 -> 1 | T39: =T$6 -> 2 | U39: =U$6 -> 3 | V39: =V$6 -> QTR
C40: Week | D40: =D$7 -> 1 | E40: =E$7 -> 2 | F40: =F$7 -> 3 | G40: =G$7 -> 4 | H40: =H$7 -> 5 | I40: =I$7 -> 5 | J40: =J$7 -> 6 | K40: =K$7 -> 7 | ... V40: =V$7 -> 0
C41: Begin | D41: =D$8 -> 45931 | E41: =E$8 -> 45936 | F41: =F$8 -> 45943 | G41: =G$8 -> 45950 | H41: =H$8 -> 45957 | I41: =I$8 -> 45962 | J41: =J$8 -> 45964 | K41: =K$8 -> 45971 | ... V41: =V$8 -> 45931
C42: End | D42: =D$9 -> 45935 | E42: =E$9 -> 45942 | F42: =F$9 -> 45949 | G42: =G$9 -> 45956 | H42: =H$9 -> 45961 | I42: =I$9 -> 45963 | J42: =J$9 -> 45970 | K42: =K$9 -> 45977 | ... V42: =V$9 -> 46022
...

Sheet SI-Overseas
C1: Week# | D1: ='SI -Overall'!D1 -> 10
C2: Weekending dt: | D2: ='SI -Overall'!D2 -> 45998
B5: Consumer SI Overseas WF Q3FY2526
C6: Month | D6: 1 | E6: 1 | F6: 1 | G6: 1 | H6: 1 | I6: 2 | J6: 2 | K6: 2 | L6: 2 | M6: 2 | N6: 3 | O6: 3 | P6: 3 | Q6: 3 | R6: 3 | S6: 1 | T6: 2 | U6: 3 | V6: QTR
C7: Week | D7: ='SI -Overall'!D7 -> 1 | E7: ='SI -Overall'!E7 -> 2 | F7: ='SI -Overall'!F7 -> 3 | G7: ='SI -Overall'!G7 -> 4 | H7: 5 | I7: 5 | J7: ='SI -Overall'!J7 -> 6 | K7: ='SI -Overall'!K7 -> 7 | L7: ='SI -Overall'!L7 -> 8 | M7: ='SI -Overall'!M7 -> 9 | N7: ='SI -Overall'!N7 -> 9b | O7: ='SI -Overall'!O7 -> 10 | P7: ='SI -Overall'!P7 -> 11 | Q7: ='SI -Overall'!Q7 -> 12 | R7: ='SI -Overall'!R7 -> 13
C8: Begin | D8: ='SI -Overall'!D8 -> 45931 | E8: ='SI -Overall'!E8 -> 45936 | F8: ='SI -Overall'!F8 -> 45943 | G8: ='SI -Overall'!G8 -> 45950 | H8: ='SI -Overall'!H8 -> 45957 | I8: ='SI -Overall'!I8 -> 45962 | J8: ='SI -Overall'!J8 -> 45964 | K8: ='SI -Overall'!K8 -> 45971 | ... R8: ='SI -Overall'!R8 -> 46013 | S8: =D8 -> 45931 | T8: =I8 -> 45962 | U8: =O8 -> 45992 | V8: =D8 -> 45931
C9: End | D9: ='SI -Overall'!D9 -> 45935 | E9: ='SI -Overall'!E9 -> 45942 | F9: ='SI -Overall'!F9 -> 45949 | G9: ='SI -Overall'!G9 -> 45956 | H9: ='SI -Overall'!H9 -> 45961 | I9: ='SI -Overall'!I9 -> 45963 | J9: ='SI -Overall'!J9 -> 45970 | K9: ='SI -Overall'!K9 -> 45977 | ... R9: ='SI -Overall'!R9 -> 46022 | S9: =I9 -> 45963 | T9: =M9 -> 45991 | U9: =R9 -> 46022 | V9: =R9 -> 46022
B10: Target | C10: Week | D10: =D76 -> 0.11185612 | E10: =E76 -> 0.072544779 | F10: =F76 -> 1.5597893 | G10: =G76 -> 2.441936 | H10: =H76 -> 0.8138738 | I10: =I76 -> 0 | J10: =J76 -> 0.3465311 | K10: =K76 -> 1.2099118 | ... R10: =R76 -> 5.431171 | S10: =SUMIF($D$6:$R$6,S$6,$D10:$R10) -> 5 | T10: =SUMIF($D$6:$R$6,T$6,$D10:$R10) -> 7 | U10: =SUMIF($D$6:$R$6,U$6,$D10:$R10) -> 8 | V10: =SUM(S10:U10) -> 20
C11: QTD | D11: =D10 -> 0.11185612 | E11: =D11+E10 -> 0.1844009 | F11: =E11+F10 -> 1.7441902 | G11: =F11+G10 -> 4.1861262 | H11: =G11+H10 -> 5 | I11: =H11+I10 -> 5 | J11: =I11+J10 -> 5.3465311 | K11: =J11+K10 -> 6.5564429 | L11: =K11+L10 -> 8.7483885 | ... N11: =M11+N10 -> 12 | O11: =M11+O10 -> 12.6701 | P11: =O11+P10 -> 13.374487 | Q11: =P11+Q10 -> 14.568829 | R11: =Q11+R10 -> 20 | S11: =IFERROR(S10/$V10,0) -> 0.25 | T11: =IFERROR(T10/$V10,0) -> 0.35 | U11: =IFERROR(U10/$V10,0) -> 0.4
C12: 0 | D12: =D45+D78 -> 0.11185612 | E12: =E45+E78 -> 0.072544779 | F12: =F45+F78 -> 1.5597893 | G12: =G45+G78 -> 2.441936 | H12: =H45+H78 -> 0.8138738 | I12: =I45+I78 -> 0 | J12: =J45+J78 -> 0.3465311 | K12: =K45+K78 -> 1.2099118 | ... R12: =R45+R78 -> 5.431171 | S12: =SUMIF($D$6:$R$6,S$6,$D12:$R12) -> 5 | T12: =SUMIF($D$6:$R$6,T$6,$D12:$R12) -> 7 | U12: =SUMIF($D$6:$R$6,U$6,$D12:$R12) -> 8 | V12: =SUM(S12:U12) -> 20
B13: Week | C13: 1 | D13: =D46+D79 -> 0 | E13: =E46+E79 -> 0.1844009 | F13: =F46+F79 -> 1.5597893 | G13: =G46+G79 -> 2.441936 | H13: =H46+H79 -> 0.8138738 | I13: =I46+I79 -> 0 | J13: =J46+J79 -> 0.3465311 | K13: =K46+K79 -> 1.2099118 | ... R13: =R46+R79 -> 5.431171 | S13: =SUMIF($D$6:$R$6,S$6,$D13:$R13) -> 5 | T13: =SUMIF($D$6:$R$6,T$6,$D13:$R13) -> 7 | U13: =SUMIF($D$6:$R$6,U$6,$D13:$R13) -> 8 | V13: =SUM(S13:U13) -> 20
C14: 2 | D14: =IF($C14<=$D$1,D13,0) -> 0 | E14: =E47+E80 -> 0.479 | F14: =F47+F80 -> 1.5597893 | G14: =G47+G80 -> 2.441936 | H14: =H47+H80 -> 0.5192747 | I14: =I47+I80 -> 0 | J14: =J47+J80 -> 0.3465311 | K14: =K47+K80 -> 1.2099118 | L14: =L47+L80 -> 2.1919456 | ... R14: =R47+R80 -> 5.431171 | S14: =SUMIF($D$6:$R$6,S$6,$D14:$R14) -> 5 | T14: =SUMIF($D$6:$R$6,T$6,$D14:$R14) -> 7 | U14: =SUMIF($D$6:$R$6,U$6,$D14:$R14) -> 8 | V14: =SUM(S14:U14) -> 20
C15: 3 | D15: =IF($C15<=$D$1,D14,0) -> 0 | E15: =IF($C15<=$D$1,E14,0) -> 0.479 | F15: =F48+F81 -> 0.97 | G15: =G48+G81 -> 2.3 | H15: =H48+H81 -> 2.5 | I15: =I48+I81 -> 0.65 | J15: =J48+J81 -> 2 | K15: =K48+K81 -> 2.7 | L15: =L48+L81 -> 2.5 | M15: =M48+M81 -> 2.5 | ... R15: =R48+R81 -> 0 | S15: =SUMIF($D$6:$R$6,S$6,$D15:$R15) -> 6.249 | T15: =SUMIF($D$6:$R$6,T$6,$D15:$R15) -> 10.35 | U15: =SUMIF($D$6:$R$6,U$6,$D15:$R15) -> 3.4 | V15: =SUM(S15:U15) -> 19.999
C16: 4 | D16: =IF($C16<=$D$1,D15,0) -> 0 | E16: =IF($C16<=$D$1,E15,0) -> 0.479 | F16: =IF($C16<=$D$1,F15,0) -> 0.97 | G16: =G49+G82 -> 2.355 | H16: =H49+H82 -> 1.79 | I16: =I49+I82 -> 0.65 | J16: =J49+J82 -> 1.5 | K16: =K49+K82 -> 1.5 | L16: =L49+L82 -> 2.5 | M16: =M49+M82 -> 2.5 | N16: =N49+N82 -> 0 | ... R16: =R49+R82 -> 1 | S16: =SUMIF($D$6:$R$6,S$6,$D16:$R16) -> 5.594 | T16: =SUMIF($D$6:$R$6,T$6,$D16:$R16) -> 8.65 | U16: =SUMIF($D$6:$R$6,U$6,$D16:$R16) -> 5.8 | V16: =SUM(S16:U16) -> 20.044
C17: 5 | D17: =IF($C17<=$D$1,D16,0) -> 0 | E17: =IF($C17<=$D$1,E16,0) -> 0.479 | F17: =IF($C17<=$D$1,F16,0) -> 0.97 | G17: =IF($C17<=$D$1,G16,0) -> 2.355 | H17: =H50+H83 -> 2.338 | I17: =I50+I83 -> 0.12 | J17: =J50+J83 -> 1.5 | K17: =K50+K83 -> 1.5 | L17: =L50+L83 -> 2.5 | M17: =M50+M83 -> 2.482 | N17: =N50+N83 -> 0 | O17: =O50+O83 -> 2.3 | ... R17: =R50+R83 -> 1 | S17: =SUMIF($D$6:$R$6,S$6,$D17:$R17) -> 6.142 | T17: =SUMIF($D$6:$R$6,T$6,$D17:$R17) -> 8.102 | U17: =SUMIF($D$6:$R$6,U$6,$D17:$R17) -> 5.8 | V17: =SUM(S17:U17) -> 20.044
C18: 6 | D18: =IF($C18<=$D$1,D17,0) -> 0 | E18: =IF($C18<=$D$1,E17,0) -> 0.479 | F18: =IF($C18<=$D$1,F17,0) -> 0.97 | G18: =IF($C18<=$D$1,G17,0) -> 2.355 | H18: =IF($C18<=$D$1,H17,0) -> 2.338 | I18: =IF($C18<=$D$1,I17,0) -> 0.12 | J18: =J51+J84 -> 2.75 | K18: =K51+K84 -> 2.2 | L18: =L51+L84 -> 1.5 | M18: =M51+M84 -> 1.532 | N18: =N51+N84 -> 0 | O18: =O51+O84 -> 2.3 | P18: =P51+P84 -> 1.5 | Q18: =Q51+Q84 -> 1 | R18: =R51+R84 -> 1 | S18: =SUMIF($D$6:$R$6,S$6,$D18:$R18) -> 6.142 | T18: =SUMIF($D$6:$R$6,T$6,$D18:$R18) -> 8.102 | U18: =SUMIF($D$6:$R$6,U$6,$D18:$R18) -> 5.8 | V18: =SUM(S18:U18) -> 20.044
C19: 7 | D19: =IF($C19<=$D$1,D18,0) -> 0 | E19: =IF($C19<=$D$1,E18,0) -> 0.479 | F19: =IF($C19<=$D$1,F18,0) -> 0.97 | G19: =IF($C19<=$D$1,G18,0) -> 2.355 | H19: =IF($C19<=$D$1,H18,0) -> 2.338 | I19: =IF($C19<=$D$1,I18,0) -> 0.12 | J19: =IF($C19<=$D$1,J18,0) -> 2.75 | K19: =K52+K85 -> 2.502 | L19: =L52+L85 -> 2.5428571 | M19: =M52+M85 -> 2.0851429 | N19: =N52+N85 -> 0 | O19: =O52+O85 -> 5.4954138 | P19: =P52+P85 -> 3.5839655 | Q19: =Q52+Q85 -> 2.3893103 | R19: =R52+R85 -> 2.3893103 | S19: =SUMIF($D$6:$R$6,S$6,$D19:$R19) -> 6.142 | T19: =SUMIF($D$6:$R$6,T$6,$D19:$R19) -> 10 | U19: =SUMIF($D$6:$R$6,U$6,$D19:$R19) -> 13.858 | V19: =SUM(S19:U19) -> 30
C20: 8 | D20: =IF($C20<=$D$1,D19,0) -> 0 | E20: =IF($C20<=$D$1,E19,0) -> 0.479 | F20: =IF($C20<=$D$1,F19,0) -> 0.97 | G20: =IF($C20<=$D$1,G19,0) -> 2.355 | H20: =IF($C20<=$D$1,H19,0) -> 2.338 | I20: =IF($C20<=$D$1,I19,0) -> 0.12 | J20: =IF($C20<=$D$1,J19,0) -> 2.75 | K20: =IF($C20<=$D$1,K19,0) -> 2.502 | L20: =L53+L86 -> 4.168 | M20: =M53+M86 -> 3.5 | N20: =N53+N86 -> 0 | O20: =O53+O86 -> 2.3 | P20: =P53+P86 -> 3 | Q20: =Q53+Q86 -> 3.5 | R20: =R53+R86 -> 2.018 | S20: =S53+S86 -> 6.142 | ... V20: =V53+V86 -> 30
C21: 9 | D21: =IF($C21<=$D$1,D20,0) -> 0 | E21: =IF($C21<=$D$1,E20,0) -> 0.479 | F21: =IF($C21<=$D$1,F20,0) -> 0.97 | G21: =IF($C21<=$D$1,G20,0) -> 2.355 | H21: =IF($C21<=$D$1,H20,0) -> 2.338 | I21: =IF($C21<=$D$1,I20,0) -> 0.12 | J21: =IF($C21<=$D$1,J20,0) -> 2.75 | K21: =IF($C21<=$D$1,K20,0) -> 2.502 | L21: =L54+L87 -> 4.168 | M21: =M54+M87 -> 5.423 | N21: =N54+N87 -> 0 | O21: =O54+O87 -> 5 | P21: =P54+P87 -> 1.5 | Q21: =Q54+Q87 -> 1.5 | R21: =R54+R87 -> 0.895 | S21: =S54+S87 -> 6.142 | ... V21: =V54+V87 -> 30
C22: 10 | D22: =IF($C22<=$D$1,D21,0) -> 0 | E22: =IF($C22<=$D$1,E21,0) -> 0.479 | F22: =IF($C22<=$D$1,F21,0) -> 0.97 | G22: =IF($C22<=$D$1,G21,0) -> 2.355 | H22: =IF($C22<=$D$1,H21,0) -> 2.338 | I22: =IF($C22<=$D$1,I21,0) -> 0.12 | J22: =IF($C22<=$D$1,J21,0) -> 2.75 | K22: =IF($C22<=$D$1,K21,0) -> 2.502 | ... N22: =IF($C22<=$D$1,N21,0) -> 0 | O22: =O55+O88 -> -3.217 | P22: =P55+P88 -> 0 | Q22: =Q55+Q88 -> 0 | R22: =R55+R88 -> 0 | S22: =SUMIF($D$6:$R$6,S$6,$D22:$R22) -> 6.142 | T22: =SUMIF($D$6:$R$6,T$6,$D22:$R22) -> 14.963 | U22: =SUMIF($D$6:$R$6,U$6,$D22:$R22) -> -3.217 | V22: =SUM(S22:U22) -> 17.888
C23: 11 | D23: =IF($C23<=$D$1,D22,0) -> 0 | E23: =IF($C23<=$D$1,E22,0) -> 0 | F23: =IF($C23<=$D$1,F22,0) -> 0 | G23: =IF($C23<=$D$1,G22,0) -> 0 | H23: =IF($C23<=$D$1,H22,0) -> 0 | I23: =IF($C23<=$D$1,I22,0) -> 0 | J23: =IF($C23<=$D$1,J22,0) -> 0 | K23: =IF($C23<=$D$1,K22,0) -> 0 | ... O23: =IF($C23<=$D$1,O22,0) -> 0 | P23: =P56+P89 -> 0 | Q23: =Q56+Q89 -> 0 | R23: =R56+R89 -> 0 | S23: =SUMIF($D$6:$R$6,S$6,$D23:$R23) -> 0 | T23: =SUMIF($D$6:$R$6,T$6,$D23:$R23) -> 0 | U23: =SUMIF($D$6:$R$6,U$6,$D23:$R23) -> 0 | V23: =SUM(S23:U23) -> 0
C24: 12 | D24: =IF($C24<=$D$1,D23,0) -> 0 | E24: =IF($C24<=$D$1,E23,0) -> 0 | F24: =IF($C24<=$D$1,F23,0) -> 0 | G24: =IF($C24<=$D$1,G23,0) -> 0 | H24: =IF($C24<=$D$1,H23,0) -> 0 | I24: =IF($C24<=$D$1,I23,0) -> 0 | J24: =IF($C24<=$D$1,J23,0) -> 0 | K24: =IF($C24<=$D$1,K23,0) -> 0 | ... P24: =IF($C24<=$D$1,P23,0) -> 0 | Q24: =Q57+Q90 -> 0 | R24: =R57+R90 -> 0 | S24: =SUMIF($D$6:$R$6,S$6,$D24:$R24) -> 0 | T24: =SUMIF($D$6:$R$6,T$6,$D24:$R24) -> 0 | U24: =SUMIF($D$6:$R$6,U$6,$D24:$R24) -> 0 | V24: =SUM(S24:U24) -> 0
C25: 13 | D25: =IF($C25<=$D$1,D24,0) -> 0 | E25: =IF($C25<=$D$1,E24,0) -> 0 | F25: =IF($C25<=$D$1,F24,0) -> 0 | G25: =IF($C25<=$D$1,G24,0) -> 0 | H25: =IF($C25<=$D$1,H24,0) -> 0 | I25: =IF($C25<=$D$1,I24,0) -> 0 | J25: =IF($C25<=$D$1,J24,0) -> 0 | K25: =IF($C25<=$D$1,K24,0) -> 0 | ... Q25: =IF($C25<=$D$1,Q24,0) -> 0 | R25: =R58+R91 -> 0 | S25: =SUMIF($D$6:$R$6,S$6,$D25:$R25) -> 0 | T25: =SUMIF($D$6:$R$6,T$6,$D25:$R25) -> 0 | U25: =SUMIF($D$6:$R$6,U$6,$D25:$R25) -> 0 | V25: =SUM(S25:U25) -> 0
B26: Actual | C26: 0 | D26: 0 | E26: 0 | F26: 0 | G26: 0 | H26: 0 | I26: 0 | J26: 0 | K26: 0 | L26: 0 | M26: 0 | N26: 0 | O26: 0 | P26: 0 | Q26: 0 | R26: 0 | S26: 5.5 | T26: 4 | U26: 5.5 | V26: 15
B27: Delta to Target | C27: 0 | D27: -0.48 | E27: 0 | F27: 0 | G27: 0 | H27: 0 | I27: 0 | J27: 0 | K27: 0 | L27: 0 | M27: 0 | N27: 0 | O27: 0 | P27: 0 | Q27: 0 | R27: 0 | S27: 0 | T27: 0 | U27: 0 | V27: 0
B28: % to Target | C28: 0 | D28: 0 | E28: 0 | F28: 0 | G28: 0 | H28: 0 | I28: 0 | J28: 0 | K28: 0 | L28: 0 | M28: 0 | N28: 0 | O28: 0 | P28: 0 | Q28: 0 | R28: 0 | S28: 0 | T28: 0 | U28: 0 | V28: 0
B29: ="Week "&$D$1&" View" -> Week 10 View | D29: 0 | E29: 1 | F29: 1.5 | G29: 1.5 | H29: 1.5 | I29: 0 | J29: 1 | K29: 1 | L29: 1 | M29: 1 | N29: 0.5 | O29: 2 | P29: 1.5 | Q29: 1.5 | R29: 0 | S29: 5.5 | T29: 4 | U29: 5.5 | V29: 15
B30: Linearity | D30: 0 | E30: 0.18181818 | F30: 0.27272727 | G30: 0.27272727 | H30: 0.27272727 | I30: 0 | J30: 0.25 | K30: 0.25 | L30: 0.25 | M30: 0.25 | N30: 0.090909091 | O30: 0.36363636 | P30: 0.27272727 | Q30: 0.27272727 | R30: 0 | S30: 0.36666667 | T30: 0.26666667 | U30: 0.36666667
B31: Last 4Q ROL Linearity | R31: 0
B32: QTD Actual | C32: 0 | D32: 0 | E32: 0 | F32: 0 | G32: 0 | H32: 0 | I32: 0 | J32: 0 | K32: 0 | L32: 0 | M32: 0 | N32: 0 | O32: 0 | P32: 0 | Q32: 0 | R32: 0 | S32: 0.36666667 | T32: 0.26666667 | U32: 0.36666667 | V32: Current
B33: QTD Delta to Tgt | C33: 0 | D33: -0.48 | E33: 0 | F33: 0 | G33: 0 | H33: 0 | I33: 0 | J33: 0 | K33: 0 | L33: 0 | M33: 0 | N33: 0 | O33: 0 | P33: 0 | Q33: 0 | R33: 0 | S33: 0 | T33: 0 | U33: 0 | V33: Last 4Q
B34: % to Target | C34: 0 | D34: 0 | E34: 0 | F34: 0 | G34: 0 | H34: 0 | I34: 0 | J34: 0 | K34: 0 | L34: 0 | M34: 0 | N34: 0 | O34: 0 | P34: 0 | Q34: 0 | R34: 0 | S34: 0 | T34: 0 | U34: 0 | V34: Last 3Y
B35: Fy Q3 2425
B36: Fy Q4 2324
B38: Consumer SI Overseas DT WF Q3FY2425
C39: Month | D39: =D$6 -> 1 | E39: =E$6 -> 1 | F39: =F$6 -> 1 | G39: =G$6 -> 1 | H39: =H$6 -> 1 | I39: =I$6 -> 2 | J39: =J$6 -> 2 | K39: =K$6 -> 2 | ... R39: =R$6 -> 3 | S39: 1 | T39: 2 | U39: 3 | V39: QTR
C40: Week | D40: =D$7 -> 1 | E40: =E$7 -> 2 | F40: =F$7 -> 3 | G40: =G$7 -> 4 | H40: =H$7 -> 5 | I40: =I$7 -> 5 | J40: =J$7 -> 6 | K40: =K$7 -> 7 | ... R40: =R$7 -> 13
C41: Begin | D41: =D$8 -> 45931 | E41: =E$8 -> 45936 | F41: =F$8 -> 45943 | G41: =G$8 -> 45950 | H41: =H$8 -> 45957 | I41: =I$8 -> 45962 | J41: =J$8 -> 45964 | K41: =K$8 -> 45971 | ... R41: =R$8 -> 46013 | S41: =D41 -> 45931 | T41: =J41 -> 45964 | U41: =O41 -> 45992 | V41: =D41 -> 45931
C42: End | D42: =D$9 -> 45935 | E42: =E$9 -> 45942 | F42: =F$9 -> 45949 | G42: =G$9 -> 45956 | H42: =H$9 -> 45961 | I42: =I$9 -> 45963 | J42: =J$9 -> 45970 | K42: =K$9 -> 45977 | ... R42: =R$9 -> 46022 | S42: =I42 -> 45963 | T42: =M42 -> 45991 | U42: =R42 -> 46022 | V42: =U42 -> 46022
B43: Target | C43: Week | D43: 0 | E43: 0 | F43: 0 | G43: 0 | H43: 0 | I43: 0 | J43: 0 | K43: 0 | L43: 0 | M43: 0 | N43: 0 | O43: 0 | P43: 0 | Q43: 0 | R43: 0 | S43: =SUMIF($D$6:$R$6,S$6,$D43:$R43) -> 0 | T43: =SUMIF($D$6:$R$6,T$6,$D43:$R43) -> 0 | U43: =SUMIF($D$6:$R$6,U$6,$D43:$R43) -> 0 | V43: =SUM(S43:U43) -> 0
...

Sheet BD
C1: Week# | D1: ='SI -Overall'!D1 -> 10 | R1: 0.21 | S1: 0.32 | T1: 0.47
C2: Weekending dt: | D2: ='SI -Overall'!D2 -> 45998
B5: Consumer SI BD WF Q1FY2223
B6: Month | D6: 1 | E6: 1 | F6: 1 | G6: 1 | H6: 2 | I6: 2 | J6: 2 | K6: 2 | L6: 2 | M6: 3 | N6: 3 | O6: 3 | P6: 3 | Q6: 3 | R6: 1 | S6: 2 | T6: 3 | U6: QTR
B7: Week | D7: ='SI -Overall'!D7 -> 1 | E7: ='SI -Overall'!E7 -> 2 | F7: ='SI -Overall'!F7 -> 3 | G7: ='SI -Overall'!H7 -> 5 | H7: ='SI -Overall'!I7 -> 5 | I7: ='SI -Overall'!J7 -> 6 | J7: ='SI -Overall'!K7 -> 7 | K7: ='SI -Overall'!L7 -> 8 | L7: ='SI -Overall'!M7 -> 9 | M7: ='SI -Overall'!N7 -> 9b | N7: ='SI -Overall'!O7 -> 10 | ... Q7: ='SI -Overall'!R7 -> 13
B8: Begin | D8: ='SI -Overall'!D8 -> 45931 | E8: ='SI -Overall'!E8 -> 45936 | F8: ='SI -Overall'!F8 -> 45943 | G8: ='SI -Overall'!H8 -> 45957 | H8: ='SI -Overall'!I8 -> 45962 | I8: ='SI -Overall'!J8 -> 45964 | J8: ='SI -Overall'!K8 -> 45971 | K8: ='SI -Overall'!L8 -> 45978 | L8: ='SI -Overall'!M8 -> 45985 | M8: ='SI -Overall'!N8 -> 45985 | N8: ='SI -Overall'!O8 -> 45992 | ... Q8: ='SI -Overall'!R8 -> 46013 | R8: =D8 -> 45931 | S8: =D8 -> 45931 | T8: =I8 -> 45964 | U8: =N8 -> 45992
B9: End | D9: ='SI -Overall'!D9 -> 45935 | E9: ='SI -Overall'!E9 -> 45942 | F9: ='SI -Overall'!F9 -> 45949 | G9: ='SI -Overall'!H9 -> 45961 | H9: ='SI -Overall'!I9 -> 45963 | I9: ='SI -Overall'!J9 -> 45970 | J9: ='SI -Overall'!K9 -> 45977 | K9: ='SI -Overall'!L9 -> 45984 | L9: ='SI -Overall'!M9 -> 45991 | M9: ='SI -Overall'!N9 -> 45991 | N9: ='SI -Overall'!O9 -> 45998 | ... Q9: ='SI -Overall'!R9 -> 46022 | R9: =H9 -> 45963 | S9: =H9 -> 45963 | T9: =L9 -> 45991 | U9: =Q9 -> 46022
B10: Target | C10: Week | R10: =SUMIF($D$6:$Q$6,R$6,$D10:$Q10) -> 0 | S10: =SUMIF($D$6:$Q$6,S$6,$D10:$Q10) -> 0 | T10: =SUMIF($D$6:$Q$6,T$6,$D10:$Q10) -> 0 | U10: =SUM(R10:T10) -> 0
B11: QTD | D11: =D10 -> 0 | E11: =D11+E10 -> 0 | F11: =E11+F10 -> 0 | G11: =F11+G10 -> 0 | H11: =G11+H10 -> 0 | I11: =H11+I10 -> 0 | J11: =I11+J10 -> 0 | K11: =J11+K10 -> 0 | L11: =K11+L10 -> 0 | M11: =L11+M10 -> 0 | N11: =L11+N10 -> 0 | O11: =N11+O10 -> 0 | P11: =O11+P10 -> 0 | Q11: =P11+Q10 -> 0 | R11: =IFERROR(R10/$U10,0) -> 0 | S11: =IFERROR(S10/$U10,0) -> 0 | T11: =IFERROR(T10/$U10,0) -> 0
C12: 0 | D12: =D45+D78 -> 0 | E12: =E45+E78 -> 0 | F12: =F45+F78 -> 0 | G12: =G45+G78 -> 0 | H12: =H45+H78 -> 0 | I12: =I45+I78 -> 0 | J12: =J45+J78 -> 0 | K12: =K45+K78 -> 0 | ... Q12: =Q45+Q78 -> 0 | R12: =SUMIF($D$6:$Q$6,R$6,$D12:$Q12) -> 0 | S12: =SUMIF($D$6:$Q$6,S$6,$D12:$Q12) -> 0 | T12: =SUMIF($D$6:$Q$6,T$6,$D12:$Q12) -> 0 | U12: =SUM(R12:T12) -> 0
B13: Week | C13: 1 | D13: =D46+D79 -> 0 | E13: =E46+E79 -> 0 | F13: =F46+F79 -> 0 | G13: =G46+G79 -> 0 | H13: =H46+H79 -> 0 | I13: =I46+I79 -> 0 | J13: =J46+J79 -> 0 | K13: =K46+K79 -> 0 | ... Q13: =Q46+Q79 -> 0 | R13: =SUMIF($D$6:$Q$6,R$6,$D13:$Q13) -> 0 | S13: =SUMIF($D$6:$Q$6,S$6,$D13:$Q13) -> 0 | T13: =SUMIF($D$6:$Q$6,T$6,$D13:$Q13) -> 0 | U13: =SUM(R13:T13) -> 0
C14: 2 | D14: =IF($C14<=$D$1,D13,0) -> 0 | E14: =E47+E80 -> 0 | F14: =F47+F80 -> 0 | G14: =G47+G80 -> 0 | H14: =H47+H80 -> 0 | I14: =I47+I80 -> 0 | J14: =J47+J80 -> 0 | K14: =K47+K80 -> 0 | L14: =L47+L80 -> 0 | ... Q14: =Q47+Q80 -> 0 | R14: =SUMIF($D$6:$Q$6,R$6,$D14:$Q14) -> 0 | S14: =SUMIF($D$6:$Q$6,S$6,$D14:$Q14) -> 0 | T14: =SUMIF($D$6:$Q$6,T$6,$D14:$Q14) -> 0 | U14: =SUM(R14:T14) -> 0
C15: 3 | D15: =IF($C15<=$D$1,D14,0) -> 0 | E15: =IF($C15<=$D$1,E14,0) -> 0 | F15: =F48+F81 -> 0 | G15: =G48+G81 -> 0 | H15: =H48+H81 -> 0 | I15: =I48+I81 -> 0 | J15: =J48+J81 -> 0 | K15: =K48+K81 -> 0 | L15: =L48+L81 -> 0 | M15: =M48+M81 -> 0 | ... Q15: =Q48+Q81 -> 0 | R15: =SUMIF($D$6:$Q$6,R$6,$D15:$Q15) -> 0 | S15: =SUMIF($D$6:$Q$6,S$6,$D15:$Q15) -> 0 | T15: =SUMIF($D$6:$Q$6,T$6,$D15:$Q15) -> 0 | U15: =SUM(R15:T15) -> 0
C16: 4 | D16: =IF($C16<=$D$1,D15,0) -> 0 | E16: =IF($C16<=$D$1,E15,0) -> 0 | F16: =IF($C16<=$D$1,F15,0) -> 0 | G16: =G49+G82 -> 0 | H16: =H49+H82 -> 0 | I16: =I49+I82 -> 0 | J16: =J49+J82 -> 0 | K16: =K49+K82 -> 0 | L16: =L49+L82 -> 0 | M16: =M49+M82 -> 0 | N16: =N49+N82 -> 0 | ... Q16: =Q49+Q82 -> 0 | R16: =SUMIF($D$6:$Q$6,R$6,$D16:$Q16) -> 0 | S16: =SUMIF($D$6:$Q$6,S$6,$D16:$Q16) -> 0 | T16: =SUMIF($D$6:$Q$6,T$6,$D16:$Q16) -> 0 | U16: =SUM(R16:T16) -> 0
C17: 5 | D17: =IF($C17<=$D$1,D16,0) -> 0 | E17: =IF($C17<=$D$1,E16,0) -> 0 | F17: =IF($C17<=$D$1,F16,0) -> 0 | G17: =IF($C17<=$D$1,G16,0) -> 0 | H17: =H50+H83 -> 0 | I17: =I50+I83 -> 0 | J17: =J50+J83 -> 0 | K17: =K50+K83 -> 0 | L17: =L50+L83 -> 0 | M17: =M50+M83 -> 0 | N17: =N50+N83 -> 0 | O17: =O50+O83 -> 0 | ... Q17: =Q50+Q83 -> 0 | R17: =SUMIF($D$6:$Q$6,R$6,$D17:$Q17) -> 0 | S17: =SUMIF($D$6:$Q$6,S$6,$D17:$Q17) -> 0 | T17: =SUMIF($D$6:$Q$6,T$6,$D17:$Q17) -> 0 | U17: =SUM(R17:T17) -> 0
C18: 6 | D18: =IF($C18<=$D$1,D17,0) -> 0 | E18: =IF($C18<=$D$1,E17,0) -> 0 | F18: =IF($C18<=$D$1,F17,0) -> 0 | G18: =IF($C18<=$D$1,G17,0) -> 0 | H18: =IF($C18<=$D$1,H17,0) -> 0 | I18: =I51+I84 -> 0 | J18: =J51+J84 -> 0 | K18: =K51+K84 -> 0 | L18: =L51+L84 -> 0 | M18: =M51+M84 -> 0 | N18: =N51+N84 -> 0 | O18: =O51+O84 -> 0 | P18: =P51+P84 -> 0 | Q18: =Q51+Q84 -> 0 | R18: =SUMIF($D$6:$Q$6,R$6,$D18:$Q18) -> 0 | S18: =SUMIF($D$6:$Q$6,S$6,$D18:$Q18) -> 0 | T18: =SUMIF($D$6:$Q$6,T$6,$D18:$Q18) -> 0 | U18: =SUM(R18:T18) -> 0
C19: 7 | D19: =IF($C19<=$D$1,D18,0) -> 0 | E19: =IF($C19<=$D$1,E18,0) -> 0 | F19: =IF($C19<=$D$1,F18,0) -> 0 | G19: =IF($C19<=$D$1,G18,0) -> 0 | H19: =IF($C19<=$D$1,H18,0) -> 0 | I19: =IF($C19<=$D$1,I18,0) -> 0 | J19: =J52+J85 -> 0 | K19: =K52+K85 -> 0 | L19: =L52+L85 -> 0 | M19: =M52+M85 -> 0 | N19: =N52+N85 -> 0 | O19: =O52+O85 -> 0 | P19: =P52+P85 -> 0 | Q19: =Q52+Q85 -> 0 | R19: =SUMIF($D$6:$Q$6,R$6,$D19:$Q19) -> 0 | S19: =SUMIF($D$6:$Q$6,S$6,$D19:$Q19) -> 0 | T19: =SUMIF($D$6:$Q$6,T$6,$D19:$Q19) -> 0 | U19: =SUM(R19:T19) -> 0
