Workbook

Sheet Sheet1
A1: DESIG NM | B1: VAS ASO
A3: Count of Employee status | B3: Column Labels
A4: Row Labels | B4: Active | C4: Offer issued | D4: Shortlisted | E4: Vacant | F4: Grand Total
A5: East1 | C5: 1 | E5: 1 | F5: 2
A6: East2 | D6: 1 | F6: 1
A7: North1 | B7: 2 | F7: 2
A8: North2 | B8: 1 | F8: 1
A9: South1 | B9: 1 | E9: 1 | F9: 2
A10: South2 | B10: 1 | F10: 1
A11: South3 | B11: 1 | D11: 1 | F11: 2
A12: West1 | B12: 2 | C12: 1 | E12: 1 | F12: 4
A13: West2 | C13: 1 | F13: 1
A14: Grand Total | B14: 8 | C14: 3 | D14: 2 | E14: 3 | F14: 16
B16: Sr.No. | C16: V5 code | D16: Emp.Name | E16: Emp Email ID | F16: Designation Name | G16: Employee status | H16: DOJ | I16: City Posting | J16: State Posting | K16: Mobile | L16: Region | M16: DSM Name | N16: RSM | O16: RCM | P16: RCM Email ID | Q16: Statehead | R16: SDM | S16: Remarks
B17: 25 | C17: - | D17: - | E17: - | F17: PC ASO | G17: Hiring hold | H17: - | I17: Belgaum | J17: Karnataka | K17: - | L17: South1 | M17: Prakash Kumar K P | N17: S Sreekumar | O17: Anuj Kumar | P17: akumar1@lenovo.com | Q17: Sharad verma | R17: Jaspreet Singh | S17: Hiring hold
B18: Sr.No. | C18: V5 code/Caspian | D18: Emp.Name | E18: Emp Email ID | F18: Designation Name | G18: Employee status | H18: DOJ | I18: City Posting | J18: State Posting | K18: Mobile | L18: Region | M18: DSM Name | N18: RSM | O18: RCM | P18: RCM Email ID | Q18: Statehead | R18: SDM | S18: Remarks
B19: 81 | C19: TBH | D19: TBH | E19: - | F19: PC ASO | G19: Vacant | H19: - | I19: Indore | J19: Madhya Pradesh | K19: - | L19: North2 | M19: Rahil Rasheed | N19: Durgendra Singh | O19: Vishal Porwal | P19: vporwal@lenovo.com | Q19: Raghavendra Araveeti | R19: Gaurav Srivastava | S19: - | T19: removed on 20th Dec'24

Sheet Summary
B2: Region | C2: Vertical | D2: Planned | E2: Active | F2: Notice period | G2: Offer issued | H2: Shortlisted | I2: Vacant | K2: Automated
B3: East 1 | C3: Pan India | D3: =SUM(E3:I3) -> 15 | E3: 11 | G3: 1 | I3: 3 | K3: Region | L3: Vertical | M3: Planned | N3: Active | O3: Notice period | P3: Offer issued | Q3: Shortlisted | R3: Hiring hold | S3: Vacant
B4: East 2 | C4: Pan India | D4: =SUM(E4:I4) -> 10 | E4: 9 | H4: 1 | K4: East1 | L4: Pan India | M4: =SUM(N4:S4) -> 10 | N4: =COUNTIFS('Team list'!$L:$L,Summary!$K4,'Team list'!$G:$G,"Active") -> 10 | O4: =COUNTIFS('Team list'!$L:$L,Summary!$K4,'Team list'!$G:$G,"Notice period") -> 0 | P4: =COUNTIFS('Team list'!$L:$L,Summary!$K4,'Team list'!$G:$G,"Offer Issued") -> 0 | Q4: =COUNTIFS('Team list'!$L:$L,Summary!$K4,'Team list'!$G:$G,"Shortlisted") -> 0 | R4: =COUNTIFS('Team list'!$L:$L,Summary!$K4,'Team list'!$G:$G,"Hiring Hold") -> 0 | S4: =COUNTIFS('Team list'!$L:$L,Summary!$K4,'Team list'!$G:$G,"Vacant") -> 0
B5: North 1 | C5: Pan India | D5: =SUM(E5:I5) -> 16 | E5: 14 | G5: 1 | I5: 1 | K5: East2 | L5: Pan India | M5: =SUM(N5:S5) -> 9 | N5: =COUNTIFS('Team list'!$L:$L,Summary!$K5,'Team list'!$G:$G,"Active") -> 8 | O5: =COUNTIFS('Team list'!$L:$L,Summary!$K5,'Team list'!$G:$G,"Notice period") -> 0 | P5: =COUNTIFS('Team list'!$L:$L,Summary!$K5,'Team list'!$G:$G,"Offer Issued") -> 0 | Q5: =COUNTIFS('Team list'!$L:$L,Summary!$K5,'Team list'!$G:$G,"Shortlisted") -> 0 | R5: =COUNTIFS('Team list'!$L:$L,Summary!$K5,'Team list'!$G:$G,"Hiring Hold") -> 0 | S5: =COUNTIFS('Team list'!$L:$L,Summary!$K5,'Team list'!$G:$G,"Vacant") -> 1
B6: North 2 | C6: Pan India | D6: =SUM(E6:I6) -> 10 | E6: 9 | F6: 1 | K6: North1 | L6: Pan India | M6: =SUM(N6:S6) -> 15 | N6: =COUNTIFS('Team list'!$L:$L,Summary!$K6,'Team list'!$G:$G,"Active") -> 15 | O6: =COUNTIFS('Team list'!$L:$L,Summary!$K6,'Team list'!$G:$G,"Notice period") -> 0 | P6: =COUNTIFS('Team list'!$L:$L,Summary!$K6,'Team list'!$G:$G,"Offer Issued") -> 0 | Q6: =COUNTIFS('Team list'!$L:$L,Summary!$K6,'Team list'!$G:$G,"Shortlisted") -> 0 | R6: =COUNTIFS('Team list'!$L:$L,Summary!$K6,'Team list'!$G:$G,"Hiring Hold") -> 0 | S6: =COUNTIFS('Team list'!$L:$L,Summary!$K6,'Team list'!$G:$G,"Vacant") -> 0
B7: South 1 | C7: Pan India | D7: =SUM(E7:I7) -> 9 | E7: 4 | F7: 1 | H7: 2 | I7: 2 | K7: North2 | L7: Pan India | M7: =SUM(N7:S7) -> 11 | N7: =COUNTIFS('Team list'!$L:$L,Summary!$K7,'Team list'!$G:$G,"Active") -> 11 | O7: =COUNTIFS('Team list'!$L:$L,Summary!$K7,'Team list'!$G:$G,"Notice period") -> 0 | P7: =COUNTIFS('Team list'!$L:$L,Summary!$K7,'Team list'!$G:$G,"Offer Issued") -> 0 | Q7: =COUNTIFS('Team list'!$L:$L,Summary!$K7,'Team list'!$G:$G,"Shortlisted") -> 0 | R7: =COUNTIFS('Team list'!$L:$L,Summary!$K7,'Team list'!$G:$G,"Hiring Hold") -> 0 | S7: =COUNTIFS('Team list'!$L:$L,Summary!$K7,'Team list'!$G:$G,"Vacant") -> 0
B8: South 2 | C8: Pan India | D8: =SUM(E8:I8) -> 14 | E8: 14 | K8: South1 | L8: Pan India | M8: =SUM(N8:S8) -> 8 | N8: =COUNTIFS('Team list'!$L:$L,Summary!$K8,'Team list'!$G:$G,"Active") -> 6 | O8: =COUNTIFS('Team list'!$L:$L,Summary!$K8,'Team list'!$G:$G,"Notice period") -> 0 | P8: =COUNTIFS('Team list'!$L:$L,Summary!$K8,'Team list'!$G:$G,"Offer Issued") -> 1 | Q8: =COUNTIFS('Team list'!$L:$L,Summary!$K8,'Team list'!$G:$G,"Shortlisted") -> 0 | R8: =COUNTIFS('Team list'!$L:$L,Summary!$K8,'Team list'!$G:$G,"Hiring Hold") -> 0 | S8: =COUNTIFS('Team list'!$L:$L,Summary!$K8,'Team list'!$G:$G,"Vacant") -> 1
B9: South 3 | C9: Pan India | D9: =SUM(E9:I9) -> 7 | E9: 5 | H9: 1 | I9: 1 | K9: South2 | L9: Pan India | M9: =SUM(N9:S9) -> 10 | N9: =COUNTIFS('Team list'!$L:$L,Summary!$K9,'Team list'!$G:$G,"Active") -> 8 | O9: =COUNTIFS('Team list'!$L:$L,Summary!$K9,'Team list'!$G:$G,"Notice period") -> 0 | P9: =COUNTIFS('Team list'!$L:$L,Summary!$K9,'Team list'!$G:$G,"Offer Issued") -> 1 | Q9: =COUNTIFS('Team list'!$L:$L,Summary!$K9,'Team list'!$G:$G,"Shortlisted") -> 0 | R9: =COUNTIFS('Team list'!$L:$L,Summary!$K9,'Team list'!$G:$G,"Hiring Hold") -> 0 | S9: =COUNTIFS('Team list'!$L:$L,Summary!$K9,'Team list'!$G:$G,"Vacant") -> 1
B10: West 2 | C10: Pan India | D10: =SUM(E10:I10) -> 18 | E10: 14 | F10: 1 | G10: 2 | I10: 1 | K10: West1 | L10: Pan India | M10: =SUM(N10:S10) -> 23 | N10: =COUNTIFS('Team list'!$L:$L,Summary!$K10,'Team list'!$G:$G,"Active") -> 18 | O10: =COUNTIFS('Team list'!$L:$L,Summary!$K10,'Team list'!$G:$G,"Notice period") -> 0 | P10: =COUNTIFS('Team list'!$L:$L,Summary!$K10,'Team list'!$G:$G,"Offer Issued") -> 1 | Q10: =COUNTIFS('Team list'!$L:$L,Summary!$K10,'Team list'!$G:$G,"Shortlisted") -> 0 | R10: =COUNTIFS('Team list'!$L:$L,Summary!$K10,'Team list'!$G:$G,"Hiring Hold") -> 0 | S10: =COUNTIFS('Team list'!$L:$L,Summary!$K10,'Team list'!$G:$G,"Vacant") -> 4
K11: Total | M11: =SUM(M4:M10) -> 86 | N11: =SUM(N4:N10) -> 76 | O11: =SUM(O4:O10) -> 0 | P11: =SUM(P4:P10) -> 3 | Q11: =SUM(Q4:Q10) -> 0 | R11: =SUM(R4:R10) -> 0 | S11: =SUM(S4:S10) -> 7
B12: PC
B13: Region | C13: Vertical | D13: Planned | E13: Active | F13: Notice period | G13: Offer issued | H13: Shortlisted | I13: Vacant | K13: PC
B14: East 1 | C14: PC ASO | D14: =SUM(E14:I14) -> 13 | E14: 11 | I14: 2 | K14: Region | L14: Vertical | M14: Planned | N14: Active | O14: Notice period | P14: Offer issued | Q14: Shortlisted | S14: Vacant
B15: East 2 | C15: PC ASO | D15: =SUM(E15:I15) -> 9 | E15: 9 | K15: East1 | L15: PC ASO | M15: =SUM(N15:S15) -> 10 | N15: =COUNTIFS('Team list'!$L:$L,Summary!$K15,'Team list'!$G:$G,"Active",'Team list'!$F:$F,"PC ASO") -> 10 | O15: =COUNTIFS('Team list'!$L:$L,Summary!$K15,'Team list'!$G:$G,"Notice Period",'Team list'!$F:$F,"PC ASO") -> 0 | P15: =COUNTIFS('Team list'!$L:$L,Summary!$K15,'Team list'!$G:$G,"Offer Issued",'Team list'!$F:$F,"PC ASO") -> 0 | Q15: =COUNTIFS('Team list'!$L:$L,Summary!$K15,'Team list'!$G:$G,"Shortlisted",'Team list'!$F:$F,"PC ASO") -> 0 | S15: =COUNTIFS('Team list'!$L:$L,Summary!$K15,'Team list'!$G:$G,"Vacant",'Team list'!$F:$F,"PC ASO") -> 0
B16: North 1 | C16: PC ASO | D16: =SUM(E16:I16) -> 14 | E16: 12 | G16: 1 | I16: 1 | K16: East2 | L16: PC ASO | M16: =SUM(N16:S16) -> 9 | N16: =COUNTIFS('Team list'!$L:$L,Summary!$K16,'Team list'!$G:$G,"Active",'Team list'!$F:$F,"PC ASO") -> 8 | O16: =COUNTIFS('Team list'!$L:$L,Summary!$K16,'Team list'!$G:$G,"Notice Period",'Team list'!$F:$F,"PC ASO") -> 0 | P16: =COUNTIFS('Team list'!$L:$L,Summary!$K16,'Team list'!$G:$G,"Offer Issued",'Team list'!$F:$F,"PC ASO") -> 0 | Q16: =COUNTIFS('Team list'!$L:$L,Summary!$K16,'Team list'!$G:$G,"Shortlisted",'Team list'!$F:$F,"PC ASO") -> 0 | S16: =COUNTIFS('Team list'!$L:$L,Summary!$K16,'Team list'!$G:$G,"Vacant",'Team list'!$F:$F,"PC ASO") -> 1
B17: North 2 | C17: PC ASO | D17: =SUM(E17:I17) -> 9 | E17: 8 | F17: 1 | K17: North1 | L17: PC ASO | M17: =SUM(N17:S17) -> 14 | N17: =COUNTIFS('Team list'!$L:$L,Summary!$K17,'Team list'!$G:$G,"Active",'Team list'!$F:$F,"PC ASO") -> 14 | O17: =COUNTIFS('Team list'!$L:$L,Summary!$K17,'Team list'!$G:$G,"Notice Period",'Team list'!$F:$F,"PC ASO") -> 0 | P17: =COUNTIFS('Team list'!$L:$L,Summary!$K17,'Team list'!$G:$G,"Offer Issued",'Team list'!$F:$F,"PC ASO") -> 0 | Q17: =COUNTIFS('Team list'!$L:$L,Summary!$K17,'Team list'!$G:$G,"Shortlisted",'Team list'!$F:$F,"PC ASO") -> 0 | S17: =COUNTIFS('Team list'!$L:$L,Summary!$K17,'Team list'!$G:$G,"Vacant",'Team list'!$F:$F,"PC ASO") -> 0
B18: South 1 | C18: PC ASO | D18: =SUM(E18:I18) -> 7 | E18: 3 | F18: 1 | H18: 2 | I18: 1 | K18: North2 | L18: PC ASO | M18: =SUM(N18:S18) -> 11 | N18: =COUNTIFS('Team list'!$L:$L,Summary!$K18,'Team list'!$G:$G,"Active",'Team list'!$F:$F,"PC ASO") -> 11 | O18: =COUNTIFS('Team list'!$L:$L,Summary!$K18,'Team list'!$G:$G,"Notice Period",'Team list'!$F:$F,"PC ASO") -> 0 | P18: =COUNTIFS('Team list'!$L:$L,Summary!$K18,'Team list'!$G:$G,"Offer Issued",'Team list'!$F:$F,"PC ASO") -> 0 | Q18: =COUNTIFS('Team list'!$L:$L,Summary!$K18,'Team list'!$G:$G,"Shortlisted",'Team list'!$F:$F,"PC ASO") -> 0 | S18: =COUNTIFS('Team list'!$L:$L,Summary!$K18,'Team list'!$G:$G,"Vacant",'Team list'!$F:$F,"PC ASO") -> 0
B19: South 2 | C19: PC ASO | D19: =SUM(E19:I19) -> 13 | E19: 13 | K19: South1 | L19: PC ASO | M19: =SUM(N19:S19) -> 8 | N19: =COUNTIFS('Team list'!$L:$L,Summary!$K19,'Team list'!$G:$G,"Active",'Team list'!$F:$F,"PC ASO") -> 6 | O19: =COUNTIFS('Team list'!$L:$L,Summary!$K19,'Team list'!$G:$G,"Notice Period",'Team list'!$F:$F,"PC ASO") -> 0 | P19: =COUNTIFS('Team list'!$L:$L,Summary!$K19,'Team list'!$G:$G,"Offer Issued",'Team list'!$F:$F,"PC ASO") -> 1 | Q19: =COUNTIFS('Team list'!$L:$L,Summary!$K19,'Team list'!$G:$G,"Shortlisted",'Team list'!$F:$F,"PC ASO") -> 0 | S19: =COUNTIFS('Team list'!$L:$L,Summary!$K19,'Team list'!$G:$G,"Vacant",'Team list'!$F:$F,"PC ASO") -> 1
B20: South 3 | C20: PC ASO | D20: =SUM(E20:I20) -> 5 | E20: 4 | I20: 1 | K20: South2 | L20: PC ASO | M20: =SUM(N20:S20) -> 10 | N20: =COUNTIFS('Team list'!$L:$L,Summary!$K20,'Team list'!$G:$G,"Active",'Team list'!$F:$F,"PC ASO") -> 8 | O20: =COUNTIFS('Team list'!$L:$L,Summary!$K20,'Team list'!$G:$G,"Notice Period",'Team list'!$F:$F,"PC ASO") -> 0 | P20: =COUNTIFS('Team list'!$L:$L,Summary!$K20,'Team list'!$G:$G,"Offer Issued",'Team list'!$F:$F,"PC ASO") -> 1 | Q20: =COUNTIFS('Team list'!$L:$L,Summary!$K20,'Team list'!$G:$G,"Shortlisted",'Team list'!$F:$F,"PC ASO") -> 0 | S20: =COUNTIFS('Team list'!$L:$L,Summary!$K20,'Team list'!$G:$G,"Vacant",'Team list'!$F:$F,"PC ASO") -> 1
B21: West 1 | C21: PC ASO | D21: =SUM(E21:I21) -> 17 | E21: 16 | G21: 1 | K21: South3 | L21: PC ASO | M21: =SUM(N21:S21) -> 0 | N21: =COUNTIFS('Team list'!$L:$L,Summary!$K21,'Team list'!$G:$G,"Active",'Team list'!$F:$F,"PC ASO") -> 0 | O21: =COUNTIFS('Team list'!$L:$L,Summary!$K21,'Team list'!$G:$G,"Notice Period",'Team list'!$F:$F,"PC ASO") -> 0 | P21: =COUNTIFS('Team list'!$L:$L,Summary!$K21,'Team list'!$G:$G,"Offer Issued",'Team list'!$F:$F,"PC ASO") -> 0 | Q21: =COUNTIFS('Team list'!$L:$L,Summary!$K21,'Team list'!$G:$G,"Shortlisted",'Team list'!$F:$F,"PC ASO") -> 0 | S21: =COUNTIFS('Team list'!$L:$L,Summary!$K21,'Team list'!$G:$G,"Vacant",'Team list'!$F:$F,"PC ASO") -> 0
B22: West 2 | C22: PC ASO | D22: =SUM(E22:I22) -> 17 | E22: 14 | F22: 1 | G22: 1 | I22: 1 | K22: West1 | L22: PC ASO | M22: =SUM(N22:S22) -> 23 | N22: =COUNTIFS('Team list'!$L:$L,Summary!$K22,'Team list'!$G:$G,"Active",'Team list'!$F:$F,"PC ASO") -> 18 | O22: =COUNTIFS('Team list'!$L:$L,Summary!$K22,'Team list'!$G:$G,"Notice Period",'Team list'!$F:$F,"PC ASO") -> 0 | P22: =COUNTIFS('Team list'!$L:$L,Summary!$K22,'Team list'!$G:$G,"Offer Issued",'Team list'!$F:$F,"PC ASO") -> 1 | Q22: =COUNTIFS('Team list'!$L:$L,Summary!$K22,'Team list'!$G:$G,"Shortlisted",'Team list'!$F:$F,"PC ASO") -> 0 | S22: =COUNTIFS('Team list'!$L:$L,Summary!$K22,'Team list'!$G:$G,"Vacant",'Team list'!$F:$F,"PC ASO") -> 4
B23: West 3 | C23: PC ASO | D23: =SUM(E23:I23) -> 3 | E23: 2 | H23: 1 | K23: West2 | L23: PC ASO | M23: =SUM(N23:S23) -> 0 | N23: =COUNTIFS('Team list'!$L:$L,Summary!$K23,'Team list'!$G:$G,"Active",'Team list'!$F:$F,"PC ASO") -> 0 | O23: =COUNTIFS('Team list'!$L:$L,Summary!$K23,'Team list'!$G:$G,"Notice Period",'Team list'!$F:$F,"PC ASO") -> 0 | P23: =COUNTIFS('Team list'!$L:$L,Summary!$K23,'Team list'!$G:$G,"Offer Issued",'Team list'!$F:$F,"PC ASO") -> 0 | Q23: =COUNTIFS('Team list'!$L:$L,Summary!$K23,'Team list'!$G:$G,"Shortlisted",'Team list'!$F:$F,"PC ASO") -> 0 | S23: =COUNTIFS('Team list'!$L:$L,Summary!$K23,'Team list'!$G:$G,"Vacant",'Team list'!$F:$F,"PC ASO") -> 0
B24: Total | D24: =SUM(D14:D23) -> 107 | E24: =SUM(E14:E23) -> 92 | F24: =SUM(F14:F23) -> 3 | G24: =SUM(G14:G23) -> 3 | H24: =SUM(H14:H23) -> 3 | I24: =SUM(I14:I23) -> 6 | K24: West3 | L24: PC ASO | M24: =SUM(N24:S24) -> 0 | N24: =COUNTIFS('Team list'!$L:$L,Summary!$K24,'Team list'!$G:$G,"Active",'Team list'!$F:$F,"PC ASO") -> 0 | O24: =COUNTIFS('Team list'!$L:$L,Summary!$K24,'Team list'!$G:$G,"Notice Period",'Team list'!$F:$F,"PC ASO") -> 0 | P24: =COUNTIFS('Team list'!$L:$L,Summary!$K24,'Team list'!$G:$G,"Offer Issued",'Team list'!$F:$F,"PC ASO") -> 0 | Q24: =COUNTIFS('Team list'!$L:$L,Summary!$K24,'Team list'!$G:$G,"Shortlisted",'Team list'!$F:$F,"PC ASO") -> 0 | S24: =COUNTIFS('Team list'!$L:$L,Summary!$K24,'Team list'!$G:$G,"Vacant",'Team list'!$F:$F,"PC ASO") -> 0
K25: Total | M25: =SUM(M15:M24) -> 85 | N25: =SUM(N15:N24) -> 75 | O25: =SUM(O15:O24) -> 0 | P25: =SUM(P15:P24) -> 3 | Q25: =SUM(Q15:Q24) -> 0 | S25: =SUM(S15:S24) -> 7
B26: VAS
K28: AMD-ASO
K29: Region | L29: Vertical | M29: Planned | N29: Active | O29: Notice period | P29: Offer issued | Q29: Shortlisted | R29: Hiring hold | S29: Vacant
K30: East1 | L30: Pan India | M30: 1 | N30: 1 | O30: 0 | P30: 0 | Q30: 0 | R30: 0 | S30: 0
K31: East2 | L31: Pan India | M31: 1 | N31: 1 | O31: 0 | P31: 0 | Q31: 0 | R31: 0 | S31: 0
K32: North1 | L32: Pan India | M32: 1 | N32: 1 | O32: 0 | P32: 0 | Q32: 0 | R32: 0 | S32: 0
K33: North2 | L33: Pan India | M33: 1 | N33: 1 | O33: 0 | P33: 0 | Q33: 0 | R33: 0 | S33: 0
K34: South1 | L34: Pan India | M34: 2 | N34: 1 | O34: 0 | P34: 0 | Q34: 0 | R34: 0 | S34: 1
K35: South2 | L35: Pan India | M35: 2 | N35: 1 | O35: 0 | P35: 0 | Q35: 0 | R35: 1 | S35: 0
K36: West1 | L36: Pan India | M36: 3 | N36: 2 | O36: 0 | P36: 0 | Q36: 0 | R36: 0 | S36: 1
K37: Total | M37: 11 | N37: 8 | O37: 0 | P37: 0 | Q37: 0 | R37: 0 | S37: 2

Sheet DSM's
B2: SR.No. | C2: V5 Emp Code | D2: Emp. Name | F2: Emp Email id | G2: Designation Name | H2: DOJ | I2: Status | J2: Region | K2: Program Name | L2: City Posting | M2: State Posting | N2: Mobile | O2: Remarks | P2: Shortlisted
B3: 1 | C3: V5376586 | D3: Amit Thakuri | F3: amit.thakuri@v5global.co.in | G3: Distribution Sales Manager | H3: 45520 | I3: Active | J3: East1 | K3: Lenovo Consumer ASO | L3: Guwahati | M3: Assam | N3: 8638133268 | O3: -
B4: 2 | C4: V5267235 | D4: Alok Ranjan Singh | E4: TBH | F4: alok.ranjan@v5global.co.in | G4: Distribution Sales Manager | H4: 44850 | I4: Notice Period | J4: East2 | K4: Lenovo Consumer ASO | L4: Patna | M4: Bihar | N4: 7857093200 | O4: LWD 06th Jun'25 | P4: Imam Hassan -06th Jul'25)
B5: 3 | C5: V5349329 | D5: Ganga Singh | F5: ganga.singh@v5global.co.in | G5: Distribution Sales Manager | H5: 45386 | I5: Active | J5: North1 | K5: Lenovo Consumer ASO | L5: Noida | M5: Uttar Pradesh | N5: 8829040502 | O5: -
B6: 4 | C6: V5267242 | D6: Rahil Rasheed | F6: rahil.rasheed@v5global.co.in | G6: Distribution Sales Manager | H6: 44132 | I6: Active | J6: North2 | K6: Lenovo Consumer ASO | L6: Lucknow | M6: Uttar Pradesh | N6: 9198666607 | O6: -
B7: 5 | C7: V5326188 | D7: Prakash Kumar K P | E7: Faiz | F7: prakash.kp@v5global.co.in | G7: Distribution Sales Manager | H7: 45202 | I7: Active | J7: South1 | K7: Lenovo Consumer ASO | L7: Kochi | M7: Kerala | N7: 9846649470 | O7: -
B8: 6 | C8: V5268165 | D8: S.Arunbabu | F8: arun.babu@v5global.co.in | G8: Distribution Sales Manager | H8: 41533 | I8: Active | J8: South2 | K8: Lenovo Consumer ASO | L8: Madurai | M8: Tamil Nadu | N8: 9600022246 | O8: -
B9: 7 | C9: V5266023 | D9: Yunus Hamid Mansoori | E9: Faiz | F9: yunus.hamid@v5global.co.in | G9: Distribution Sales Manager | H9: 16 Oct 2022 | I9: Active | J9: West1 | K9: Lenovo Consumer ASO | L9: Mumbai | M9: Maharashtra | N9: 9768382162 | O9: -
B10: 8 | C10: V5292566 | D10: Ritesh Raushan | E10: Faiz | F10: ritesh.raushan@v5global.co.in | G10: Distribution Sales Manager | H10: 44998 | I10: Active | J10: West1 | K10: Lenovo Consumer ASO | L10: Pune | M10: Maharashtra | N10: 8237233660 | O10: -
B12: Team mail id : dsm@v5global.co.in

Sheet Team list
B2: Sr.No. | C2: V5 code/Caspian | D2: Emp.Name | E2: Emp Email ID | F2: Designation Name | G2: Employee status | H2: DOJ | I2: City Posting | J2: State Posting | K2: Mobile | L2: Region | M2: DSM Name | N2: RSM | O2: RCM | P2: RCM Email ID | Q2: Statehead | R2: SDM | S2: Remarks
B3: 1 | C3: 601114 | D3: Gaurav Upadhyaya | E3: gaurav.upadhyay@v5global.co.in | F3: PC ASO | G3: Active | H3: 45527 | I3: Delhi | J3: Delhi | K3: 9910454009 | L3: North1 | M3: Ganga Singh | N3: Kumar Tanksale | O3: Kanwaldeep Singh | P3: ksingh15@lenovo.com | Q3: Raghavendra Araveeti | R3: Gaurav Srivastava | S3: -
B4: 2 | C4: V5268361 | D4: Manoj Kumar Panwar | E4: manoj.panwar@v5global.co.in | F4: PC ASO | G4: Active | H4: 44850 | I4: Ajmer | J4: Rajasthan | K4: 9828022302 | L4: North1 | M4: Ganga Singh | N4: Kumar Tanksale | O4: Nishank jain | P4: njain10@lenovo.com | Q4: Raghavendra Araveeti | R4: Gaurav Srivastava | S4: -
B5: 3 | C5: V5267291 | D5: Abhisekh Kumar Singh | E5: abhisekh.kumar@v5global.co.in | F5: PC ASO | G5: Active | H5: 44850 | I5: Dhanbad | J5: Jharkhand | K5: 9386646960 | L5: East2 | M5: Alok Ranjan Singh | N5: Rajender Negi | O5: Krishna Kumar Singh | P5: ksingh25@lenovo.com | Q5: Raghavendra Araveeti | R5: Gaurav Srivastava | S5: -
B6: 4 | C6: V5266860 | D6: Abhishek Prakash | E6: abhishek.prakash@v5global.co.in | F6: PC ASO | G6: Active | H6: 44850 | I6: Meerut | J6: Uttar Pradesh | K6: 9557200401 | L6: North2 | M6: Rahil Rasheed | N6: Durgendra Singh | O6: Nishant Aeron | P6: naeron@lenovo.com | Q6: Raghavendra Araveeti | R6: Gaurav Srivastava | S6: -
B7: 5 | C7: V5396663 | D7: Vikas Pathak | E7: vikas.pathak@v5global.co.in | F7: PC ASO | G7: Active | H7: 45590 | I7: Varanasi | J7: Uttar Pradesh | K7: 9838001792 | L7: North2 | M7: Rahil Rasheed | N7: Durgendra Singh | O7: Rahul Sarin | P7: rsarin2@lenovo.com | Q7: Raghavendra Araveeti | R7: Gaurav Srivastava | S7: -
B8: 6 | C8: 601088 | D8: Amarjit Behera | E8: amarjit.behera@v5global.co.in | F8: PC ASO | G8: Active | H8: 45506 | I8: Bhubaneswar | J8: Orissa | K8: 9437451999 | L8: East2 | M8: Alok Ranjan Singh | N8: Rajender Negi | O8: Biswa Ranjan Jena | P8: bjena1@lenovo.com | Q8: Raghavendra Araveeti | R8: Gaurav Srivastava | S8: -
B9: 7 | C9: V5427894 | D9: Gautam Anand | E9: gautam.anand@v5global.co.in | F9: PC ASO | G9: Active | H9: 45750 | I9: Bhagalpur | J9: Bihar | K9: 9555414209 | L9: East2 | M9: Alok Ranjan Singh | N9: Rajender Negi | O9: Arvind Kumar | P9: akumar142@lenovo.com | Q9: Raghavendra Araveeti | R9: Gaurav Srivastava | S9: -
B10: 8 | C10: V5438668 | D10: Mohammad Shahid Abdul Rashid Shaikh | E10: mohammad.shahid@v5global.co.in | F10: PC ASO | G10: Active | H10: 45784 | I10: Surat | J10: Gujarat | K10: 8460136575 | L10: West1 | M10: Yunus Hamid Mansoori | N10: Hemant C Baghel | O10: Darshan Thakkar | P10: tjitendrabha@lenovo.com | Q10: Sharad verma | R10: Jaspreet Singh | S10: -
B11: 9 | C11: V5414474 | D11: Sudam Pradhan | E11: sudam.pradhan@v5global.co.in | F11: PC ASO | G11: Active | H11: 45668 | I11: Bilaspur | J11: Chhattisgarh | K11: 8600840554 | L11: East2 | M11: Alok Ranjan Singh | N11: Rajender Negi | O11: Krishna Kumar Singh | P11: ksingh25@lenovo.com | Q11: Raghavendra Araveeti | R11: Gaurav Srivastava | S11: -
B12: 10 | C12: V5354315 | D12: Bhaskar Borah | E12: bhaskar.borah@v5global.co.in | F12: PC ASO | G12: Active | H12: 45402 | I12: Jorhat | J12: Assam | K12: 9508822689 | L12: East1 | M12: Amit Thakuri | N12: Amit Tiwari | O12: Partha Chakraborty | P12: pchakraborty@lenovo.com | Q12: Raghavendra Araveeti | R12: Gaurav Srivastava | S12: -
B13: 11 | C13: V5287255 | D13: Samya Roy | E13: samya.roy@v5global.co.in | F13: PC ASO | G13: Active | H13: 44970 | I13: Bolpur | J13: West Bengal | K13: 9474010730 | L13: East1 | M13: Amit Thakuri | N13: Amit Tiwari | O13: Ashique Ali | P13: aali11@lenovo.com | Q13: Raghavendra Araveeti | R13: Gaurav Srivastava | S13: -
B14: 12 | C14: TBH | D14: TBH | E14: - | F14: PC ASO | G14: Vacant | H14: - | I14: Ahmedabad | J14: Gujarat | K14: - | L14: West1 | M14: Yunus Hamid Mansoori | N14: Hemant C Baghel | O14: Darshan Thakkar | P14: tjitendrabha@lenovo.com | Q14: Sharad verma | R14: Jaspreet Singh | S14: -
B15: 13 | C15: V5412124 | D15: Karan Kanhaiyalal Gupta | E15: karan.gupta@v5global.co.in | F15: PC ASO | G15: Active | H15: 45654 | I15: Mumbai | J15: Maharashtra | K15: 9594708424 | L15: West1 | M15: Yunus Hamid Mansoori | N15: Hemant C Baghel | O15: Amit Tiwari | P15: atiwari5@lenovo.com | Q15: Sharad verma | R15: Jaspreet Singh | S15: -
B16: 14 | C16: V5367944 | D16: Siddhartha Saha | E16: sidhartha.saha@v5global.co.in | F16: PC ASO | G16: Active | H16: 45444 | I16: Medinipur | J16: West Bengal | K16: 9874293392 | L16: East1 | M16: Amit Thakuri | N16: Amit Tiwari | O16: Kapil Tiwari | P16: ktiwari1@lenovo.com | Q16: Raghavendra Araveeti | R16: Gaurav Srivastava | S16: -
B17: 15 | C17: V5422498 | D17: Talamarla Lakshmi Reddy | E17: talamarla.reddy@v5global.co.in | F17: PC ASO | G17: Active | H17: 45719 | I17: Anantapur | J17: Andhra Pradesh | K17: 9014290161 | L17: South2 | M17: S.Arunbabu | N17: Kartik Iyer | O17: Prabhakar G | P17: gprabhakar@lenovo.com | Q17: Sharad verma | R17: Jaspreet Singh | S17: -
B18: 16 | C18: V5100464 | D18: Bhattu Nagaraju | E18: bhattu.nagaraju@v5global.co.in | F18: PC ASO | G18: Active | H18: 43410 | I18: Hyderabad | J18: Telangana | K18: 9491242453 | L18: South2 | M18: S.Arunbabu | N18: Kartik Iyer | O18: Santosh Singh | P18: ssingh9@lenovo.com | Q18: Sharad verma | R18: Jaspreet Singh | S18: -
B19: 17 | C19: V5266029 | D19: Dhiraj Kumar | E19: dhiraj.kumar@v5global.co.in | F19: PC ASO | G19: Active | H19: 44850 | I19: Delhi | J19: Delhi | K19: 8700006060 | L19: North1 | M19: Ganga Singh | N19: Kumar Tanksale | O19: Kanwaldeep Singh | P19: ksingh15@lenovo.com | Q19: Raghavendra Araveeti | R19: Gaurav Srivastava | S19: -
B20: 18 | C20: V5424243 | D20: Manoj Baishya | E20: manoj.baishya@v5global.co.in | F20: PC ASO | G20: Active | H20: 45727 | I20: Guwahati | J20: NE | K20: 9864583255 | L20: East1 | M20: Amit Thakuri | N20: Amit Tiwari | O20: Partha Chakraborty | P20: pchakraborty@lenovo.com | Q20: Raghavendra Araveeti | R20: Gaurav Srivastava | S20: -
B21: 19 | C21: V5438066 | D21: Yathish R Rao | E21: yathish.rao@v5global.co.in | F21: PC ASO | G21: Active | H21: 45787 | I21: Mangalore | J21: Karnataka | K21: 9483372060 | L21: South1 | M21: Prakash Kumar K P | N21: S Sreekumar | O21: Riyaz Khan | P21: rhospet@lenovo.com | Q21: Sharad verma | R21: Jaspreet Singh | S21: -
B22: 20 | C22: V5263641 | D22: Govind Gulab Rajbhar | E22: govind.gulab@v5global.co.in | F22: PC ASO | G22: Active | H22: 44850 | I22: Mumbai | J22: Maharashtra | K22: 9029031943 | L22: West1 | M22: Yunus Hamid Mansoori | N22: Hemant C Baghel | O22: Amit Tiwari | P22: atiwari5@lenovo.com | Q22: Sharad verma | R22: Jaspreet Singh | S22: -
B23: 21 | C23: TBH | D23: TBH | E23: - | F23: PC ASO | G23: Vacant | H23: - | I23: Hyderabad | J23: Telangana | K23: - | L23: South2 | M23: S.Arunbabu | N23: Kartik Iyer | O23: Santosh Singh | P23: ssingh9@lenovo.com | Q23: Sharad verma | R23: Jaspreet Singh | S23: -
B24: 22 | C24: 601075 | D24: Rameshwar Marepalle | E24: rameshwar.merepalle@v5global.co.in | F24: PC ASO | G24: Active | H24: 45493 | I24: Pune | J24: Maharashtra | K24: 9156048560 | L24: West1 | M24: Ritesh Raushan | N24: Hemant C Baghel | O24: Rajeev Jha | P24: rjha3@lenovo.com | Q24: Sharad verma | R24: Jaspreet Singh | S24: -
B25: 23 | C25: V5360834 | D25: Arabinda Samanta | E25: arabinda.samanta@v5global.co.in | F25: PC ASO | G25: Active | H25: 45413 | I25: Mumbai | J25: Maharashtra | K25: 8879216607 | L25: West1 | M25: Yunus Hamid Mansoori | N25: Hemant C Baghel | O25: Amit Tiwari | P25: atiwari5@lenovo.com | Q25: Sharad verma | R25: Jaspreet Singh | S25: -
B26: 24 | C26: V5266711 | D26: Laxman Anilrao Deshmukh | E26: laxman.anilrao@v5global.co.in | F26: PC ASO | G26: Active | H26: 44850 | I26: Aurangabad | J26: Maharashtra | K26: 9028122888 | L26: West1 | M26: Ritesh Raushan | N26: Hemant C Baghel | O26: Sonia more | P26: smore3@lenovo.com | Q26: Sharad verma | R26: Jaspreet Singh | S26: -
B27: 25 | C27: V5263625 | D27: Manoj Bihari | E27: manoj.bihari@v5global.co.in | F27: PC ASO | G27: Active | H27: 44850 | I27: Sambalpur | J27: Orissa | K27: 9861291397 | L27: East2 | M27: Alok Ranjan Singh | N27: Rajender Negi | O27: Biswa Ranjan Jena | P27: bjena1@lenovo.com | Q27: Raghavendra Araveeti | R27: Gaurav Srivastava | S27: -
B28: 26 | C28: TBH | D28: TBH | E28: - | F28: PC ASO | G28: Vacant | H28: - | I28: Rajkot | J28: Gujarat | K28: - | L28: West1 | M28: Yunus Hamid Mansoori | N28: Hemant C Baghel | O28: Jaydip Kachhot | P28: jkachhot@lenovo.com | Q28: Sharad verma | R28: Jaspreet Singh | S28: -
B29: 27 | C29: V5266026 | D29: Mohammed Abdulla | E29: mohammed.abdulla@v5global.co.in | F29: PC ASO | G29: Active | H29: 44850 | I29: Bangalore | J29: Karnataka | K29: 9513623651 | L29: South1 | M29: Prakash Kumar K P | N29: S Sreekumar | O29: Anuj Kumar | P29: akumar1@lenovo.com | Q29: Sharad verma | R29: Jaspreet Singh | S29: -
B30: 28 | C30: V5426139 | D30: Abinash Rabha | E30: abhinash.rabha@v5global.co.in | F30: PC ASO | G30: Active | H30: 45729 | I30: Guwahati | J30: NE | K30: 8724966898 | L30: East1 | M30: Amit Thakuri | N30: Amit Tiwari | O30: Partha Chakraborty | P30: pchakraborty@lenovo.com | Q30: Raghavendra Araveeti | R30: Gaurav Srivastava | S30: -
B31: 29 | C31: V5267964 | D31: Mohd Rashid | E31: mohd.rashid@v5global.co.in | F31: PC ASO | G31: Active | H31: 44850 | I31: Lucknow | J31: Uttar Pradesh | K31: 9369188344 | L31: North2 | M31: Rahil Rasheed | N31: Durgendra Singh | O31: Rahul Sarin | P31: rsarin2@lenovo.com | Q31: Raghavendra Araveeti | R31: Gaurav Srivastava | S31: -
B32: 30 | C32: V5302939 | D32: Siddharth Chettri | E32: siddharth.chettri@v5global.co.in | F32: PC ASO | G32: Active | H32: 45078 | I32: Dehradun | J32: Uttrakhand | K32: 8859305427 | L32: North2 | M32: Rahil Rasheed | N32: Durgendra Singh | O32: Nishant Aeron | P32: naeron@lenovo.com | Q32: Raghavendra Araveeti | R32: Gaurav Srivastava | S32: -
B33: 31 | C33: V5339429 | D33: Surjeet Kumar | E33: surjeet.kumar@v5global.co.in | F33: PC ASO | G33: Active | H33: 45306 | I33: Muzaffarpur | J33: Bihar | K33: 7004963220 | L33: East2 | M33: Alok Ranjan Singh | N33: Rajender Negi | O33: Arvind Kumar | P33: akumar142@lenovo.com | Q33: Raghavendra Araveeti | R33: Gaurav Srivastava | S33: -
B34: 32 | C34: 601263 | D34: Nithiyanadhababa A | E34: nithiyanadhababa.a@v5global.co.in | F34: PC ASO | G34: Active | H34: 45733 | I34: Tirunelveli | J34: Tamil Nadu | K34: 9677596890 | L34: South2 | M34: S.Arunbabu | N34: Kartik Iyer | O34: Sridhar Ethirajulu | P34: sethirajulu1@lenovo.com | Q34: Sharad verma | R34: Jaspreet Singh | S34: Location has been changed on 18th Feb'25
B35: 33 | C35: V5414354 | D35: Manpreet Singh Brar | E35: manpreet.brar@v5global.co.in | F35: PC ASO | G35: Active | H35: 45689 | I35: Ludhiana | J35: Punjab | K35: 9780000315 | L35: North1 | M35: Ganga Singh | N35: Kumar Tanksale | O35: Karan Kapoor | P35: kkapoor@lenovo.com | Q35: Raghavendra Araveeti | R35: Gaurav Srivastava | S35: -
B36: 34 | C36: 601011 | D36: Pardeep Kumar Sharma | E36: pardeep.sharma@v5global.co.in | F36: PC ASO | G36: Active | H36: 45383 | I36: Gurugram | J36: Haryana | K36: 9911476346 | L36: North1 | M36: Ganga Singh | N36: Kumar Tanksale | O36: Rajat Maheshwari | P36: rmaheshwari@lenovo.com | Q36: Raghavendra Araveeti | R36: Gaurav Srivastava | S36: -
B37: 35 | C37: V5395760 | D37: Rakesh Nattu Kumbhare | E37: rakesh.kumbhare@v5global.co.in | F37: PC ASO | G37: Active | H37: 45579 | I37: Nagpur | J37: Maharashtra | K37: 7767033997 | L37: West1 | M37: Ritesh Raushan | N37: Hemant C Baghel | O37: Sonia more | P37: smore3@lenovo.com | Q37: Sharad verma | R37: Jaspreet Singh | S37: -
B38: 36 | C38: 601367 | D38: Gorla Mohan Raju | E38: - | F38: PC ASO | G38: Offer issued | H38: 45823 | I38: Visakhapatnam | J38: Andhra Pradesh | K38: 9121504583 | L38: South2 | M38: S.Arunbabu | N38: Kartik Iyer | O38: Prabhakar G | P38: gprabhakar@lenovo.com | Q38: Sharad verma | R38: Jaspreet Singh | S38: -
B39: 37 | C39: V5294765 | D39: Manish Kumar | E39: manish.k@v5global.co.in | F39: PC ASO | G39: Active | H39: 45031 | I39: Chandigarh | J39: Punjab | K39: 9815306161 | L39: North1 | M39: Ganga Singh | N39: Kumar Tanksale | O39: Naveen Kumar | P39: nkumar12@lenovo.com | Q39: Raghavendra Araveeti | R39: Gaurav Srivastava | S39: -
B40: 38 | C40: V5436617 | D40: Pankaj Vinayakrao Bawiskar | E40: pankaj.bawiskar@v5global.co.in | F40: PC ASO | G40: Offer issued | H40: 45824 | I40: Nagpur | J40: Maharashtra | K40: 9765452225 | L40: West1 | M40: Ritesh Raushan | N40: Hemant C Baghel | O40: Sonia more | P40: smore3@lenovo.com | Q40: Sharad verma | R40: Jaspreet Singh | S40: -
B41: 39 | C41: V5267233 | D41: Ramakant Arun Mali | E41: ramakant.arun@v5global.co.in | F41: PC ASO | G41: Active | H41: 44850 | I41: Jalgaon | J41: Maharashtra | K41: 9730708880 | L41: West1 | M41: Ritesh Raushan | N41: Hemant C Baghel | O41: Rajeev Jha | P41: rjha3@lenovo.com | Q41: Sharad verma | R41: Jaspreet Singh | S41: -
B42: 40 | C42: 601001 | D42: Sunil Kumar J | E42: sunil.kumarj@v5global.co.in | F42: PC ASO | G42: Active | H42: 45259 | I42: Chennai | J42: Tamil Nadu | K42: 9092982374 | L42: South2 | M42: S.Arunbabu | N42: Kartik Iyer | O42: Sridhar Ethirajulu | P42: sethirajulu1@lenovo.com | Q42: Sharad verma | R42: Jaspreet Singh | S42: -
A43: Not receive | B43: 41 | C43: V5422040 | D43: Lakhan Singh | E43: lakhan.singh@v5global.co.in | F43: PC ASO | G43: Active | H43: 45748 | I43: Haldwani | J43: Uttrakhand | K43: 8006401402 | L43: North2 | M43: Rahil Rasheed | N43: Durgendra Singh | O43: Nishant Aeron | P43: naeron@lenovo.com | Q43: Raghavendra Araveeti | R43: Gaurav Srivastava | S43: Location added on 14th Feb'25
B44: 42 | C44: 601113 | D44: Shubham Meshram | E44: shubham.meshram@v5global.co.in | F44: PC ASO | G44: Active | H44: 45526 | I44: Raipur | J44: Chhattisgarh | K44: 9074043451 / 8827331633 | L44: East2 | M44: Alok Ranjan Singh | N44: Rajender Negi | O44: Krishna Kumar Singh | P44: ksingh25@lenovo.com | Q44: Raghavendra Araveeti | R44: Gaurav Srivastava | S44: -
B45: 43 | C45: V5379640 | D45: Sanjib Gupta | E45: sanjib.gupta@v5global.co.in | F45: PC ASO | G45: Active | H45: 45495 | I45: North 24 PGS | J45: West Bengal | K45: 7586851857 | L45: East1 | M45: Amit Thakuri | N45: Amit Tiwari | O45: Ashique Ali | P45: aali11@lenovo.com | Q45: Raghavendra Araveeti | R45: Gaurav Srivastava | S45: -
B46: 44 | C46: V5265065 | D46: Sanjay Kumar Prajapati | E46: sanjay.kumar@v5global.co.in | F46: PC ASO | G46: Active | H46: 44850 | I46: Gorakhpur | J46: Uttar Pradesh | K46: 7607459784 | L46: North2 | M46: Rahil Rasheed | N46: Durgendra Singh | O46: Rahul Sarin | P46: rsarin2@lenovo.com | Q46: Raghavendra Araveeti | R46: Gaurav Srivastava | S46: -
B47: 45 | C47: V5433235 | D47: Anmol Sachdeva | E47: anmol.sachdeva@v5global.co.in | F47: PC ASO | G47: Active | H47: 45763 | I47: Bhatinda | J47: Punjab | K47: 9780132392 | L47: North1 | M47: Ganga Singh | N47: Kumar Tanksale | O47: Naveen Kumar | P47: nkumar12@lenovo.com | Q47: Raghavendra Araveeti | R47: Gaurav Srivastava | S47: -
B48: 46 | C48: V5303153 | D48: Ramisetty Gopalkrishna | E48: ramisetty.krishna@v5global.co.in | F48: PC ASO | G48: Active | H48: 45078 | I48: Vijaywada | J48: Andhra Pradesh | K48: 7050129999 | L48: South2 | M48: S.Arunbabu | N48: Kartik Iyer | O48: Prabhakar G | P48: gprabhakar@lenovo.com | Q48: Sharad verma | R48: Jaspreet Singh | S48: -
B49: 47 | C49: V5266867 | D49: Sukanta Sinha | E49: sukanta.sinha@v5global.co.in | F49: PC ASO | G49: Active | H49: 44850 | I49: Guwahati | J49: NE | K49: 9854184578 | L49: East1 | M49: Amit Thakuri | N49: Amit Tiwari | O49: Partha Chakraborty | P49: pchakraborty@lenovo.com | Q49: Raghavendra Araveeti | R49: Gaurav Srivastava | S49: -
B50: 48 | C50: V5266119 | D50: Sumit Singh | E50: sumit.singh@v5global.co.in | F50: PC ASO | G50: Active | H50: 44850 | I50: Mumbai | J50: Maharashtra | K50: 8963848967 | L50: West1 | M50: Yunus Hamid Mansoori | N50: Hemant C Baghel | O50: Amit Tiwari | P50: atiwari5@lenovo.com | Q50: Sharad verma | R50: Jaspreet Singh | S50: -
B51: 49 | C51: V5267500 | D51: Sunil Batra | E51: sunil.batra@v5global.co.in | F51: PC ASO | G51: Active | H51: 44850 | I51: Karnal | J51: Haryana | K51: 9729866778 | L51: North1 | M51: Ganga Singh | N51: Kumar Tanksale | O51: Rajat Maheshwari | P51: rmaheshwari@lenovo.com | Q51: Raghavendra Araveeti | R51: Gaurav Srivastava | S51: -
B52: 50 | C52: V5333956 | D52: Rahul TS | E52: rahul.ts@v5global.co.in | F52: PC ASO | G52: Active | H52: 45253 | I52: Trivandrum | J52: Kerala | K52: 9809650625 | L52: South1 | M52: Prakash Kumar K P | N52: S Sreekumar | O52: Shaiju | P52: ss89@lenovo.com | Q52: Sharad verma | R52: Jaspreet Singh | S52: -
B53: 51 | C53: TBH | D53: TBH | E53: - | F53: PC ASO | G53: Vacant | H53: - | I53: Rajkot | J53: Gujarat | K53: - | L53: West1 | M53: Yunus Hamid Mansoori | N53: Hemant C Baghel | O53: Jaydip Kachhot | P53: jkachhot@lenovo.com | Q53: Sharad verma | R53: Jaspreet Singh | S53: -
B54: 52 | C54: V5365127 | D54: Suresh Kumar | E54: suresh.kumar@v5global.co.in | F54: PC ASO | G54: Active | H54: 45488 | I54: Cochin | J54: Kerala | K54: 9061984242 | L54: South1 | M54: Prakash Kumar K P | N54: S Sreekumar | O54: Shaiju | P54: ss89@lenovo.com | Q54: Sharad verma | R54: Jaspreet Singh | S54: -
B55: 53 | C55: V5413211 | D55: NAVNATH ANANDA KOLASKAR | E55: navnath.kolaskar@v5global.co.in | F55: PC ASO | G55: Active | H55: 45677 | I55: Kolhapur | J55: Maharashtra | K55: 7720008830 | L55: West1 | M55: Ritesh Raushan | N55: Hemant C Baghel | O55: Rajeev Jha | P55: rjha3@lenovo.com | Q55: Sharad verma | R55: Jaspreet Singh | S55: -
B56: 54 | C56: V5266930 | D56: Titan Bhowmik | E56: titan.bhowmik@v5global.co.in | F56: PC ASO | G56: Active | H56: 44850 | I56: Agartala | J56: NE | K56: 8794341603 | L56: East1 | M56: Amit Thakuri | N56: Amit Tiwari | O56: Partha Chakraborty | P56: pchakraborty@lenovo.com | Q56: Raghavendra Araveeti | R56: Gaurav Srivastava | S56: -
B57: 55 | C57: V5266190 | D57: Umer Farooq Bhat | E57: umer.farooq@v5global.co.in | F57: PC ASO | G57: Active | H57: 44850 | I57: Srinagar | J57: Jammu and Kashmir | K57: 7006131255 | L57: North1 | M57: Ganga Singh | N57: Kumar Tanksale | O57: Karan Kapoor | P57: kkapoor@lenovo.com | Q57: Raghavendra Araveeti | R57: Gaurav Srivastava | S57: -
B58: 56 | C58: V5313059 | D58: Ragesh K | E58: ragesh.k@v5global.co.in | F58: PC ASO | G58: Active | H58: 45159 | I58: Calicut | J58: Kerala | K58: 9249730104 | L58: South1 | M58: Prakash Kumar K P | N58: S Sreekumar | O58: Shaiju | P58: ss89@lenovo.com | Q58: Sharad verma | R58: Jaspreet Singh | S58: -
B59: 57 | C59: V5294897 | D59: Vani Alpeshkumar | E59: vani.alpesh@v5global.co.in | F59: PC ASO | G59: Active | H59: 45026 | I59: Surat | J59: Gujarat | K59: 9898633142 | L59: West1 | M59: Yunus Hamid Mansoori | N59: Hemant C Baghel | O59: Darshan Thakkar | P59: tjitendrabha@lenovo.com | Q59: Sharad verma | R59: Jaspreet Singh | S59: -
B60: 58 | C60: V5266927 | D60: Vijay Dattatray Boraste | E60: vijay.dattatary@v5global.co.in | F60: PC ASO | G60: Active | H60: 44850 | I60: Nasik | J60: Maharashtra | K60: 8888808035 | L60: West1 | M60: Ritesh Raushan | N60: Hemant C Baghel | O60: Rajeev Jha | P60: rjha3@lenovo.com | Q60: Sharad verma | R60: Jaspreet Singh | S60: -
B61: 59 | C61: V5265873 | D61: Vinod Kumar | E61: vinod.kumar@v5global.co.in | F61: PC ASO | G61: Active | H61: 44850 | I61: Delhi | J61: Delhi | K61: 9911547614 | L61: North1 | M61: Ganga Singh | N61: Kumar Tanksale | O61: Kanwaldeep Singh | P61: ksingh15@lenovo.com | Q61: Raghavendra Araveeti | R61: Gaurav Srivastava | S61: -
B62: 60 | C62: TBH | D62: TBH | E62: - | F62: PC ASO | G62: Vacant | H62: - | I62: Sangli | J62: Maharashtra | K62: - | L62: West1 | M62: Ritesh Raushan | N62: Hemant C Baghel | O62: Rajeev Jha | P62: rjha3@lenovo.com | Q62: Sharad verma | R62: Jaspreet Singh | S62: -
B63: 61 | C63: V5266996 | D63: Vishal Jaiswal | E63: vishal.jaiswal@v5global.co.in | F63: PC ASO | G63: Active | H63: 44850 | I63: Kanpur | J63: Uttar Pradesh | K63: 9369840011 | L63: North2 | M63: Rahil Rasheed | N63: Durgendra Singh | O63: Rahul Sarin | P63: rsarin2@lenovo.com | Q63: Raghavendra Araveeti | R63: Gaurav Srivastava | S63: -
B64: 62 | C64: V5423164 | D64: Anand Satyanarayan Sevak | E64: anand.sewak@v5global.co.in | F64: PC ASO | G64: Active | H64: 45717 | I64: Amravati | J64: Maharashtra | K64: 9403621736 | L64: West1 | M64: Ritesh Raushan | N64: Hemant C Baghel | O64: Sonia more | P64: smore3@lenovo.com | Q64: Sharad verma | R64: Jaspreet Singh | S64: Candidate shortlisted -Sunny Ashok Warwatkar(601349)DOJ-10th-Jun-25)
B65: 63 | C65: V5422618 | D65: Basant Joshi | E65: basant.joshi@v5global.co.in | F65: PC ASO | G65: Active | H65: 45717 | I65: Kolkata | J65: West Bengal | K65: 6289992629 | L65: East1 | M65: Amit Thakuri | N65: Amit Tiwari | O65: Kapil Tiwari | P65: ktiwari1@lenovo.com | Q65: Raghavendra Araveeti | R65: Gaurav Srivastava | S65: -
B66: 64 | C66: V5326187 | D66: Biplab Barman | E66: biplab.barman@v5global.co.in | F66: PC ASO | G66: Active | H66: 45202 | I66: Siliguri | J66: West Bengal | K66: 9832301778 | L66: East1 | M66: Amit Thakuri | N66: Amit Tiwari | O66: Kapil Tiwari | P66: ktiwari1@lenovo.com | Q66: Raghavendra Araveeti | R66: Gaurav Srivastava | S66: -
B67: 65 | C67: V5301580 | D67: Mukesh Bhandari | E67: mukesh.bhandari@v5global.co.in | F67: PC ASO | G67: Active | H67: 45087 | I67: Udaipur | J67: Rajasthan | K67: 9414235543 | L67: North1 | M67: Ganga Singh | N67: Kumar Tanksale | O67: Nishank jain | P67: njain10@lenovo.com | Q67: Raghavendra Araveeti | R67: Gaurav Srivastava | S67: -
B68: 66 | C68: TBH | D68: TBH | E68: - | F68: PC ASO | G68: Vacant | H68: - | I68: Bangalore | J68: Karnataka | K68: - | L68: South1 | M68: Prakash Kumar K P | N68: S Sreekumar | O68: Anuj Kumar | P68: akumar1@lenovo.com | Q68: Sharad verma | R68: Jaspreet Singh | S68: -
B69: 67 | C69: V5296049 | D69: Ashok Shrirang Jadhav | E69: ashok.jadhav@v5global.co.in | F69: PC ASO | G69: Active | H69: 45047 | I69: Mumbai | J69: Maharashtra | K69: 7303680799 | L69: West1 | M69: Yunus Hamid Mansoori | N69: Hemant C Baghel | O69: Amit Tiwari | P69: atiwari5@lenovo.com | Q69: Sharad verma | R69: Jaspreet Singh | S69: -
B70: 68 | C70: V5300191 | D70: Rajeshwar Kishanrao Lingamkar | E70: rajeshwar.lingamkar@v5global.co.in | F70: PC ASO | G70: Active | H70: 45089 | I70: Pune | J70: Maharashtra | K70: 8380096899 | L70: West1 | M70: Ritesh Raushan | N70: Hemant C Baghel | O70: Rajeev Jha | P70: rjha3@lenovo.com | Q70: Sharad verma | R70: Jaspreet Singh | S70: -
B71: 69 | C71: V5335880 | D71: Prasannaraj P | E71: prasannaraj.p@v5global.co.in | F71: PC ASO | G71: Active | H71: 45278 | I71: Chennai | J71: Tamil Nadu | K71: 9092045806 | L71: South2 | M71: S.Arunbabu | N71: Kartik Iyer | O71: Sridhar Ethirajulu | P71: sethirajulu1@lenovo.com | Q71: Sharad verma | R71: Jaspreet Singh | S71: -
B72: 70 | C72: V5262001 | D72: Ashwani kumar | E72: ashwani.kumar@v5global.co.in | F72: PC ASO | G72: Active | H72: 44866 | I72: Delhi | J72: Delhi | K72: 7827383769 | L72: North1 | M72: Ganga Singh | N72: Kumar Tanksale | O72: Kanwaldeep Singh | P72: ksingh15@lenovo.com | Q72: Raghavendra Araveeti | R72: Gaurav Srivastava | S72: -
B73: 71 | C73: V5444243 | D73: Praveen Kumar | E73: - | F73: PC ASO | G73: Offer issued | H73: 45834 | I73: Belgaum | J73: Karnataka | K73: 7899889998 | L73: South1 | M73: Prakash Kumar K P | N73: S Sreekumar | O73: Riyaz Khan | P73: rhospet@lenovo.com | Q73: Sharad verma | R73: Jaspreet Singh | S73: -
B74: 72 | C74: V5320471 | D74: ABHILASH DALAVI | E74: abhilash.dalavi@v5global.co.in | F74: PC ASO | G74: Active | H74: 45194 | I74: Hubli | J74: Karnataka | K74: 9591852229 | L74: South1 | M74: Prakash Kumar K P | N74: S Sreekumar | O74: Riyaz Khan | P74: rhospet@lenovo.com | Q74: Sharad verma | R74: Jaspreet Singh | S74: -
B75: 73 | C75: V5262114 | D75: Shrikant Babasaheb Nikrad | E75: shrikant.babasaheb@v5global.co.in | F75: PC ASO | G75: Active | H75: 44866 | I75: Pune | J75: Maharashtra | K75: 8149838223 | L75: West1 | M75: Ritesh Raushan | N75: Hemant C Baghel | O75: Rajeev Jha | P75: rjha3@lenovo.com | Q75: Sharad verma | R75: Jaspreet Singh | S75: -
B76: 74 | C76: V5431666 | D76: Nirav Shah | E76: nirav.shah@v5global.co.in | F76: PC ASO | G76: Active | H76: 45754 | I76: Ahmedabad | J76: Gujarat | K76: 9821511691 | L76: West1 | M76: Yunus Hamid Mansoori | N76: Hemant C Baghel | O76: Darshan Thakkar | P76: tjitendrabha@lenovo.com | Q76: Sharad verma | R76: Jaspreet Singh | S76: -
B77: 75 | C77: V5419405 | D77: Prashant Kaushik | E77: prashant.kaushik@v5global.co.in | F77: PC ASO | G77: Active | H77: 45705 | I77: Jaipur | J77: Rajasthan | K77: 8619336684 | L77: North1 | M77: Ganga Singh | N77: Kumar Tanksale | O77: Nishank jain | P77: njain10@lenovo.com | Q77: Raghavendra Araveeti | R77: Gaurav Srivastava | S77: -
B78: 76 | C78: V5341501 | D78: Nilay Girishbhai Bandhara | E78: nilay.bandhara@v5global.co.in | F78: PC ASO | G78: Active | H78: 45296 | I78: Vadodara | J78: Gujarat | K78: 9979302088 | L78: West1 | M78: Yunus Hamid Mansoori | N78: Hemant C Baghel | O78: Darshan Thakkar | P78: tjitendrabha@lenovo.com | Q78: Sharad verma | R78: Jaspreet Singh | S78: -
B79: 77 | C79: V5431236 | D79: Dharmaraja Ayyakutty | E79: dharmaraja.ayyakutty@v5global.co.in | F79: PC ASO | G79: Active | H79: 45750 | I79: Madurai | J79: Tamil Nadu | K79: 9345577776 | L79: South2 | M79: S.Arunbabu | N79: Kartik Iyer | O79: Sridhar Ethirajulu | P79: sethirajulu1@lenovo.com | Q79: Sharad verma | R79: Jaspreet Singh | S79: -
B80: 78 | C80: V5326545 | D80: Ujjawal Bhandari | E80: ujjawal.bhandari@v5global.co.in | F80: Non PC ASO | G80: Active | H80: 45203 | I80: Chandigarh | J80: Punjab | K80: 8708153107 | L80: North1 | M80: Ganga Singh | N80: Kumar Tanksale | O80: Naveen Kumar | P80: nkumar12@lenovo.com | Q80: Raghavendra Araveeti | R80: Gaurav Srivastava | S80: -
B81: 79 | C81: 601169 | D81: Ranjeet Singh Gautam | E81: ranjeet.gautam@v5global.co.in | F81: PC ASO | G81: Active | H81: 45615 | I81: Jabalpur | J81: Madhya Pradesh | K81: 9329545045 | L81: North2 | M81: Rahil Rasheed | N81: Durgendra Singh | O81: Vishal Porwal | P81: vporwal@lenovo.com | Q81: Raghavendra Araveeti | R81: Gaurav Srivastava | S81: -
B82: 80 | C82: 601126 | D82: Chetti Srinivas | E82: chetti.srinivas1@v5global.co.in | F82: PC ASO | G82: Active | H82: 45586 | I82: Hyderabad | J82: Telangana | K82: 9515976797 | L82: South2 | M82: S.Arunbabu | N82: Kartik Iyer | O82: Santosh Singh | P82: ssingh9@lenovo.com | Q82: Sharad verma | R82: Jaspreet Singh | S82: -
B83: 81 | C83: TBH | D83: TBH | E83: - | F83: PC ASO | G83: Vacant | H83: - | I83: Gaya | J83: Bihar | K83: - | L83: East2 | M83: Alok Ranjan Singh | N83: Rajender Negi | O83: Arvind Kumar | P83: akumar142@lenovo.com | Q83: Raghavendra Araveeti | R83: Gaurav Srivastava | S83: -
B84: 82 | C84: 601083 | D84: Nilesh Kumar Agarwal | E84: nilesh.agarwal@v5global.co.in | F84: PC ASO | G84: Active | H84: 45465 | I84: Bhopal | J84: Madhya Pradesh | K84: 7747820820 | L84: North2 | M84: Rahil Rasheed | N84: Durgendra Singh | O84: Vishal Porwal | P84: vporwal@lenovo.com | Q84: Raghavendra Araveeti | R84: Gaurav Srivastava | S84: -
B85: 83 | C85: 601082 | D85: Mohit Chaturvedi | E85: mohit.chaturvedi@v5global.co.in | F85: PC ASO | G85: Active | H85: 45465 | I85: Gwalior | J85: Madhya Pradesh | K85: 9753911212 | L85: North2 | M85: Rahil Rasheed | N85: Durgendra Singh | O85: Vishal Porwal | P85: vporwal@lenovo.com | Q85: Raghavendra Araveeti | R85: Gaurav Srivastava | S85: -
B86: 84 | C86: V5422616 | D86: Madan Jat | E86: madan.jat@v5global.co.in | F86: PC ASO | G86: Active | H86: 45757 | I86: Indore | J86: Madhya Pradesh | K86: 9806152284 | L86: North2 | M86: Rahil Rasheed | N86: Durgendra Singh | O86: Vishal Porwal | P86: vporwal@lenovo.com | Q86: Raghavendra Araveeti | R86: Gaurav Srivastava | S86: -
B87: 85 | C87: V5415979 | D87: Harpal Singh | E87: harpal.singh@v5global.co.in | F87: PC ASO | G87: Active | H87: 45705 | I87: Bikaner | J87: Rajasthan | K87: 9549367888/9057051500 | L87: North1 | M87: Ganga Singh | N87: Kumar Tanksale | O87: Nishank jain | P87: njain10@lenovo.com | Q87: Raghavendra Araveeti | R87: Gaurav Srivastava | S87: Added on 06th Nov'24
B88: 86 | C88: V5434627 | D88: Deepak Sahu | E88: deepak.sahu@v5global.co.in | F88: PC ASO | G88: Active | H88: 45768 | I88: Ranchi | J88: Jharkhand | K88: 9204635573 | L88: East2 | M88: Alok Ranjan Singh | N88: Rajender Negi | O88: Krishna Kumar Singh | P88: ksingh25@lenovo.com | Q88: Raghavendra Araveeti | R88: Gaurav Srivastava | S88: -

Sheet AMD
B3: Sr.No. | C3: Emp. Code Caspian | D3: Emp.Name | E3: Emp Email ID | F3: Designation Name | G3: Employee status | H3: DOJ | I3: City Posting | J3: State Posting | K3: Mobile | L3: Region | M3: DSM Name | N3: RSM | O3: RCM | P3: RCM Email ID | Q3: Statehead | R3: SDM | S3: Remarks
B4: 1 | C4: 601195 | D4: Abhijeet Biswas | E4: abhijeet.biswas@v5global.co.in | F4: ASO | G4: Active | H4: 45659 | I4: Kolkata | J4: West Bengal | K4: 9804559915 | L4: East1 | M4: Amit Thakuri | N4: Amit Tiwari | O4: Kapil Tiwari | P4: ktiwari1@lenovo.com | Q4: Raghavendra Araveeti | R4: Gaurav Srivastava | S4: -
B5: 2 | C5: 601177 | D5: Pankaj Kumar | E5: pankaj.kumar@v5global.co.in | F5: ASO | G5: Active | H5: 45638 | I5: Patna | J5: Bihar | K5: 8340543380 | L5: East2 | M5: Alok Ranjan Singh | N5: Rajender Negi | O5: Arvind Kumar | P5: akumar142@lenovo.com | Q5: Raghavendra Araveeti | R5: Gaurav Srivastava | S5: -
B6: 3 | C6: 601341 | D6: Prateek Verma | E6: prateek.verma@v5global.co.in | F6: ASO | G6: Active | H6: 45797 | I6: New Delhi | J6: New Delhi | K6: 9818131909 | L6: North1 | M6: Ganga Singh | N6: Kumar Tanksale | O6: Kanwaldeep Singh | P6: ksingh15@lenovo.com | Q6: Raghavendra Araveeti | R6: Gaurav Srivastava | S6: -
B7: 4 | C7: 601131 | D7: Subodh Kumar Sahani | E7: subodh.sahani@v5global.co.in | F7: ASO | G7: Active | H7: 45561 | I7: Ghaziabad | J7: Uttar Pradesh | K7: 7703838818 | L7: North2 | M7: Rahil Rasheed | N7: Durgendra Singh | O7: Nishant Aeron | P7: naeron@lenovo.com | Q7: Raghavendra Araveeti | R7: Gaurav Srivastava | S7: -
B8: 5 | C8: TBH | D8: TBH | E8: TBH | F8: ASO | G8: Vacant | H8: TBH | I8: Bangalore | J8: Karnataka | K8: - | L8: South1 | M8: Prakash Kumar K P | N8: S Sreekumar | O8: Anuj Kumar | P8: akumar1@lenovo.com | Q8: Sharad verma | R8: Jaspreet Singh | S8: -
B9: 6 | C9: 601146 | D9: Rajesh M G | E9: rajesh.mg@v5global.co.in | F9: ASO | G9: Active | H9: 45573 | I9: Cochin | J9: Kerela | K9: 8157020114, 8891720114 | L9: South1 | M9: Prakash Kumar K P | N9: S Sreekumar | O9: Shaiju | P9: ss89@lenovo.com | Q9: Sharad verma | R9: Jaspreet Singh | S9: -
B10: 7 | C10: 601197 | D10: P.Maheshwaran | E10: p.maheswaran@v5global.co.in | F10: ASO | G10: Notice Period | H10: 45675 | I10: Chennai | J10: Tamil Nadu | K10: 9840100333 | L10: South2 | M10: S.Arunbabu | N10: Kartik Iyer | O10: Sridhar Ethirajulu | P10: sethirajulu1@lenovo.com | Q10: Sharad verma | R10: Jaspreet Singh | S10: LWD 07th Jun'25
B11: 8 | C11: 601140 | D11: Ishan Modha | E11: ishan.modha@v5global.co.in | F11: ASO | G11: Active | H11: 45601 | I11: Ahmedabad | J11: Gujarat | K11: 6352456143 | L11: West1 | M11: Yunus Hamid Mansoori | N11: Hemant C Baghel | O11: Darshan Thakkar | P11: tjitendrabha@lenovo.com | Q11: Sharad verma | R11: Jaspreet Singh | S11: -
B12: 9 | C12: TBH | D12: TBH | E12: TBH | F12: ASO | G12: Vacant | H12: TBH | I12: Nagpur | J12: Maharashtra | K12: - | L12: West1 | M12: Ritesh Raushan | N12: Hemant C Baghel | O12: Amit Tiwari | P12: atiwari5@lenovo.com | Q12: Sharad verma | R12: Jaspreet Singh | S12: -
B13: 10 | C13: 601360 | D13: Swapnil Sanjay Vesanekar | E13: swapnil.vesanekar@v5global.co.in | F13: ASO | G13: Active | H13: 44476 | I13: Pune | J13: Maharashtra | K13: 9069201201 | L13: West1 | M13: Ritesh Raushan | N13: Hemant C Baghel | O13: Amit Tiwari | P13: atiwari5@lenovo.com | Q13: Sharad verma | R13: Jaspreet Singh | S13: -
B14: 11 | C14: TBH | D14: TBH | E14: TBH | F14: ASO | G14: Vacant | H14: Hold | I14: Vijayawada | J14: Andhra Pradesh | K14: - | L14: South2 | M14: S.Arunbabu | N14: Kartik Iyer | O14: Prabhakar G | P14: gprabhakar@lenovo.com | Q14: Sharad verma | R14: Jaspreet Singh | S14: Position Hold on 29th May'25

Sheet Resigned List
B2: EMP CODE | C2: V5 Emp.code | D2: Emp. Name | E2: Designation | F2: DOJ | G2: Program name | H2: City Posting | I2: State Posting | J2: Mobile | K2: V5 Mail id | L2: Remarks | M2: Region | N2: Infra | O2: DSM Name | P2: Remarks | Q2: DOL
B3: D66467 | C3: - | D3: Nithyesharadhya D | E3: PC ASO | F3: 44694 | G3: Lenovo Distribution | H3: Mysore | I3: Karnataka | J3: 9743473406 | K3: ce-nithyesharadhya.d@denave.com | L3: 44838 | M3: South1 | N3: Given | O3: Mohammed Azam Ahmed | P3: Done | Q3: 44661
B4: D64883 | C4: V5264760 | E4: Transition | F4: Vacant | G4: Absconded Mahesh & currently vacant | H4: Mahesh | I4: PC ASO | J4: 44593 | K4: Lenovo Consumer ASO | L4: Gulbarga | M4: South1 | N4: Given | O4: Mohammed Azam Ahmed | P4: Done | Q4: Done
B5: - | C5: D67564 | F5: Transition | G5: Notice period | H5: Profile to be given | I5: Kantharia Alpesh | K5: PC ASO | M5: 44774 | N5: Lenovo Consumer ASO | O5: Surat | P5: Gujarat | Q5: 9982921127 | R5: ce-kantharia.alpesh@denave.com | S5: Resigned | T5: West2 | U5: Not Given | V5: Pran Pratap Singh | W5: Anand Modi | X5: Waseeha Khan | Y5: Done
B6: - | C6: D60067 | F6: Transition | G6: Notice period | H6: Notice period Sitaram LWD 14th Oct/shortlisted | I6: Sitaram Krishna Patil | K6: PC ASO | M6: 44228 | N6: Lenovo Consumer ASO | O6: Mumbai | P6: Maharashtra | Q6: 9833086889 | R6: sitaram.kp@denave.com | T6: West1 | U6: Given | V6: Faiz Ibrahim Qureshi | W6: Hemant C Baghel | X6: Nikhil Narkhede | Y6: Done
B7: D66702 | C7: V5266911 | D7: Prasanth Kumar P S | E7: Prasanth Kumar P S | F7: 16 Oct 2022 | G7: Lenovo Distribution | H7: Kottayam | I7: Kerala | J7: 9895025142 | K7: prasanth.kumar@v5global.co.in | L7: 9895025142 | M7: South2 | N7: S.Arunbabu | O7: S.Arunbabu | P7: Fazalu Rahman | Q7: LWD 22nd Oct
B8: - | C8: V5269509 | D8: Gaurav Kumar Yadav | E8: PC ASO | F8: - | G8: Lenovo Distribution | H8: Bilaspur | I8: Chhattisgarh | J8: 9039953548 | K8: gaurav.yadav@v5global.co.in | L8: 9039953548 | M8: West3 | N8: Suraj Mahadik | O8: Suraj Mahadik | P8: Roopesh Baghel | Q8: Joining on 21st Oct but not joined,He will revert in mail
B9: D67318 | C9: V5269092 | D9: RAJESH M R | E9: PC ASO | F9: 16 Oct 2022 | G9: Lenovo Distribution | H9: Kannur | I9: Kerala | J9: 9349277732 | K9: rajesh.r@v5global.co.in | L9: 9349277732 | M9: South2 | N9: S.Arunbabu | O9: S.Arunbabu | P9: Fazalu Rahman | Q9: 25th-Oct-22
B10: - | C10: V5268262 | D10: Ankur Kesarwani | E10: PC ASO | F10: 16 Oct 2022 | G10: Lenovo Distribution | H10: Allahabad | I10: Uttar Pradesh | J10: 7897355644 | K10: ankur.kesarwani@v5global.co.in | M10: North2 | O10: Rahil Rasheed | Q10: LWD 06th Nov'22
B11: - | C11: V5264761 | D11: Divyeshkumar Patel | E11: PC ASO | F11: 01 Nov 2022 | G11: Lenovo Distribution | H11: Badodra | I11: Gujarat | J11: 7226002749 | K11: - | M11: West2 | O11: Pran Pratap Singh | Q11: 01 Nov 2022
B12: D67293 | C12: V5263157 | D12: Sushant Sharadchandra Ashtekar | E12: PC ASO | F12: 16 Oct 2022 | G12: Lenovo Distribution | H12: Goa | I12: Goa | J12: 9028070989 | K12: - | M12: South1 | O12: Mohammed Azam Ahmed | Q12: LWD 09th Nov'22
B13: - | C13: V5263073 | D13: Manoj Kumar Gupta | E13: VAS ASO | F13: 03 Oct 2022 | G13: Lenovo Distribution | H13: Lucknow | I13: Uttar Pradesh | J13: 7376201765 | K13: manoj.kumar@v5global.co.in | M13: North2 | O13: Rahil Rasheed | Q13: LWD 05th Nov'22
B14: - | C14: V5263100 | D14: Gandhi Jignesh Kumar | E14: PC ASO | F14: 16 Oct 2022 | G14: Lenovo Distribution | H14: Baroda | I14: Gujarat | J14: 9925446444 | K14: gandhi.jignesh@v5global.co.in | M14: West2 | O14: Pran Pratap Singh | Q14: LWD 14th Nov'22
B15: D49280 | C15: V5267559 | D15: Mohammed Azam Ahmed | E15: Distribution Sales Manager | F15: 43556 | G15: Lenovo Distribution | H15: Bengaluru | I15: Karnataka | J15: 9900504402 | K15: mohammed.azam@v5global.co.in | M15: South1 | O15: - | Q15: LWD 17th Nov'22
B16: - | C16: V5266838 | D16: Shripad Rohidas Chinchwade | E16: PC ASO | F16: 16 Oct 2022 | G16: Lenovo Distribution | H16: Pune | I16: Maharashtra | J16: 8237179502 | K16: shripad.rohidas@v5global.co.in | M16: West1 | O16: Dharmendra Prakash Nehe | Q16: LWD 08th Dec'22
B17: D59255 | C17: V5267923 | D17: Mohsin Bin Abood | E17: Distribution Sales Manager | F17: 44835 | G17: Lenovo Distribution | H17: Hyderabad | I17: Telangana | J17: 9989927863 | K17: mohsin.bin@v5global.co.in | M17: South3 | O17: - | Q17: LWD 19th Nov'22
B18: D65496 | C18: V5266979 | D18: Dharmendra Prakash Nehe | E18: Distribution Sales Manager | F18: 44623 | G18: Lenovo Distribution | H18: Pune | I18: Maharashtra | J18: 9049835511 | K18: dharmendra.nehe@v5global.co.in | M18: West1 | O18: - | Q18: LWD 10th Dec'22
B19: D62128 | C19: V5267724 | D19: Irshad Ali Amjad Ali | E19: PC ASO | F19: 16 Oct 2022 | G19: Lenovo Distribution | H19: Amravati | I19: Maharashtra | J19: 8087727704 | K19: irshad.ali@v5global.co.in | M19: West1 | O19: Dharmendra Prakash Nehe | Q19: LWD 16th Dec'22
B20: D42651 | C20: V5267262 | D20: Faiz Ibrahim Qureshi | E20: Distribution Sales Manager | F20: 43103 | G20: Lenovo Distribution | H20: Mumbai | I20: Maharashtra | J20: 9892601098 | K20: faiz.ibrahim@v5global.co.in | M20: West1 | O20: - | Q20: LWD 17th Dec'22
B21: D67476 | C21: V5264739 | D21: Nishat Mohammad | E21: PC ASO | F21: 16 Oct 2022 | G21: Lenovo Distribution | H21: Kota | I21: Rajasthan | J21: 7879622800 | K21: nishat.mohammad@v5global.co.in | M21: West2 | O21: Krishna Kumar Singh | Q21: LWD 24th Dec'22
B22: D64881 | C22: V5268282 | D22: L Sathish Kumar | E22: PC ASO | F22: 44850 | G22: Lenovo Distribution | H22: Coimbatore | I22: Tamil Nadu | J22: 9842338180 | K22: sathish.kumar@v5global.co.in | M22: South2 | O22: S.Arunbabu | Q22: LWD 31st Dec'22
B23: D54452 | C23: V5267023 | D23: Babu Singh | E23: PC ASO | F23: 16 Oct 2022 | G23: Lenovo Distribution | H23: Bikaner | I23: Rajasthan | J23: 9983381183 | K23: babu.singh@v5global.co.in | M23: West2 | O23: Krishna Kumar Singh | Q23: LWD 02nd Jan'23
B24: D58771 | C24: V5268279 | D24: Bhavsar Kirtikumar Babulal | E24: PC ASO | F24: 16 Oct 2022 | G24: Lenovo Distribution | H24: Ahmedabad | I24: Gujarat | J24: 7984180458 | K24: bhavsar.kirtikumar@v5global.co.in | M24: West2 | O24: Krishna Kumar Singh | Q24: LWD 30th Dec'22
B25: D67972 | C25: V5265070 | D25: PIYUSH KAPURIA | E25: PC ASO | F25: 16 Oct 2022 | G25: Lenovo Distribution | H25: Jaipur | I25: Rajasthan | J25: 9351747640 | K25: piyush.kapuria@v5global.co.in | M25: West2 | O25: Krishna Kumar Singh | Q25: LWD 10th Jan'23
B26: - | C26: V5266691 | D26: Upadhyay Mukesh Kumar | E26: PC ASO | F26: 07 Nov 2022 | G26: Lenovo Distribution | H26: Surat | I26: Gujarat | J26: 7600174622 | K26: mukesh.upadhyay@v5global.co.in | M26: West2 | O26: Krishna Kumar Singh | Q26: LWD 09th Jan'23 | R26: FNF form received
B27: D42905 | C27: V5265074 | D27: Ankush Kumar | E27: PC ASO | F27: 16 Oct 2022 | G27: Lenovo Distribution | H27: Hamirpur | I27: Himachal Pradesh | J27: 8091029822 | K27: ankush.kumar@v5global.co.in | M27: North1 | O27: Krishna Kumar Singh | Q27: LWD 14th Jan'23
B28: D67876 | C28: V5266223 | D28: Anurag Agarwal | E28: PC ASO | F28: 16 Oct 2022 | G28: Lenovo Distribution | H28: Ghaziabad | I28: Uttar Pradesh | J28: 9899494771 | K28: anurag.agarwal@v5global.co.in | M28: North2 | O28: Rahil Rasheed | Q28: LWD 14th Jan'23 | R28: FNF form received
B29: D58851 | C29: V5267147 | D29: Avinash Kumar | E29: PC ASO | F29: 16 Oct 2022 | G29: Lenovo Distribution | H29: Dehradun | I29: Uttrakhand | J29: 9761771311 | K29: avinash.kumar@v5global.co.in | M29: North2 | O29: Rahil Rasheed | Q29: LWD 14th Jan'23
B30: D64375 | C30: V5266710 | D30: Ganapathi E | E30: PC ASO | F30: 16 Oct 2022 | G30: Lenovo Distribution | H30: Salem | I30: Tamil Nadu | J30: 9600364011 | K30: ganapathi.e@v5global.co.in | M30: South2 | O30: S.Arunbabu | Q30: LWD 14th Jan'23
B31: D67372 | C31: V5263113 | D31: Govind Gour | E31: PC ASO | F31: 16 Oct 2022 | G31: Lenovo Distribution | H31: Alwar | I31: Rajasthan | J31: 7877712600 | K31: govind.gour@v5global.co.in | M31: West2 | O31: Krishna Kumar Singh | Q31: LWD 14th Jan'23
B32: D65661 | C32: V5266966 | D32: Nikhil Kumar Jha | E32: PC ASO | F32: 16 Oct 2022 | G32: Lenovo Distribution | H32: Purnea | I32: Bihar | J32: 9122734591 | K32: nikhil.kumar@v5global.co.in | M32: East2 | O32: Vikas Shan | Q32: LWD 14th Jan'23
B33: D48441 | C33: V5266847 | D33: Pran Pratap Singh | E33: PC ASO | F33: 16 Oct 2022 | G33: Lenovo Distribution | H33: Jaipur | I33: Rajasthan | J33: 9001585718 | K33: pran.pratap@v5global.co.in | M33: West2 | O33: Krishna Kumar Singh | Q33: LWD 14th Jan'23
A34: - | B34: D65933 | C34: V5265875 | D34: Samrat Roy | E34: PC ASO | F34: 16 Oct 2022 | G34: Lenovo Distribution | H34: Ranchi | I34: Jharkhand | J34: 7667605872 | K34: samrat.roy@v5global.co.in | M34: East2 | O34: Vikas Shan | Q34: LWD 14th Jan'23 | R34: FNF form received
B35: D65494 | C35: V5267722 | D35: Srisai Vijay Ragu | E35: PC ASO | F35: 16 Oct 2022 | G35: Lenovo Distribution | H35: Coimbatore | I35: Tamil Nadu | J35: 9488466702 | K35: srisaivijay.r@v5global.co.in | M35: South2 | O35: S.Arunbabu | Q35: LWD 14th Jan'23
B36: D65626 | C36: V5267199 | D36: Swapnadip Kabiraj | E36: PC ASO | F36: 16 Oct 2022 | G36: Lenovo Distribution | H36: Kolkata | I36: West Bengal | J36: 8648954817 | K36: swapnadip.kabiraj@v5global.co.in | M36: East1 | O36: Chandan Kumar Singh | Q36: LWD 14th Jan'23
B37: D65945 | C37: V5266920 | D37: Vishal Mathur | E37: PC ASO | F37: 16 Oct 2022 | G37: Lenovo Distribution | H37: Jodhpur | I37: Rajasthan | J37: 9928078407 | K37: vishal.mathur@v5global.co.in | M37: West2 | O37: Krishna Kumar Singh | Q37: LWD 14th Jan'23 | R37: Infra received
B38: D67910 | C38: V5263109 | D38: Gourav Gupta | E38: PC ASO | F38: 16 Oct 2022 | G38: Lenovo Distribution | H38: Jammu | I38: Jammu and Kashmir | J38: 9796436652 | K38: gourav.gupta@v5global.co.in | M38: North1 | O38: Krishna Kumar Singh | Q38: LWD 14th Jan'23
B39: D68069 | C39: V5267197 | D39: Prasanta Kumar Dash | E39: PC ASO | F39: 16 Oct 2022 | G39: Lenovo Distribution | H39: Cuttack | I39: Orissa | J39: 9861566720 | K39: prasanta.kumar@v5global.co.in | M39: East2 | O39: Vikas Shan | Q39: LWD 14th Jan'23
B40: D67992 | C40: V5264745 | D40: Nallana Satish | E40: VAS ASO | F40: 16 Oct 2022 | G40: Lenovo Distribution | H40: Hyderabad | I40: Telangana | J40: 9393567878 | K40: nallana.satish@v5global.co.in | M40: South3 | O40: Chandan Kumar Singh | Q40: LWD 14th Jan'23
B41: - | C41: V5262341 | D41: Ankit Tandon | E41: VAS ASO | F41: 01 Nov 2022 | G41: Lenovo Distribution | H41: Kolkata | I41: West Bengal | J41: 9836390901 | K41: ankit.tandon@v5global.co.in | M41: East1 | O41: Chandan Kumar Singh | Q41: LWD 14th Jan'23
B42: - | C42: V5267730 | D42: Kumar Jaybardhan | E42: VAS ASO | F42: 16 Oct 2022 | G42: Lenovo Distribution | H42: Patna | I42: Bihar | J42: 8237337333 | K42: kumar.jaybardhan@v5global.co.in | M42: East2 | O42: Vikas Shan | Q42: LWD 14th Jan'23
B43: D30872 | C43: V5267457 | D43: Nayay Priya Mehta | E43: PC ASO | F43: 16 Oct 2022 | G43: Lenovo Distribution | H43: Gurugram | I43: Haryana | J43: 9215525559 | K43: nayay.priya@v5global.co.in | M43: North1 | O43: Krishna Kumar Singh | Q43: LWD 14th Jan'23
B44: D60518 | C44: V5265864 | D44: Rizwan Ali | E44: VAS ASO | F44: 16 Oct 2022 | G44: Lenovo Distribution | H44: Delhi | I44: Delhi | J44: 9716168271 | K44: rizwan.ali@v5global.co.in | M44: North1 | O44: Krishna Kumar Singh | Q44: LWD 14th Jan'23
B45: - | C45: V5267881 | D45: Suresh Pandit | E45: PC ASO | F45: 16 Oct 2022 | G45: Lenovo Distribution | H45: Mumbai | I45: Maharashtra | J45: 9920423320 | K45: suresh.pandit@v5global.co.in | M45: West1 | O45: TBH | Q45: LWD 14th Jan'23
B46: D15019 | C46: V5267249 | D46: Amit. Jagdish. Khobragade | E46: PC ASO | F46: 16 Oct 2022 | G46: Lenovo Distribution | H46: Nagpur | I46: Maharashtra | J46: 9370327030 | K46: amit.jagdish@v5global.co.in | M46: West1 | O46: TBH | Q46: LWD 4th Feb'23 | R46: 27 apr at 11am
B47: D59916 | C47: V5267970 | D47: K Sathish Kumar | E47: PC ASO | F47: 16 Oct 2022 | G47: Lenovo Distribution | H47: Chennai | I47: Tamil Nadu | J47: 9884103645 | K47: k.sathish@v5global.co.in | M47: South2 | O47: S.Arunbabu | Q47: LWD 18th Jan'23 | R47: FNF form received
B48: D67177 | C48: V5266925 | D48: Yathaarth Trehan | E48: VAS ASO | F48: 16 Oct 2022 | G48: Lenovo Distribution | H48: Delhi | I48: Delhi | J48: 9899569805 | K48: yathaarth.trehan@v5global.co.in | M48: North1 | O48: Krishna Kumar Singh | Q48: LWD 14th Jan'23
B49: D63557 | C49: V5266865 | D49: Vikas Shan | E49: Distribution Sales Manager | F49: 44508 | G49: Lenovo Distribution | H49: Orissa | I49: Bhubaneswar | J49: 9826070037 | K49: vikas.shan@v5global.co.in | M49: East2 | O49: - | Q49: LWD 17th Jan'23
B50: D27387 | C50: V5266877 | D50: Vani Alpeshkumar | E50: PC ASO | F50: 16 Oct 2022 | G50: Lenovo Distribution | H50: Surat | I50: Gujarat | J50: 9898633142 | K50: vani.alpeshkumar@v5global.co.in | M50: West2 | O50: Krishna Kumar Singh | Q50: LWD 15th Jan'23 | R50: FNF form received
B51: D67136 | C51: V5265064 | D51: Ashutosh Govind Sharma | E51: PC ASO | F51: 16 Oct 2022 | G51: Lenovo Distribution | H51: Raipur | I51: Chhattisgarh | J51: 9834388136 | K51: ashutosh.govind@v5global.co.in | M51: West3 | O51: Suraj Mahadik | Q51: LWD 20th Jan'23 | R51: FNF form received | T51: 26th Apr 4 pm
B52: D65560 | C52: V5267737 | D52: SunilKumar R V | E52: PC ASO | F52: 16 Oct 2022 | G52: Lenovo Distribution | H52: Trivandrum | I52: Kerala | J52: 9048707305 | K52: sunil.kumar@v5global.co.in | M52: South2 | O52: S.Arunbabu | Q52: LWD 25th Jan'23
B53: - | C53: V5269339 | D53: Marshall Joseph | E53: PC ASO | F53: 21 Oct 2022 | G53: Lenovo Distribution | H53: Hubli | I53: Karnataka | J53: 7259316837 | K53: marshall.joseph@v5global.co.in | M53: South1 | O53: Rahil Rasheed | Q53: LWD 31st Jan'23 | R53: FNF form received
B54: D60461 | C54: V5264960 | D54: Babun Chandra Modak | E54: PC ASO | F54: 16 Oct 2022 | G54: Lenovo Distribution | H54: Asansol | I54: West Bengal | J54: 7384991181 | K54: babun.chandra@v5global.co.in | M54: East1 | O54: Chandan Kumar Singh | Q54: LWD 11th Feb'23
B55: D67439 | C55: V5263622 | D55: Allister Joel Correya | E55: PC ASO | F55: 16 Oct 2022 | G55: Lenovo Distribution | H55: Bangalore | I55: Karnataka | J55: 9995200741 | K55: allister.joel@v5global.co.in | M55: South1 | O55: Rahil Rasheed | Q55: LWD 03rd Feb'23
B56: - | C56: V5288003 | D56: Khumeshvar Yadav | E56: PC ASO | F56: 25 Feb 2023 | G56: Lenovo Distribution | H56: Raipur | I56: Chhattisgarh | J56: 7898383234 | K56: khumeshvar.yadav@v5global.co.in | M56: West3 | O56: Suraj Mahadik | Q56: Not Joined
B57: D56135 | C57: V5267882 | D57: Sandip Mitra | E57: PC ASO | F57: 16 Oct 2022 | G57: Lenovo Distribution | H57: Kolkata | I57: West Bengal | J57: 9038572400 | K57: sandip.mitra@v5global.co.in | M57: East1 | O57: Chandan Kumar Singh | Q57: LWD 08th Mar'23 | S57: 26th Apr 11
B58: - | C58: V5289143 | D58: Rahul R Manganawar | E58: PC ASO | F58: 44971 | G58: Lenovo Distribution | H58: Belgaum | I58: Karnataka | J58: 9844113063 | K58: rahul.manganawar@v5global.co.in | M58: South1 | O58: Rahil Rasheed | Q58: LWD 08th Mar'23 | R58: FNF form received
B59: D42477 | C59: V5265079 | D59: Rakesh Dhalaria | E59: PC ASO | F59: 16 Oct 2022 | G59: Lenovo Distribution | H59: Chandigarh | I59: Punjab | J59: 9988127069 | K59: rakesh.dhalaria@v5global.co.in | M59: North1 | O59: Krishna Kumar Singh | Q59: LWD 20th Mar'23
B60: D65336 | C60: V5267482 | D60: Neeraj Singh Dogra | E60: PC ASO | F60: 16 Oct 2022 | G60: Lenovo Distribution | H60: Haldwani | I60: Uttrakhand | J60: 9719638306 | K60: neeraj.singh@v5global.co.in | M60: North2 | O60: Rahil Rasheed | Q60: LWD 25th Mar'23
B61: - | C61: V5292847 | D61: Saikat Dhar | E61: PC ASO | F61: 45017 | G61: Lenovo Distribution | H61: Kolkata | I61: West Bengal | J61: 8250044963 | K61: saikat.dhar@v5global.co.in | M61: East1 | O61: Chandan Kumar Singh | Q61: Not Joined
B62: - | C62: V5266230 | D62: Surya Prakash | E62: PC ASO | F62: 16 Oct 2022 | G62: Lenovo Distribution | H62: Udaipur | I62: Rajasthan | J62: 8003935000 | K62: surya.prakash@v5global.co.in | M62: West2 | O62: Krishna Kumar Singh | Q62: LWD 02nd Apr'23 | R62: 26th 3pm
B63: D61293 | C63: V5268281 | D63: Sureshkumar | E63: PC ASO | F63: 16 Oct 2022 | G63: Lenovo Distribution | H63: Kottayam | I63: Kerala | J63: 9061984242 | K63: suresh.kumar@v5global.co.in | M63: South2 | O63: S.Arunbabu | Q63: LWD 03rd Apr'23 | R63: 28th 2pm
B64: D65316 | C64: V5268123 | D64: Ummer Farshad C K | E64: PC ASO | F64: 16 Oct 2022 | G64: Lenovo Distribution | H64: Calicut | I64: Kerala | J64: 9947070741 | K64: ummer.farshad@v5global.co.in | M64: South2 | O64: S.Arunbabu | Q64: LWD 30th Apr'23
B65: - | C65: V5267271 | D65: Sagar Patel | E65: PC ASO | F65: 01 Nov 2022 | G65: Lenovo Distribution | H65: Ahmedabad | I65: Gujarat | J65: 9512120606 | K65: patel.sagar@v5global.co.in | M65: West1 | O65: Yunus Hamid Mansoori | Q65: LWD 30th Apr'23
B66: - | C66: V5270855 | D66: Saikat Goswani | E66: PC ASO | F66: 44867 | G66: Lenovo Distribution | H66: Bangalore | I66: Karnataka | J66: 9886431418 | K66: saikat.goswami@v5global.co.in | M66: South1 | O66: Rahil Rasheed | Q66: LWD 05th May'23
B67: D65853 | C67: V5267170 | D67: P Ambrose | E67: PC ASO | F67: 16 Oct 2022 | G67: Lenovo Distribution | H67: Trichy | I67: Tamil Nadu | J67: 9994329386 | K67: p.ambrose@v5global.co.in | M67: South2 | O67: S.Arunbabu | Q67: LWD 05th May'23
B68: - | C68: V5293996 | D68: Vishal Singh | E68: PC ASO | F68: 45012 | G68: Lenovo Distribution | H68: Dehradun | I68: Uttrakhand | J68: 9258656256 | K68: vishal.singh@v5global.co.in | M68: North2 | O68: Rahil Rasheed | Q68: LWD 13th May'23
B69: - | C69: V5294540 | D69: Safderhussainkhan M Pathan | E69: PC ASO | F69: 45012 | G69: Lenovo Distribution | H69: Belgaum | I69: Karnataka | J69: 7795830628 | K69: safder.hussain@v5global.co.in | M69: South1 | O69: Rahil Rasheed | Q69: LWD 12th May'23
B70: D66062 | C70: V5268075 | D70: F M Safwan | E70: PC ASO | F70: 44850 | G70: Lenovo Distribution | H70: Mangalore | I70: Karnataka | J70: 8867147525 | K70: safwan.f@v5global.co.in | M70: South1 | O70: Rahil Rasheed | Q70: LWD 20th May'23
B71: D67814 | C71: V5263130 | D71: NAEEM ANSAR SHAIKH | E71: PC ASO | F71: 44850 | G71: Lenovo Distribution | H71: Badodra | I71: Gujarat | J71: 9967228246 | K71: naeem.ansar@v5global.co.in | M71: West1 | O71: Yunus Hamid Mansoori | Q71: LWD 31st May'23
B72: D51689 | C72: V5270854 | D72: Modha Ishan | E72: PC ASO | F72: 44862 | G72: Lenovo Distribution | H72: Rajkot | I72: Gujarat | J72: 6352456143 | K72: modha.ishan@v5global.co.in | M72: West1 | O72: Yunus Hamid Mansoori | Q72: LWD 31st May'23
B73: D27063 | C73: V5267228 | D73: Pardeep Singh | E73: PC ASO | F73: 44850 | G73: Lenovo Distribution | H73: Ludhiana | I73: Punjab | J73: 7355097313 | K73: pardeep.singh@v5global.co.in | M73: North1 | O73: Krishna Kumar Singh | Q73: LWD 04th Jun'23
B74: D46405 | C74: V5267738 | D74: Chandan Ghosh | E74: PC ASO | F74: 44850 | G74: Lenovo Distribution | H74: Medinipur | I74: West Bengal | J74: 9051786114 | K74: chandan.ghosh@v5global.co.in | M74: East1 | O74: Chandan Kumar Singh | Q74: LWD 05th Jun'23
A75: h7i8 | B75: D63484 | C75: V5267429 | D75: Chedula Jagadeesh | E75: PC ASO | F75: 44850 | G75: Lenovo Distribution | H75: Kurnool | I75: Andhra Pradesh | J75: 8686262316 | K75: chedula.jagadeesh@v5global.co.in | M75: South3 | O75: Chandan Kumar Singh | Q75: LWD 12th Jun'23
C76: V5266022 | D76: Satish Kumar Chitti | E76: PC ASO | F76: 44850 | G76: Lenovo Distribution | H76: Vijayawada | I76: Andhra Pradesh | J76: 9848430305 | K76: satish.kumar@v5global.co.in | M76: South3 | O76: Chandan Kumar Singh | Q76: LWD 16th Jun'23
C77: V5267558 | D77: Suraj Mahadik | E77: DSM | F77: 44102 | G77: Lenovo Distribution | H77: Indore | I77: Madhya Pradesh | J77: 7869911963 | K77: suraj.mahadik@v5global.co.in | M77: West3 | O77: - | Q77: LWD 08th Jul'23
C78: V5298945 | D78: Jagadeesan Mathappan | E78: PC ASO | F78: 45056 | G78: Lenovo Distribution | H78: Coimbatore | I78: Tamil Nadu | J78: 8883970585 | K78: jagadeesan.mathappan@v5global.co.in | M78: South2 | O78: S.Arunbabu | Q78: LWD 10th Jul'23
C79: V5266849 | D79: Sureja Darshankumar Kantilal | E79: PC ASO | F79: 44850 | G79: Lenovo Distribution | H79: Rajkot | I79: Gujarat | J79: 9099909615 | K79: sureja.darshankumar@v5global.co.in | M79: West1 | O79: Yunus Hamid Mansoori | Q79: LWD 14th Jul'23
C80: V5265913 | D80: Sameer Soni | E80: PC ASO | F80: 44850 | G80: Lenovo Distribution | H80: Raipur | I80: Chhattisgarh | J80: 9516541200 | K80: sameer.soni@v5global.co.in | M80: East2 | O80: Alok Ranjan Singh | Q80: LWD 27th Jul'23
C81: V5263086 | D81: Achhelal Yadav | E81: PC ASO | F81: 44850 | G81: Lenovo Distribution | H81: Varanasi | I81: Uttar Pradesh | J81: 7977140985 | K81: achhelal.yadav@v5global.co.in | M81: North2 | O81: Rahil Rasheed | Q81: LWD 07th Aug '23
C82: V5313785 | D82: Pradip Ramesh Gautam | E82: PC ASO | F82: 45145 | G82: Lenovo Distribution | H82: Raipur | I82: Chhattisgarh | J82: 9158127972 | K82: pradip.gautam@v5global.co.in | M82: East2 | O82: Alok Ranjan Singh | Q82: LWD 10th Aug '23
C83: V5305714 | D83: Liladhar Singh | E83: PC ASO | F83: 45099 | G83: Lenovo Distribution | H83: Bilaspur | I83: Chhattisgarh | J83: 7000896053 | K83: liladhar.singh@v5global.co.in | M83: East2 | O83: Alok Ranjan Singh | Q83: LWD 22nd Aug '23
C84: V5314636 | D84: Mahesh Maharudra Pattar | E84: PC ASO | F84: 45139 | G84: Lenovo Distribution | H84: Belgaum | I84: Karnataka | J84: 9739241433 | K84: mahesh.pattar@v5global.co.in | M84: South1 | O84: Rahil Rasheed | Q84: LWD 22nd Aug '23
C85: V5314082 | D85: Soumen roy | E85: PC ASO | F85: 45139 | G85: Lenovo Distribution | H85: Medinipur | I85: West Bengal | J85: 9434145875 | K85: soumen.roy@v5global.co.in | M85: East1 | O85: Chandan Kumar Singh | Q85: LWD 23rd Aug '23
C86: V5136059 | D86: Akhil A S | E86: PC ASO | F86: 44984 | G86: Lenovo Distribution | H86: Trivandrum | I86: Kerala | J86: 8089806694 | K86: akhil.as@v5global.co.in | M86: South1 | O86: Rahil Rasheed | Q86: LWD 31st Aug'23
C87: V5202487 | D87: Mohammad Irfan Mohammad Zamin Shaikh | E87: PC ASO | F87: 45000 | G87: Lenovo Distribution | H87: Akola | I87: Maharashtra | J87: 9881288596 | K87: irfan@v5global.co.in | M87: West1 | O87: Ritesh Raushan | Q87: LWD 31st Aug'23
C88: V5265061 | D88: Roshan Prasad | E88: PC ASO | F88: 44850 | G88: Lenovo Distribution | H88: Siliguri | I88: West Bengal | J88: 8372831099 | K88: roshan.prasad@v5global.co.in | M88: East1 | O88: Chandan Kumar Singh | Q88: LWD 06th Sep'23
C89: V5268156 | D89: Rajesh M G | E89: PC ASO | F89: 44850 | G89: Lenovo Distribution | H89: Thrissur | I89: Kerala | J89: 8157020114 | K89: rajesh.m@v5global.co.in | M89: South1 | O89: Rahil Rasheed | Q89: LWD 06th Sep'23
C90: V5262044 | D90: Shyam Singh | E90: PC ASO | F90: 44830 | G90: Lenovo Distribution | H90: Jaipur | I90: Rajasthan | J90: 9521272925 | K90: shyam.singh@v5global.co.in | M90: North1 | O90: Krishna Kumar Singh | Q90: LWD 16th Sep'23
C91: V5270769 | D91: Gummalla Nagaraju | E91: PC ASO | F91: 44860 | G91: Lenovo Distribution | H91: Hyderabad | I91: Telangana | J91: 9959621996 | K91: gummalla.nagaraju@v5global.co.in | M91: South2 | O91: Chandan Kumar Singh | Q91: LWD 30th Sep'23
C92: V5263561 | D92: Ramesh | E92: PC ASO | F92: 44850 | G92: Lenovo Distribution | H92: Chennai | I92: Tamil Nadu | J92: 7358697521 | K92: ramesh@v5global.co.in | M92: South2 | O92: S.Arunbabu | Q92: LWD 13th Nov'23
C93: V5321885 | D93: Ashok Kumar Pradhan | E93: PC ASO | F93: 45180 | G93: Lenovo Distribution | H93: Bilaspur | I93: Chhattisgarh | J93: 9406443791 | K93: ashok.pradhan@v5global.co.in | M93: East2 | O93: Alok Ranjan Singh | Q93: LWD 19th Nov'23
C94: V5265083 | D94: V Gopalakrishnan | E94: PC ASO | F94: 44850 | G94: Lenovo Distribution | H94: Chennai | I94: Tamil Nadu | J94: 7418798307 | K94: v.gopalakrishnan@v5global.co.in | M94: South2 | N94: S.Arunbabu | O94: S.Arunbabu | Q94: LWD 25th Nov'23
C95: V5266945 | D95: Parmod Kumar | E95: PC ASO | F95: 44850 | G95: Lenovo Distribution | H95: Gurugram | I95: Haryana | J95: 9555501502 | K95: parmod.kumar@v5global.co.in | M95: North1 | O95: Krishna Kumar Singh | Q95: LWD 30th Nov'23
C96: V5326192 | D96: Sanjit Pandey | E96: PC ASO | F96: 45202 | G96: Lenovo Distribution | H96: Medinipur | I96: West Bengal | J96: 9800473300 | K96: sanjit.pandey@v5global.co.in | M96: East1 | O96: Chandan Kumar Singh | Q96: LWD 14th Dec'23
C97: V5267544 | D97: Vishwas Vinayakrao Suryawanshi | E97: PC ASO | F97: 44850 | G97: Lenovo Distribution | H97: Pune | I97: Maharashtra | J97: 9767910181 | K97: vishwas.vinayakrao@v5global.co.in | M97: West1 | N97: Ritesh Raushan | O97: Ritesh Raushan | Q97: LWD 17th Dec'23
C98: V5269072 | D98: Vishal Girish Birajdar | E98: PC ASO | F98: 44850 | G98: Lenovo Distribution | H98: Solapur | I98: Maharashtra | J98: 8805050850 | K98: vishal.birajdar@v5global.co.in | M98: West1 | O98: Ritesh Raushan | Q98: LWD 30th Dec'23
C99: V5265985 | D99: Nitesh Kumar | E99: PC ASO | F99: 44850 | G99: Lenovo Distribution | H99: Muzaffarpur | I99: Bihar | J99: 9386825264 | K99: nitesh.kumar@v5global.co.in | M99: East2 | N99: Alok Ranjan Singh | O99: Alok Ranjan Singh | Q99: LWD 11th Jan'24
C100: V5270763 | D100: Siddhartha Saha | E100: PC ASO | F100: 44860 | G100: Lenovo Distribution | H100: Kolkata | I100: West Bengal | J100: 9874293392 | K100: siddhartha.saha@v5global.co.in | M100: East1 | O100: Chandan Kumar Singh | Q100: LWD 15th Jan'24
C101: V5302660 | D101: Nakul Sharma | E101: PC ASO | F101: 45078 | G101: Lenovo Distribution | H101: Ludhiana | I101: Punjab | J101: 9990491000 | K101: nakul.sharma@v5global.co.in | M101: North1 | O101: Krishna Kumar Singh | Q101: LWD 31st Jan'24
...

Sheet Final summary
E1: =SUM(E3:E24) -> 123 | F1: =SUM(F3:F24) -> 16 | G1: =SUM(G3:G24) -> 29 | H1: =SUM(H3:H24) -> 78 | I1: =SUM(I3:I24) -> 45 | J1: =SUM(J3:J24) -> 6
C2: Region | D2: STATE POSTING | E2: Initial HC | F2: ASO to be removed Positition Dilute | G2: Position diluted | H2: Final HC | I2: Final Reduction | J2: Vacant
C3: East1 | D3: NE | E3: 6 | G3: 1 | H3: 5 | I3: =G3+F3 -> 1
D4: West Bengal | E4: 9 | F4: 2 | G4: 2 | H4: 5 | I4: =G4+F4 -> 4
C5: East2 | D5: Bihar | E5: 5 | F5: 2 | H5: 3 | I5: =G5+F5 -> 2
D6: Jharkhand | E6: 2 | F6: 1 | H6: 1 | I6: =G6+F6 -> 1
D7: Orissa | E7: 3 | F7: 1 | H7: 2 | I7: =G7+F7 -> 1
C8: North1 | D8: Delhi | E8: 6 | G8: 2 | H8: 4 | I8: =G8+F8 -> 2
D9: Haryana | E9: 3 | G9: 1 | H9: 2 | I9: =G9+F9 -> 1
D10: Himachal Pradesh | E10: 1 | F10: 1 | I10: =G10+F10 -> 1
D11: Jammu and Kashmir | E11: 2 | F11: 1 | H11: 1 | I11: =G11+F11 -> 1
D12: Punjab | E12: 4 | G12: 1 | H12: 3 | I12: =G12+F12 -> 1
C13: North2 | D13: Uttar Pradesh | E13: 8 | F13: 1 | G13: 2 | H13: 5 | I13: =G13+F13 -> 3
D14: Uttrakhand | E14: 2 | F14: 1 | H14: 1 | I14: =G14+F14 -> 1
C15: South1 | D15: Goa | E15: 1 | H15: 1 | I15: =G15+F15 -> 0 | J15: 1
D16: Karnataka | E16: 8 | G16: 2 | H16: 6 | I16: =G16+F16 -> 2 | J16: 2
C17: South2 | D17: Kerala | E17: 6 | G17: 2 | H17: 4 | I17: =G17+F17 -> 2
D18: Tamil Nadu | E18: 8 | F18: 2 | G18: 2 | H18: 4 | I18: =G18+F18 -> 4
C19: South3 | D19: Andhra Pradesh | E19: 4 | G19: 2 | H19: 2 | I19: =G19+F19 -> 2
D20: Telangana | E20: 3 | F20: 1 | H20: 2 | I20: =G20+F20 -> 1
C21: West1 | D21: Maharashtra | E21: 21 | G21: 6 | H21: 15 | I21: =G21+F21 -> 6
C22: West2 | D22: Gujarat | E22: 9 | G22: 2 | H22: 7 | I22: =G22+F22 -> 2 | J22: 3
D23: Rajasthan | E23: 9 | F23: 3 | G23: 3 | H23: 3 | I23: =G23+F23 -> 6
C24: West3 | D24: Chhattisgarh | E24: 3 | G24: 1 | H24: 2 | I24: =G24+F24 -> 1

Sheet Sheet2

Sheet Super Master
B2: Type | C2: RCM | D2: Emp Denave ID | E2: Emp Name | F2: PromoterMobile | G2: Emp V5ID | H2: Mail ID | I2: DOJ | J2: DSM Name | K2: DSM Email ID | L2: ChannelName | M2: City | N2: State | O2: Region | P2: Emp status | Q2: Planned | R2: Manned | S2: Pending | T2: Gender | U2: Remarks
B3: PC ASO | C3: TBH | D3: TBH | E3: TBH | G3: TBH | J3: Mohammed Azam Ahmed | K3: mohammed.azam@v5global.co.in | L3: Lenovo Consumer ASO | M3: Mysore | N3: Karnataka | O3: South1 | P3: Vacant | Q3: 1 | R3: 0 | S3: 1 | T3: M | U3: Profile to be given
B4: PC ASO | C4: Faiz Ahmed | D4: D52127 | E4: Amit Kumar Singh | F4: 9811568138 | G4: V5268150 | H4: amit.kumar@v5global.co.in | I4: 43686 | J4: Krishna Kumar Singh | K4: krishna.kumar@v5global.co.in | L4: Lenovo Consumer ASO | M4: Delhi | N4: Delhi | O4: North1 | P4: Active | Q4: 1 | R4: 1 | S4: 0 | T4: M
B5: PC ASO | C5: Asit Srivastava | D5: D60294 | E5: Manoj Kumar Panwar | F5: 9828022302 | G5: V5268361 | H5: manoj.panwar@v5global.co.in | I5: 44235 | J5: Pran Pratap Singh | L5: Lenovo Consumer ASO | M5: Ajmer | N5: Rajasthan | O5: West2 | P5: Active | Q5: 1 | R5: 1 | S5: 0 | T5: M
B6: PC ASO | C6: Asit Srivastava | D6: D54452 | E6: Babu Singh | F6: 9983381183 | G6: V5267023 | H6: babu.singh@v5global.co.in | I6: 43780 | J6: Pran Pratap Singh | L6: Lenovo Consumer ASO | M6: Bikaner | N6: Rajasthan | O6: West2 | P6: Active | Q6: 1 | R6: 1 | S6: 0 | T6: M
B7: PC ASO | C7: Kaushal Kumar | D7: D61648 | E7: Abhisekh Kumar Singh | F7: 9386646960 | G7: V5267291 | H7: abhisekh.kumar@v5global.co.in | I7: 44383 | J7: Vikas Shan | K7: vikas.shan@v5global.co.in | L7: Lenovo Consumer ASO | M7: Dhanbad | N7: Jharkhand | O7: East2 | P7: Active | Q7: 1 | R7: 1 | S7: 0 | T7: M
B8: PC ASO | C8: Nishant Aeron | D8: D43423 | E8: Abhishek Prakash | F8: 9557200401 | G8: V5266860 | H8: abhishek.prakash@v5global.co.in | I8: 43150 | J8: Rahil Rasheed | K8: rahil.rasheed@v5global.co.in | L8: Lenovo Consumer ASO | M8: Meerut | N8: Uttar Pradesh | O8: North2 | P8: Active | Q8: 1 | R8: 1 | S8: 0 | T8: M
B9: PC ASO | C9: Vishall Porwal | D9: D64482 | E9: Achhelal Yadav | F9: 7977140985 | G9: V5263086 | H9: achhelal.yadav@v5global.co.in | I9: 44571 | J9: Rahil Rasheed | K9: rahil.rasheed@v5global.co.in | L9: Lenovo Consumer ASO | M9: Varanasi | N9: Uttar Pradesh | O9: North2 | P9: Active | Q9: 1 | R9: 1 | S9: 0 | T9: M
B10: PC ASO | C10: Ashish Kumar Upadhyay | D10: D44307 | E10: Alok Kumar Mishra | F10: 9861472032 | G10: V5267477 | H10: alok.kumar@v5global.co.in | I10: 43217 | J10: Vikas Shan | K10: vikas.shan@v5global.co.in | L10: Lenovo Consumer ASO | M10: Bhubaneswar | N10: Orissa | O10: East2 | P10: Active | Q10: 1 | R10: 1 | S10: 0 | T10: M
B11: PC ASO | C11: Nishant Singh | D11: D30172 | E11: Alok Ranjan Singh | F11: 7857093200 | G11: V5267235 | H11: alok.ranjan@v5global.co.in | I11: 42569 | J11: Vikas Shan | K11: vikas.shan@v5global.co.in | L11: Lenovo Consumer ASO | M11: Patna | N11: Bihar | O11: East2 | P11: Active | Q11: 1 | R11: 1 | S11: 0 | T11: M
B12: PC ASO | C12: Rajeev Jha | D12: D55756 | E12: Amit Mallappa Khurpe | F12: 8888837252 | G12: V5268238 | H12: amit.mallapa@v5global.co.in | I12: 43822 | J12: Dharmendra Prakash Nehe | K12: dharmendra.nehe@v5global.co.in | L12: Lenovo Consumer ASO | M12: Kohlapur | N12: Maharashtra | O12: West1 | P12: Active | Q12: 1 | R12: 1 | S12: 0 | T12: M
B13: PC ASO | C13: Abhishek Bais | D13: D15019 | E13: Amit. Jagdish. Khobragade | F13: 9370327030 | G13: V5267249 | H13: amit.jagdish@v5global.co.in | I13: 41565 | J13: Dharmendra Prakash Nehe | K13: dharmendra.nehe@v5global.co.in | L13: Lenovo Consumer ASO | M13: Nagpur | N13: Maharashtra | O13: West1 | P13: Active | Q13: 1 | R13: 1 | S13: 0 | T13: M
B14: PC ASO | C14: Vishall Porwal | D14: D43975 | E14: Ankur Kesarwani | F14: 7897355644 | G14: V5268262 | H14: ankur.kesarwani@v5global.co.in | I14: 43199 | J14: Rahil Rasheed | K14: rahil.rasheed@v5global.co.in | L14: Lenovo Consumer ASO | M14: Allahabad | N14: Uttar Pradesh | O14: North2 | P14: Notice period | Q14: 1 | R14: 1 | S14: 0 | T14: M | U14: 6th Nov LWD
B15: PC ASO | C15: Naveen Kumar | D15: D42905 | E15: Ankush Kumar | F15: 8091029822 | G15: V5265074 | H15: ankush.kumar@v5global.co.in | I15: 43115 | J15: Krishna Kumar Singh | K15: krishna.kumar@v5global.co.in | L15: Lenovo Consumer ASO | M15: Hamirpur | N15: Himachal Pradesh | O15: North1 | P15: Active | Q15: 1 | R15: 1 | S15: 0 | T15: M
B16: PC ASO | C16: Nishant Aeron | D16: D67876 | E16: Anurag Agarwal | F16: 9899494771 | G16: V5266223 | H16: anurag.agarwal@v5global.co.in | I16: 44795 | J16: Rahil Rasheed | K16: rahil.rasheed@v5global.co.in | L16: Lenovo Consumer ASO | M16: Ghaziabad | N16: Uttar Pradesh | O16: North2 | P16: Active | Q16: 1 | R16: 1 | S16: 0 | T16: M
B17: PC ASO | C17: Roopesh Baghel | D17: D67136 | E17: Ashutosh Govind Sharma | F17: 9834388136 | G17: V5265064 | H17: ashutosh.govind@v5global.co.in | I17: 44728 | J17: Suraj Mahadik | K17: suraj.mahadik@v5global.co.in | L17: Lenovo Consumer ASO | M17: Raipur | N17: Chhattisgarh | O17: West3 | P17: Active | Q17: 1 | R17: 1 | S17: 0 | T17: M
B18: PC ASO | C18: Partha Chakraborty | D18: D21409 | E18: Atanu Dhar | F18: 9954426254 | G18: V5267237 | H18: atanu.dhar@v5global.co.in | I18: 41960 | J18: Chandan Kumar Singh | K18: chandan.kumar@v5global.co.in | L18: Lenovo Consumer ASO | M18: Dibrugarh | N18: Assam | O18: East1 | P18: Active | Q18: 1 | R18: 1 | S18: 0 | T18: M
B19: PC ASO | C19: Rushabh Modi | D19: D58851 | E19: Avinash Kumar | F19: 9761771311 | G19: V5267147 | H19: avinash.kumar@v5global.co.in | I19: 44055 | J19: Rahil Rasheed | K19: rahil.rasheed@v5global.co.in | L19: Lenovo Consumer ASO | M19: Dehradun | N19: Uttrakhand | O19: North2 | P19: Active | Q19: 1 | R19: 1 | S19: 0 | T19: M
B20: PC ASO | C20: Kapil Tiwari | D20: D60461 | E20: Babun Chandra Modak | F20: 7384991181 | G20: V5264960 | H20: babun.chandra@v5global.co.in | I20: 44249 | J20: Chandan Kumar Singh | K20: chandan.kumar@v5global.co.in | L20: Lenovo Consumer ASO | M20: Asansol | N20: West Bengal | O20: East1 | P20: Active | Q20: 1 | R20: 1 | S20: 0 | T20: M
B21: PC ASO | C21: Waseeha Khan | D21: D58771 | E21: Bhavsar Kirtikumar Babulal | F21: 7984180458 | G21: V5268279 | H21: bhavsar.kirtikumar@v5global.co.in | I21: 44044 | J21: Pran Pratap Singh | L21: Lenovo Consumer ASO | M21: Ahmedabad | N21: Gujarat | O21: West2 | P21: Active | Q21: 1 | R21: 1 | S21: 0 | T21: M
B22: PC ASO | C22: Amit Tiwari | D22: D67566 | E22: Bhushan Dilip Pednekar | F22: 9167063528 | G22: V5267288 | H22: bhushan.dilip@v5global.co.in | I22: 44774 | J22: Faiz Ibrahim Qureshi | K22: faiz.ibrahim@v5global.co.in | L22: Lenovo Consumer ASO | M22: Mumbai | N22: Maharashtra | O22: West1 | P22: Active | Q22: 1 | R22: 1 | S22: 0 | T22: M
B23: PC ASO | C23: Kapil Tiwari | D23: D46405 | E23: Chandan Ghosh | F23: 9051786114 | G23: V5267738 | H23: chandan.ghosh@v5global.co.in | I23: 43353 | J23: Chandan Kumar Singh | K23: chandan.kumar@v5global.co.in | L23: Lenovo Consumer ASO | M23: Medinipur | N23: West Bengal | O23: East1 | P23: Active | Q23: 1 | R23: 1 | S23: 0 | T23: M
B24: PC ASO | C24: Sandeep Kumar Makala | D24: D63484 | E24: Chedula Jagadeesh | F24: 8686262316 | G24: V5267429 | H24: chedula.jagadeesh@v5global.co.in | I24: 44491 | J24: Mohsin Bin Abood | K24: mohsin.bin@v5global.co.in | L24: Lenovo Consumer ASO | M24: Kurnool | N24: Andhra Pradesh | O24: South3 | P24: Active | Q24: 1 | R24: 1 | S24: 0 | T24: M
B25: PC ASO | C25: Sandeep Kumar Makala | D25: D66855 | E25: Chetti Srinivas | F25: 9515976797 | G25: V5265910 | H25: chetti.srinivas@v5global.co.in | I25: 44720 | J25: Mohsin Bin Abood | K25: mohsin.bin@v5global.co.in | L25: Lenovo Consumer ASO | M25: Warangal | N25: Telangana | O25: South3 | P25: Active | Q25: 1 | R25: 1 | S25: 0 | T25: -
B26: PC ASO | C26: Faiz Ahmed | D26: D56996 | E26: Dhiraj Kumar | F26: 9911838990 | G26: V5266029 | H26: dhiraj.kumar@v5global.co.in | I26: 43867 | J26: Krishna Kumar Singh | K26: krishna.kumar@v5global.co.in | L26: Lenovo Consumer ASO | M26: Delhi | N26: Delhi | O26: North1 | P26: Active | Q26: 1 | R26: 1 | S26: 0 | T26: M
B27: PC ASO | C27: Partha Chakraborty | D27: D67176 | E27: DHRUBAJIT SWARGIARY | F27: 9706336707 | G27: V5262895 | H27: dhrubajit.swargiary@v5global.co.in | I27: 44743 | J27: Chandan Kumar Singh | K27: chandan.kumar@v5global.co.in | L27: Lenovo Consumer ASO | M27: Guwahati | N27: Assam | O27: East1 | P27: Active | Q27: 1 | R27: 1 | S27: 0 | T27: M
B28: PC ASO | C28: TBH | D28: D66062 | E28: F M Safwan | F28: 8867147525 | G28: V5268075 | H28: safwan.f@v5global.co.in | I28: 44659 | J28: Mohammed Azam Ahmed | K28: mohammed.azam@v5global.co.in | L28: Lenovo Consumer ASO | M28: Mangalore | N28: Karnataka | O28: South1 | P28: Active | Q28: 1 | R28: 1 | S28: 0 | T28: M
B29: PC ASO | C29: X Maria Staline | D29: D64375 | E29: Ganapathi E | F29: 9600364011 | G29: V5266710 | H29: ganapathi.e@v5global.co.in | I29: 44568 | J29: S.Arunbabu | K29: arun.babu@v5global.co.in | L29: Lenovo Consumer ASO | M29: Salem | N29: Tamil Nadu | O29: South2 | P29: Active | Q29: 1 | R29: 1 | S29: 0 | T29: M
B30: PC ASO | C30: Waseeha Khan | D30: D67482 | E30: Gandhi Jignesh Kumar | F30: 9925446444 | G30: V5263100 | H30: gandhi.jignesh@v5global.co.in | I30: 44763 | J30: Pran Pratap Singh | L30: Lenovo Consumer ASO | M30: Baroda | N30: Gujarat | O30: West2 | P30: Active | Q30: 1 | R30: 1 | S30: 0 | T30: M
B31: PC ASO | C31: Asit Srivastava | D31: D67372 | E31: Govind Gour | F31: 7877712600 | G31: V5263113 | H31: govind.gour@v5global.co.in | I31: 44760 | J31: Pran Pratap Singh | L31: Lenovo Consumer ASO | M31: Alwar | N31: Rajasthan | O31: West2 | P31: Active | Q31: 1 | R31: 1 | S31: 0 | T31: M
B32: PC ASO | C32: Amit Tiwari | D32: D63569 | E32: Govind Gulab Rajbhar | F32: 9029031943 | G32: V5263641 | H32: govind.gulab@v5global.co.in | I32: 44508 | J32: Faiz Ibrahim Qureshi | K32: faiz.ibrahim@v5global.co.in | L32: Lenovo Consumer ASO | M32: Mumbai | N32: Maharashtra | O32: West1 | P32: Active | Q32: 1 | R32: 1 | S32: 0 | T32: M
B33: PC ASO | C33: Sandeep Kumar Makala | D33: TBH | E33: TBH | G33: TBH | J33: Mohsin Bin Abood | K33: mohsin.bin@v5global.co.in | L33: Lenovo Consumer ASO | M33: Visakhapatnam | N33: Andhra Pradesh | O33: South3 | P33: Vacant | Q33: 1 | R33: 0 | S33: 1 | T33: M | U33: Profile to be given
B34: PC ASO | C34: Sandeep Kumar Makala | D34: D66306 | E34: Gummalla Nagaraju | F34: 9959621996 | I34: 44679 | J34: Mohsin Bin Abood | K34: mohsin.bin@v5global.co.in | L34: Lenovo Consumer ASO | M34: Hyderabad | N34: Telangana | O34: South3 | P34: Active | Q34: 1 | R34: 1 | S34: 0 | T34: M
B35: PC ASO | C35: Abhishek Bais | D35: D62128 | E35: Irshad Ali Amjad Ali | F35: 8087727704 | G35: V5267724 | H35: irshad.ali@v5global.co.in | I35: 44417 | J35: Dharmendra Prakash Nehe | K35: dharmendra.nehe@v5global.co.in | L35: Lenovo Consumer ASO | M35: Amravati | N35: Maharashtra | O35: West1 | P35: Active | Q35: 1 | R35: 1 | S35: 0 | T35: M
B36: PC ASO | C36: X Maria Staline | D36: D59916 | E36: K Sathish Kumar | F36: 9884103645 | G36: V5267970 | H36: k.sathish@v5global.co.in | I36: 44198 | J36: S.Arunbabu | K36: arun.babu@v5global.co.in | L36: Lenovo Consumer ASO | M36: Chennai | N36: Tamil Nadu | O36: South2 | P36: Active | Q36: 1 | R36: 1 | S36: 0 | T36: M
B37: PC ASO | C37: Waseeha Khan | D37: TBH | E37: TBH | F37: 9982921127 | G37: TBH | J37: Pran Pratap Singh | L37: Lenovo Consumer ASO | M37: Surat | N37: Gujarat | O37: West2 | P37: Vacant | Q37: 1 | R37: 0 | S37: 1 | T37: M | U37: Profile to be given
B38: PC ASO | C38: Amit Tiwari | D38: D61841 | E38: Kuldeep Upadhyay | F38: 7219690034 | G38: V5265890 | H38: kuldeep.upadhyay@v5global.co.in | I38: 44392 | J38: Faiz Ibrahim Qureshi | K38: faiz.ibrahim@v5global.co.in | L38: Lenovo Consumer ASO | M38: Mumbai | N38: Maharashtra | O38: West1 | P38: Active | Q38: 1 | R38: 1 | S38: 0 | T38: M
B39: PC ASO | C39: X Maria Staline | D39: D64881 | E39: L Sathish Kumar | F39: 9842338180 | G39: V5268282 | H39: sathish.kumar@v5global.co.in | I39: 44593 | J39: S.Arunbabu | K39: arun.babu@v5global.co.in | L39: Lenovo Consumer ASO | M39: Coimbatore | N39: Tamil Nadu | O39: South2 | P39: Active | Q39: 1 | R39: 1 | S39: 0 | T39: M
B40: PC ASO | C40: Abhishek Bais | D40: D48348 | E40: Laxman Anilrao Deshmukh | F40: 9028122888 | G40: V5266711 | H40: laxman.anilrao@v5global.co.in | I40: 43507 | J40: Dharmendra Prakash Nehe | K40: dharmendra.nehe@v5global.co.in | L40: Lenovo Consumer ASO | M40: Aurangabad | N40: Maharashtra | O40: West1 | P40: Active | Q40: 1 | R40: 1 | S40: 0 | T40: M
B41: PC ASO | C41: TBH | D41: TBH | E41: TBH | F41: 9035739886 | G41: TBH | H41: mahesh@v5global.co.in | J41: Mohammed Azam Ahmed | K41: mohammed.azam@v5global.co.in | L41: Lenovo Consumer ASO | M41: Hubli | N41: Karnataka | O41: South1 | P41: Vacant | Q41: 1 | R41: 0 | S41: 1 | T41: M | U41: Absconded Mahesh & currently vacant
B42: PC ASO | C42: Ashish Kumar Upadhyay | D42: D64463 | E42: Manoj Bihari | F42: 9861291397 | G42: V5263625 | H42: manoj.bihari@v5global.co.in | I42: 44571 | J42: Vikas Shan | K42: vikas.shan@v5global.co.in | L42: Lenovo Consumer ASO | M42: Sambalpur | N42: Orissa | O42: East2 | P42: Active | Q42: 1 | R42: 1 | S42: 0 | T42: M
B43: PC ASO | C43: Waseeha Khan | D43: D51689 | E43: Modha Ishan | F43: 6352456143 | I43: 43647 | J43: Pran Pratap Singh | L43: Lenovo Consumer ASO | M43: Rajkot | N43: Gujarat | O43: West2 | P43: Active | Q43: 1 | R43: 1 | S43: 0 | T43: M
B44: PC ASO | C44: TBH | D44: D64374 | E44: Mohammed Abdula | F44: 9513623651 | G44: V5266026 | H44: mohammed.abdulla@v5global.co.in | I44: 44567 | J44: Mohammed Azam Ahmed | K44: mohammed.azam@v5global.co.in | L44: Lenovo Consumer ASO | M44: Bangalore | N44: Karnataka | O44: South1 | P44: Active | Q44: 1 | R44: 1 | S44: 0 | T44: M
B45: PC ASO | C45: Partha Chakraborty | D45: D66717 | E45: Mohan Hazara | F45: 7002891805 | G45: V5263067 | H45: mohan.hazara@v5global.co.in | I45: 44713 | J45: Chandan Kumar Singh | K45: chandan.kumar@v5global.co.in | L45: Lenovo Consumer ASO | M45: Tezpur | N45: Assam | O45: East1 | P45: Active | Q45: 1 | R45: 1 | S45: 0 | T45: M
B46: PC ASO | C46: Rajendra Negi | D46: D24517 | E46: Mohd Rashid | F46: 9369188344 | G46: V5267964 | H46: mohd.rashid@v5global.co.in | I46: 42177 | J46: Rahil Rasheed | K46: rahil.rasheed@v5global.co.in | L46: Lenovo Consumer ASO | M46: Lucknow | N46: Uttar Pradesh | O46: North2 | P46: Active | Q46: 1 | R46: 1 | S46: 0 | T46: M
B47: PC ASO | C47: Rajat Maheshwari | D47: D30872 | E47: Nayay Priya Mehta | F47: 9215525559 | G47: V5267457 | H47: nayay.priya@v5global.co.in | I47: 42644 | J47: Krishna Kumar Singh | K47: krishna.kumar@v5global.co.in | L47: Lenovo Consumer ASO | M47: Gurugram | N47: Haryana | O47: North1 | P47: Active | Q47: 1 | R47: 1 | S47: 0 | T47: M
B48: PC ASO | C48: Rushabh Modi | D48: D65336 | E48: Neeraj Singh Dogra | F48: 9719638306 | G48: V5267482 | H48: neeraj.singh@v5global.co.in | I48: 44616 | J48: Rahil Rasheed | K48: rahil.rasheed@v5global.co.in | L48: Lenovo Consumer ASO | M48: Haldwani | N48: Uttrakhand | O48: North2 | P48: Active | Q48: 1 | R48: 1 | S48: 0 | T48: M
B49: PC ASO | C49: Nishant Singh | D49: D65661 | E49: Nikhil Kumar Jha | F49: 9122734591 | G49: V5266966 | H49: nikhil.kumar@v5global.co.in | I49: 44623 | J49: Vikas Shan | K49: vikas.shan@v5global.co.in | L49: Lenovo Consumer ASO | M49: Purnea | N49: Bihar | O49: East2 | P49: Active | Q49: 1 | R49: 1 | S49: 0 | T49: M
B50: PC ASO | C50: Asit Srivastava | D50: D67476 | E50: Nishat Mohammad | F50: 7879622800 | G50: V5264739 | H50: nishat.mohammad@v5global.co.in | I50: 44767 | J50: Pran Pratap Singh | L50: Lenovo Consumer ASO | M50: Kota | N50: Rajasthan | O50: West2 | P50: Active | Q50: 1 | R50: 1 | S50: 0 | T50: M
B51: PC ASO | C51: Nishant Singh | D51: D51159 | E51: Nitesh Kumar | F51: 9386825264 | G51: V5265985 | H51: nitesh.kumar@v5global.co.in | I51: 43617 | J51: Vikas Shan | K51: vikas.shan@v5global.co.in | L51: Lenovo Consumer ASO | M51: Muzaffarpur | N51: Bihar | O51: East2 | P51: Active | Q51: 1 | R51: 1 | S51: 0 | T51: M
B52: PC ASO | C52: X Maria Staline | D52: D65853 | E52: P Ambrose | F52: 9994329386 | G52: V5267170 | H52: p.ambrose@v5global.co.in | I52: 44644 | J52: S.Arunbabu | K52: arun.babu@v5global.co.in | L52: Lenovo Consumer ASO | M52: Trichy | N52: Tamil Nadu | O52: South2 | P52: Active | Q52: 1 | R52: 1 | S52: 0 | T52: M
B53: PC ASO | C53: Kanwaldeep Singh | D53: D27063 | E53: Pardeep Singh | F53: 7355097313 | G53: V5267228 | H53: pardeep.singh@v5global.co.in | I53: 42324 | J53: Krishna Kumar Singh | K53: krishna.kumar@v5global.co.in | L53: Lenovo Consumer ASO | M53: Ludhiana | N53: Punjab | O53: North1 | P53: Active | Q53: 1 | R53: 1 | S53: 0 | T53: M
B54: PC ASO | C54: Rajat Maheshwari | D54: D40592 | E54: Parmod Kumar | F54: 9555501502 | G54: V5266945 | H54: parmod.kumar@v5global.co.in | I54: 43003 | J54: Krishna Kumar Singh | K54: krishna.kumar@v5global.co.in | L54: Lenovo Consumer ASO | M54: Gurugram | N54: Haryana | O54: North1 | P54: Active | Q54: 1 | R54: 1 | S54: 0 | T54: M
B55: PC ASO | C55: Asit Srivastava | D55: D48441 | E55: Pran Pratap Singh | F55: 9001585718 | G55: V5266847 | H55: pran.pratap@v5global.co.in | I55: 43500 | J55: Pran Pratap Singh | L55: Lenovo Consumer ASO | M55: Jaipur | N55: Rajasthan | O55: West2 | P55: Active | Q55: 1 | R55: 1 | S55: 0 | T55: M
B56: PC ASO | C56: Fazalu Rahman | D56: D66702 | E56: Prasanth Kumar P S | F56: 9895025142 | G56: V5266911 | H56: prasanth.kumar@v5global.co.in | I56: 44704 | J56: S.Arunbabu | K56: arun.babu@v5global.co.in | L56: Lenovo Consumer ASO | M56: Kottayam | N56: Kerala | O56: South2 | P56: Active | Q56: 1 | R56: 1 | S56: 0 | T56: M
B57: PC ASO | C57: Abhishek Bais | D57: D58799 | E57: Premkumar Pundlik Chaudhari | F57: 9860132386 | G57: V5267196 | H57: premkumar.pundlik@v5global.co.in | I57: 44053 | J57: Dharmendra Prakash Nehe | K57: dharmendra.nehe@v5global.co.in | L57: Lenovo Consumer ASO | M57: Chandrapur | N57: Maharashtra | O57: West1 | P57: Active | Q57: 1 | R57: 1 | S57: 0 | T57: M
B58: PC ASO | C58: Fazalu Rahman | D58: D61548 | E58: Rajesh M G | F58: 8157020114 | G58: V5268156 | H58: rajesh.m@v5global.co.in | I58: 44377 | J58: S.Arunbabu | K58: arun.babu@v5global.co.in | L58: Lenovo Consumer ASO | M58: Thrissur | N58: Kerala | O58: South2 | P58: Active | Q58: 1 | R58: 1 | S58: 0 | T58: M
B59: PC ASO | C59: Fazalu Rahman | D59: D67318 | E59: RAJESH M R | F59: 9349277732 | I59: 44755 | J59: S.Arunbabu | K59: arun.babu@v5global.co.in | L59: Lenovo Consumer ASO | M59: Kannur | N59: Kerala | O59: South2 | P59: Active | Q59: 1 | R59: 1 | S59: 0 | T59: M
B60: PC ASO | C60: Naveen Kumar | D60: D42477 | E60: Rakesh Dhalaria | F60: 9988127069 | G60: V5265079 | H60: rakesh.dhalaria@v5global.co.in | I60: 43084 | J60: Krishna Kumar Singh | K60: krishna.kumar@v5global.co.in | L60: Lenovo Consumer ASO | M60: Chandigarh | N60: Punjab | O60: North1 | P60: Active | Q60: 1 | R60: 1 | S60: 0 | T60: M
B61: PC ASO | C61: Abhishek Bais | D61: D64418 | E61: Rakesh Nattu Kumbhare | F61: 7767033997 | G61: V5267274 | H61: rakesh.nattu@v5global.co.in | I61: 44571 | J61: Dharmendra Prakash Nehe | K61: dharmendra.nehe@v5global.co.in | L61: Lenovo Consumer ASO | M61: Nagpur | N61: Maharashtra | O61: West1 | P61: Active | Q61: 1 | R61: 1 | S61: 0 | T61: M
B62: PC ASO | C62: Rajeev Jha | D62: D58917 | E62: Ramakant Arun Mali | F62: 9730708880 | G62: V5267233 | H62: ramakant.arun@v5global.co.in | I62: 44067 | J62: Dharmendra Prakash Nehe | K62: dharmendra.nehe@v5global.co.in | L62: Lenovo Consumer ASO | M62: Jalgaon | N62: Maharashtra | O62: West1 | P62: Active | Q62: 1 | R62: 1 | S62: 0 | T62: M
B63: PC ASO | C63: X Maria Staline | D63: D61007 | E63: Ramesh | F63: 7358697521 | G63: V5263561 | H63: ramesh@v5global.co.in | I63: 44291 | J63: S.Arunbabu | K63: arun.babu@v5global.co.in | L63: Lenovo Consumer ASO | M63: Chennai | N63: Tamil Nadu | O63: South2 | P63: Active | Q63: 1 | R63: 1 | S63: 0 | T63: M
B64: PC ASO | C64: Nishant Singh | D64: D44032 | E64: Rohit | F64: 9304040999 | G64: V5267239 | H64: rohit@v5global.co.in | I64: 43195 | J64: Vikas Shan | K64: vikas.shan@v5global.co.in | L64: Lenovo Consumer ASO | M64: Gaya | N64: Bihar | O64: East2 | P64: Active | Q64: 1 | R64: 1 | S64: 0 | T64: M
B65: PC ASO | C65: Roopesh Baghel | D65: D67140 | E65: Sameer Soni | F65: 9516541200 | G65: V5265913 | H65: sameer.soni@v5global.co.in | I65: 44739 | J65: Suraj Mahadik | K65: suraj.mahadik@v5global.co.in | L65: Lenovo Consumer ASO | M65: Raipur | N65: Chhattisgarh | O65: West3 | P65: Active | Q65: 1 | R65: 1 | S65: 0 | T65: M
B66: PC ASO | C66: Kaushal Kumar | D66: D65933 | E66: Samrat Roy | F66: 7667605872 | G66: V5265875 | H66: samrat.roy@v5global.co.in | I66: 44655 | J66: Vikas Shan | K66: vikas.shan@v5global.co.in | L66: Lenovo Consumer ASO | M66: Ranchi | N66: Jharkhand | O66: East2 | P66: Active | Q66: 1 | R66: 1 | S66: 0 | T66: M
B67: PC ASO | C67: Kapil Tiwari | D67: D56135 | E67: Sandip Mitra | F67: 9038572400 | G67: V5267882 | H67: sandip.mitra@v5global.co.in | I67: 43836 | J67: Chandan Kumar Singh | K67: chandan.kumar@v5global.co.in | L67: Lenovo Consumer ASO | M67: Kolkata | N67: West Bengal | O67: East1 | P67: Active | Q67: 1 | R67: 1 | S67: 0 | T67: M
B68: PC ASO | C68: Vishall Porwal | D68: D58548 | E68: Sanjay Kumar Prajapati | F68: 7607459784 | G68: V5265065 | H68: sanjay.kumar@v5global.co.in | I68: 44019 | J68: Rahil Rasheed | K68: rahil.rasheed@v5global.co.in | L68: Lenovo Consumer ASO | M68: Gorakhpur | N68: Uttar Pradesh | O68: North2 | P68: Active | Q68: 1 | R68: 1 | S68: 0 | T68: M
B69: PC ASO | C69: Kanwaldeep Singh | D69: D65932 | E69: Satish Garg | F69: 7696525905 | G69: V5266976 | H69: satish.garg@v5global.co.in | I69: 44655 | J69: Krishna Kumar Singh | K69: krishna.kumar@v5global.co.in | L69: Lenovo Consumer ASO | M69: Bhatinda | N69: Punjab | O69: North1 | P69: Active | Q69: 1 | R69: 1 | S69: 0 | T69: M
B70: PC ASO | C70: Sandeep Kumar Makala | D70: D64771 | E70: Satish Kumar Chitti | F70: 9848430305 | G70: V5266022 | H70: satish.kumar@v5global.co.in | I70: 44581 | J70: Mohsin Bin Abood | K70: mohsin.bin@v5global.co.in | L70: Lenovo Consumer ASO | M70: Vijayawada | N70: Andhra Pradesh | O70: South3 | P70: Active | Q70: 1 | R70: 1 | S70: 0 | T70: F
B71: PC ASO | C71: Rajeev Jha | D71: D62108 | E71: Shripad Rohidas Chinchwade | F71: 8237179502 | G71: V5266838 | H71: shripad.rohidas@v5global.co.in | I71: 44410 | J71: Dharmendra Prakash Nehe | K71: dharmendra.nehe@v5global.co.in | L71: Lenovo Consumer ASO | M71: Pune | N71: Maharashtra | O71: West1 | P71: Active | Q71: 1 | R71: 1 | S71: 0 | T71: M
B72: PC ASO | C72: Amit Tiwari | D72: V5267881 | E72: Suresh Pandit | G72: TBH | H72: suresh.pandit@v5global.co.in | J72: Faiz Ibrahim Qureshi | K72: faiz.ibrahim@v5global.co.in | L72: Lenovo Consumer ASO | M72: Mumbai | N72: Maharashtra | O72: West1 | P72: Vacant | Q72: 1 | R72: 0 | S72: 1 | T72: M
B73: PC ASO | C73: X Maria Staline | D73: D65494 | E73: Srisai Vijay Ragu | F73: 9488466702 | G73: V5267722 | H73: srisaivijay.r@v5global.co.in | I73: 44622 | J73: S.Arunbabu | K73: arun.babu@v5global.co.in | L73: Lenovo Consumer ASO | M73: Coimbatore | N73: Tamil Nadu | O73: South2 | P73: Active | Q73: 1 | R73: 1 | S73: 0 | T73: -
B74: PC ASO | C74: Partha Chakraborty | D74: D9251 | E74: Sukanta Sinha | F74: 9854184578 | G74: V5266867 | H74: sukanta.sinha@v5global.co.in | I74: 40817 | J74: Chandan Kumar Singh | K74: chandan.kumar@v5global.co.in | L74: Lenovo Consumer ASO | M74: Guwahati | N74: Assam | O74: East1 | P74: Active | Q74: 1 | R74: 1 | S74: 0 | T74: M
B75: PC ASO | C75: Amit Tiwari | D75: D66448 | E75: Sumit Singh | F75: 8963848967 | G75: V5266119 | H75: sumit.singh@v5global.co.in | I75: 44691 | J75: Faiz Ibrahim Qureshi | K75: faiz.ibrahim@v5global.co.in | L75: Lenovo Consumer ASO | M75: Mumbai | N75: Maharashtra | O75: West1 | P75: Active | Q75: 1 | R75: 1 | S75: 0 | T75: -
B76: PC ASO | C76: Rajat Maheshwari | D76: D11135 | E76: Sunil Batra | F76: 9729866778 | G76: V5267500 | H76: sunil.batra@v5global.co.in | I76: 41134 | J76: Krishna Kumar Singh | K76: krishna.kumar@v5global.co.in | L76: Lenovo Consumer ASO | M76: Karnal | N76: Haryana | O76: North1 | P76: Active | Q76: 1 | R76: 1 | S76: 0 | T76: M
B77: PC ASO | C77: Fazalu Rahman | D77: D65560 | E77: SunilKumar R V | F77: 9048707305 | G77: V5267737 | H77: sunil.kumar@v5global.co.in | I77: 44622 | J77: S.Arunbabu | K77: arun.babu@v5global.co.in | L77: Lenovo Consumer ASO | M77: Trivandrum | N77: Kerala | O77: South2 | P77: Active | Q77: 1 | R77: 1 | S77: 0 | T77: -
B78: PC ASO | C78: Waseeha Khan | D78: D55216 | E78: Sureja Darshankumar Kantilal | F78: 9099909615 | G78: V5266849 | H78: sureja.darshankumar@v5global.co.in | I78: 43801 | J78: Pran Pratap Singh | L78: Lenovo Consumer ASO | M78: Rajkot | N78: Gujarat | O78: West2 | P78: Active | Q78: 1 | R78: 1 | S78: 0 | T78: M
B79: PC ASO | C79: Fazalu Rahman | D79: D61293 | E79: Sureshkumar | F79: 9061984242 | G79: V5268281 | H79: suresh.kumar@v5global.co.in | I79: 44326 | J79: S.Arunbabu | K79: arun.babu@v5global.co.in | L79: Lenovo Consumer ASO | M79: Kottayam | N79: Kerala | O79: South2 | P79: Active | Q79: 1 | R79: 1 | S79: 0 | T79: M
B80: PC ASO | C80: Mohammed Moiz | D80: D67293 | E80: Sushant Sharadchandra Ashtekar | F80: 9028070989 | G80: V5263157 | H80: sushant.sharadchandra@v5global.co.in | I80: 44750 | J80: Mohammed Azam Ahmed | K80: mohammed.azam@v5global.co.in | L80: Lenovo Consumer ASO | M80: Goa | N80: Goa | O80: South1 | P80: Notice period | Q80: 1 | R80: 1 | S80: 0 | T80: M | U80: 9th Nov LWD
B81: PC ASO | C81: Kapil Tiwari | D81: D65626 | E81: Swapnadip Kabiraj | F81: 8648954817 | G81: V5267199 | H81: swapnadip.kabiraj@v5global.co.in | I81: 44629 | J81: Chandan Kumar Singh | K81: chandan.kumar@v5global.co.in | L81: Lenovo Consumer ASO | M81: Kolkata | N81: West Bengal | O81: East1 | P81: Active | Q81: 1 | R81: 1 | S81: 0 | T81: M
B82: PC ASO | C82: Partha Chakraborty | D82: D66075 | E82: Titan Bhowmik | F82: 8794341603 | G82: V5266930 | H82: titan.bhowmik@v5global.co.in | I82: 44662 | J82: Chandan Kumar Singh | K82: chandan.kumar@v5global.co.in | L82: Lenovo Consumer ASO | M82: Agartala | N82: Tripura | O82: East1 | P82: Active | Q82: 1 | R82: 1 | S82: 0 | T82: M
B83: PC ASO | C83: Karan Kapoor | D83: D62474 | E83: Umer Farooq Bhat | F83: 7006131255 | G83: V5266190 | H83: umer.farooq@v5global.co.in | I83: 44441 | J83: Krishna Kumar Singh | K83: krishna.kumar@v5global.co.in | L83: Lenovo Consumer ASO | M83: Srinagar | N83: Jammu and Kashmir | O83: North1 | P83: Active | Q83: 1 | R83: 1 | S83: 0 | T83: M
B84: PC ASO | C84: Fazalu Rahman | D84: D65316 | E84: Ummer Farshad C K | F84: 9947070741 | G84: V5268123 | H84: ummer.farshad@v5global.co.in | I84: 44613 | J84: S.Arunbabu | K84: arun.babu@v5global.co.in | L84: Lenovo Consumer ASO | M84: Calicut | N84: Kerala | O84: South2 | P84: Active | Q84: 1 | R84: 1 | S84: 0 | T84: M
B85: PC ASO | C85: Waseeha Khan | D85: D27387 | E85: Vani Alpeshkumar | F85: 9898633142 | G85: V5266877 | H85: vani.alpeshkumar@v5global.co.in | I85: 42349 | J85: Pran Pratap Singh | L85: Lenovo Consumer ASO | M85: Surat | N85: Gujarat | O85: West2 | P85: Active | Q85: 1 | R85: 1 | S85: 0 | T85: M
B86: PC ASO | C86: Rajeev Jha | D86: D67702 | E86: Vijay Dattatray Boraste | F86: 8888808035 | G86: V5266927 | H86: vijay.dattatary@v5global.co.in | I86: 44782 | J86: Dharmendra Prakash Nehe | K86: dharmendra.nehe@v5global.co.in | L86: Lenovo Consumer ASO | M86: Nasik | N86: Maharashtra | O86: West1 | P86: Active | Q86: 1 | R86: 1 | S86: 0 | T86: M
B87: PC ASO | C87: Faiz Ahmed | D87: D15022 | E87: Vinod Kumar | F87: 9911547614 | G87: V5265873 | H87: vinod.kumar@v5global.co.in | I87: 41565 | J87: Krishna Kumar Singh | K87: krishna.kumar@v5global.co.in | L87: Lenovo Consumer ASO | M87: Delhi | N87: Delhi | O87: North1 | P87: Active | Q87: 1 | R87: 1 | S87: 0 | T87: M
B88: PC ASO | C88: Rajeev Jha | D88: D55263 | E88: Vishal Girish Birajdar | F88: 8805050850 | I88: 43802 | J88: Dharmendra Prakash Nehe | K88: dharmendra.nehe@v5global.co.in | L88: Lenovo Consumer ASO | M88: Solapur | N88: Maharashtra | O88: West1 | P88: Active | Q88: 1 | R88: 1 | S88: 0 | T88: M
B89: PC ASO | C89: Rajendra Negi | D89: D9266 | E89: Vishal Jaiswal | F89: 09369840011 | G89: V5266996 | H89: vishal.jaiswal@v5global.co.in | I89: 40817 | J89: Rahil Rasheed | K89: rahil.rasheed@v5global.co.in | L89: Lenovo Consumer ASO | M89: Kanpur | N89: Uttar Pradesh | O89: North2 | P89: Active | Q89: 1 | R89: 1 | S89: 0 | T89: M
B90: PC ASO | C90: Asit Srivastava | D90: D65945 | E90: Vishal Mathur | F90: 9928078407 | G90: V5266920 | H90: vishal.mathur@v5global.co.in | I90: 44651 | J90: Pran Pratap Singh | L90: Lenovo Consumer ASO | M90: Jodhpur | N90: Rajasthan | O90: West2 | P90: Active | Q90: 1 | R90: 1 | S90: 0 | T90: M
B91: PC ASO | C91: Amit Tiwari | D91: D53141 | E91: Yunus Hamid Mansoori | F91: 9768382162 | G91: V5266023 | H91: yunus.hamid@v5global.co.in | I91: 43739 | J91: Faiz Ibrahim Qureshi | K91: faiz.ibrahim@v5global.co.in | L91: Lenovo Consumer ASO | M91: Mumbai | N91: Maharashtra | O91: West1 | P91: Active | Q91: 1 | R91: 1 | S91: 0 | T91: M
B92: PC ASO | C92: Karan Kapoor | D92: D67910 | E92: Gourav Gupta | F92: 9796436652 | G92: V5263109 | H92: gourav.gupta@v5global.co.in | I92: 44799 | J92: Krishna Kumar Singh | K92: krishna.kumar@v5global.co.in | L92: Lenovo Consumer ASO | M92: Jammu | N92: Jammu and Kashmir | O92: North1 | P92: Active | Q92: 1 | R92: 1 | S92: 0 | T92: M
B93: PC ASO | C93: Kapil Tiwari | D93: D67905 | E93: Siddhartha Saha | F93: 9874293392 | I93: 44798 | J93: Chandan Kumar Singh | K93: chandan.kumar@v5global.co.in | L93: Lenovo Consumer ASO | M93: Kolkata | N93: West Bengal | O93: East1 | P93: Active | Q93: 1 | R93: 1 | S93: 0 | T93: M
B94: PC ASO | C94: Kapil Tiwari | D94: D68071 | E94: Roshan Prasad | F94: 8372831099 | G94: V5265061 | H94: roshan.prasad@v5global.co.in | I94: 44807 | J94: Chandan Kumar Singh | K94: chandan.kumar@v5global.co.in | L94: Lenovo Consumer ASO | M94: Siliguri | N94: West Bengal | O94: East1 | P94: Active | Q94: 1 | R94: 1 | S94: 0 | T94: M
B95: PC ASO | C95: Ashish Kumar Upadhyay | D95: D68069 | E95: Prasanta Kumar Dash | F95: 9861566720 | G95: V5267197 | H95: prasanta.kumar@v5global.co.in | I95: 44806 | J95: Vikas Shan | K95: vikas.shan@v5global.co.in | L95: Lenovo Consumer ASO | M95: Cuttack | N95: Orissa | O95: East2 | P95: Active | Q95: 1 | R95: 1 | S95: 0 | T95: M
B96: PC ASO | C96: Asit Srivastava | E96: Surya Prakash | G96: V5266230 | H96: surya.prakash@v5global.co.in | I96: 44823 | J96: Pran Pratap Singh | L96: Lenovo Consumer ASO | M96: Udaipur | N96: Rajasthan | O96: West2 | P96: Active | Q96: 1 | R96: 1 | S96: 0 | T96: M
B97: VAS ASO | C97: Sandeep Kumar Makala | D97: D67474 | E97: TBH | J97: Mohsin Bin Abood | K97: mohsin.bin@v5global.co.in | L97: Lenovo Consumer ASO | M97: Vijayawada | N97: Andhra Pradesh | O97: South3 | P97: Shortlisted | Q97: 1 | R97: 0 | S97: 1 | T97: M | U97: Feedback awaiting from RSM
B98: VAS ASO | C98: Faiz Ahmed | D98: D67177 | E98: Yathaarth Trehan | F98: 9899569805 | G98: V5266925 | H98: yathaarth.trehan@v5global.co.in | I98: 44743 | J98: Krishna Kumar Singh | K98: krishna.kumar@v5global.co.in | L98: Lenovo Consumer ASO | M98: Delhi | N98: Delhi | O98: North1 | P98: Active | Q98: 1 | R98: 1 | S98: 0 | T98: M
B99: VAS ASO | C99: Faiz Ahmed | D99: D60518 | E99: Rizwan Ali | F99: 9716168271 | G99: V5265864 | H99: rizwan.ali@v5global.co.in | I99: 44256 | J99: Krishna Kumar Singh | K99: krishna.kumar@v5global.co.in | L99: Lenovo Consumer ASO | M99: Delhi | N99: Delhi | O99: North1 | P99: Active | Q99: 1 | R99: 1 | S99: 0 | T99: M
B100: VAS ASO | C100: Mohammed Moiz | D100: D67439 | E100: Allister Joel Correya | F100: 9995200741 | G100: V5263622 | H100: allister.joel@v5global.co.in | I100: 44762 | J100: Mohammed Azam Ahmed | K100: mohammed.azam@v5global.co.in | L100: Lenovo Consumer ASO | M100: Bangalore | N100: Karnataka | O100: South1 | P100: Active | Q100: 1 | R100: 1 | S100: 0 | T100: M
B101: VAS ASO | C101: Amit Tiwari | D101: D67814 | E101: NAEEM ANSAR SHAIKH | F101: 9967228246 | G101: V5263130 | H101: naeem.ansar@v5global.co.in | I101: 44791 | J101: Faiz Ibrahim Qureshi | K101: faiz.ibrahim@v5global.co.in | L101: Lenovo Consumer ASO | M101: Mumbai | N101: Maharashtra | O101: West1 | P101: Active | Q101: 1 | R101: 1 | S101: 0 | T101: M
...

Sheet VAT ASO
B3: EMP NAME | C3: EMP CODE | D3: EMAIL ID | E3: MOBILE | F3: DESIG NM | G3: CITY POSTING | H3: STATE POSTING | I3: Region
B4: Raviraj Rajora | C4: MP013 | D4: raviraj.rajora@rptechindia.com | E4: 8109369143 | F4: Consumer ASO | G4: Ratlam | H4: Madhya Pradesh | I4: North-2
B5: Prashant Kumar Pathak | C5: MP024 | D5: prashant.pathak@rptechindia.com | E5: 7746933403 | F5: Consumer ASO | G5: Satna | H5: Madhya Pradesh | I5: North-2
B6: Mohit Chaturvedi | C6: MP033 | D6: mohit.chaturvedi@rptechindia.com | E6: 9753911212 | F6: Consumer ASO | G6: Gwalior | H6: Madhya Pradesh | I6: North-2
B7: Chetan Agarwal | C7: MP004 | D7: Chetan.Agarwal@rptechindia.com | E7: 9826400457 | F7: Consumer ASO | G7: Indore | H7: Madhya Pradesh | I7: North-2
B8: Vedaant Baheti | C8: MP032 | D8: vedaant.baheti@rashiperipherals.com | E8: 8120020071 | F8: Consumer ASO | G8: Indore | H8: Madhya Pradesh | I8: North-2
B9: TBH | C9: TBH | D9: - | E9: - | F9: Consumer ASO | G9: Sagar | H9: Madhya Pradesh | I9: North-2
B10: Nilesh Agrawal | C10: MP035 | D10: nilesh.agrawal@rptechindia.com | E10: 7747820820 | F10: Consumer ASO | G10: Bhopal | H10: Madhya Pradesh | I10: North-2
B11: TBH | C11: TBH | D11: - | E11: - | F11: Consumer ASO | G11: Jabalpur | H11: Madhya Pradesh | I11: North-2
