Workbook

Sheet Sheet1
A1: DESIG NM | B1: VAS ASO
A3: Count of Employee status | B3: Column Labels
A4: Row Labels | B4: Active | C4: Offer issued | D4: Shortlisted | E4: Vacant | F4: Grand Total
A5: East1 | C5: 1 | E5: 1 | F5: 2
A6: East2 | D6: 1 | F6: 1
A7: North1 | B7: 2 | F7: 2
A8: North2 | B8: 1 | F8: 1
A9: South1 | B9: 1 | E9: 1 | F9: 2
A10: South2 | B10: 1 | F10: 1
A11: South3 | B11: 1 | D11: 1 | F11: 2
A12: West1 | B12: 2 | C12: 1 | E12: 1 | F12: 4
A13: West2 | C13: 1 | F13: 1
A14: Grand Total | B14: 8 | C14: 3 | D14: 2 | E14: 3 | F14: 16
B16: Sr.No. | C16: V5 code | D16: Emp.Name | E16: Emp Email ID | F16: Designation Name | G16: Employee status | H16: DOJ | I16: City Posting | J16: State Posting | K16: Mobile | L16: Region | M16: DSM Name | N16: RSM | O16: RCM | P16: RCM Email ID | Q16: Statehead | R16: SDM | S16: Remarks
B17: 25 | C17: - | D17: - | E17: - | F17: PC ASO | G17: Hiring hold | H17: - | I17: Belgaum | J17: Karnataka | K17: - | L17: South1 | M17: Prakash Kumar K P | N17: S Sreekumar | O17: Anuj Kumar | P17: akumar1@lenovo.com | Q17: Sharad verma | R17: Jaspreet Singh | S17: Hiring hold
B18: Sr.No. | C18: V5 code/Caspian | D18: Emp.Name | E18: Emp Email ID | F18: Designation Name | G18: Employee status | H18: DOJ | I18: City Posting | J18: State Posting | K18: Mobile | L18: Region | M18: DSM Name | N18: RSM | O18: RCM | P18: RCM Email ID | Q18: Statehead | R18: SDM | S18: Remarks
B19: 81 | C19: TBH | D19: TBH | E19: - | F19: PC ASO | G19: Vacant | H19: - | I19: Indore | J19: Madhya Pradesh | K19: - | L19: North2 | M19: Rahil Rasheed | N19: Durgendra Singh | O19: Vishal Porwal | P19: vporwal@lenovo.com | Q19: Raghavendra Araveeti | R19: Gaurav Srivastava | S19: - | T19: removed on 20th Dec'24

Sheet Summary
B2: Region | C2: Vertical | D2: Planned | E2: Active | F2: Notice period | G2: Offer issued | H2: Shortlisted | I2: Vacant | K2: Automated
B3: East 1 | C3: Pan India | D3: =SUM(E3:I3) -> 15 | E3: 11 | G3: 1 | I3: 3 | K3: Region | L3: Vertical | M3: Planned | N3: Active | O3: Notice period | P3: Offer issued | Q3: Shortlisted | R3: Hiring hold | S3: Vacant
B4: East 2 | C4: Pan India | D4: =SUM(E4:I4) -> 10 | E4: 9 | H4: 1 | K4: East1 | L4: Pan India | M4: =SUM(N4:S4) -> 10 | N4: =COUNTIFS('Team list'!$L:$L,Summary!$K4,'Team list'!$G:$G,"Active") -> 10 | O4: =COUNTIFS('Team list'!$L:$L,Summary!$K4,'Team list'!$G:$G,"Notice period") -> 0 | P4: =COUNTIFS('Team list'!$L:$L,Summary!$K4,'Team list'!$G:$G,"Offer Issued") -> 0 | Q4: =COUNTIFS('Team list'!$L:$L,Summary!$K4,'Team list'!$G:$G,"Shortlisted") -> 0 | R4: =COUNTIFS('Team list'!$L:$L,Summary!$K4,'Team list'!$G:$G,"Hiring Hold") -> 0 | S4: =COUNTIFS('Team list'!$L:$L,Summary!$K4,'Team list'!$G:$G,"Vacant") -> 0
B5: North 1 | C5: Pan India | D5: =SUM(E5:I5) -> 16 | E5: 14 | G5: 1 | I5: 1 | K5: East2 | L5: Pan India | M5: =SUM(N5:S5) -> 9 | N5: =COUNTIFS('Team list'!$L:$L,Summary!$K5,'Team list'!$G:$G,"Active") -> 8 | O5: =COUNTIFS('Team list'!$L:$L,Summary!$K5,'Team list'!$G:$G,"Notice period") -> 0 | P5: =COUNTIFS('Team list'!$L:$L,Summary!$K5,'Team list'!$G:$G,"Offer Issued") -> 0 | Q5: =COUNTIFS('Team list'!$L:$L,Summary!$K5,'Team list'!$G:$G,"Shortlisted") -> 0 | R5: =COUNTIFS('Team list'!$L:$L,Summary!$K5,'Team list'!$G:$G,"Hiring Hold") -> 0 | S5: =COUNTIFS('Team list'!$L:$L,Summary!$K5,'Team list'!$G:$G,"Vacant") -> 1
B6: North 2 | C6: Pan India | D6: =SUM(E6:I6) -> 10 | E6: 9 | F6: 1 | K6: North1 | L6: Pan India | M6: =SUM(N6:S6) -> 15 | N6: =COUNTIFS('Team list'!$L:$L,Summary!$K6,'Team list'!$G:$G,"Active") -> 15 | O6: =COUNTIFS('Team list'!$L:$L,Summary!$K6,'Team list'!$G:$G,"Notice period") -> 0 | P6: =COUNTIFS('Team list'!$L:$L,Summary!$K6,'Team list'!$G:$G,"Offer Issued") -> 0 | Q6: =COUNTIFS('Team list'!$L:$L,Summary!$K6,'Team list'!$G:$G,"Shortlisted") -> 0 | R6: =COUNTIFS('Team list'!$L:$L,Summary!$K6,'Team list'!$G:$G,"Hiring Hold") -> 0 | S6: =COUNTIFS('Team list'!$L:$L,Summary!$K6,'Team list'!$G:$G,"Vacant") -> 0
B7: South 1 | C7: Pan India | D7: =SUM(E7:I7) -> 9 | E7: 4 | F7: 1 | H7: 2 | I7: 2 | K7: North2 | L7: Pan India | M7: =SUM(N7:S7) -> 11 | N7: =COUNTIFS('Team list'!$L:$L,Summary!$K7,'Team list'!$G:$G,"Active") -> 11 | O7: =COUNTIFS('Team list'!$L:$L,Summary!$K7,'Team list'!$G:$G,"Notice period") -> 0 | P7: =COUNTIFS('Team list'!$L:$L,Summary!$K7,'Team list'!$G:$G,"Offer Issued") -> 0 | Q7: =COUNTIFS('Team list'!$L:$L,Summary!$K7,'Team list'!$G:$G,"Shortlisted") -> 0 | R7: =COUNTIFS('Team list'!$L:$L,Summary!$K7,'Team list'!$G:$G,"Hiring Hold") -> 0 | S7: =COUNTIFS('Team list'!$L:$L,Summary!$K7,'Team list'!$G:$G,"Vacant") -> 0
B8: South 2 | C8: Pan India | D8: =SUM(E8:I8) -> 14 | E8: 14 | K8: South1 | L8: Pan India | M8: =SUM(N8:S8) -> 8 | N8: =COUNTIFS('Team list'!$L:$L,Summary!$K8,'Team list'!$G:$G,"Active") -> 6 | O8: =COUNTIFS('Team list'!$L:$L,Summary!$K8,'Team list'!$G:$G,"Notice period") -> 0 | P8: =COUNTIFS('Team list'!$L:$L,Summary!$K8,'Team list'!$G:$G,"Offer Issued") -> 1 | Q8: =COUNTIFS('Team list'!$L:$L,Summary!$K8,'Team list'!$G:$G,"Shortlisted") -> 0 | R8: =COUNTIFS('Team list'!$L:$L,Summary!$K8,'Team list'!$G:$G,"Hiring Hold") -> 0 | S8: =COUNTIFS('Team list'!$L:$L,Summary!$K8,'Team list'!$G:$G,"Vacant") -> 1
B9: South 3 | C9: Pan India | D9: =SUM(E9:I9) -> 7 | E9: 5 | H9: 1 | I9: 1 | K9: South2 | L9: Pan India | M9: =SUM(N9:S9) -> 10 | N9: =COUNTIFS('Team list'!$L:$L,Summary!$K9,'Team list'!$G:$G,"Active") -> 8 | O9: =COUNTIFS('Team list'!$L:$L,Summary!$K9,'Team list'!$G:$G,"Notice period") -> 0 | P9: =COUNTIFS('Team list'!$L:$L,Summary!$K9,'Team list'!$G:$G,"Offer Issued") -> 1 | Q9: =COUNTIFS('Team list'!$L:$L,Summary!$K9,'Team list'!$G:$G,"Shortlisted") -> 0 | R9: =COUNTIFS('Team list'!$L:$L,Summary!$K9,'Team list'!$G:$G,"Hiring Hold") -> 0 | S9: =COUNTIFS('Team list'!$L:$L,Summary!$K9,'Team list'!$G:$G,"Vacant") -> 1
B10: West 2 | C10: Pan India | D10: =SUM(E10:I10) -> 18 | E10: 14 | F10: 1 | G10: 2 | I10: 1 | K10: West1 | L10: Pan India | M10: =SUM(N10:S10) -> 23 | N10: =COUNTIFS('Team list'!$L:$L,Summary!$K10,'Team list'!$G:$G,"Active") -> 18 | O10: =COUNTIFS('Team list'!$L:$L,Summary!$K10,'Team list'!$G:$G,"Notice period") -> 0 | P10: =COUNTIFS('Team list'!$L:$L,Summary!$K10,'Team list'!$G:$G,"Offer Issued") -> 1 | Q10: =COUNTIFS('Team list'!$L:$L,Summary!$K10,'Team list'!$G:$G,"Shortlisted") -> 0 | R10: =COUNTIFS('Team list'!$L:$L,Summary!$K10,'Team list'!$G:$G,"Hiring Hold") -> 0 | S10: =COUNTIFS('Team list'!$L:$L,Summary!$K10,'Team list'!$G:$G,"Vacant") -> 4
K11: Total | M11: =SUM(M4:M10) -> 86 | N11: =SUM(N4:N10) -> 76 | O11: =SUM(O4:O10) -> 0 | P11: =SUM(P4:P10) -> 3 | Q11: =SUM(Q4:Q10) -> 0 | R11: =SUM(R4:R10) -> 0 | S11: =SUM(S4:S10) -> 7
B12: PC
B13: Region | C13: Vertical | D13: Planned | E13: Active | F13: Notice period | G13: Offer issued | H13: Shortlisted | I13: Vacant | K13: PC
B14: East 1 | C14: PC ASO | D14: =SUM(E14:I14) -> 13 | E14: 11 | I14: 2 | K14: Region | L14: Vertical | M14: Planned | N14: Active | O14: Notice period | P14: Offer issued | Q14: Shortlisted | S14: Vacant
B15: East 2 | C15: PC ASO | D15: =SUM(E15:I15) -> 9 | E15: 9 | K15: East1 | L15: PC ASO | M15: =SUM(N15:S15) -> 10 | N15: =COUNTIFS('Team list'!$L:$L,Summary!$K15,'Team list'!$G:$G,"Active",'Team list'!$F:$F,"PC ASO") -> 10 | O15: =COUNTIFS('Team list'!$L:$L,Summary!$K15,'Team list'!$G:$G,"Notice Period",'Team list'!$F:$F,"PC ASO") -> 0 | P15: =COUNTIFS('Team list'!$L:$L,Summary!$K15,'Team list'!$G:$G,"Offer Issued",'Team list'!$F:$F,"PC ASO") -> 0 | Q15: =COUNTIFS('Team list'!$L:$L,Summary!$K15,'Team list'!$G:$G,"Shortlisted",'Team list'!$F:$F,"PC ASO") -> 0 | S15: =COUNTIFS('Team list'!$L:$L,Summary!$K15,'Team list'!$G:$G,"Vacant",'Team list'!$F:$F,"PC ASO") -> 0
B16: North 1 | C16: PC ASO | D16: =SUM(E16:I16) -> 14 | E16: 12 | G16: 1 | I16: 1 | K16: East2 | L16: PC ASO | M16: =SUM(N16:S16) -> 9 | N16: =COUNTIFS('Team list'!$L:$L,Summary!$K16,'Team list'!$G:$G,"Active",'Team list'!$F:$F,"PC ASO") -> 8 | O16: =COUNTIFS('Team list'!$L:$L,Summary!$K16,'Team list'!$G:$G,"Notice Period",'Team list'!$F:$F,"PC ASO") -> 0 | P16: =COUNTIFS('Team list'!$L:$L,Summary!$K16,'Team list'!$G:$G,"Offer Issued",'Team list'!$F:$F,"PC ASO") -> 0 | Q16: =COUNTIFS('Team list'!$L:$L,Summary!$K16,'Team list'!$G:$G,"Shortlisted",'Team list'!$F:$F,"PC ASO") -> 0 | S16: =COUNTIFS('Team list'!$L:$L,Summary!$K16,'Team list'!$G:$G,"Vacant",'Team list'!$F:$F,"PC ASO") -> 1
B17: North 2 | C17: PC ASO | D17: =SUM(E17:I17) -> 9 | E17: 8 | F17: 1 | K17: North1 | L17: PC ASO | M17: =SUM(N17:S17) -> 14 | N17: =COUNTIFS('Team list'!$L:$L,Summary!$K17,'Team list'!$G:$G,"Active",'Team list'!$F:$F,"PC ASO") -> 14 | O17: =COUNTIFS('Team list'!$L:$L,Summary!$K17,'Team list'!$G:$G,"Notice Period",'Team list'!$F:$F,"PC ASO") -> 0 | P17: =COUNTIFS('Team list'!$L:$L,Summary!$K17,'Team list'!$G:$G,"Offer Issued",'Team list'!$F:$F,"PC ASO") -> 0 | Q17: =COUNTIFS('Team list'!$L:$L,Summary!$K17,'Team list'!$G:$G,"Shortlisted",'Team list'!$F:$F,"PC ASO") -> 0 | S17: =COUNTIFS('Team list'!$L:$L,Summary!$K17,'Team list'!$G:$G,"Vacant",'Team list'!$F:$F,"PC ASO") -> 0
B18: South 1 | C18: PC ASO | D18: =SUM(E18:I18) -> 7 | E18: 3 | F18: 1 | H18: 2 | I18: 1 | K18: North2 | L18: PC ASO | M18: =SUM(N18:S18) -> 11 | N18: =COUNTIFS('Team list'!$L:$L,Summary!$K18,'Team list'!$G:$G,"Active",'Team list'!$F:$F,"PC ASO") -> 11 | O18: =COUNTIFS('Team list'!$L:$L,Summary!$K18,'Team list'!$G:$G,"Notice Period",'Team list'!$F:$F,"PC ASO") -> 0 | P18: =COUNTIFS('Team list'!$L:$L,Summary!$K18,'Team list'!$G:$G,"Offer Issued",'Team list'!$F:$F,"PC ASO") -> 0 | Q18: =COUNTIFS('Team list'!$L:$L,Summary!$K18,'Team list'!$G:$G,"Shortlisted",'Team list'!$F:$F,"PC ASO") -> 0 | S18: =COUNTIFS('Team list'!$L:$L,Summary!$K18,'Team list'!$G:$G,"Vacant",'Team list'!$F:$F,"PC ASO") -> 0
B19: South 2 | C19: PC ASO | D19: =SUM(E19:I19) -> 13 | E19: 13 | K19: South1 | L19: PC ASO | M19: =SUM(N19:S19) -> 8 | N19: =COUNTIFS('Team list'!$L:$L,Summary!$K19,'Team list'!$G:$G,"Active",'Team list'!$F:$F,"PC ASO") -> 6 | O19: =COUNTIFS('Team list'!$L:$L,Summary!$K19,'Team list'!$G:$G,"Notice Period",'Team list'!$F:$F,"PC ASO") -> 0 | P19: =COUNTIFS('Team list'!$L:$L,Summary!$K19,'Team list'!$G:$G,"Offer Issued",'Team list'!$F:$F,"PC ASO") -> 1 | Q19: =COUNTIFS('Team list'!$L:$L,Summary!$K19,'Team list'!$G:$G,"Shortlisted",'Team list'!$F:$F,"PC ASO") -> 0 | S19: =COUNTIFS('Team list'!$L:$L,Summary!$K19,'Team list'!$G:$G,"Vacant",'Team list'!$F:$F,"PC ASO") -> 1
B20: South 3 | C20: PC ASO | D20: =SUM(E20:I20) -> 5 | E20: 4 | I20: 1 | K20: South2 | L20: PC ASO | M20: =SUM(N20:S20) -> 10 | N20: =COUNTIFS('Team list'!$L:$L,Summary!$K20,'Team list'!$G:$G,"Active",'Team list'!$F:$F,"PC ASO") -> 8 | O20: =COUNTIFS('Team list'!$L:$L,Summary!$K20,'Team list'!$G:$G,"Notice Period",'Team list'!$F:$F,"PC ASO") -> 0 | P20: =COUNTIFS('Team list'!$L:$L,Summary!$K20,'Team list'!$G:$G,"Offer Issued",'Team list'!$F:$F,"PC ASO") -> 1 | Q20: =COUNTIFS('Team list'!$L:$L,Summary!$K20,'Team list'!$G:$G,"Shortlisted",'Team list'!$F:$F,"PC ASO") -> 0 | S20: =COUNTIFS('Team list'!$L:$L,Summary!$K20,'Team list'!$G:$G,"Vacant",'Team list'!$F:$F,"PC ASO") -> 1
B21: West 1 | C21: PC ASO | D21: =SUM(E21:I21) -> 17 | E21: 16 | G21: 1 | K21: South3 | L21: PC ASO | M21: =SUM(N21:S21) -> 0 | N21: =COUNTIFS('Team list'!$L:$L,Summary!$K21,'Team list'!$G:$G,"Active",'Team list'!$F:$F,"PC ASO") -> 0 | O21: =COUNTIFS('Team list'!$L:$L,Summary!$K21,'Team list'!$G:$G,"Notice Period",'Team list'!$F:$F,"PC ASO") -> 0 | P21: =COUNTIFS('Team list'!$L:$L,Summary!$K21,'Team list'!$G:$G,"Offer Issued",'Team list'!$F:$F,"PC ASO") -> 0 | Q21: =COUNTIFS('Team list'!$L:$L,Summary!$K21,'Team list'!$G:$G,"Shortlisted",'Team list'!$F:$F,"PC ASO") -> 0 | S21: =COUNTIFS('Team list'!$L:$L,Summary!$K21,'Team list'!$G:$G,"Vacant",'Team list'!$F:$F,"PC ASO") -> 0
B22: West 2 | C22: PC ASO | D22: =SUM(E22:I22) -> 17 | E22: 14 | F22: 1 | G22: 1 | I22: 1 | K22: West1 | L22: PC ASO | M22: =SUM(N22:S22) -> 23 | N22: =COUNTIFS('Team list'!$L:$L,Summary!$K22,'Team list'!$G:$G,"Active",'Team list'!$F:$F,"PC ASO") -> 18 | O22: =COUNTIFS('Team list'!$L:$L,Summary!$K22,'Team list'!$G:$G,"Notice Period",'Team list'!$F:$F,"PC ASO") -> 0 | P22: =COUNTIFS('Team list'!$L:$L,Summary!$K22,'Team list'!$G:$G,"Offer Issued",'Team list'!$F:$F,"PC ASO") -> 1 | Q22: =COUNTIFS('Team list'!$L:$L,Summary!$K22,'Team list'!$G:$G,"Shortlisted",'Team list'!$F:$F,"PC ASO") -> 0 | S22: =COUNTIFS('Team list'!$L:$L,Summary!$K22,'Team list'!$G:$G,"Vacant",'Team list'!$F:$F,"PC ASO") -> 4
B23: West 3 | C23: PC ASO | D23: =SUM(E23:I23) -> 3 | E23: 2 | H23: 1 | K23: West2 | L23: PC ASO | M23: =SUM(N23:S23) -> 0 | N23: =COUNTIFS('Team list'!$L:$L,Summary!$K23,'Team list'!$G:$G,"Active",'Team list'!$F:$F,"PC ASO") -> 0 | O23: =COUNTIFS('Team list'!$L:$L,Summary!$K23,'Team list'!$G:$G,"Notice Period",'Team list'!$F:$F,"PC ASO") -> 0 | P23: =COUNTIFS('Team list'!$L:$L,Summary!$K23,'Team list'!$G:$G,"Offer Issued",'Team list'!$F:$F,"PC ASO") -> 0 | Q23: =COUNTIFS('Team list'!$L:$L,Summary!$K23,'Team list'!$G:$G,"Shortlisted",'Team list'!$F:$F,"PC ASO") -> 0 | S23: =COUNTIFS('Team list'!$L:$L,Summary!$K23,'Team list'!$G:$G,"Vacant",'Team list'!$F:$F,"PC ASO") -> 0
B24: Total | D24: =SUM(D14:D23) -> 107 | E24: =SUM(E14:E23) -> 92 | F24: =SUM(F14:F23) -> 3 | G24: =SUM(G14:G23) -> 3 | H24: =SUM(H14:H23) -> 3 | I24: =SUM(I14:I23) -> 6 | K24: West3 | L24: PC ASO | M24: =SUM(N24:S24) -> 0 | N24: =COUNTIFS('Team list'!$L:$L,Summary!$K24,'Team list'!$G:$G,"Active",'Team list'!$F:$F,"PC ASO") -> 0 | O24: =COUNTIFS('Team list'!$L:$L,Summary!$K24,'Team list'!$G:$G,"Notice Period",'Team list'!$F:$F,"PC ASO") -> 0 | P24: =COUNTIFS('Team list'!$L:$L,Summary!$K24,'Team list'!$G:$G,"Offer Issued",'Team list'!$F:$F,"PC ASO") -> 0 | Q24: =COUNTIFS('Team list'!$L:$L,Summary!$K24,'Team list'!$G:$G,"Shortlisted",'Team list'!$F:$F,"PC ASO") -> 0 | S24: =COUNTIFS('Team list'!$L:$L,Summary!$K24,'Team list'!$G:$G,"Vacant",'Team list'!$F:$F,"PC ASO") -> 0
K25: Total | M25: =SUM(M15:M24) -> 85 | N25: =SUM(N15:N24) -> 75 | O25: =SUM(O15:O24) -> 0 | P25: =SUM(P15:P24) -> 3 | Q25: =SUM(Q15:Q24) -> 0 | S25: =SUM(S15:S24) -> 7
B26: VAS
K28: AMD-ASO
K29: Region | L29: Vertical | M29: Planned | N29: Active | O29: Notice period | P29: Offer issued | Q29: Shortlisted | R29: Hiring hold | S29: Vacant
K30: East1 | L30: Pan India | M30: 1 | N30: 1 | O30: 0 | P30: 0 | Q30: 0 | R30: 0 | S30: 0
K31: East2 | L31: Pan India | M31: 1 | N31: 1 | O31: 0 | P31: 0 | Q31: 0 | R31: 0 | S31: 0
K32: North1 | L32: Pan India | M32: 1 | N32: 1 | O32: 0 | P32: 0 | Q32: 0 | R32: 0 | S32: 0
K33: North2 | L33: Pan India | M33: 1 | N33: 1 | O33: 0 | P33: 0 | Q33: 0 | R33: 0 | S33: 0
K34: South1 | L34: Pan India | M34: 2 | N34: 1 | O34: 0 | P34: 0 | Q34: 0 | R34: 0 | S34: 1
K35: South2 | L35: Pan India | M35: 2 | N35: 1 | O35: 0 | P35: 0 | Q35: 0 | R35: 1 | S35: 0
K36: West1 | L36: Pan India | M36: 3 | N36: 2 | O36: 0 | P36: 0 | Q36: 0 | R36: 0 | S36: 1
K37: Total | M37: 11 | N37: 8 | O37: 0 | P37: 0 | Q37: 0 | R37: 0 | S37: 2

Sheet DSM's
B2: SR.No. | C2: V5 Emp Code | D2: Emp. Name | F2: Emp Email id | G2: Designation Name | H2: DOJ | I2: Status | J2: Region | K2: Program Name | L2: City Posting | M2: State Posting | N2: Mobile | O2: Remarks | P2: Shortlisted
B3: 1 | C3: V5376586 | D3: Amit Thakuri | F3: amit.thakuri@v5global.co.in | G3: Distribution Sales Manager | H3: 45520 | I3: Active | J3: East1 | K3: Lenovo Consumer ASO | L3: Guwahati | M3: Assam | N3: 8638133268 | O3: -
B4: 2 | C4: V5267235 | D4: Alok Ranjan Singh | E4: TBH | F4: alok.ranjan@v5global.co.in | G4: Distribution Sales Manager | H4: 44850 | I4: Notice Period | J4: East2 | K4: Lenovo Consumer ASO | L4: Patna | M4: Bihar | N4: 7857093200 | O4: LWD 06th Jun'25 | P4: Imam Hassan -06th Jul'25)
B5: 3 | C5: V5349329 | D5: Ganga Singh | F5: ganga.singh@v5global.co.in | G5: Distribution Sales Manager | H5: 45386 | I5: Active | J5: North1 | K5: Lenovo Consumer ASO | L5: Noida | M5: Uttar Pradesh | N5: 8829040502 | O5: -
B6: 4 | C6: V5267242 | D6: Rahil Rasheed | F6: rahil.rasheed@v5global.co.in | G6: Distribution Sales Manager | H6: 44132 | I6: Active | J6: North2 | K6: Lenovo Consumer ASO | L6: Lucknow | M6: Uttar Pradesh | N6: 9198666607 | O6: -
B7: 5 | C7: V5326188 | D7: Prakash Kumar K P | E7: Faiz | F7: prakash.kp@v5global.co.in | G7: Distribution Sales Manager | H7: 45202 | I7: Active | J7: South1 | K7: Lenovo Consumer ASO | L7: Kochi | M7: Kerala | N7: 9846649470 | O7: -
B8: 6 | C8: V5268165 | D8: S.Arunbabu | F8: arun.babu@v5global.co.in | G8: Distribution Sales Manager | H8: 41533 | I8: Active | J8: South2 | K8: Lenovo Consumer ASO | L8: Madurai | M8: Tamil Nadu | N8: 9600022246 | O8: -
B9: 7 | C9: V5266023 | D9: Yunus Hamid Mansoori | E9: Faiz | F9: yunus.hamid@v5global.co.in | G9: Distribution Sales Manager | H9: 16 Oct 2022 | I9: Active | J9: West1 | K9: Lenovo Consumer ASO | L9: Mumbai | M9: Maharashtra | N9: 9768382162 | O9: -
B10: 8 | C10: V5292566 | D10: Ritesh Raushan | E10: Faiz | F10: ritesh.raushan@v5global.co.in | G10: Distribution Sales Manager | H10: 44998 | I10: Active | J10: West1 | K10: Lenovo Consumer ASO | L10: Pune | M10: Maharashtra | N10: 8237233660 | O10: -
B12: Team mail id : dsm@v5global.co.in

Sheet Team list
B2: Sr.No. | C2: V5 code/Caspian | D2: Emp.Name | E2: Emp Email ID | F2: Designation Name | G2: Employee status | H2: DOJ | I2: City Posting | J2: State Posting | K2: Mobile | L2: Region | M2: DSM Name | N2: RSM | O2: RCM | P2: RCM Email ID | Q2: Statehead | R2: SDM | S2: Remarks
B3: 1 | C3: 601114 | D3: Gaurav Upadhyaya | E3: gaurav.upadhyay@v5global.co.in | F3: PC ASO | G3: Active | H3: 45527 | I3: Delhi | J3: Delhi | K3: 9910454009 | L3: North1 | M3: Ganga Singh | N3: Kumar Tanksale | O3: Kanwaldeep Singh | P3: ksingh15@lenovo.com | Q3: Raghavendra Araveeti | R3: Gaurav Srivastava | S3: -
B4: 2 | C4: V5268361 | D4: Manoj Kumar Panwar | E4: manoj.panwar@v5global.co.in | F4: PC ASO | G4: Active | H4: 44850 | I4: Ajmer | J4: Rajasthan | K4: 9828022302 | L4: North1 | M4: Ganga Singh | N4: Kumar Tanksale | O4: Nishank jain | P4: njain10@lenovo.com | Q4: Raghavendra Araveeti | R4: Gaurav Srivastava | S4: -
B5: 3 | C5: V5267291 | D5: Abhisekh Kumar Singh | E5: abhisekh.kumar@v5global.co.in | F5: PC ASO | G5: Active | H5: 44850 | I5: Dhanbad | J5: Jharkhand | K5: 9386646960 | L5: East2 | M5: Alok Ranjan Singh | N5: Rajender Negi | O5: Krishna Kumar Singh | P5: ksingh25@lenovo.com | Q5: Raghavendra Araveeti | R5: Gaurav Srivastava | S5: -
B6: 4 | C6: V5266860 | D6: Abhishek Prakash | E6: abhishek.prakash@v5global.co.in | F6: PC ASO | G6: Active | H6: 44850 | I6: Meerut | J6: Uttar Pradesh | K6: 9557200401 | L6: North2 | M6: Rahil Rasheed | N6: Durgendra Singh | O6: Nishant Aeron | P6: naeron@lenovo.com | Q6: Raghavendra Araveeti | R6: Gaurav Srivastava | S6: -
B7: 5 | C7: V5396663 | D7: Vikas Pathak | E7: vikas.pathak@v5global.co.in | F7: PC ASO | G7: Active | H7: 45590 | I7: Varanasi | J7: Uttar Pradesh | K7: 9838001792 | L7: North2 | M7: Rahil Rasheed | N7: Durgendra Singh | O7: Rahul Sarin | P7: rsarin2@lenovo.com | Q7: Raghavendra Araveeti | R7: Gaurav Srivastava | S7: -
B8: 6 | C8: 601088 | D8: Amarjit Behera | E8: amarjit.behera@v5global.co.in | F8: PC ASO | G8: Active | H8: 45506 | I8: Bhubaneswar | J8: Orissa | K8: 9437451999 | L8: East2 | M8: Alok Ranjan Singh | N8: Rajender Negi | O8: Biswa Ranjan Jena | P8: bjena1@lenovo.com | Q8: Raghavendra Araveeti | R8: Gaurav Srivastava | S8: -
B9: 7 | C9: V5427894 | D9: Gautam Anand | E9: gautam.anand@v5global.co.in | F9: PC ASO | G9: Active | H9: 45750 | I9: Bhagalpur | J9: Bihar | K9: 9555414209 | L9: East2 | M9: Alok Ranjan Singh | N9: Rajender Negi | O9: Arvind Kumar | P9: akumar142@lenovo.com | Q9: Raghavendra Araveeti | R9: Gaurav Srivastava | S9: -
B10: 8 | C10: V5438668 | D10: Mohammad Shahid Abdul Rashid Shaikh | E10: mohammad.shahid@v5global.co.in | F10: PC ASO | G10: Active | H10: 45784 | I10: Surat | J10: Gujarat | K10: 8460136575 | L10: West1 | M10: Yunus Hamid Mansoori | N10: Hemant C Baghel | O10: Darshan Thakkar | P10: tjitendrabha@lenovo.com | Q10: Sharad verma | R10: Jaspreet Singh | S10: -
B11: 9 | C11: V5414474 | D11: Sudam Pradhan | E11: sudam.pradhan@v5global.co.in | F11: PC ASO | G11: Active | H11: 45668 | I11: Bilaspur | J11: Chhattisgarh | K11: 8600840554 | L11: East2 | M11: Alok Ranjan Singh | N11: Rajender Negi | O11: Krishna Kumar Singh | P11: ksingh25@lenovo.com | Q11: Raghavendra Araveeti | R11: Gaurav Srivastava | S11: -
B12: 10 | C12: V5354315 | D12: Bhaskar Borah | E12: bhaskar.borah@v5global.co.in | F12: PC ASO | G12: Active | H12: 45402 | I12: Jorhat | J12: Assam | K12: 9508822689 | L12: East1 | M12: Amit Thakuri | N12: Amit Tiwari | O12: Partha Chakraborty | P12: pchakraborty@lenovo.com | Q12: Raghavendra Araveeti | R12: Gaurav Srivastava | S12: -
B13: 11 | C13: V5287255 | D13: Samya Roy | E13: samya.roy@v5global.co.in | F13: PC ASO | G13: Active | H13: 44970 | I13: Bolpur | J13: West Bengal | K13: 9474010730 | L13: East1 | M13: Amit Thakuri | N13: Amit Tiwari | O13: Ashique Ali | P13: aali11@lenovo.com | Q13: Raghavendra Araveeti | R13: Gaurav Srivastava | S13: -
B14: 12 | C14: TBH | D14: TBH | E14: - | F14: PC ASO | G14: Vacant | H14: - | I14: Ahmedabad | J14: Gujarat | K14: - | L14: West1 | M14: Yunus Hamid Mansoori | N14: Hemant C Baghel | O14: Darshan Thakkar | P14: tjitendrabha@lenovo.com | Q14: Sharad verma | R14: Jaspreet Singh | S14: -
B15: 13 | C15: V5412124 | D15: Karan Kanhaiyalal Gupta | E15: karan.gupta@v5global.co.in | F15: PC ASO | G15: Active | H15: 45654 | I15: Mumbai | J15: Maharashtra | K15: 9594708424 | L15: West1 | M15: Yunus Hamid Mansoori | N15: Hemant C Baghel | O15: Amit Tiwari | P15: atiwari5@lenovo.com | Q15: Sharad verma | R15: Jaspreet Singh | S15: -
B16: 14 | C16: V5367944 | D16: Siddhartha Saha | E16: sidhartha.saha@v5global.co.in | F16: PC ASO | G16: Active | H16: 45444 | I16: Medinipur | J16: West Bengal | K16: 9874293392 | L16: East1 | M16: Amit Thakuri | N16: Amit Tiwari | O16: Kapil Tiwari | P16: ktiwari1@lenovo.com | Q16: Raghavendra Araveeti | R16: Gaurav Srivastava | S16: -
B17: 15 | C17: V5422498 | D17: Talamarla Lakshmi Reddy | E17: talamarla.reddy@v5global.co.in | F17: PC ASO | G17: Active | H17: 45719 | I17: Anantapur | J17: Andhra Pradesh | K17: 9014290161 | L17: South2 | M17: S.Arunbabu | N17: Kartik Iyer | O17: Prabhakar G | P17: gprabhakar@lenovo.com | Q17: Sharad verma | R17: Jaspreet Singh | S17: -
B18: 16 | C18: V5100464 | D18: Bhattu Nagaraju | E18: bhattu.nagaraju@v5global.co.in | F18: PC ASO | G18: Active | H18: 43410 | I18: Hyderabad | J18: Telangana | K18: 9491242453 | L18: South2 | M18: S.Arunbabu | N18: Kartik Iyer | O18: Santosh Singh | P18: ssingh9@lenovo.com | Q18: Sharad verma | R18: Jaspreet Singh | S18: -
B19: 17 | C19: V5266029 | D19: Dhiraj Kumar | E19: dhiraj.kumar@v5global.co.in | F19: PC ASO | G19: Active | H19: 44850 | I19: Delhi | J19: Delhi | K19: 8700006060 | L19: North1 | M19: Ganga Singh | N19: Kumar Tanksale | O19: Kanwaldeep Singh | P19: ksingh15@lenovo.com | Q19: Raghavendra Araveeti | R19: Gaurav Srivastava | S19: -
B20: 18 | C20: V5424243 | D20: Manoj Baishya | E20: manoj.baishya@v5global.co.in | F20: PC ASO | G20: Active | H20: 45727 | I20: Guwahati | J20: NE | K20: 9864583255 | L20: East1 | M20: Amit Thakuri | N20: Amit Tiwari | O20: Partha Chakraborty | P20: pchakraborty@lenovo.com | Q20: Raghavendra Araveeti | R20: Gaurav Srivastava | S20: -
B21: 19 | C21: V5438066 | D21: Yathish R Rao | E21: yathish.rao@v5global.co.in | F21: PC ASO | G21: Active | H21: 45787 | I21: Mangalore | J21: Karnataka | K21: 9483372060 | L21: South1 | M21: Prakash Kumar K P | N21: S Sreekumar | O21: Riyaz Khan | P21: rhospet@lenovo.com | Q21: Sharad verma | R21: Jaspreet Singh | S21: -
B22: 20 | C22: V5263641 | D22: Govind Gulab Rajbhar | E22: govind.gulab@v5global.co.in | F22: PC ASO | G22: Active | H22: 44850 | I22: Mumbai | J22: Maharashtra | K22: 9029031943 | L22: West1 | M22: Yunus Hamid Mansoori | N22: Hemant C Baghel | O22: Amit Tiwari | P22: atiwari5@lenovo.com | Q22: Sharad verma | R22: Jaspreet Singh | S22: -
B23: 21 | C23: TBH | D23: TBH | E23: - | F23: PC ASO | G23: Vacant | H23: - | I23: Hyderabad | J23: Telangana | K23: - | L23: South2 | M23: S.Arunbabu | N23: Kartik Iyer | O23: Santosh Singh | P23: ssingh9@lenovo.com | Q23: Sharad verma | R23: Jaspreet Singh | S23: -
B24: 22 | C24: 601075 | D24: Rameshwar Marepalle | E24: rameshwar.merepalle@v5global.co.in | F24: PC ASO | G24: Active | H24: 45493 | I24: Pune | J24: Maharashtra | K24: 9156048560 | L24: West1 | M24: Ritesh Raushan | N24: Hemant C Baghel | O24: Rajeev Jha | P24: rjha3@lenovo.com | Q24: Sharad verma | R24: Jaspreet Singh | S24: -
B25: 23 | C25: V5360834 | D25: Arabinda Samanta | E25: arabinda.samanta@v5global.co.in | F25: PC ASO | G25: Active | H25: 45413 | I25: Mumbai | J25: Maharashtra | K25: 8879216607 | L25: West1 | M25: Yunus Hamid Mansoori | N25: Hemant C Baghel | O25: Amit Tiwari | P25: atiwari5@lenovo.com | Q25: Sharad verma | R25: Jaspreet Singh | S25: -
B26: 24 | C26: V5266711 | D26: Laxman Anilrao Deshmukh | E26: laxman.anilrao@v5global.co.in | F26: PC ASO | G26: Active | H26: 44850 | I26: Aurangabad | J26: Maharashtra | K26: 9028122888 | L26: West1 | M26: Ritesh Raushan | N26: Hemant C Baghel | O26: Sonia more | P26: smore3@lenovo.com | Q26: Sharad verma | R26: Jaspreet Singh | S26: -
B27: 25 | C27: V5263625 | D27: Manoj Bihari | E27: manoj.bihari@v5global.co.in | F27: PC ASO | G27: Active | H27: 44850 | I27: Sambalpur | J27: Orissa | K27: 9861291397 | L27: East2 | M27: Alok Ranjan Singh | N27: Rajender Negi | O27: Biswa Ranjan Jena | P27: bjena1@lenovo.com | Q27: Raghavendra Araveeti | R27: Gaurav Srivastava | S27: -
B28: 26 | C28: TBH | D28: TBH | E28: - | F28: PC ASO | G28: Vacant | H28: - | I28: Rajkot | J28: Gujarat | K28: - | L28: West1 | M28: Yunus Hamid Mansoori | N28: Hemant C Baghel | O28: Jaydip Kachhot | P28: jkachhot@lenovo.com | Q28: Sharad verma | R28: Jaspreet Singh | S28: -
B29: 27 | C29: V5266026 | D29: Mohammed Abdulla | E29: mohammed.abdulla@v5global.co.in | F29: PC ASO | G29: Active | H29: 44850 | I29: Bangalore | J29: Karnataka | K29: 9513623651 | L29: South1 | M29: Prakash Kumar K P | N29: S Sreekumar | O29: Anuj Kumar | P29: akumar1@lenovo.com | Q29: Sharad verma | R29: Jaspreet Singh | S29: -
B30: 28 | C30: V5426139 | D30: Abinash Rabha | E30: abhinash.rabha@v5global.co.in | F30: PC ASO | G30: Active | H30: 45729 | I30: Guwahati | J30: NE | K30: 8724966898 | L30: East1 | M30: Amit Thakuri | N30: Amit Tiwari | O30: Partha Chakraborty | P30: pchakraborty@lenovo.com | Q30: Raghavendra Araveeti | R30: Gaurav Srivastava | S30: -
B31: 29 | C31: V5267964 | D31: Mohd Rashid | E31: mohd.rashid@v5global.co.in | F31: PC ASO | G31: Active | H31: 44850 | I31: Lucknow | J31: Uttar Pradesh | K31: 9369188344 | L31: North2 | M31: Rahil Rasheed | N31: Durgendra Singh | O31: Rahul Sarin | P31: rsarin2@lenovo.com | Q31: Raghavendra Araveeti | R31: Gaurav Srivastava | S31: -
B32: 30 | C32: V5302939 | D32: Siddharth Chettri | E32: siddharth.chettri@v5global.co.in | F32: PC ASO | G32: Active | H32: 45078 | I32: Dehradun | J32: Uttrakhand | K32: 8859305427 | L32: North2 | M32: Rahil Rasheed | N32: Durgendra Singh | O32: Nishant Aeron | P32: naeron@lenovo.com | Q32: Raghavendra Araveeti | R32: Gaurav Srivastava | S32: -
B33: 31 | C33: V5339429 | D33: Surjeet Kumar | E33: surjeet.kumar@v5global.co.in | F33: PC ASO | G33: Active | H33: 45306 | I33: Muzaffarpur | J33: Bihar | K33: 7004963220 | L33: East2 | M33: Alok Ranjan Singh | N33: Rajender Negi | O33: Arvind Kumar | P33: akumar142@lenovo.com | Q33: Raghavendra Araveeti | R33: Gaurav Srivastava | S33: -
B34: 32 | C34: 601263 | D34: Nithiyanadhababa A | E34: nithiyanadhababa.a@v5global.co.in | F34: PC ASO | G34: Active | H34: 45733 | I34: Tirunelveli | J34: Tamil Nadu | K34: 9677596890 | L34: South2 | M34: S.Arunbabu | N34: Kartik Iyer | O34: Sridhar Ethirajulu | P34: sethirajulu1@lenovo.com | Q34: Sharad verma | R34: Jaspreet Singh | S34: Location has been changed on 18th Feb'25
B35: 33 | C35: V5414354 | D35: Manpreet Singh Brar | E35: manpreet.brar@v5global.co.in | F35: PC ASO | G35: Active | H35: 45689 | I35: Ludhiana | J35: Punjab | K35: 9780000315 | L35: North1 | M35: Ganga Singh | N35: Kumar Tanksale | O35: Karan Kapoor | P35: kkapoor@lenovo.com | Q35: Raghavendra Araveeti | R35: Gaurav Srivastava | S35: -
B36: 34 | C36: 601011 | D36: Pardeep Kumar Sharma | E36: pardeep.sharma@v5global.co.in | F36: PC ASO | G36: Active | H36: 45383 | I36: Gurugram | J36: Haryana | K36: 9911476346 | L36: North1 | M36: Ganga Singh | N36: Kumar Tanksale | O36: Rajat Maheshwari | P36: rmaheshwari@lenovo.com | Q36: Raghavendra Araveeti | R36: Gaurav Srivastava | S36: -
B37: 35 | C37: V5395760 | D37: Rakesh Nattu Kumbhare | E37: rakesh.kumbhare@v5global.co.in | F37: PC ASO | G37: Active | H37: 45579 | I37: Nagpur | J37: Maharashtra | K37: 7767033997 | L37: West1 | M37: Ritesh Raushan | N37: Hemant C Baghel | O37: Sonia more | P37: smore3@lenovo.com | Q37: Sharad verma | R37: Jaspreet Singh | S37: -
B38: 36 | C38: 601367 | D38: Gorla Mohan Raju | E38: - | F38: PC ASO | G38: Offer issued | H38: 45823 | I38: Visakhapatnam | J38: Andhra Pradesh | K38: 9121504583 | L38: South2 | M38: S.Arunbabu | N38: Kartik Iyer | O38: Prabhakar G | P38: gprabhakar@lenovo.com | Q38: Sharad verma | R38: Jaspreet Singh | S38: -
B39: 37 | C39: V5294765 | D39: Manish Kumar | E39: manish.k@v5global.co.in | F39: PC ASO | G39: Active | H39: 45031 | I39: Chandigarh | J39: Punjab | K39: 9815306161 | L39: North1 | M39: Ganga Singh | N39: Kumar Tanksale | O39: Naveen Kumar | P39: nkumar12@lenovo.com | Q39: Raghavendra Araveeti | R39: Gaurav Srivastava | S39: -
B40: 38 | C40: V5436617 | D40: Pankaj Vinayakrao Bawiskar | E40: pankaj.bawiskar@v5global.co.in | F40: PC ASO | G40: Offer issued | H40: 45824 | I40: Nagpur | J40: Maharashtra | K40: 9765452225 | L40: West1 | M40: Ritesh Raushan | N40: Hemant C Baghel | O40: Sonia more | P40: smore3@lenovo.com | Q40: Sharad verma | R40: Jaspreet Singh | S40: -
B41: 39 | C41: V5267233 | D41: Ramakant Arun Mali | E41: ramakant.arun@v5global.co.in | F41: PC ASO | G41: Active | H41: 44850 | I41: Jalgaon | J41: Maharashtra | K41: 9730708880 | L41: West1 | M41: Ritesh Raushan | N41: Hemant C Baghel | O41: Rajeev Jha | P41: rjha3@lenovo.com | Q41: Sharad verma | R41: Jaspreet Singh | S41: -
...

Sheet AMD
B3: Sr.No. | C3: Emp. Code Caspian | D3: Emp.Name | E3: Emp Email ID | F3: Designation Name | G3: Employee status | H3: DOJ | I3: City Posting | J3: State Posting | K3: Mobile | L3: Region | M3: DSM Name | N3: RSM | O3: RCM | P3: RCM Email ID | Q3: Statehead | R3: SDM | S3: Remarks
B4: 1 | C4: 601195 | D4: Abhijeet Biswas | E4: abhijeet.biswas@v5global.co.in | F4: ASO | G4: Active | H4: 45659 | I4: Kolkata | J4: West Bengal | K4: 9804559915 | L4: East1 | M4: Amit Thakuri | N4: Amit Tiwari | O4: Kapil Tiwari | P4: ktiwari1@lenovo.com | Q4: Raghavendra Araveeti | R4: Gaurav Srivastava | S4: -
B5: 2 | C5: 601177 | D5: Pankaj Kumar | E5: pankaj.kumar@v5global.co.in | F5: ASO | G5: Active | H5: 45638 | I5: Patna | J5: Bihar | K5: 8340543380 | L5: East2 | M5: Alok Ranjan Singh | N5: Rajender Negi | O5: Arvind Kumar | P5: akumar142@lenovo.com | Q5: Raghavendra Araveeti | R5: Gaurav Srivastava | S5: -
B6: 3 | C6: 601341 | D6: Prateek Verma | E6: prateek.verma@v5global.co.in | F6: ASO | G6: Active | H6: 45797 | I6: New Delhi | J6: New Delhi | K6: 9818131909 | L6: North1 | M6: Ganga Singh | N6: Kumar Tanksale | O6: Kanwaldeep Singh | P6: ksingh15@lenovo.com | Q6: Raghavendra Araveeti | R6: Gaurav Srivastava | S6: -
B7: 4 | C7: 601131 | D7: Subodh Kumar Sahani | E7: subodh.sahani@v5global.co.in | F7: ASO | G7: Active | H7: 45561 | I7: Ghaziabad | J7: Uttar Pradesh | K7: 7703838818 | L7: North2 | M7: Rahil Rasheed | N7: Durgendra Singh | O7: Nishant Aeron | P7: naeron@lenovo.com | Q7: Raghavendra Araveeti | R7: Gaurav Srivastava | S7: -
B8: 5 | C8: TBH | D8: TBH | E8: TBH | F8: ASO | G8: Vacant | H8: TBH | I8: Bangalore | J8: Karnataka | K8: - | L8: South1 | M8: Prakash Kumar K P | N8: S Sreekumar | O8: Anuj Kumar | P8: akumar1@lenovo.com | Q8: Sharad verma | R8: Jaspreet Singh | S8: -
B9: 6 | C9: 601146 | D9: Rajesh M G | E9: rajesh.mg@v5global.co.in | F9: ASO | G9: Active | H9: 45573 | I9: Cochin | J9: Kerela | K9: 8157020114, 8891720114 | L9: South1 | M9: Prakash Kumar K P | N9: S Sreekumar | O9: Shaiju | P9: ss89@lenovo.com | Q9: Sharad verma | R9: Jaspreet Singh | S9: -
B10: 7 | C10: 601197 | D10: P.Maheshwaran | E10: p.maheswaran@v5global.co.in | F10: ASO | G10: Notice Period | H10: 45675 | I10: Chennai | J10: Tamil Nadu | K10: 9840100333 | L10: South2 | M10: S.Arunbabu | N10: Kartik Iyer | O10: Sridhar Ethirajulu | P10: sethirajulu1@lenovo.com | Q10: Sharad verma | R10: Jaspreet Singh | S10: LWD 07th Jun'25
B11: 8 | C11: 601140 | D11: Ishan Modha | E11: ishan.modha@v5global.co.in | F11: ASO | G11: Active | H11: 45601 | I11: Ahmedabad | J11: Gujarat | K11: 6352456143 | L11: West1 | M11: Yunus Hamid Mansoori | N11: Hemant C Baghel | O11: Darshan Thakkar | P11: tjitendrabha@lenovo.com | Q11: Sharad verma | R11: Jaspreet Singh | S11: -
B12: 9 | C12: TBH | D12: TBH | E12: TBH | F12: ASO | G12: Vacant | H12: TBH | I12: Nagpur | J12: Maharashtra | K12: - | L12: West1 | M12: Ritesh Raushan | N12: Hemant C Baghel | O12: Amit Tiwari | P12: atiwari5@lenovo.com | Q12: Sharad verma | R12: Jaspreet Singh | S12: -
B13: 10 | C13: 601360 | D13: Swapnil Sanjay Vesanekar | E13: swapnil.vesanekar@v5global.co.in | F13: ASO | G13: Active | H13: 44476 | I13: Pune | J13: Maharashtra | K13: 9069201201 | L13: West1 | M13: Ritesh Raushan | N13: Hemant C Baghel | O13: Amit Tiwari | P13: atiwari5@lenovo.com | Q13: Sharad verma | R13: Jaspreet Singh | S13: -
B14: 11 | C14: TBH | D14: TBH | E14: TBH | F14: ASO | G14: Vacant | H14: Hold | I14: Vijayawada | J14: Andhra Pradesh | K14: - | L14: South2 | M14: S.Arunbabu | N14: Kartik Iyer | O14: Prabhakar G | P14: gprabhakar@lenovo.com | Q14: Sharad verma | R14: Jaspreet Singh | S14: Position Hold on 29th May'25

Sheet Resigned List
B2: EMP CODE | C2: V5 Emp.code | D2: Emp. Name | E2: Designation | F2: DOJ | G2: Program name | H2: City Posting | I2: State Posting | J2: Mobile | K2: V5 Mail id | L2: Remarks | M2: Region | N2: Infra | O2: DSM Name | P2: Remarks | Q2: DOL
B3: D66467 | C3: - | D3: Nithyesharadhya D | E3: PC ASO | F3: 44694 | G3: Lenovo Distribution | H3: Mysore | I3: Karnataka | J3: 9743473406 | K3: ce-nithyesharadhya.d@denave.com | L3: 44838 | M3: South1 | N3: Given | O3: Mohammed Azam Ahmed | P3: Done | Q3: 44661
B4: D64883 | C4: V5264760 | E4: Transition | F4: Vacant | G4: Absconded Mahesh & currently vacant | H4: Mahesh | I4: PC ASO | J4: 44593 | K4: Lenovo Consumer ASO | L4: Gulbarga | M4: South1 | N4: Given | O4: Mohammed Azam Ahmed | P4: Done | Q4: Done
B5: - | C5: D67564 | F5: Transition | G5: Notice period | H5: Profile to be given | I5: Kantharia Alpesh | K5: PC ASO | M5: 44774 | N5: Lenovo Consumer ASO | O5: Surat | P5: Gujarat | Q5: 9982921127 | R5: ce-kantharia.alpesh@denave.com | S5: Resigned | T5: West2 | U5: Not Given | V5: Pran Pratap Singh | W5: Anand Modi | X5: Waseeha Khan | Y5: Done
B6: - | C6: D60067 | F6: Transition | G6: Notice period | H6: Notice period Sitaram LWD 14th Oct/shortlisted | I6: Sitaram Krishna Patil | K6: PC ASO | M6: 44228 | N6: Lenovo Consumer ASO | O6: Mumbai | P6: Maharashtra | Q6: 9833086889 | R6: sitaram.kp@denave.com | T6: West1 | U6: Given | V6: Faiz Ibrahim Qureshi | W6: Hemant C Baghel | X6: Nikhil Narkhede | Y6: Done
B7: D66702 | C7: V5266911 | D7: Prasanth Kumar P S | E7: Prasanth Kumar P S | F7: 16 Oct 2022 | G7: Lenovo Distribution | H7: Kottayam | I7: Kerala | J7: 9895025142 | K7: prasanth.kumar@v5global.co.in | L7: 9895025142 | M7: South2 | N7: S.Arunbabu | O7: S.Arunbabu | P7: Fazalu Rahman | Q7: LWD 22nd Oct
B8: - | C8: V5269509 | D8: Gaurav Kumar Yadav | E8: PC ASO | F8: - | G8: Lenovo Distribution | H8: Bilaspur | I8: Chhattisgarh | J8: 9039953548 | K8: gaurav.yadav@v5global.co.in | L8: 9039953548 | M8: West3 | N8: Suraj Mahadik | O8: Suraj Mahadik | P8: Roopesh Baghel | Q8: Joining on 21st Oct but not joined,He will revert in mail
B9: D67318 | C9: V5269092 | D9: RAJESH M R | E9: PC ASO | F9: 16 Oct 2022 | G9: Lenovo Distribution | H9: Kannur | I9: Kerala | J9: 9349277732 | K9: rajesh.r@v5global.co.in | L9: 9349277732 | M9: South2 | N9: S.Arunbabu | O9: S.Arunbabu | P9: Fazalu Rahman | Q9: 25th-Oct-22
B10: - | C10: V5268262 | D10: Ankur Kesarwani | E10: PC ASO | F10: 16 Oct 2022 | G10: Lenovo Distribution | H10: Allahabad | I10: Uttar Pradesh | J10: 7897355644 | K10: ankur.kesarwani@v5global.co.in | M10: North2 | O10: Rahil Rasheed | Q10: LWD 06th Nov'22
B11: - | C11: V5264761 | D11: Divyeshkumar Patel | E11: PC ASO | F11: 01 Nov 2022 | G11: Lenovo Distribution | H11: Badodra | I11: Gujarat | J11: 7226002749 | K11: - | M11: West2 | O11: Pran Pratap Singh | Q11: 01 Nov 2022
B12: D67293 | C12: V5263157 | D12: Sushant Sharadchandra Ashtekar | E12: PC ASO | F12: 16 Oct 2022 | G12: Lenovo Distribution | H12: Goa | I12: Goa | J12: 9028070989 | K12: - | M12: South1 | O12: Mohammed Azam Ahmed | Q12: LWD 09th Nov'22
B13: - | C13: V5263073 | D13: Manoj Kumar Gupta | E13: VAS ASO | F13: 03 Oct 2022 | G13: Lenovo Distribution | H13: Lucknow | I13: Uttar Pradesh | J13: 7376201765 | K13: manoj.kumar@v5global.co.in | M13: North2 | O13: Rahil Rasheed | Q13: LWD 05th Nov'22
B14: - | C14: V5263100 | D14: Gandhi Jignesh Kumar | E14: PC ASO | F14: 16 Oct 2022 | G14: Lenovo Distribution | H14: Baroda | I14: Gujarat | J14: 9925446444 | K14: gandhi.jignesh@v5global.co.in | M14: West2 | O14: Pran Pratap Singh | Q14: LWD 14th Nov'22
B15: D49280 | C15: V5267559 | D15: Mohammed Azam Ahmed | E15: Distribution Sales Manager | F15: 43556 | G15: Lenovo Distribution | H15: Bengaluru | I15: Karnataka | J15: 9900504402 | K15: mohammed.azam@v5global.co.in | M15: South1 | O15: - | Q15: LWD 17th Nov'22
B16: - | C16: V5266838 | D16: Shripad Rohidas Chinchwade | E16: PC ASO | F16: 16 Oct 2022 | G16: Lenovo Distribution | H16: Pune | I16: Maharashtra | J16: 8237179502 | K16: shripad.rohidas@v5global.co.in | M16: West1 | O16: Dharmendra Prakash Nehe | Q16: LWD 08th Dec'22
B17: D59255 | C17: V5267923 | D17: Mohsin Bin Abood | E17: Distribution Sales Manager | F17: 44835 | G17: Lenovo Distribution | H17: Hyderabad | I17: Telangana | J17: 9989927863 | K17: mohsin.bin@v5global.co.in | M17: South3 | O17: - | Q17: LWD 19th Nov'22
B18: D65496 | C18: V5266979 | D18: Dharmendra Prakash Nehe | E18: Distribution Sales Manager | F18: 44623 | G18: Lenovo Distribution | H18: Pune | I18: Maharashtra | J18: 9049835511 | K18: dharmendra.nehe@v5global.co.in | M18: West1 | O18: - | Q18: LWD 10th Dec'22
B19: D62128 | C19: V5267724 | D19: Irshad Ali Amjad Ali | E19: PC ASO | F19: 16 Oct 2022 | G19: Lenovo Distribution | H19: Amravati | I19: Maharashtra | J19: 8087727704 | K19: irshad.ali@v5global.co.in | M19: West1 | O19: Dharmendra Prakash Nehe | Q19: LWD 16th Dec'22
B20: D42651 | C20: V5267262 | D20: Faiz Ibrahim Qureshi | E20: Distribution Sales Manager | F20: 43103 | G20: Lenovo Distribution | H20: Mumbai | I20: Maharashtra | J20: 9892601098 | K20: faiz.ibrahim@v5global.co.in | M20: West1 | O20: - | Q20: LWD 17th Dec'22
B21: D67476 | C21: V5264739 | D21: Nishat Mohammad | E21: PC ASO | F21: 16 Oct 2022 | G21: Lenovo Distribution | H21: Kota | I21: Rajasthan | J21: 7879622800 | K21: nishat.mohammad@v5global.co.in | M21: West2 | O21: Krishna Kumar Singh | Q21: LWD 24th Dec'22
B22: D64881 | C22: V5268282 | D22: L Sathish Kumar | E22: PC ASO | F22: 44850 | G22: Lenovo Distribution | H22: Coimbatore | I22: Tamil Nadu | J22: 9842338180 | K22: sathish.kumar@v5global.co.in | M22: South2 | O22: S.Arunbabu | Q22: LWD 31st Dec'22
B23: D54452 | C23: V5267023 | D23: Babu Singh | E23: PC ASO | F23: 16 Oct 2022 | G23: Lenovo Distribution | H23: Bikaner | I23: Rajasthan | J23: 9983381183 | K23: babu.singh@v5global.co.in | M23: West2 | O23: Krishna Kumar Singh | Q23: LWD 02nd Jan'23
B24: D58771 | C24: V5268279 | D24: Bhavsar Kirtikumar Babulal | E24: PC ASO | F24: 16 Oct 2022 | G24: Lenovo Distribution | H24: Ahmedabad | I24: Gujarat | J24: 7984180458 | K24: bhavsar.kirtikumar@v5global.co.in | M24: West2 | O24: Krishna Kumar Singh | Q24: LWD 30th Dec'22
B25: D67972 | C25: V5265070 | D25: PIYUSH KAPURIA | E25: PC ASO | F25: 16 Oct 2022 | G25: Lenovo Distribution | H25: Jaipur | I25: Rajasthan | J25: 9351747640 | K25: piyush.kapuria@v5global.co.in | M25: West2 | O25: Krishna Kumar Singh | Q25: LWD 10th Jan'23
B26: - | C26: V5266691 | D26: Upadhyay Mukesh Kumar | E26: PC ASO | F26: 07 Nov 2022 | G26: Lenovo Distribution | H26: Surat | I26: Gujarat | J26: 7600174622 | K26: mukesh.upadhyay@v5global.co.in | M26: West2 | O26: Krishna Kumar Singh | Q26: LWD 09th Jan'23 | R26: FNF form received
B27: D42905 | C27: V5265074 | D27: Ankush Kumar | E27: PC ASO | F27: 16 Oct 2022 | G27: Lenovo Distribution | H27: Hamirpur | I27: Himachal Pradesh | J27: 8091029822 | K27: ankush.kumar@v5global.co.in | M27: North1 | O27: Krishna Kumar Singh | Q27: LWD 14th Jan'23
B28: D67876 | C28: V5266223 | D28: Anurag Agarwal | E28: PC ASO | F28: 16 Oct 2022 | G28: Lenovo Distribution | H28: Ghaziabad | I28: Uttar Pradesh | J28: 9899494771 | K28: anurag.agarwal@v5global.co.in | M28: North2 | O28: Rahil Rasheed | Q28: LWD 14th Jan'23 | R28: FNF form received
B29: D58851 | C29: V5267147 | D29: Avinash Kumar | E29: PC ASO | F29: 16 Oct 2022 | G29: Lenovo Distribution | H29: Dehradun | I29: Uttrakhand | J29: 9761771311 | K29: avinash.kumar@v5global.co.in | M29: North2 | O29: Rahil Rasheed | Q29: LWD 14th Jan'23
B30: D64375 | C30: V5266710 | D30: Ganapathi E | E30: PC ASO | F30: 16 Oct 2022 | G30: Lenovo Distribution | H30: Salem | I30: Tamil Nadu | J30: 9600364011 | K30: ganapathi.e@v5global.co.in | M30: South2 | O30: S.Arunbabu | Q30: LWD 14th Jan'23
B31: D67372 | C31: V5263113 | D31: Govind Gour | E31: PC ASO | F31: 16 Oct 2022 | G31: Lenovo Distribution | H31: Alwar | I31: Rajasthan | J31: 7877712600 | K31: govind.gour@v5global.co.in | M31: West2 | O31: Krishna Kumar Singh | Q31: LWD 14th Jan'23
B32: D65661 | C32: V5266966 | D32: Nikhil Kumar Jha | E32: PC ASO | F32: 16 Oct 2022 | G32: Lenovo Distribution | H32: Purnea | I32: Bihar | J32: 9122734591 | K32: nikhil.kumar@v5global.co.in | M32: East2 | O32: Vikas Shan | Q32: LWD 14th Jan'23
B33: D48441 | C33: V5266847 | D33: Pran Pratap Singh | E33: PC ASO | F33: 16 Oct 2022 | G33: Lenovo Distribution | H33: Jaipur | I33: Rajasthan | J33: 9001585718 | K33: pran.pratap@v5global.co.in | M33: West2 | O33: Krishna Kumar Singh | Q33: LWD 14th Jan'23
A34: - | B34: D65933 | C34: V5265875 | D34: Samrat Roy | E34: PC ASO | F34: 16 Oct 2022 | G34: Lenovo Distribution | H34: Ranchi | I34: Jharkhand | J34: 7667605872 | K34: samrat.roy@v5global.co.in | M34: East2 | O34: Vikas Shan | Q34: LWD 14th Jan'23 | R34: FNF form received
B35: D65494 | C35: V5267722 | D35: Srisai Vijay Ragu | E35: PC ASO | F35: 16 Oct 2022 | G35: Lenovo Distribution | H35: Coimbatore | I35: Tamil Nadu | J35: 9488466702 | K35: srisaivijay.r@v5global.co.in | M35: South2 | O35: S.Arunbabu | Q35: LWD 14th Jan'23
B36: D65626 | C36: V5267199 | D36: Swapnadip Kabiraj | E36: PC ASO | F36: 16 Oct 2022 | G36: Lenovo Distribution | H36: Kolkata | I36: West Bengal | J36: 8648954817 | K36: swapnadip.kabiraj@v5global.co.in | M36: East1 | O36: Chandan Kumar Singh | Q36: LWD 14th Jan'23
B37: D65945 | C37: V5266920 | D37: Vishal Mathur | E37: PC ASO | F37: 16 Oct 2022 | G37: Lenovo Distribution | H37: Jodhpur | I37: Rajasthan | J37: 9928078407 | K37: vishal.mathur@v5global.co.in | M37: West2 | O37: Krishna Kumar Singh | Q37: LWD 14th Jan'23 | R37: Infra received
B38: D67910 | C38: V5263109 | D38: Gourav Gupta | E38: PC ASO | F38: 16 Oct 2022 | G38: Lenovo Distribution | H38: Jammu | I38: Jammu and Kashmir | J38: 9796436652 | K38: gourav.gupta@v5global.co.in | M38: North1 | O38: Krishna Kumar Singh | Q38: LWD 14th Jan'23
B39: D68069 | C39: V5267197 | D39: Prasanta Kumar Dash | E39: PC ASO | F39: 16 Oct 2022 | G39: Lenovo Distribution | H39: Cuttack | I39: Orissa | J39: 9861566720 | K39: prasanta.kumar@v5global.co.in | M39: East2 | O39: Vikas Shan | Q39: LWD 14th Jan'23
B40: D67992 | C40: V5264745 | D40: Nallana Satish | E40: VAS ASO | F40: 16 Oct 2022 | G40: Lenovo Distribution | H40: Hyderabad | I40: Telangana | J40: 9393567878 | K40: nallana.satish@v5global.co.in | M40: South3 | O40: Chandan Kumar Singh | Q40: LWD 14th Jan'23
B41: - | C41: V5262341 | D41: Ankit Tandon | E41: VAS ASO | F41: 01 Nov 2022 | G41: Lenovo Distribution | H41: Kolkata | I41: West Bengal | J41: 9836390901 | K41: ankit.tandon@v5global.co.in | M41: East1 | O41: Chandan Kumar Singh | Q41: LWD 14th Jan'23
...

Sheet Final summary
E1: =SUM(E3:E24) -> 123 | F1: =SUM(F3:F24) -> 16 | G1: =SUM(G3:G24) -> 29 | H1: =SUM(H3:H24) -> 78 | I1: =SUM(I3:I24) -> 45 | J1: =SUM(J3:J24) -> 6
C2: Region | D2: STATE POSTING | E2: Initial HC | F2: ASO to be removed Positition Dilute | G2: Position diluted | H2: Final HC | I2: Final Reduction | J2: Vacant
C3: East1 | D3: NE | E3: 6 | G3: 1 | H3: 5 | I3: =G3+F3 -> 1
D4: West Bengal | E4: 9 | F4: 2 | G4: 2 | H4: 5 | I4: =G4+F4 -> 4
C5: East2 | D5: Bihar | E5: 5 | F5: 2 | H5: 3 | I5: =G5+F5 -> 2
D6: Jharkhand | E6: 2 | F6: 1 | H6: 1 | I6: =G6+F6 -> 1
D7: Orissa | E7: 3 | F7: 1 | H7: 2 | I7: =G7+F7 -> 1
C8: North1 | D8: Delhi | E8: 6 | G8: 2 | H8: 4 | I8: =G8+F8 -> 2
D9: Haryana | E9: 3 | G9: 1 | H9: 2 | I9: =G9+F9 -> 1
D10: Himachal Pradesh | E10: 1 | F10: 1 | I10: =G10+F10 -> 1
D11: Jammu and Kashmir | E11: 2 | F11: 1 | H11: 1 | I11: =G11+F11 -> 1
D12: Punjab | E12: 4 | G12: 1 | H12: 3 | I12: =G12+F12 -> 1
C13: North2 | D13: Uttar Pradesh | E13: 8 | F13: 1 | G13: 2 | H13: 5 | I13: =G13+F13 -> 3
D14: Uttrakhand | E14: 2 | F14: 1 | H14: 1 | I14: =G14+F14 -> 1
C15: South1 | D15: Goa | E15: 1 | H15: 1 | I15: =G15+F15 -> 0 | J15: 1
D16: Karnataka | E16: 8 | G16: 2 | H16: 6 | I16: =G16+F16 -> 2 | J16: 2
C17: South2 | D17: Kerala | E17: 6 | G17: 2 | H17: 4 | I17: =G17+F17 -> 2
D18: Tamil Nadu | E18: 8 | F18: 2 | G18: 2 | H18: 4 | I18: =G18+F18 -> 4
C19: South3 | D19: Andhra Pradesh | E19: 4 | G19: 2 | H19: 2 | I19: =G19+F19 -> 2
D20: Telangana | E20: 3 | F20: 1 | H20: 2 | I20: =G20+F20 -> 1
C21: West1 | D21: Maharashtra | E21: 21 | G21: 6 | H21: 15 | I21: =G21+F21 -> 6
C22: West2 | D22: Gujarat | E22: 9 | G22: 2 | H22: 7 | I22: =G22+F22 -> 2 | J22: 3
D23: Rajasthan | E23: 9 | F23: 3 | G23: 3 | H23: 3 | I23: =G23+F23 -> 6
C24: West3 | D24: Chhattisgarh | E24: 3 | G24: 1 | H24: 2 | I24: =G24+F24 -> 1

Sheet Sheet2

Sheet Super Master
B2: Type | C2: RCM | D2: Emp Denave ID | E2: Emp Name | F2: PromoterMobile | G2: Emp V5ID | H2: Mail ID | I2: DOJ | J2: DSM Name | K2: DSM Email ID | L2: ChannelName | M2: City | N2: State | O2: Region | P2: Emp status | Q2: Planned | R2: Manned | S2: Pending | T2: Gender | U2: Remarks
B3: PC ASO | C3: TBH | D3: TBH | E3: TBH | G3: TBH | J3: Mohammed Azam Ahmed | K3: mohammed.azam@v5global.co.in | L3: Lenovo Consumer ASO | M3: Mysore | N3: Karnataka | O3: South1 | P3: Vacant | Q3: 1 | R3: 0 | S3: 1 | T3: M | U3: Profile to be given
B4: PC ASO | C4: Faiz Ahmed | D4: D52127 | E4: Amit Kumar Singh | F4: 9811568138 | G4: V5268150 | H4: amit.kumar@v5global.co.in | I4: 43686 | J4: Krishna Kumar Singh | K4: krishna.kumar@v5global.co.in | L4: Lenovo Consumer ASO | M4: Delhi | N4: Delhi | O4: North1 | P4: Active | Q4: 1 | R4: 1 | S4: 0 | T4: M
B5: PC ASO | C5: Asit Srivastava | D5: D60294 | E5: Manoj Kumar Panwar | F5: 9828022302 | G5: V5268361 | H5: manoj.panwar@v5global.co.in | I5: 44235 | J5: Pran Pratap Singh | L5: Lenovo Consumer ASO | M5: Ajmer | N5: Rajasthan | O5: West2 | P5: Active | Q5: 1 | R5: 1 | S5: 0 | T5: M
B6: PC ASO | C6: Asit Srivastava | D6: D54452 | E6: Babu Singh | F6: 9983381183 | G6: V5267023 | H6: babu.singh@v5global.co.in | I6: 43780 | J6: Pran Pratap Singh | L6: Lenovo Consumer ASO | M6: Bikaner | N6: Rajasthan | O6: West2 | P6: Active | Q6: 1 | R6: 1 | S6: 0 | T6: M
B7: PC ASO | C7: Kaushal Kumar | D7: D61648 | E7: Abhisekh Kumar Singh | F7: 9386646960 | G7: V5267291 | H7: abhisekh.kumar@v5global.co.in | I7: 44383 | J7: Vikas Shan | K7: vikas.shan@v5global.co.in | L7: Lenovo Consumer ASO | M7: Dhanbad | N7: Jharkhand | O7: East2 | P7: Active | Q7: 1 | R7: 1 | S7: 0 | T7: M
B8: PC ASO | C8: Nishant Aeron | D8: D43423 | E8: Abhishek Prakash | F8: 9557200401 | G8: V5266860 | H8: abhishek.prakash@v5global.co.in | I8: 43150 | J8: Rahil Rasheed | K8: rahil.rasheed@v5global.co.in | L8: Lenovo Consumer ASO | M8: Meerut | N8: Uttar Pradesh | O8: North2 | P8: Active | Q8: 1 | R8: 1 | S8: 0 | T8: M
B9: PC ASO | C9: Vishall Porwal | D9: D64482 | E9: Achhelal Yadav | F9: 7977140985 | G9: V5263086 | H9: achhelal.yadav@v5global.co.in | I9: 44571 | J9: Rahil Rasheed | K9: rahil.rasheed@v5global.co.in | L9: Lenovo Consumer ASO | M9: Varanasi | N9: Uttar Pradesh | O9: North2 | P9: Active | Q9: 1 | R9: 1 | S9: 0 | T9: M
B10: PC ASO | C10: Ashish Kumar Upadhyay | D10: D44307 | E10: Alok Kumar Mishra | F10: 9861472032 | G10: V5267477 | H10: alok.kumar@v5global.co.in | I10: 43217 | J10: Vikas Shan | K10: vikas.shan@v5global.co.in | L10: Lenovo Consumer ASO | M10: Bhubaneswar | N10: Orissa | O10: East2 | P10: Active | Q10: 1 | R10: 1 | S10: 0 | T10: M
B11: PC ASO | C11: Nishant Singh | D11: D30172 | E11: Alok Ranjan Singh | F11: 7857093200 | G11: V5267235 | H11: alok.ranjan@v5global.co.in | I11: 42569 | J11: Vikas Shan | K11: vikas.shan@v5global.co.in | L11: Lenovo Consumer ASO | M11: Patna | N11: Bihar | O11: East2 | P11: Active | Q11: 1 | R11: 1 | S11: 0 | T11: M
B12: PC ASO | C12: Rajeev Jha | D12: D55756 | E12: Amit Mallappa Khurpe | F12: 8888837252 | G12: V5268238 | H12: amit.mallapa@v5global.co.in | I12: 43822 | J12: Dharmendra Prakash Nehe | K12: dharmendra.nehe@v5global.co.in | L12: Lenovo Consumer ASO | M12: Kohlapur | N12: Maharashtra | O12: West1 | P12: Active | Q12: 1 | R12: 1 | S12: 0 | T12: M
B13: PC ASO | C13: Abhishek Bais | D13: D15019 | E13: Amit. Jagdish. Khobragade | F13: 9370327030 | G13: V5267249 | H13: amit.jagdish@v5global.co.in | I13: 41565 | J13: Dharmendra Prakash Nehe | K13: dharmendra.nehe@v5global.co.in | L13: Lenovo Consumer ASO | M13: Nagpur | N13: Maharashtra | O13: West1 | P13: Active | Q13: 1 | R13: 1 | S13: 0 | T13: M
B14: PC ASO | C14: Vishall Porwal | D14: D43975 | E14: Ankur Kesarwani | F14: 7897355644 | G14: V5268262 | H14: ankur.kesarwani@v5global.co.in | I14: 43199 | J14: Rahil Rasheed | K14: rahil.rasheed@v5global.co.in | L14: Lenovo Consumer ASO | M14: Allahabad | N14: Uttar Pradesh | O14: North2 | P14: Notice period | Q14: 1 | R14: 1 | S14: 0 | T14: M | U14: 6th Nov LWD
B15: PC ASO | C15: Naveen Kumar | D15: D42905 | E15: Ankush Kumar | F15: 8091029822 | G15: V5265074 | H15: ankush.kumar@v5global.co.in | I15: 43115 | J15: Krishna Kumar Singh | K15: krishna.kumar@v5global.co.in | L15: Lenovo Consumer ASO | M15: Hamirpur | N15: Himachal Pradesh | O15: North1 | P15: Active | Q15: 1 | R15: 1 | S15: 0 | T15: M
B16: PC ASO | C16: Nishant Aeron | D16: D67876 | E16: Anurag Agarwal | F16: 9899494771 | G16: V5266223 | H16: anurag.agarwal@v5global.co.in | I16: 44795 | J16: Rahil Rasheed | K16: rahil.rasheed@v5global.co.in | L16: Lenovo Consumer ASO | M16: Ghaziabad | N16: Uttar Pradesh | O16: North2 | P16: Active | Q16: 1 | R16: 1 | S16: 0 | T16: M
B17: PC ASO | C17: Roopesh Baghel | D17: D67136 | E17: Ashutosh Govind Sharma | F17: 9834388136 | G17: V5265064 | H17: ashutosh.govind@v5global.co.in | I17: 44728 | J17: Suraj Mahadik | K17: suraj.mahadik@v5global.co.in | L17: Lenovo Consumer ASO | M17: Raipur | N17: Chhattisgarh | O17: West3 | P17: Active | Q17: 1 | R17: 1 | S17: 0 | T17: M
B18: PC ASO | C18: Partha Chakraborty | D18: D21409 | E18: Atanu Dhar | F18: 9954426254 | G18: V5267237 | H18: atanu.dhar@v5global.co.in | I18: 41960 | J18: Chandan Kumar Singh | K18: chandan.kumar@v5global.co.in | L18: Lenovo Consumer ASO | M18: Dibrugarh | N18: Assam | O18: East1 | P18: Active | Q18: 1 | R18: 1 | S18: 0 | T18: M
B19: PC ASO | C19: Rushabh Modi | D19: D58851 | E19: Avinash Kumar | F19: 9761771311 | G19: V5267147 | H19: avinash.kumar@v5global.co.in | I19: 44055 | J19: Rahil Rasheed | K19: rahil.rasheed@v5global.co.in | L19: Lenovo Consumer ASO | M19: Dehradun | N19: Uttrakhand | O19: North2 | P19: Active | Q19: 1 | R19: 1 | S19: 0 | T19: M
B20: PC ASO | C20: Kapil Tiwari | D20: D60461 | E20: Babun Chandra Modak | F20: 7384991181 | G20: V5264960 | H20: babun.chandra@v5global.co.in | I20: 44249 | J20: Chandan Kumar Singh | K20: chandan.kumar@v5global.co.in | L20: Lenovo Consumer ASO | M20: Asansol | N20: West Bengal | O20: East1 | P20: Active | Q20: 1 | R20: 1 | S20: 0 | T20: M
B21: PC ASO | C21: Waseeha Khan | D21: D58771 | E21: Bhavsar Kirtikumar Babulal | F21: 7984180458 | G21: V5268279 | H21: bhavsar.kirtikumar@v5global.co.in | I21: 44044 | J21: Pran Pratap Singh | L21: Lenovo Consumer ASO | M21: Ahmedabad | N21: Gujarat | O21: West2 | P21: Active | Q21: 1 | R21: 1 | S21: 0 | T21: M
B22: PC ASO | C22: Amit Tiwari | D22: D67566 | E22: Bhushan Dilip Pednekar | F22: 9167063528 | G22: V5267288 | H22: bhushan.dilip@v5global.co.in | I22: 44774 | J22: Faiz Ibrahim Qureshi | K22: faiz.ibrahim@v5global.co.in | L22: Lenovo Consumer ASO | M22: Mumbai | N22: Maharashtra | O22: West1 | P22: Active | Q22: 1 | R22: 1 | S22: 0 | T22: M
B23: PC ASO | C23: Kapil Tiwari | D23: D46405 | E23: Chandan Ghosh | F23: 9051786114 | G23: V5267738 | H23: chandan.ghosh@v5global.co.in | I23: 43353 | J23: Chandan Kumar Singh | K23: chandan.kumar@v5global.co.in | L23: Lenovo Consumer ASO | M23: Medinipur | N23: West Bengal | O23: East1 | P23: Active | Q23: 1 | R23: 1 | S23: 0 | T23: M
B24: PC ASO | C24: Sandeep Kumar Makala | D24: D63484 | E24: Chedula Jagadeesh | F24: 8686262316 | G24: V5267429 | H24: chedula.jagadeesh@v5global.co.in | I24: 44491 | J24: Mohsin Bin Abood | K24: mohsin.bin@v5global.co.in | L24: Lenovo Consumer ASO | M24: Kurnool | N24: Andhra Pradesh | O24: South3 | P24: Active | Q24: 1 | R24: 1 | S24: 0 | T24: M
B25: PC ASO | C25: Sandeep Kumar Makala | D25: D66855 | E25: Chetti Srinivas | F25: 9515976797 | G25: V5265910 | H25: chetti.srinivas@v5global.co.in | I25: 44720 | J25: Mohsin Bin Abood | K25: mohsin.bin@v5global.co.in | L25: Lenovo Consumer ASO | M25: Warangal | N25: Telangana | O25: South3 | P25: Active | Q25: 1 | R25: 1 | S25: 0 | T25: -
B26: PC ASO | C26: Faiz Ahmed | D26: D56996 | E26: Dhiraj Kumar | F26: 9911838990 | G26: V5266029 | H26: dhiraj.kumar@v5global.co.in | I26: 43867 | J26: Krishna Kumar Singh | K26: krishna.kumar@v5global.co.in | L26: Lenovo Consumer ASO | M26: Delhi | N26: Delhi | O26: North1 | P26: Active | Q26: 1 | R26: 1 | S26: 0 | T26: M
B27: PC ASO | C27: Partha Chakraborty | D27: D67176 | E27: DHRUBAJIT SWARGIARY | F27: 9706336707 | G27: V5262895 | H27: dhrubajit.swargiary@v5global.co.in | I27: 44743 | J27: Chandan Kumar Singh | K27: chandan.kumar@v5global.co.in | L27: Lenovo Consumer ASO | M27: Guwahati | N27: Assam | O27: East1 | P27: Active | Q27: 1 | R27: 1 | S27: 0 | T27: M
B28: PC ASO | C28: TBH | D28: D66062 | E28: F M Safwan | F28: 8867147525 | G28: V5268075 | H28: safwan.f@v5global.co.in | I28: 44659 | J28: Mohammed Azam Ahmed | K28: mohammed.azam@v5global.co.in | L28: Lenovo Consumer ASO | M28: Mangalore | N28: Karnataka | O28: South1 | P28: Active | Q28: 1 | R28: 1 | S28: 0 | T28: M
B29: PC ASO | C29: X Maria Staline | D29: D64375 | E29: Ganapathi E | F29: 9600364011 | G29: V5266710 | H29: ganapathi.e@v5global.co.in | I29: 44568 | J29: S.Arunbabu | K29: arun.babu@v5global.co.in | L29: Lenovo Consumer ASO | M29: Salem | N29: Tamil Nadu | O29: South2 | P29: Active | Q29: 1 | R29: 1 | S29: 0 | T29: M
B30: PC ASO | C30: Waseeha Khan | D30: D67482 | E30: Gandhi Jignesh Kumar | F30: 9925446444 | G30: V5263100 | H30: gandhi.jignesh@v5global.co.in | I30: 44763 | J30: Pran Pratap Singh | L30: Lenovo Consumer ASO | M30: Baroda | N30: Gujarat | O30: West2 | P30: Active | Q30: 1 | R30: 1 | S30: 0 | T30: M
B31: PC ASO | C31: Asit Srivastava | D31: D67372 | E31: Govind Gour | F31: 7877712600 | G31: V5263113 | H31: govind.gour@v5global.co.in | I31: 44760 | J31: Pran Pratap Singh | L31: Lenovo Consumer ASO | M31: Alwar | N31: Rajasthan | O31: West2 | P31: Active | Q31: 1 | R31: 1 | S31: 0 | T31: M
B32: PC ASO | C32: Amit Tiwari | D32: D63569 | E32: Govind Gulab Rajbhar | F32: 9029031943 | G32: V5263641 | H32: govind.gulab@v5global.co.in | I32: 44508 | J32: Faiz Ibrahim Qureshi | K32: faiz.ibrahim@v5global.co.in | L32: Lenovo Consumer ASO | M32: Mumbai | N32: Maharashtra | O32: West1 | P32: Active | Q32: 1 | R32: 1 | S32: 0 | T32: M
B33: PC ASO | C33: Sandeep Kumar Makala | D33: TBH | E33: TBH | G33: TBH | J33: Mohsin Bin Abood | K33: mohsin.bin@v5global.co.in | L33: Lenovo Consumer ASO | M33: Visakhapatnam | N33: Andhra Pradesh | O33: South3 | P33: Vacant | Q33: 1 | R33: 0 | S33: 1 | T33: M | U33: Profile to be given
B34: PC ASO | C34: Sandeep Kumar Makala | D34: D66306 | E34: Gummalla Nagaraju | F34: 9959621996 | I34: 44679 | J34: Mohsin Bin Abood | K34: mohsin.bin@v5global.co.in | L34: Lenovo Consumer ASO | M34: Hyderabad | N34: Telangana | O34: South3 | P34: Active | Q34: 1 | R34: 1 | S34: 0 | T34: M
B35: PC ASO | C35: Abhishek Bais | D35: D62128 | E35: Irshad Ali Amjad Ali | F35: 8087727704 | G35: V5267724 | H35: irshad.ali@v5global.co.in | I35: 44417 | J35: Dharmendra Prakash Nehe | K35: dharmendra.nehe@v5global.co.in | L35: Lenovo Consumer ASO | M35: Amravati | N35: Maharashtra | O35: West1 | P35: Active | Q35: 1 | R35: 1 | S35: 0 | T35: M
B36: PC ASO | C36: X Maria Staline | D36: D59916 | E36: K Sathish Kumar | F36: 9884103645 | G36: V5267970 | H36: k.sathish@v5global.co.in | I36: 44198 | J36: S.Arunbabu | K36: arun.babu@v5global.co.in | L36: Lenovo Consumer ASO | M36: Chennai | N36: Tamil Nadu | O36: South2 | P36: Active | Q36: 1 | R36: 1 | S36: 0 | T36: M
B37: PC ASO | C37: Waseeha Khan | D37: TBH | E37: TBH | F37: 9982921127 | G37: TBH | J37: Pran Pratap Singh | L37: Lenovo Consumer ASO | M37: Surat | N37: Gujarat | O37: West2 | P37: Vacant | Q37: 1 | R37: 0 | S37: 1 | T37: M | U37: Profile to be given
B38: PC ASO | C38: Amit Tiwari | D38: D61841 | E38: Kuldeep Upadhyay | F38: 7219690034 | G38: V5265890 | H38: kuldeep.upadhyay@v5global.co.in | I38: 44392 | J38: Faiz Ibrahim Qureshi | K38: faiz.ibrahim@v5global.co.in | L38: Lenovo Consumer ASO | M38: Mumbai | N38: Maharashtra | O38: West1 | P38: Active | Q38: 1 | R38: 1 | S38: 0 | T38: M
B39: PC ASO | C39: X Maria Staline | D39: D64881 | E39: L Sathish Kumar | F39: 9842338180 | G39: V5268282 | H39: sathish.kumar@v5global.co.in | I39: 44593 | J39: S.Arunbabu | K39: arun.babu@v5global.co.in | L39: Lenovo Consumer ASO | M39: Coimbatore | N39: Tamil Nadu | O39: South2 | P39: Active | Q39: 1 | R39: 1 | S39: 0 | T39: M
B40: PC ASO | C40: Abhishek Bais | D40: D48348 | E40: Laxman Anilrao Deshmukh | F40: 9028122888 | G40: V5266711 | H40: laxman.anilrao@v5global.co.in | I40: 43507 | J40: Dharmendra Prakash Nehe | K40: dharmendra.nehe@v5global.co.in | L40: Lenovo Consumer ASO | M40: Aurangabad | N40: Maharashtra | O40: West1 | P40: Active | Q40: 1 | R40: 1 | S40: 0 | T40: M
B41: PC ASO | C41: TBH | D41: TBH | E41: TBH | F41: 9035739886 | G41: TBH | H41: mahesh@v5global.co.in | J41: Mohammed Azam Ahmed | K41: mohammed.azam@v5global.co.in | L41: Lenovo Consumer ASO | M41: Hubli | N41: Karnataka | O41: South1 | P41: Vacant | Q41: 1 | R41: 0 | S41: 1 | T41: M | U41: Absconded Mahesh & currently vacant
...

Sheet VAT ASO
B3: EMP NAME | C3: EMP CODE | D3: EMAIL ID | E3: MOBILE | F3: DESIG NM | G3: CITY POSTING | H3: STATE POSTING | I3: Region
